{"text_format":"1","workbook":"xlsx","n_sheets":6,"sheets":["Summary Sheet","Schedule 1a, b, c","Crop Inv","Livestock Inv","Structural Change","BPU's (Data)"],"not_rendered":{"charts":0,"images":1,"macros":1,"external_links":0,"defined_names":23,"comments":1,"pivot_tables":0},"unopened":[],"bounds":{"document_bytes":16777216,"sheet_cells":100000,"rows_first":2000,"rows_last":500,"rows_between":2000,"halvings":0,"cell_chars":16384,"cell_head_chars":4096},"cells_cut":0,"cells_raw":0,"read":"whole","date_system":"1900"}

{"sheet":"Summary Sheet","index":0,"n_rows":37,"n_cols":26,"rows_kept":37,"cut":false,"hidden":false,"merged":[[4,15,5,15],[5,0,5,1],[30,0,32,16],[0,12,0,13],[0,2,0,4],[1,2,1,3],[9,0,9,2],[3,11,3,13]]}
["Participant:",null,null,null,null,null,null,"Reference Margin Coverage Calculator",null,null,null,null,null,null,null,{"$f":"TODAY()","v":"2025-10-31"},"hide here and after"]
["AFSC ID:",870,null,null,null,"Program Year",null,{"$f":"CropYear","v":2025}]
[]
["Ownership %",null,100,null,null,"",null,"",null,"Election:",null,"Accrual Adjusted Reference Margin"]
["Last 3 Years",null,"N",null,null,null,null,null,null,null,null,null,null,null,null,"Is prior year COPB available?"]
[null,null,null,null,null,{"$f":"H2-5","v":2020},null,{"$f":"H2-4","v":2021},null,{"$f":"H2-3","v":2022},null,{"$f":"H2-2","v":2023},null,{"$f":"H2-1","v":2024}]
["Production Margin per Schedule 4",null,null,null,null,null,null,null,null,null,null,null,null,null,null,"No",null,null,null,null,null,null,null,null,"Colour Palette"]
[null,null,null,null,null,null,"<hide>",null,"<hide>",null,"<hide>",null,"<hide>"]
["Total Allowable Income"]
["Private Insurance Adjustment"]
["AgriRecovery Program Payment Adjustment"]
[]
["Total Allowable Expenses"]
[]
["ACCRUAL ADJUSTMENTS",null,null,null,null,null,null,null,null,null,null,null,null,null,null,null,null,null,null,"Structural Change"]
["Net Increase/(Decrease): In Deferred Income",null,null,null,null,null,null,null,null,null,null,null,null,{"$f":"IF(ISBLANK('Schedule 1a, b, c'!I15),\"\",'Schedule 1a, b, c'!I15)","v":0},null,null,null,null,null,{"$f":"IF(ISBLANK('Structural Change'!D89),0,'Structural Change'!D89*F23)","v":0}]
["Net (Increase)/Decrease: In Unpaid Expenses",null,null,null,null,null,null,null,null,null,null,null,null,{"$f":"IF(ISBLANK('Schedule 1a, b, c'!I29),\"\",'Schedule 1a, b, c'!I29)","v":0},null,null,null,null,null,{"$f":"IF(ISBLANK('Structural Change'!F89),0,'Structural Change'!F89*H23)","v":0}]
["Net Increase/(Decrease): In Purchased Inputs",null,null,null,null,null,null,null,null,null,null,null,null,{"$f":"IF(ISBLANK('Schedule 1a, b, c'!I43),\"\",'Schedule 1a, b, c'!I43)","v":0},null,null,null,null,null,{"$f":"IF(ISBLANK('Structural Change'!H89),0,'Structural Change'!H89*J23)","v":0}]
["Net Increase/(Decrease): In Crop Inventory ",null,null,null,null,null,null,null,null,null,null,null,null,{"$f":"IF(ISBLANK('Crop Inv'!I36),0,'Crop Inv'!I36)","v":0},null,null,null,null,null,{"$f":"IF(ISBLANK('Structural Change'!J89),0,'Structural Change'!J89*L23)","v":0}]
["Net Increase/(Decrease): In Livestock Inventory",null,null,null,null,null,null,null,null,null,null,null,null,{"$f":"IF(ISBLANK('Livestock Inv'!O45),0,'Livestock Inv'!O45)","v":0},null,null,null,null,null,{"$f":"IF(ISBLANK('Structural Change'!L89),0,'Structural Change'!L89*N23)","v":0}]
[]
[]
["Production Margins before Structural Change",null,null,null,null,{"$f":"IF(ISBLANK(C4), +F7, +F7*(C4/100))","v":0},null,{"$f":"IF(ISBLANK(C4), +H7, +H7*(C4/100))","v":0},null,{"$f":"IF(ISBLANK(C4), +J7, +J7*(C4/100))","v":0},null,{"$f":"IF(ISBLANK(C4), +L7, +L7*(C4/100))","v":0},null,{"$f":"IF(ISBLANK(C4), (N9+N10-N11-N13+N16+N17+N18+N19+N20), ((N9+N10-N11-N13+N16+N17+N18+N19+N20)*(C4/100)))","v":0},null,null,null,null,null,"Unadj",null,null,null,"Adj"]
[" Structural Change",null,null,null,null,{"$f":"IFERROR(IF(V37=\"Y\",T16,0),\"\")","v":0},null,{"$f":"IFERROR(IF(V37=\"Y\",T17,0),\"\")","v":0},null,{"$f":"IFERROR(IF(V37=\"Y\",T18,0),\"\")","v":0},null,{"$f":"IFERROR(IF(V37=\"Y\",T19,0),\"\")","v":0},null,{"$f":"IFERROR(IF(V37=\"Y\",T20,0),\"\")","v":0},null,null,null,null,null,{"$f":"F23","v":0},{"$f":"IF(C5=\"N\",IF(T24=MAX(T24:T28),\"MAX\",IF(T24=MIN(T24:T28),\"MIN\", \"USE\")),\"DROP\")","v":"MAX"},{"$f":"IF(U24=\"USE\",T24,0)","v":0},null,{"$f":"IFERROR(ROUND(T24+T16,0),0)","v":0},{"$f":"IF(C5=\"N\",IF(X24=MAX(X24:X28),\"MAX\",IF(X24=MIN(X24:X28),\"MIN\", \"USE\")),\"DROP\")","v":"MAX"},{"$f":"IF(Y24=\"USE\",X24,0)","v":0}]
["Adjusted Production Margins",null,null,null,null,{"$f":"IFERROR(F23+F24,\"\")","v":0},null,{"$f":"IFERROR(ROUND(H23+H24,0),\"\")","v":0},null,{"$f":"IFERROR(ROUND(J23+J24,0),\"\")","v":0},null,{"$f":"IFERROR(L23+L24,\"\")","v":0},null,{"$f":"IFERROR(N23+N24,\"\")","v":0},null,null,null,null,null,{"$f":"H23","v":0},{"$f":"IF(C5=\"N\",IF(T25=MAX(T24:T28),IF(U24<>\"MAX\",\"MAX\",\"USE\"),IF(T25=MIN(T24:T28),IF(U24<>\"MIN\",\"MIN\",\"USE\"), \"USE\")),\"DROP\")","v":"USE"},{"$f":"IF(U25=\"USE\",T25,0)","v":0},null,{"$f":"IFERROR(ROUND(T25+T17,0),\"\")","v":0},{"$f":"IF(C5=\"N\",IF(X25=MAX(X24:X28),IF(Y24<>\"MAX\",\"MAX\",\"USE\"),IF(X25=MIN(X24:X28),IF(Y24<>\"MIN\",\"MIN\",\"USE\"), \"USE\")),\"DROP\")","v":"USE"},0]
[null,null,null,null,null,null,null,null,null,null,null,null,null,null,null,null,null,null,null,{"$f":"J23","v":0},{"$f":"IF(C5=\"N\",IF(T26=MAX(T24:T28),IF(AND(U24<>\"MAX\",U25<>\"MAX\"),\"MAX\",\"USE\"),IF(T26=MIN(T24:T28),IF(AND(U24<>\"MIN\",U25<>\"MIN\"),\"MIN\",\"USE\"), \"USE\")),\"USE\")","v":"USE"},{"$f":"IF(U26=\"USE\",T26,0)","v":0},null,{"$f":"IFERROR(ROUND(T26+T18,0),\"\")","v":0},{"$f":"IF(C5=\"N\",IF(X26=MAX(X24:X28),IF(AND(Y24<>\"MAX\",Y25<>\"MAX\"),\"MAX\",\"USE\"),IF(X26=MIN(X24:X28),IF(AND(Y24<>\"MIN\",Y25<>\"MIN\"),\"MIN\",\"USE\"), \"USE\")),\"USE\")","v":"USE"},0]
[null,null,null,null,null,null,null,null,null,null,null,null,null,null,null,null,null,null,null,{"$f":"L23","v":0},{"$f":"IF(C5=\"N\",IF(T27=MAX(T24:T28),IF(AND(U24<>\"MAX\",U25<>\"MAX\",U26<>\"MAX\"),\"MAX\",\"USE\"),IF(T27=MIN(T24:T28),IF(AND(U24<>\"MIN\",U25<>\"MIN\",U26<>\"MIN\"),\"MIN\",\"USE\"), \"USE\")),\"USE\")","v":"USE"},{"$f":"IF(U27=\"USE\",T27,0)","v":0},null,{"$f":"IFERROR(ROUND(T27+T19,0),\"\")","v":0},{"$f":"IF(C5=\"N\",IF(X27=MAX(X24:X28),IF(AND(Y24<>\"MAX\",Y25<>\"MAX\",Y26<>\"MAX\"),\"MAX\",\"USE\"),IF(X27=MIN(X24:X28),IF(AND(Y24<>\"MIN\",Y25<>\"MIN\",Y26<>\"MIN\"),\"MIN\",\"USE\"), \"USE\")),\"USE\")","v":"USE"},0]
["Estimated Reference Margin",null,null,null,null,null,null,null,null,null,null,null,null,null,null,{"$f":"IFERROR(IF(V37=\"Y\",ROUND(V33,0),ROUND(V32,0)),\"\")","v":0},null,null,null,{"$f":"N23","v":0},{"$f":"IF(C5=\"N\",IF(T28=MAX(T24:T28),IF(AND(U24<>\"MAX\",U25<>\"MAX\",U26<>\"MAX\", U27<>\"MAX\"),\"MAX\",\"USE\"),IF(T28=MIN(T24:T28),IF(AND(U24<>\"MIN\",U25<>\"MIN\",U26<>\"MIN\",U27<>\"MIN\"),\"MIN\",\"USE\"), \"USE\")),\"USE\")","v":"USE"},{"$f":"IF(U28=\"USE\",T28,0)","v":0},null,{"$f":"IFERROR(ROUND(T28+T20,0),\"\")","v":0},{"$f":"IF(C5=\"N\",IF(X28=MAX(X24:X28),IF(AND(Y24<>\"MAX\",Y25<>\"MAX\",Y26<>\"MAX\",Y27<>\"MAX\"),\"MAX\",\"USE\"),IF(X28=MIN(X24:X28),IF(AND(Y24<>\"MIN\",Y25<>\"MIN\",Y26<>\"MIN\",Y27<>\"MIN\"),\"MIN\",\"USE\"), \"USE\")),\"USE\")","v":"USE"},0]
["Estimated benefit trigger point (70% of the reference margin)",null,null,null,null,null,null,null,null,null,null,null,null,null,null,{"$f":"+P28*0.7","v":0}]
[]
["For additional information about how to use this calculator, refer to the \"Reference Margin Coverage Calculator Instructions\" "]
[null,null,null,null,null,null,null,null,null,null,null,null,null,null,null,null,null,null,null,"UnAdj Margin",null,{"$f":"ROUND(SUM(V24:V28)/3,0)","v":0}]
[null,null,null,null,null,null,null,null,null,null,null,null,null,null,null,null,null,null,null,"Adjusted Margin",null,{"$f":"ROUND(SUM(Z24:Z28)/3,0)","v":0}]
[]
["hide here and after",null,null,null,null,null,null,null,null,null,null,null,null,null,null,null,null,null,null,"StructChange Amt",null,{"$f":"IFERROR(V33-V32,\"\")","v":0}]
[null,null,null,null,null,null,null,null,null,null,null,null,null,null,null,null,null,null,null,"StructChange %",null,{"$f":"IFERROR(IF(V32=0,0,(V33-V32)/V32),\"\")","v":0}]
[null,null,null,null,null,null,null,null,null,null,null,null,null,null,null,null,null,null,null,"Use StructChange",null,{"$f":"IFERROR(IF(ABS(V35)>5000,IF(ABS(V36)>0.1,\"Y\",\"N\"),\"N\"),\"\")","v":"N"}]

{"sheet":"Schedule 1a, b, c","index":1,"n_rows":45,"n_cols":11,"rows_kept":45,"cut":false,"hidden":false,"merged":[[7,1,7,2],[1,3,1,7],[5,1,5,2],[6,1,6,2],[20,1,20,2],[8,1,8,2],[9,1,9,2],[10,1,10,2],[11,1,11,2],[12,1,12,2],[13,1,13,2],[14,1,14,6],[19,1,19,2],[33,1,33,2],[21,1,21,2],[22,1,22,2],[23,1,23,2],[24,1,24,2],[25,1,25,2],[26,1,26,2],[27,1,27,2],[28,1,28,6],[39,1,39,2],[40,1,40,2],[41,1,41,2],[42,1,42,6],[34,1,34,2],[35,1,35,2],[36,1,36,2],[37,1,37,2],[38,1,38,2]]}
[null,null,null,null,null,null,"Schedules 1a, 1b & 1c",null,null,null,"hide here and after"]
[null,"Participant:",{"$f":"IF(ISBLANK('Summary Sheet'!C1),\"\",'Summary Sheet'!C1)","v":""}]
[]
[null,"Schedule 1a Deferred Income & Receivables"]
[null,"Description",null,"<hide>","Starting ($)",null,"Ending ($)",null,"Change in Value ($)"]
[null,null,null,null,null,null,null,null,{"$f":"G6-E6","v":0}]
[null,null,null,null,null,null,null,null,0]
[null,null,null,null,null,null,null,null,0]
[null,null,null,null,null,null,null,null,0]
[null,null,null,null,null,null,null,null,0]
[null,null,null,null,null,null,null,null,0]
[null,null,null,null,null,null,null,null,0]
[null,null,null,null,null,null,null,null,0]
[null,null,null,null,null,null,null,null,0]
[null,"Net Increase/(Decrease): in Deferred Income",null,null,null,null,null,null,{"$f":"SUM(I6:I14)","v":0}]
[]
[]
[null,"Schedule1b Unpaid Expenses"]
[null,"Description",null,null,"                   Starting ($)",null,"                     Ending ($)",null,"Change in Value ($)"]
[null,null,null,null,null,null,null,null,{"$f":"E20-G20","v":0}]
[null,null,null,null,null,null,null,null,0]
[null,null,null,null,null,null,null,null,0]
[null,null,null,null,null,null,null,null,0]
[null,null,null,null,null,null,null,null,0]
[null,null,null,null,null,null,null,null,0]
[null,null,null,null,null,null,null,null,0]
[null,null,null,null,null,null,null,null,0]
[null,null,null,null,null,null,null,null,0]
[null,"Net (Increase)/Decrease: in Unpaid Expenses",null,null,null,null,null,null,{"$f":"SUM(I20:I28)","v":0}]
[]
[]
[null,"Schedule 1c Purchased Inputs"]
[null,"Description",null,null,"                  Starting ($)",null,"                     Ending ($)",null,"Change in Value ($)"]
[null,null,null,null,null,null,null,null,{"$f":"G34-E34","v":0}]
[null,null,null,null,null,null,null,null,0]
[null,null,null,null,null,null,null,null,0]
[null,null,null,null,null,null,null,null,0]
[null,null,null,null,null,null,null,null,0]
[null,null,null,null,null,null,null,null,0]
[null,null,null,null,null,null,null,null,0]
[null,null,null,null,null,null,null,null,0]
[null,null,null,null,null,null,null,null,0]
[null,"Net Increase/(Decrease): in Purchased Inputs",null,null,null,null,null,null,{"$f":"SUM(I34:I42)","v":0}]
[]
["hide here and after"]

{"sheet":"Crop Inv","index":2,"n_rows":38,"n_cols":12,"rows_kept":38,"cut":false,"hidden":false,"merged":[[2,2,2,4],[4,2,4,3],[5,2,5,8]]}
[null,null,null,null,"Crop Inventory",null,null,null,null,null,"hide here and after"]
[null,null,null,null,null,null,null,null,null,null,null,"<hide>"]
[null,"Participant:",{"$f":"IF(ISBLANK('Summary Sheet'!C1),\"\",'Summary Sheet'!C1)","v":""}]
[]
[null,"AFSC ID:",{"$f":"IF(ISBLANK('Summary Sheet'!C2),\"\",870&TEXT('Summary Sheet'!C2,\"0000000\"))","v":""}]
[null,null,"AgriStability Price Lists - Agriculture Financial Services Corporation (afsc.ca)"]
[]
[null,"Commodity Description","Starting Inventory","Starting\nPrice ($)","Starting\nValue","Ending Inventory","Ending\nPrice ($)","Ending\nValue","Change in Value ($)"]
[null,null,null,null,{"$f":"IF(AND(C9=\"\",D9=\"\"),\"\",(C9*D9))","v":""},null,null,{"$f":"IF(AND(F9=\"\",G9=\"\"),\"\",(F9*G9))","v":""},{"$f":"IF(H9=\"\",0,H9)-IF(E9=\"\",0,E9)","v":0}]
[null,null,null,null,"",null,null,"",0]
[null,null,null,null,"",null,null,"",0]
[null,null,null,null,"",null,null,"",0]
[null,null,null,null,"",null,null,"",0]
[null,null,null,null,"",null,null,"",0]
[null,null,null,null,"",null,null,"",0]
[null,null,null,null,"",null,null,"",0]
[null,null,null,null,"",null,null,"",0]
[null,null,null,null,"",null,null,"",0]
[null,null,null,null,"",null,null,"",0]
[null,null,null,null,"",null,null,"",0]
[null,null,null,null,"",null,null,"",0]
[null,null,null,null,"",null,null,"",0]
[null,null,null,null,"",null,null,"",0]
[null,null,null,null,"",null,null,"",0]
[null,null,null,null,"",null,null,"",0]
[null,null,null,null,"",null,null,"",0]
[null,null,null,null,"",null,null,"",0]
[null,null,null,null,"",null,null,"",0]
[null,null,null,null,"",null,null,"",0]
[null,null,null,null,"",null,null,"",0]
[null,null,null,null,"",null,null,"",0]
[null,null,null,null,"",null,null,"",0]
[null,null,null,null,"",null,null,"",0]
[null,null,null,null,"",null,null,"",0]
[null,null,null,null,"",null,null,"",0]
[null,null,null,"Net Increase/(Decrease) in Crop Inventory",null,null,null,null,{"$f":"SUM(I9:I35)","v":0}]
[]
["hide here and after"]

{"sheet":"Livestock Inv","index":3,"n_rows":47,"n_cols":17,"rows_kept":47,"cut":false,"hidden":false,"merged":[[2,2,2,6],[3,2,3,4],[5,1,5,2],[4,4,4,14]]}
[null,null,null,null,null,null,"         Livestock Inventory",null,null,null,null,null,null,null,null,null,"hide here and after"]
[]
[null,"Participant:",{"$f":"IF(ISBLANK('Summary Sheet'!C1),\"\",'Summary Sheet'!C1)","v":""}]
[null,"AFSC ID:",{"$f":"IF(ISBLANK('Summary Sheet'!C2),\"\",870&TEXT('Summary Sheet'!C2,\"0000000\"))","v":""}]
[null,null,null,null,"AgriStability Price Lists - Agriculture Financial Services Corporation (afsc.ca)"]
[null,"Breeding Livestock (P2 Pricing)"]
[null,"Commodity Description","Starting Inventory","<hide>","Ending Inventory","<hide>","Ending\nPrice ($)","<hide>","Ending\nValue","<hide>","Change in Value ($)",null,null,"<hide>"]
[null,null,null,null,null,null,null,null,{"$f":"IF(AND(E8=\"\",G8=\"\"),\"\",(E8*G8))","v":""},null,{"$f":"(E8-C8)*G8","v":0}]
[null,null,null,null,null,null,null,null,{"$f":"IF(AND(E9=\"\",G9=\"\"),\"\",(E9*G9))","v":""},null,0]
[null,null,null,null,null,null,null,null,"",null,0]
[null,null,null,null,null,null,null,null,"",null,0]
[null,null,null,null,null,null,null,null,"",null,0]
[null,null,null,null,null,null,null,null,"",null,{"$f":"(E13-C13)*G13","v":0}]
[null,null,null,null,null,null,null,null,{"$f":"IF(AND(E14=\"\",G14=\"\"),\"\",(E14*G14))","v":""},null,0]
[null,null,null,null,null,null,null,null,"",null,0]
[null,null,null,null,null,null,null,null,"",null,0]
[null,null,null,null,null,null,null,null,"",null,0]
[null,null,null,null,null,null,null,null,"",null,0]
[null,null,null,null,null,null,"Total",null,null,null,{"$f":"SUM(K8:K18)","v":0}]
[]
[null,"Marketable Livestock (P1-P2 Pricing)"]
[null,"Commodity Description","Starting Inventory",null,"Starting\nPrice ($)",null,"Starting\nValue",null,"Ending Inventory",null,"Ending\nPrice ($)",null,"Ending\nValue",null,"Change in Value ($)"]
[null,null,null,null,null,null,{"$f":"IF(AND(C23=\"\",E23=\"\"),\"\",(C23*E23))","v":""},null,null,null,null,null,{"$f":"IF(AND(I23=\"\",K23=\"\"),\"\",(I23*K23))","v":""},null,{"$f":"IF(M23=\"\",0,M23)-IF(G23=\"\",0,G23)","v":0}]
[null,null,null,null,null,null,{"$f":"IF(AND(C24=\"\",E24=\"\"),\"\",(C24*E24))","v":""},null,null,null,null,null,"",null,0]
[null,null,null,null,null,null,"",null,null,null,null,null,"",null,0]
[null,null,null,null,null,null,"",null,null,null,null,null,"",null,0]
[null,null,null,null,null,null,"",null,null,null,null,null,"",null,0]
[null,null,null,null,null,null,"",null,null,null,null,null,"",null,0]
[null,null,null,null,null,null,"",null,null,null,null,null,"",null,0]
[null,null,null,null,null,null,"",null,null,null,null,null,"",null,0]
[null,null,null,null,null,null,"",null,null,null,null,null,"",null,0]
[null,null,null,null,null,null,"",null,null,null,null,null,"",null,0]
[null,null,null,null,null,null,"",null,null,null,null,null,"",null,0]
[null,null,null,null,null,null,"",null,null,null,null,null,"",null,0]
[null,null,null,null,null,null,"",null,null,null,null,null,"",null,0]
[null,null,null,null,null,null,"",null,null,null,null,null,"",null,0]
[null,null,null,null,null,null,"",null,null,null,null,null,"",null,0]
[null,null,null,null,null,null,"",null,null,null,null,null,"",null,0]
[null,null,null,null,null,null,"",null,null,null,null,null,"",null,0]
[null,null,null,null,null,null,"",null,null,null,null,null,"",null,0]
[null,null,null,null,null,null,"",null,null,null,null,null,"",null,0]
[null,null,null,null,null,null,"",null,null,null,null,null,"",null,0]
[null,null,null,null,null,null,null,null,null,null,null,null,"Total",null,{"$f":"SUM(O23:O42)","v":0}]
[]
[null,null,null,null,"Net Increase/(Decrease) in Livestock Inventory",null,null,null,null,"Total Livestock Inventory",null,null,null,null,{"$f":"(K19+O43)","v":0}]
[]
["hide here and after"]

{"sheet":"Structural Change","index":4,"n_rows":90,"n_cols":24,"rows_kept":90,"cut":false,"hidden":false,"merged":[[0,10,0,11],[2,3,2,5],[2,8,2,9],[25,1,26,1],[20,1,21,1],[4,10,4,11],[13,1,14,1],[3,8,3,11],[6,1,6,13]]}
[null,null,null,null,null,null,null,"Structural Change Information",null,null,null,null,null,null,null,"hide here and after"]
[null,null,null,null,null,null,null,null,null,null,null,null,null,null,null,null,null,null,null,null,null,null,null,"<hide>"]
[null,"Participant:",null,{"$f":"IF(ISBLANK('Summary Sheet'!C1),\"\",'Summary Sheet'!C1)","v":""},null,null,null,"Crop year",2025,null,null,null,null,null,null,null,null,null,null,null,null,null,null,"Hidden for hide cells function.to run properly"]
[null,null,null,null,null,null,null,"County/MD","Acadia"]
[null,"AFSC ID:",null,{"$f":"IF(ISBLANK('Summary Sheet'!C2),\"\",870&TEXT('Summary Sheet'!C2,\"0000000\"))","v":""}]
[]
[null,"For information about production units and what is required for this sheet, see the Reference Margin Coverage Calculator Guide",null,null,null,null,null,null,null,null,null,null,null,null,null,"Lag Year"]
[null,null,null,{"$f":"IF(ISBLANK('Summary Sheet'!H2),\"\",'Summary Sheet'!H2-5)","v":2020},null,{"$f":"IF(ISBLANK('Summary Sheet'!H2),\"\",'Summary Sheet'!H2 - 4)","v":2021},null,{"$f":"IF(ISBLANK('Summary Sheet'!H2),\"\",'Summary Sheet'!H2 - 3)","v":2022},null,{"$f":"IF(ISBLANK('Summary Sheet'!H2),\"\",'Summary Sheet'!H2 - 2)","v":2023},null,{"$f":"IF(ISBLANK('Summary Sheet'!H2),\"\",'Summary Sheet'!H2 - 1)","v":2024},null,{"$f":"IF(ISBLANK('Summary Sheet'!H2),\"\",'Summary Sheet'!H2 )","v":2025},null,{"$f":"SelectedYear-CropYear","v":0}]
[null,"Crop and Forage Basket",null,null,null,null,null,null,null,null,null,null,null,null,null,null,null,null,null,null,"Error Checker Column"]
[null,null,null,null,null,null,null,null,null,null,null,null,null,null,{"$f":"IF(ISBLANK(N10),\"\",IF(N10>0,N10,1))","v":""},{"$f":"IFERROR(INDEX(Table_BPU[], MATCH((SelectedCounty & \" \" & $B10),Table_BPU[Vlookup Helper], 0), 6 + LagYear), 0)","v":0},{"$f":"IFERROR(INDEX(Table_BPU[], MATCH((SelectedCounty & \" \" & $B10),Table_BPU[Vlookup Helper], 0), 7 + LagYear), 0)","v":0},{"$f":"IFERROR(INDEX(Table_BPU[], MATCH((SelectedCounty & \" \" & $B10),Table_BPU[Vlookup Helper], 0), 8 + LagYear), 0)","v":0},{"$f":"IFERROR(INDEX(Table_BPU[], MATCH((SelectedCounty & \" \" & $B10),Table_BPU[Vlookup Helper], 0), 9 + LagYear), 0)","v":0},{"$f":"IFERROR(INDEX(Table_BPU[], MATCH((SelectedCounty & \" \" & $B10),Table_BPU[Vlookup Helper], 0), 10 + LagYear), 0)","v":0},{"$f":"IFERROR(IF(NOT(ISBLANK(B10)), INDEX(Table_BPU[], MATCH((SelectedCounty & \" \" & $B10),Table_BPU[Vlookup Helper], 0), 6), 0), \"ERROR\")","v":0}]
[null,null,null,null,null,null,null,null,null,null,null,null,null,null,{"$f":"IF(ISBLANK(N11),\"\",IF(N11>0,N11,1))","v":""},{"$f":"IFERROR(INDEX(Table_BPU[], MATCH((SelectedCounty & \" \" & $B11),Table_BPU[Vlookup Helper], 0), 6 + LagYear), 0)","v":0},{"$f":"IFERROR(INDEX(Table_BPU[], MATCH((SelectedCounty & \" \" & $B11),Table_BPU[Vlookup Helper], 0), 7 + LagYear), 0)","v":0},{"$f":"IFERROR(INDEX(Table_BPU[], MATCH((SelectedCounty & \" \" & $B11),Table_BPU[Vlookup Helper], 0), 8 + LagYear), 0)","v":0},{"$f":"IFERROR(INDEX(Table_BPU[], MATCH((SelectedCounty & \" \" & $B11),Table_BPU[Vlookup Helper], 0), 9 + LagYear), 0)","v":0},{"$f":"IFERROR(INDEX(Table_BPU[], MATCH((SelectedCounty & \" \" & $B11),Table_BPU[Vlookup Helper], 0), 10 + LagYear), 0)","v":0},{"$f":"IFERROR(IF(NOT(ISBLANK(B11)), INDEX(Table_BPU[], MATCH((SelectedCounty & \" \" & $B11),Table_BPU[Vlookup Helper], 0), 6), 0), \"ERROR\")","v":0}]
[null,null,null,null,null,null,null,null,null,null,null,null,null,null,{"$f":"IF(ISBLANK(N12),\"\",IF(N12>0,N12,1))","v":""},{"$f":"IFERROR(INDEX(Table_BPU[], MATCH((SelectedCounty & \" \" & $B12),Table_BPU[Vlookup Helper], 0), 6 + LagYear), 0)","v":0},{"$f":"IFERROR(INDEX(Table_BPU[], MATCH((SelectedCounty & \" \" & $B12),Table_BPU[Vlookup Helper], 0), 7 + LagYear), 0)","v":0},{"$f":"IFERROR(INDEX(Table_BPU[], MATCH((SelectedCounty & \" \" & $B12),Table_BPU[Vlookup Helper], 0), 8 + LagYear), 0)","v":0},{"$f":"IFERROR(INDEX(Table_BPU[], MATCH((SelectedCounty & \" \" & $B12),Table_BPU[Vlookup Helper], 0), 9 + LagYear), 0)","v":0},{"$f":"IFERROR(INDEX(Table_BPU[], MATCH((SelectedCounty & \" \" & $B12),Table_BPU[Vlookup Helper], 0), 10 + LagYear), 0)","v":0},{"$f":"IFERROR(IF(NOT(ISBLANK(B12)), INDEX(Table_BPU[], MATCH((SelectedCounty & \" \" & $B12),Table_BPU[Vlookup Helper], 0), 6), 0), \"ERROR\")","v":0}]
[null,null,null,null,null,null,null,null,null,null,null,null,null,null,"",{"$f":"IFERROR(INDEX(Table_BPU[], MATCH((SelectedCounty & \" \" & $B13),Table_BPU[Vlookup Helper], 0), 6 + LagYear), 0)","v":0},{"$f":"IFERROR(INDEX(Table_BPU[], MATCH((SelectedCounty & \" \" & $B13),Table_BPU[Vlookup Helper], 0), 7 + LagYear), 0)","v":0},{"$f":"IFERROR(INDEX(Table_BPU[], MATCH((SelectedCounty & \" \" & $B13),Table_BPU[Vlookup Helper], 0), 8 + LagYear), 0)","v":0},{"$f":"IFERROR(INDEX(Table_BPU[], MATCH((SelectedCounty & \" \" & $B13),Table_BPU[Vlookup Helper], 0), 9 + LagYear), 0)","v":0},{"$f":"IFERROR(INDEX(Table_BPU[], MATCH((SelectedCounty & \" \" & $B13),Table_BPU[Vlookup Helper], 0), 10 + LagYear), 0)","v":0},{"$f":"IFERROR(IF(NOT(ISBLANK(B13)), INDEX(Table_BPU[], MATCH((SelectedCounty & \" \" & $B13),Table_BPU[Vlookup Helper], 0), 6), 0), \"ERROR\")","v":0}]
[null,"Beef",null,null,"",null,"",null,"",null,"",null,""]
[null,null,null,null,"",null,"",null,"",null,"",null,""]
[null,null,null,null,null,null,null,null,null,null,null,null,null,null,{"$f":"IF(ISBLANK(N16),\"\",IF(N16>0,N16,1))","v":""},{"$f":"IFERROR(INDEX(Table_BPU[], MATCH((SelectedCounty & \" \" & $B16),Table_BPU[Vlookup Helper], 0), 6 + LagYear), 0)","v":0},{"$f":"IFERROR(INDEX(Table_BPU[], MATCH((SelectedCounty & \" \" & $B16),Table_BPU[Vlookup Helper], 0), 7 + LagYear), 0)","v":0},{"$f":"IFERROR(INDEX(Table_BPU[], MATCH((SelectedCounty & \" \" & $B16),Table_BPU[Vlookup Helper], 0), 8 + LagYear), 0)","v":0},{"$f":"IFERROR(INDEX(Table_BPU[], MATCH((SelectedCounty & \" \" & $B16),Table_BPU[Vlookup Helper], 0), 9 + LagYear), 0)","v":0},{"$f":"IFERROR(INDEX(Table_BPU[], MATCH((SelectedCounty & \" \" & $B16),Table_BPU[Vlookup Helper], 0), 10 + LagYear), 0)","v":0},{"$f":"IFERROR(IF(NOT(ISBLANK(B16)), INDEX(Table_BPU[], MATCH((SelectedCounty & \" \" & $B16),Table_BPU[Vlookup Helper], 0), 6), 0), \"ERROR\")","v":0}]
[null,null,null,null,null,null,null,null,null,null,null,null,null,null,{"$f":"IF(ISBLANK(N17),\"\",IF(N17>0,N17,1))","v":""},{"$f":"IFERROR(INDEX(Table_BPU[], MATCH((SelectedCounty & \" \" & $B17),Table_BPU[Vlookup Helper], 0), 6 + LagYear), 0)","v":0},{"$f":"IFERROR(INDEX(Table_BPU[], MATCH((SelectedCounty & \" \" & $B17),Table_BPU[Vlookup Helper], 0), 7 + LagYear), 0)","v":0},{"$f":"IFERROR(INDEX(Table_BPU[], MATCH((SelectedCounty & \" \" & $B17),Table_BPU[Vlookup Helper], 0), 8 + LagYear), 0)","v":0},{"$f":"IFERROR(INDEX(Table_BPU[], MATCH((SelectedCounty & \" \" & $B17),Table_BPU[Vlookup Helper], 0), 9 + LagYear), 0)","v":0},{"$f":"IFERROR(INDEX(Table_BPU[], MATCH((SelectedCounty & \" \" & $B17),Table_BPU[Vlookup Helper], 0), 10 + LagYear), 0)","v":0},{"$f":"IFERROR(IF(NOT(ISBLANK(B17)), INDEX(Table_BPU[], MATCH((SelectedCounty & \" \" & $B17),Table_BPU[Vlookup Helper], 0), 6), 0), \"ERROR\")","v":0}]
[null,null,null,null,null,null,null,null,null,null,null,null,null,null,"",{"$f":"IFERROR(INDEX(Table_BPU[], MATCH((SelectedCounty & \" \" & $B18),Table_BPU[Vlookup Helper], 0), 6 + LagYear), 0)","v":0},{"$f":"IFERROR(INDEX(Table_BPU[], MATCH((SelectedCounty & \" \" & $B18),Table_BPU[Vlookup Helper], 0), 7 + LagYear), 0)","v":0},{"$f":"IFERROR(INDEX(Table_BPU[], MATCH((SelectedCounty & \" \" & $B18),Table_BPU[Vlookup Helper], 0), 8 + LagYear), 0)","v":0},{"$f":"IFERROR(INDEX(Table_BPU[], MATCH((SelectedCounty & \" \" & $B18),Table_BPU[Vlookup Helper], 0), 9 + LagYear), 0)","v":0},{"$f":"IFERROR(INDEX(Table_BPU[], MATCH((SelectedCounty & \" \" & $B18),Table_BPU[Vlookup Helper], 0), 10 + LagYear), 0)","v":0},{"$f":"IFERROR(IF(NOT(ISBLANK(B18)), INDEX(Table_BPU[], MATCH((SelectedCounty & \" \" & $B18),Table_BPU[Vlookup Helper], 0), 6), 0), \"ERROR\")","v":0}]
[null,null,null,null,null,null,null,null,null,null,null,null,null,null,null,{"$f":"IFERROR(INDEX(Table_BPU[], MATCH((SelectedCounty & \" \" & $B19),Table_BPU[Vlookup Helper], 0), 6 + LagYear), 0)","v":0},{"$f":"IFERROR(INDEX(Table_BPU[], MATCH((SelectedCounty & \" \" & $B19),Table_BPU[Vlookup Helper], 0), 7 + LagYear), 0)","v":0},{"$f":"IFERROR(INDEX(Table_BPU[], MATCH((SelectedCounty & \" \" & $B19),Table_BPU[Vlookup Helper], 0), 8 + LagYear), 0)","v":0},{"$f":"IFERROR(INDEX(Table_BPU[], MATCH((SelectedCounty & \" \" & $B19),Table_BPU[Vlookup Helper], 0), 9 + LagYear), 0)","v":0},{"$f":"IFERROR(INDEX(Table_BPU[], MATCH((SelectedCounty & \" \" & $B19),Table_BPU[Vlookup Helper], 0), 10 + LagYear), 0)","v":0},{"$f":"IFERROR(IF(NOT(ISBLANK(B19)), INDEX(Table_BPU[], MATCH((SelectedCounty & \" \" & $B19),Table_BPU[Vlookup Helper], 0), 6), 0), \"ERROR\")","v":0}]
[null,null,null,null,null,null,null,null,null,null,null,null,null,null,null,{"$f":"IFERROR(INDEX(Table_BPU[], MATCH((SelectedCounty & \" \" & $B20),Table_BPU[Vlookup Helper], 0), 6 + LagYear), 0)","v":0},{"$f":"IFERROR(INDEX(Table_BPU[], MATCH((SelectedCounty & \" \" & $B20),Table_BPU[Vlookup Helper], 0), 7 + LagYear), 0)","v":0},{"$f":"IFERROR(INDEX(Table_BPU[], MATCH((SelectedCounty & \" \" & $B20),Table_BPU[Vlookup Helper], 0), 8 + LagYear), 0)","v":0},{"$f":"IFERROR(INDEX(Table_BPU[], MATCH((SelectedCounty & \" \" & $B20),Table_BPU[Vlookup Helper], 0), 9 + LagYear), 0)","v":0},{"$f":"IFERROR(INDEX(Table_BPU[], MATCH((SelectedCounty & \" \" & $B20),Table_BPU[Vlookup Helper], 0), 10 + LagYear), 0)","v":0},{"$f":"IFERROR(IF(NOT(ISBLANK(B20)), INDEX(Table_BPU[], MATCH((SelectedCounty & \" \" & $B20),Table_BPU[Vlookup Helper], 0), 6), 0), \"ERROR\")","v":0}]
[null,"Market Hogs",null,null,"",null,"",null,"",null,"",null,""]
[null,null,null,null,"",null,"",null,"",null,"",null,""]
[null,null,null,null,null,null,null,null,null,null,null,null,null,null,{"$f":"IF(ISBLANK(N23),\"\",IF(N23>0,N23,1))","v":""},{"$f":"IFERROR(INDEX(Table_BPU[], MATCH((SelectedCounty & \" \" & $B23),Table_BPU[Vlookup Helper], 0), 6 + LagYear), 0)","v":0},{"$f":"IFERROR(INDEX(Table_BPU[], MATCH((SelectedCounty & \" \" & $B23),Table_BPU[Vlookup Helper], 0), 7 + LagYear), 0)","v":0},{"$f":"IFERROR(INDEX(Table_BPU[], MATCH((SelectedCounty & \" \" & $B23),Table_BPU[Vlookup Helper], 0), 8 + LagYear), 0)","v":0},{"$f":"IFERROR(INDEX(Table_BPU[], MATCH((SelectedCounty & \" \" & $B23),Table_BPU[Vlookup Helper], 0), 9 + LagYear), 0)","v":0},{"$f":"IFERROR(INDEX(Table_BPU[], MATCH((SelectedCounty & \" \" & $B23),Table_BPU[Vlookup Helper], 0), 10 + LagYear), 0)","v":0},{"$f":"IFERROR(IF(NOT(ISBLANK(B23)), INDEX(Table_BPU[], MATCH((SelectedCounty & \" \" & $B23),Table_BPU[Vlookup Helper], 0), 6), 0), \"ERROR\")","v":0}]
[null,null,null,null,null,null,null,null,null,null,null,null,null,null,{"$f":"IF(ISBLANK(N24),\"\",IF(N24>0,N24,1))","v":""},{"$f":"IFERROR(INDEX(Table_BPU[], MATCH((SelectedCounty & \" \" & $B24),Table_BPU[Vlookup Helper], 0), 6 + LagYear), 0)","v":0},{"$f":"IFERROR(INDEX(Table_BPU[], MATCH((SelectedCounty & \" \" & $B24),Table_BPU[Vlookup Helper], 0), 7 + LagYear), 0)","v":0},{"$f":"IFERROR(INDEX(Table_BPU[], MATCH((SelectedCounty & \" \" & $B24),Table_BPU[Vlookup Helper], 0), 8 + LagYear), 0)","v":0},{"$f":"IFERROR(INDEX(Table_BPU[], MATCH((SelectedCounty & \" \" & $B24),Table_BPU[Vlookup Helper], 0), 9 + LagYear), 0)","v":0},{"$f":"IFERROR(INDEX(Table_BPU[], MATCH((SelectedCounty & \" \" & $B24),Table_BPU[Vlookup Helper], 0), 10 + LagYear), 0)","v":0},{"$f":"IFERROR(IF(NOT(ISBLANK(B24)), INDEX(Table_BPU[], MATCH((SelectedCounty & \" \" & $B24),Table_BPU[Vlookup Helper], 0), 6), 0), \"ERROR\")","v":0}]
[null,null,null,null,null,null,null,null,null,null,null,null,null,null,{"$f":"IF(ISBLANK(N25),\"\",IF(N25>0,N25,1))","v":""},{"$f":"IFERROR(INDEX(Table_BPU[], MATCH((SelectedCounty & \" \" & $B25),Table_BPU[Vlookup Helper], 0), 6 + LagYear), 0)","v":0},{"$f":"IFERROR(INDEX(Table_BPU[], MATCH((SelectedCounty & \" \" & $B25),Table_BPU[Vlookup Helper], 0), 7 + LagYear), 0)","v":0},{"$f":"IFERROR(INDEX(Table_BPU[], MATCH((SelectedCounty & \" \" & $B25),Table_BPU[Vlookup Helper], 0), 8 + LagYear), 0)","v":0},{"$f":"IFERROR(INDEX(Table_BPU[], MATCH((SelectedCounty & \" \" & $B25),Table_BPU[Vlookup Helper], 0), 9 + LagYear), 0)","v":0},{"$f":"IFERROR(INDEX(Table_BPU[], MATCH((SelectedCounty & \" \" & $B25),Table_BPU[Vlookup Helper], 0), 10 + LagYear), 0)","v":0},{"$f":"IFERROR(IF(NOT(ISBLANK(B25)), INDEX(Table_BPU[], MATCH((SelectedCounty & \" \" & $B25),Table_BPU[Vlookup Helper], 0), 6), 0), \"ERROR\")","v":0}]
[null,"Specialty Crops, Greenhouse and Other Livestock",null,null,"",null,"",null,"",null,"",null,""]
[]
[null,null,null,null,null,null,null,null,null,null,null,null,null,null,null,{"$f":"IFERROR(INDEX(Table_BPU[], MATCH((SelectedCounty & \" \" & $B28),Table_BPU[Vlookup Helper], 0), 6 + LagYear), 0)","v":0},{"$f":"IFERROR(INDEX(Table_BPU[], MATCH((SelectedCounty & \" \" & $B28),Table_BPU[Vlookup Helper], 0), 7 + LagYear), 0)","v":0},{"$f":"IFERROR(INDEX(Table_BPU[], MATCH((SelectedCounty & \" \" & $B28),Table_BPU[Vlookup Helper], 0), 8 + LagYear), 0)","v":0},{"$f":"IFERROR(INDEX(Table_BPU[], MATCH((SelectedCounty & \" \" & $B28),Table_BPU[Vlookup Helper], 0), 9 + LagYear), 0)","v":0},{"$f":"IFERROR(INDEX(Table_BPU[], MATCH((SelectedCounty & \" \" & $B28),Table_BPU[Vlookup Helper], 0), 10 + LagYear), 0)","v":0},{"$f":"IFERROR(IF(NOT(ISBLANK(B28)), INDEX(Table_BPU[], MATCH((SelectedCounty & \" \" & $B28),Table_BPU[Vlookup Helper], 0), 6), 0), \"ERROR\")","v":0}]
[null,null,null,null,null,null,null,null,null,null,null,null,null,null,null,{"$f":"IFERROR(INDEX(Table_BPU[], MATCH((SelectedCounty & \" \" & $B29),Table_BPU[Vlookup Helper], 0), 6 + LagYear), 0)","v":0},{"$f":"IFERROR(INDEX(Table_BPU[], MATCH((SelectedCounty & \" \" & $B29),Table_BPU[Vlookup Helper], 0), 7 + LagYear), 0)","v":0},{"$f":"IFERROR(INDEX(Table_BPU[], MATCH((SelectedCounty & \" \" & $B29),Table_BPU[Vlookup Helper], 0), 8 + LagYear), 0)","v":0},{"$f":"IFERROR(INDEX(Table_BPU[], MATCH((SelectedCounty & \" \" & $B29),Table_BPU[Vlookup Helper], 0), 9 + LagYear), 0)","v":0},{"$f":"IFERROR(INDEX(Table_BPU[], MATCH((SelectedCounty & \" \" & $B29),Table_BPU[Vlookup Helper], 0), 10 + LagYear), 0)","v":0},{"$f":"IFERROR(IF(NOT(ISBLANK(B29)), INDEX(Table_BPU[], MATCH((SelectedCounty & \" \" & $B29),Table_BPU[Vlookup Helper], 0), 6), 0), \"ERROR\")","v":0}]
[null,null,null,null,null,null,null,null,null,null,null,null,null,null,null,{"$f":"IFERROR(INDEX(Table_BPU[], MATCH((SelectedCounty & \" \" & $B30),Table_BPU[Vlookup Helper], 0), 6 + LagYear), 0)","v":0},{"$f":"IFERROR(INDEX(Table_BPU[], MATCH((SelectedCounty & \" \" & $B30),Table_BPU[Vlookup Helper], 0), 7 + LagYear), 0)","v":0},{"$f":"IFERROR(INDEX(Table_BPU[], MATCH((SelectedCounty & \" \" & $B30),Table_BPU[Vlookup Helper], 0), 8 + LagYear), 0)","v":0},{"$f":"IFERROR(INDEX(Table_BPU[], MATCH((SelectedCounty & \" \" & $B30),Table_BPU[Vlookup Helper], 0), 9 + LagYear), 0)","v":0},{"$f":"IFERROR(INDEX(Table_BPU[], MATCH((SelectedCounty & \" \" & $B30),Table_BPU[Vlookup Helper], 0), 10 + LagYear), 0)","v":0},{"$f":"IFERROR(IF(NOT(ISBLANK(B30)), INDEX(Table_BPU[], MATCH((SelectedCounty & \" \" & $B30),Table_BPU[Vlookup Helper], 0), 6), 0), \"ERROR\")","v":0}]
[null,null,null,null,null,null,null,null,null,null,null,null,null,null,null,{"$f":"IFERROR(INDEX(Table_BPU[], MATCH((SelectedCounty & \" \" & $B31),Table_BPU[Vlookup Helper], 0), 6 + LagYear), 0)","v":0},{"$f":"IFERROR(INDEX(Table_BPU[], MATCH((SelectedCounty & \" \" & $B31),Table_BPU[Vlookup Helper], 0), 7 + LagYear), 0)","v":0},{"$f":"IFERROR(INDEX(Table_BPU[], MATCH((SelectedCounty & \" \" & $B31),Table_BPU[Vlookup Helper], 0), 8 + LagYear), 0)","v":0},{"$f":"IFERROR(INDEX(Table_BPU[], MATCH((SelectedCounty & \" \" & $B31),Table_BPU[Vlookup Helper], 0), 9 + LagYear), 0)","v":0},{"$f":"IFERROR(INDEX(Table_BPU[], MATCH((SelectedCounty & \" \" & $B31),Table_BPU[Vlookup Helper], 0), 10 + LagYear), 0)","v":0},{"$f":"IFERROR(IF(NOT(ISBLANK(B31)), INDEX(Table_BPU[], MATCH((SelectedCounty & \" \" & $B31),Table_BPU[Vlookup Helper], 0), 6), 0), \"ERROR\")","v":0}]
[null,null,null,null,null,null,null,null,null,null,null,null,null,null,null,{"$f":"IFERROR(INDEX(Table_BPU[], MATCH((SelectedCounty & \" \" & $B32),Table_BPU[Vlookup Helper], 0), 6 + LagYear), 0)","v":0},{"$f":"IFERROR(INDEX(Table_BPU[], MATCH((SelectedCounty & \" \" & $B32),Table_BPU[Vlookup Helper], 0), 7 + LagYear), 0)","v":0},{"$f":"IFERROR(INDEX(Table_BPU[], MATCH((SelectedCounty & \" \" & $B32),Table_BPU[Vlookup Helper], 0), 8 + LagYear), 0)","v":0},{"$f":"IFERROR(INDEX(Table_BPU[], MATCH((SelectedCounty & \" \" & $B32),Table_BPU[Vlookup Helper], 0), 9 + LagYear), 0)","v":0},{"$f":"IFERROR(INDEX(Table_BPU[], MATCH((SelectedCounty & \" \" & $B32),Table_BPU[Vlookup Helper], 0), 10 + LagYear), 0)","v":0},{"$f":"IFERROR(IF(NOT(ISBLANK(B32)), INDEX(Table_BPU[], MATCH((SelectedCounty & \" \" & $B32),Table_BPU[Vlookup Helper], 0), 6), 0), \"ERROR\")","v":0}]
[null,null,null,null,null,null,null,null,null,null,null,null,null,null,null,{"$f":"IFERROR(INDEX(Table_BPU[], MATCH((SelectedCounty & \" \" & $B33),Table_BPU[Vlookup Helper], 0), 6 + LagYear), 0)","v":0},{"$f":"IFERROR(INDEX(Table_BPU[], MATCH((SelectedCounty & \" \" & $B33),Table_BPU[Vlookup Helper], 0), 7 + LagYear), 0)","v":0},{"$f":"IFERROR(INDEX(Table_BPU[], MATCH((SelectedCounty & \" \" & $B33),Table_BPU[Vlookup Helper], 0), 8 + LagYear), 0)","v":0},{"$f":"IFERROR(INDEX(Table_BPU[], MATCH((SelectedCounty & \" \" & $B33),Table_BPU[Vlookup Helper], 0), 9 + LagYear), 0)","v":0},{"$f":"IFERROR(INDEX(Table_BPU[], MATCH((SelectedCounty & \" \" & $B33),Table_BPU[Vlookup Helper], 0), 10 + LagYear), 0)","v":0},{"$f":"IFERROR(IF(NOT(ISBLANK(B33)), INDEX(Table_BPU[], MATCH((SelectedCounty & \" \" & $B33),Table_BPU[Vlookup Helper], 0), 6), 0), \"ERROR\")","v":0}]
[null,null,null,null,null,null,null,null,null,null,null,null,null,null,null,{"$f":"IFERROR(INDEX(Table_BPU[], MATCH((SelectedCounty & \" \" & $B34),Table_BPU[Vlookup Helper], 0), 6 + LagYear), 0)","v":0},{"$f":"IFERROR(INDEX(Table_BPU[], MATCH((SelectedCounty & \" \" & $B34),Table_BPU[Vlookup Helper], 0), 7 + LagYear), 0)","v":0},{"$f":"IFERROR(INDEX(Table_BPU[], MATCH((SelectedCounty & \" \" & $B34),Table_BPU[Vlookup Helper], 0), 8 + LagYear), 0)","v":0},{"$f":"IFERROR(INDEX(Table_BPU[], MATCH((SelectedCounty & \" \" & $B34),Table_BPU[Vlookup Helper], 0), 9 + LagYear), 0)","v":0},{"$f":"IFERROR(INDEX(Table_BPU[], MATCH((SelectedCounty & \" \" & $B34),Table_BPU[Vlookup Helper], 0), 10 + LagYear), 0)","v":0},{"$f":"IFERROR(IF(NOT(ISBLANK(B34)), INDEX(Table_BPU[], MATCH((SelectedCounty & \" \" & $B34),Table_BPU[Vlookup Helper], 0), 6), 0), \"ERROR\")","v":0}]
[null,null,null,null,null,null,null,null,null,null,null,null,null,null,null,{"$f":"IFERROR(INDEX(Table_BPU[], MATCH((SelectedCounty & \" \" & $B35),Table_BPU[Vlookup Helper], 0), 6 + LagYear), 0)","v":0},{"$f":"IFERROR(INDEX(Table_BPU[], MATCH((SelectedCounty & \" \" & $B35),Table_BPU[Vlookup Helper], 0), 7 + LagYear), 0)","v":0},{"$f":"IFERROR(INDEX(Table_BPU[], MATCH((SelectedCounty & \" \" & $B35),Table_BPU[Vlookup Helper], 0), 8 + LagYear), 0)","v":0},{"$f":"IFERROR(INDEX(Table_BPU[], MATCH((SelectedCounty & \" \" & $B35),Table_BPU[Vlookup Helper], 0), 9 + LagYear), 0)","v":0},{"$f":"IFERROR(INDEX(Table_BPU[], MATCH((SelectedCounty & \" \" & $B35),Table_BPU[Vlookup Helper], 0), 10 + LagYear), 0)","v":0},{"$f":"IFERROR(IF(NOT(ISBLANK(B35)), INDEX(Table_BPU[], MATCH((SelectedCounty & \" \" & $B35),Table_BPU[Vlookup Helper], 0), 6), 0), \"ERROR\")","v":0}]
[null,null,null,null,null,null,null,null,null,null,null,null,null,null,null,{"$f":"IFERROR(INDEX(Table_BPU[], MATCH((SelectedCounty & \" \" & $B36),Table_BPU[Vlookup Helper], 0), 6 + LagYear), 0)","v":0},{"$f":"IFERROR(INDEX(Table_BPU[], MATCH((SelectedCounty & \" \" & $B36),Table_BPU[Vlookup Helper], 0), 7 + LagYear), 0)","v":0},{"$f":"IFERROR(INDEX(Table_BPU[], MATCH((SelectedCounty & \" \" & $B36),Table_BPU[Vlookup Helper], 0), 8 + LagYear), 0)","v":0},{"$f":"IFERROR(INDEX(Table_BPU[], MATCH((SelectedCounty & \" \" & $B36),Table_BPU[Vlookup Helper], 0), 9 + LagYear), 0)","v":0},{"$f":"IFERROR(INDEX(Table_BPU[], MATCH((SelectedCounty & \" \" & $B36),Table_BPU[Vlookup Helper], 0), 10 + LagYear), 0)","v":0},{"$f":"IFERROR(IF(NOT(ISBLANK(B36)), INDEX(Table_BPU[], MATCH((SelectedCounty & \" \" & $B36),Table_BPU[Vlookup Helper], 0), 6), 0), \"ERROR\")","v":0}]
[]
["hide here and after"]
[null,"current size",null,null,null,null,null,null,null,null,null,null,null,null,"Expense"]
[null,"crop basket 1",null,{"$f":"ROUND(N10*ROUND(P10,4),2)","v":0},null,{"$f":"ROUND(N10*ROUND(Q10,4),2)","v":0},null,{"$f":"ROUND(N10*ROUND(R10,4),2)","v":0},null,{"$f":"ROUND(N10*ROUND(S10,4),2)","v":0},null,{"$f":"ROUND(N10*ROUND(T10,4),2)","v":0},null,null,{"$f":"ROUND($N10*ROUND(P10,4),2)","v":0},{"$f":"ROUND($N10*ROUND(Q10,4),2)","v":0},{"$f":"ROUND($N10*ROUND(R10,4),2)","v":0},{"$f":"ROUND($N10*ROUND(S10,4),2)","v":0},{"$f":"ROUND($N10*ROUND(T10,4),2)","v":0}]
[null,"crop basket 2",null,{"$f":"ROUND(N11*ROUND(P11,4),2)","v":0},null,{"$f":"ROUND(N11*ROUND(Q11,4),2)","v":0},null,{"$f":"ROUND(N11*ROUND(R11,4),2)","v":0},null,{"$f":"ROUND(N11*ROUND(S11,4),2)","v":0},null,{"$f":"ROUND(N11*ROUND(T11,4),2)","v":0},null,null,{"$f":"ROUND($N11*ROUND(P11,4),2)","v":0},{"$f":"ROUND($N$11*ROUND(Q11,4),2)","v":0},{"$f":"ROUND($N$11*ROUND(R11,4),2)","v":0},{"$f":"ROUND($N$11*ROUND(S11,4),2)","v":0},{"$f":"ROUND($N$11*ROUND(T11,4),2)","v":0}]
[null,"crop basket 3",null,{"$f":"ROUND(N12*ROUND(P12,4),2)","v":0},null,{"$f":"ROUND(N12*ROUND(Q12,4),2)","v":0},null,{"$f":"ROUND(N12*ROUND(R12,4),2)","v":0},null,{"$f":"ROUND(N12*ROUND(S12,4),2)","v":0},null,{"$f":"ROUND(N12*ROUND(T12,4),2)","v":0},null,null,{"$f":"ROUND($N12*ROUND(P12,4),2)","v":0},{"$f":"ROUND($N$12*ROUND(Q12,4),2)","v":0},{"$f":"ROUND($N$12*ROUND(R12,4),2)","v":0},{"$f":"ROUND($N$12*ROUND(S12,4),2)","v":0},{"$f":"ROUND($N$12*ROUND(T12,4),2)","v":0}]
[null,"crop basket 4",null,{"$f":"ROUND(N13*ROUND(P13,4),2)","v":0},null,{"$f":"ROUND(N13*ROUND(Q13,4),2)","v":0},null,{"$f":"ROUND(N13*ROUND(R13,4),2)","v":0},null,{"$f":"ROUND(N13*ROUND(S13,4),2)","v":0},null,{"$f":"ROUND(N13*ROUND(T13,4),2)","v":0},null,null,0,{"$f":"ROUND($N$13*ROUND(Q13,4),2)","v":0},{"$f":"ROUND($N$13*ROUND(R13,4),2)","v":0},{"$f":"ROUND($N$13*ROUND(S13,4),2)","v":0},{"$f":"ROUND($N$13*ROUND(T13,4),2)","v":0}]
[null,"beef 1",null,{"$f":"ROUND(N16*ROUND(P16,4),2)","v":0},null,{"$f":"ROUND(N16*ROUND(Q16,4),2)","v":0},null,{"$f":"ROUND(N16*ROUND(R16,4),2)","v":0},null,{"$f":"ROUND(N16*ROUND(S16,4),2)","v":0},null,{"$f":"ROUND(N16*ROUND(T16,4),2)","v":0},null,null,{"$f":"ROUND($N16*ROUND(P16,4),2)","v":0},{"$f":"ROUND($N16*ROUND(Q16,4),2)","v":0},0,0,0]
[null,"beef 2",null,{"$f":"ROUND(N17*ROUND(P17,4),2)","v":0},null,{"$f":"ROUND(N17*ROUND(Q17,4),2)","v":0},null,{"$f":"ROUND(N17*ROUND(R17,4),2)","v":0},null,{"$f":"ROUND(N17*ROUND(S17,4),2)","v":0},null,{"$f":"ROUND(N17*ROUND(T17,4),2)","v":0},null,null,{"$f":"ROUND($N17*ROUND(P17,4),2)","v":0},0,0,0,0]
[null,"beef 3",null,{"$f":"ROUND(N18*ROUND(P18,4),2)","v":0},null,{"$f":"ROUND(N18*ROUND(Q18,4),2)","v":0},null,{"$f":"ROUND(N18*ROUND(R18,4),2)","v":0},null,{"$f":"ROUND(N18*ROUND(S18,4),2)","v":0},null,{"$f":"ROUND(N18*ROUND(T18,4),2)","v":0},null,null,0,{"$f":"ROUND($N18*ROUND(Q18,4),2)","v":0},{"$f":"ROUND($N18*ROUND(R18,4),2)","v":0},{"$f":"ROUND($N18*ROUND(S18,4),2)","v":0},{"$f":"ROUND($N18*ROUND(T18,4),2)","v":0}]
[null,"beef 4",null,{"$f":"ROUND(N19*ROUND(P19,4),2)","v":0},null,{"$f":"ROUND(N19*ROUND(Q19,4),2)","v":0},null,{"$f":"ROUND(N19*ROUND(R19,4),2)","v":0},null,{"$f":"ROUND(N19*ROUND(S19,4),2)","v":0},null,{"$f":"ROUND(N19*ROUND(T19,4),2)","v":0},null,null,0,0,0,0,0]
[null,"beef 5",null,{"$f":"ROUND(N20*ROUND(P20,4),2)","v":0},null,{"$f":"ROUND(N20*ROUND(Q20,4),2)","v":0},null,{"$f":"ROUND(N20*ROUND(R20,4),2)","v":0},null,{"$f":"ROUND(N20*ROUND(S20,4),2)","v":0},null,{"$f":"ROUND(N20*ROUND(T20,4),2)","v":0},null,null,0,0,0,0,0]
[null,"market hogs1",null,{"$f":"ROUND(N23*ROUND(P23,4),2)","v":0},null,{"$f":"ROUND(N23*ROUND(Q23,4),2)","v":0},null,{"$f":"ROUND(N23*ROUND(R23,4),2)","v":0},null,{"$f":"ROUND(N23*ROUND(S23,4),2)","v":0},null,{"$f":"ROUND(N23*ROUND(T23,4),2)","v":0},null,null,{"$f":"ROUND($N23*ROUND(P23,4),2)","v":0},0,0,0,0]
[null,"market hogs 2",null,{"$f":"ROUND(N24*ROUND(P24,4),2)","v":0},null,{"$f":"ROUND(N24*ROUND(Q24,4),2)","v":0},null,{"$f":"ROUND(N24*ROUND(R24,4),2)","v":0},null,{"$f":"ROUND(N24*ROUND(S24,4),2)","v":0},null,{"$f":"ROUND(N24*ROUND(T24,4),2)","v":0},null,null,0,0,0,0,0]
[null,"markethogs 3",null,{"$f":"ROUND(N25*ROUND(P25,4),2)","v":0},null,{"$f":"ROUND(N25*ROUND(Q25,4),2)","v":0},null,{"$f":"ROUND(N25*ROUND(R25,4),2)","v":0},null,{"$f":"ROUND(N25*ROUND(S25,4),2)","v":0},null,{"$f":"ROUND(N25*ROUND(T25,4),2)","v":0},null,null,0,0,0,0,0]
[null,"Specialty Crops 1",null,{"$f":"ROUND(N28*ROUND(P28,4),2)","v":0},null,{"$f":"ROUND(N28*ROUND(Q28,4),2)","v":0},null,{"$f":"ROUND(N28*ROUND(R28,4),2)","v":0},null,{"$f":"ROUND(N28*ROUND(S28,4),2)","v":0},null,{"$f":"ROUND(N28*ROUND(T28,4),2)","v":0},null,null,{"$f":"ROUND($N28*ROUND(P28,4),2)","v":0},0,0,0,0]
[null,"Specialty Crops 2",null,0,null,0,null,0,null,0,null,0,null,null,0,0,0,0,0]
[null,"Specialty Crops 3",null,0,null,0,null,0,null,0,null,0,null,null,0,0,0,0,0]
[null,"Specialty Crops 4",null,0,null,0,null,0,null,0,null,0,null,null,0,0,0,0,0]
[null,"Specialty Crops 5",null,0,null,0,null,0,null,0,null,0,null,null,0,0,0,0,0]
[null,"Specialty Crops 6",null,0,null,0,null,0,null,0,null,0,null,null,0,0,0,0,0]
[null,"Specialty Crops 7",null,0,null,0,null,0,null,0,null,0,null,null,0,0,0,0,0]
[null,"Specialty Crops 8",null,0,null,0,null,0,null,0,null,0,null,null,0,0,0,0,0]
[null,"Specialty Crops 9",null,0,null,0,null,0,null,0,null,0,null,null,0,0,0,0,0]
[null,"Current size total",null,{"$f":"SUM(D39:D60)","v":0},null,{"$f":"SUM(F39:F60)","v":0},null,{"$f":"SUM(H39:H60)","v":0},null,{"$f":"SUM(J39:J60)","v":0},null,{"$f":"SUM(L39:L60)","v":0},null,null,{"$f":"SUM(O39:O60)","v":0},{"$f":"SUM(P39:P60)","v":0},{"$f":"SUM(Q39:Q60)","v":0},{"$f":"SUM(R39:R60)","v":0},{"$f":"SUM(S39:S60)","v":0}]
[]
[]
[null,"Historic size",null,null,null,null,null,null,null,null,null,null,null,null,"Expense"]
[null,"crop basket 1",null,{"$f":"ROUND(D10*ROUND(P10,4),2)","v":0},null,{"$f":"ROUND(F10*ROUND(Q10,4),2)","v":0},null,{"$f":"ROUND(H10*ROUND(R10,4),2)","v":0},null,{"$f":"ROUND(J10*ROUND(S10,4),2)","v":0},null,{"$f":"ROUND(L10*ROUND(T10,4),2)","v":0},null,null,{"$f":"ROUND($D10*ROUND(P10,4),2)","v":0},0,0,0,0]
[null,"crop basket 2",null,{"$f":"ROUND(D11*ROUND(P11,4),2)","v":0},null,{"$f":"ROUND(F11*ROUND(Q11,4),2)","v":0},null,{"$f":"ROUND(H11*ROUND(R11,4),2)","v":0},null,{"$f":"ROUND(J11*ROUND(S11,4),2)","v":0},null,{"$f":"ROUND(L11*ROUND(T11,4),2)","v":0},null,null,0,0,0,0,0]
[null,"crop basket 3",null,{"$f":"ROUND(D12*ROUND(P12,4),2)","v":0},null,{"$f":"ROUND(F12*ROUND(Q12,4),2)","v":0},null,{"$f":"ROUND(H12*ROUND(R12,4),2)","v":0},null,{"$f":"ROUND(J12*ROUND(S12,4),2)","v":0},null,{"$f":"ROUND(L12*ROUND(T12,4),2)","v":0},null,null,0,0,0,0,0]
[null,"crop basket 4",null,{"$f":"ROUND(D13*ROUND(P13,4),2)","v":0},null,{"$f":"ROUND(F13*ROUND(Q13,4),2)","v":0},null,{"$f":"ROUND(H13*ROUND(R13,4),2)","v":0},null,{"$f":"ROUND(J13*ROUND(S13,4),2)","v":0},null,{"$f":"ROUND(L13*ROUND(T13,4),2)","v":0},null,null,0,0,0,0,0]
[null,"beef 1",null,{"$f":"ROUND(D16*ROUND(P16,4),2)","v":0},null,{"$f":"ROUND(F16*ROUND(Q16,4),2)","v":0},null,{"$f":"ROUND(H16*ROUND(R16,4),2)","v":0},null,{"$f":"ROUND(J16*ROUND(S16,4),2)","v":0},null,{"$f":"ROUND(L16*ROUND(T16,4),2)","v":0},null,null,{"$f":"ROUND($D16*ROUND(P16,4),2)","v":0},0,0,0,0]
[null,"beef 2",null,{"$f":"ROUND(D17*ROUND(P17,4),2)","v":0},null,{"$f":"ROUND(F17*ROUND(Q17,4),2)","v":0},null,{"$f":"ROUND(H17*ROUND(R17,4),2)","v":0},null,{"$f":"ROUND(J17*ROUND(S17,4),2)","v":0},null,{"$f":"ROUND(L17*ROUND(T17,4),2)","v":0},null,null,0,0,0,0,0]
[null,"beef 3",null,{"$f":"ROUND(D18*ROUND(P18,4),2)","v":0},null,{"$f":"ROUND(F18*ROUND(Q18,4),2)","v":0},null,{"$f":"ROUND(H18*ROUND(R18,4),2)","v":0},null,{"$f":"ROUND(J18*ROUND(S18,4),2)","v":0},null,{"$f":"ROUND(L18*ROUND(T18,4),2)","v":0},null,null,0,0,0,0,0]
[null,"beef 4",null,{"$f":"ROUND(D19*ROUND(P19,4),2)","v":0},null,{"$f":"ROUND(F19*ROUND(Q19,4),2)","v":0},null,{"$f":"ROUND(H19*ROUND(R19,4),2)","v":0},null,{"$f":"ROUND(J19*ROUND(S19,4),2)","v":0},null,{"$f":"ROUND(L19*ROUND(T19,4),2)","v":0},null,null,0,0,0,0,0]
[null,"beef 5",null,0,null,0,null,0,null,0,null,0,null,null,0,0,0,0,0]
[null,"market hogs1",null,{"$f":"ROUND(D23*ROUND(P23,4),2)","v":0},null,{"$f":"ROUND(F23*ROUND(Q23,4),2)","v":0},null,{"$f":"ROUND(H23*ROUND(R23,4),2)","v":0},null,{"$f":"ROUND(J23*ROUND(S23,4),2)","v":0},null,{"$f":"ROUND(L23*ROUND(T23,4),2)","v":0},null,null,{"$f":"ROUND($D23*ROUND(P23,4),2)","v":0},0,0,0,0]
[null,"market hogs 2",null,{"$f":"ROUND(D24*ROUND(P24,4),2)","v":0},null,{"$f":"ROUND(F24*ROUND(Q24,4),2)","v":0},null,{"$f":"ROUND(H24*ROUND(R24,4),2)","v":0},null,{"$f":"ROUND(J24*ROUND(S24,4),2)","v":0},null,{"$f":"ROUND(L24*ROUND(T24,4),2)","v":0},null,null,0,0,0,0,0]
[null,"markethogs 3",null,{"$f":"ROUND(D25*ROUND(P25,4),2)","v":0},null,{"$f":"ROUND(F25*ROUND(Q25,4),2)","v":0},null,{"$f":"ROUND(H25*ROUND(R25,4),2)","v":0},null,{"$f":"ROUND(J25*ROUND(S25,4),2)","v":0},null,{"$f":"ROUND(L25*ROUND(T25,4),2)","v":0},null,null,0,0,0,0,0]
[null,"Specialty Crops 1",null,{"$f":"ROUND(D28*ROUND(P28,4),2)","v":0},null,{"$f":"ROUND(F28*ROUND(Q28,4),2)","v":0},null,{"$f":"ROUND(H28*ROUND(R28,4),2)","v":0},null,{"$f":"ROUND(J28*ROUND(S28,4),2)","v":0},null,{"$f":"ROUND(L28*ROUND(T28,4),2)","v":0},null,null,{"$f":"ROUND($D28*ROUND(P28,4),2)","v":0},0,0,0,0]
[null,"Specialty Crops 2",null,0,null,0,null,0,null,0,null,0,null,null,0,0,0,0,0]
[null,"Specialty Crops 3",null,0,null,0,null,0,null,0,null,0,null,null,0,0,0,0,0]
[null,"Specialty Crops 4",null,0,null,0,null,0,null,0,null,0,null,null,0,0,0,0,0]
[null,"Specialty Crops 5",null,0,null,0,null,0,null,0,null,0,null,null,0,0,0,0,0]
[null,"Specialty Crops 6",null,0,null,0,null,0,null,0,null,0,null,null,0,0,0,0,0]
[null,"Specialty Crops 7",null,0,null,0,null,0,null,0,null,0,null,null,0,0,0,0,0]
[null,"Specialty Crops 8",null,0,null,0,null,0,null,0,null,0,null,null,0,0,0,0,0]
[null,"Specialty Crops 9",null,0,null,0,null,0,null,0,null,0,null,null,0,0,0,0,0]
[null,"Historic size totals",null,{"$f":"SUM(D65:D85)","v":0},null,{"$f":"SUM(F65:F85)","v":0},null,{"$f":"SUM(H65:H85)","v":0},null,{"$f":"SUM(J65:J85)","v":0},null,{"$f":"SUM(L65:L85)","v":0},null,null,{"$f":"SUM(O65:O85)","v":0},{"$f":"SUM(P65:P85)","v":0},{"$f":"SUM(Q65:Q85)","v":0},{"$f":"SUM(R65:R85)","v":0},{"$f":"SUM(S65:S85)","v":0}]
[]
[]
[null,"Ratio difference %",null,{"$f":"IF(D86=0,0,((D61-D86)/D86))","v":0},null,{"$f":"IF(F86=0,0,((F61-F86)/F86))","v":0},null,{"$f":"IF(H86=0,0,((H61-H86)/H86))","v":0},null,{"$f":"IF(J86=0,0,((J61-J86)/J86))","v":0},null,{"$f":"IF(L86=0,0,((L61-L86)/L86))","v":0}]
[null,"Additive Difference",null,{"$f":"IF(OR(D61=0, D86=0), 0, (D61-D86))","v":0},null,{"$f":"IF(OR(F61=0, F86=0), 0, (F61-F86))","v":0},null,0,null,0,null,0]

{"sheet":"BPU's (Data)","index":5,"n_rows":3540,"n_cols":18,"rows_kept":3540,"cut":false,"hidden":true,"merged":[[0,11,1,17]]}
["Vlookup Helper","Risk Area","BPU ID","BPU Description","2019","2020","2021","2022","2023","2024","BPU Colour Legend","Dropdown Lists"]
[{"$f":"Table_BPU[[#This Row],[Risk Area]]&\" \"&Table_BPU[[#This Row],[BPU Description]]","v":"Acadia Bedding Plants (per sq ft)"},"Acadia",70,"Bedding Plants (per sq ft)",3.8,4.4800000000000004,3.49,0.23,5.27,6.25,"Estimated BPU"]
[{"$f":"Table_BPU[[#This Row],[Risk Area]]&\" \"&Table_BPU[[#This Row],[BPU Description]]","v":"Athabasca Bedding Plants (per sq ft)"},"Athabasca",70,"Bedding Plants (per sq ft)",3.8,4.4800000000000004,3.49,0.23,5.27,6.25,null,"Crop Basket",null,"Beef",null,"Market Hogs",null,"Specialty Crops"]
[{"$f":"Table_BPU[[#This Row],[Risk Area]]&\" \"&Table_BPU[[#This Row],[BPU Description]]","v":"Barrhead Bedding Plants (per sq ft)"},"Barrhead",70,"Bedding Plants (per sq ft)",3.8,4.4800000000000004,3.49,0.23,5.27,6.25]
[{"$f":"Table_BPU[[#This Row],[Risk Area]]&\" \"&Table_BPU[[#This Row],[BPU Description]]","v":"Beaver Bedding Plants (per sq ft)"},"Beaver",70,"Bedding Plants (per sq ft)",3.8,4.4800000000000004,3.49,0.23,5.27,6.25,null,"Crop Basket",null,"Beef Cow / Calf",null,"Hogs Farrow to Finish",null,"Bedding Plants (per sq ft)"]
[{"$f":"Table_BPU[[#This Row],[Risk Area]]&\" \"&Table_BPU[[#This Row],[BPU Description]]","v":"Big Lakes Bedding Plants (per sq ft)"},"Big Lakes",70,"Bedding Plants (per sq ft)",3.8,4.4800000000000004,3.49,0.23,5.27,6.25,null,"Crop Basket - Irrigated",null,"Beef Fat Cattle Custom Fed",null,"Hogs Wean to Finish",null,"Bison Cow / Calf"]
[{"$f":"Table_BPU[[#This Row],[Risk Area]]&\" \"&Table_BPU[[#This Row],[BPU Description]]","v":"Bighorn Bedding Plants (per sq ft)"},"Bighorn",70,"Bedding Plants (per sq ft)",3.8,4.4800000000000004,3.49,0.23,5.27,6.25,null,"Forage Basket",null,"Beef Fat Cattle Owned",null,"Hogs Farrow to Wean",null,"Bison Feeder"]
[{"$f":"Table_BPU[[#This Row],[Risk Area]]&\" \"&Table_BPU[[#This Row],[BPU Description]]","v":"Birch Hills Bedding Plants (per sq ft)"},"Birch Hills",70,"Bedding Plants (per sq ft)",3.8,4.4800000000000004,3.49,0.23,5.27,6.25,null,"Forage Basket - Irrigated",null,"Beef Feeders Custom Fed",null,null,null,"Canary Seed"]
[{"$f":"Table_BPU[[#This Row],[Risk Area]]&\" \"&Table_BPU[[#This Row],[BPU Description]]","v":"Bonnyville Bedding Plants (per sq ft)"},"Bonnyville",70,"Bedding Plants (per sq ft)",3.8,4.4800000000000004,3.49,0.23,5.27,6.25,null,null,null,"Beef Feeders Owned",null,null,null,"Chick Peas - Desi"]
[{"$f":"Table_BPU[[#This Row],[Risk Area]]&\" \"&Table_BPU[[#This Row],[BPU Description]]","v":"Brazeau Bedding Plants (per sq ft)"},"Brazeau",70,"Bedding Plants (per sq ft)",3.8,4.4800000000000004,3.49,0.23,5.27,6.25,null,"Risk Areas",null,null,null,null,null,"Chick Peas - Kabuli"]
[{"$f":"Table_BPU[[#This Row],[Risk Area]]&\" \"&Table_BPU[[#This Row],[BPU Description]]","v":"Camrose Bedding Plants (per sq ft)"},"Camrose",70,"Bedding Plants (per sq ft)",3.8,4.4800000000000004,3.49,0.23,5.27,6.25,null,"Acadia",null,"Crop Year",null,null,null,"Chicken Broilers per bird"]
[{"$f":"Table_BPU[[#This Row],[Risk Area]]&\" \"&Table_BPU[[#This Row],[BPU Description]]","v":"Cardston Bedding Plants (per sq ft)"},"Cardston",70,"Bedding Plants (per sq ft)",3.8,4.4800000000000004,3.49,0.23,5.27,6.25,null,"Athabasca",null,2025,null,null,null,"Corn - Processing"]
[{"$f":"Table_BPU[[#This Row],[Risk Area]]&\" \"&Table_BPU[[#This Row],[BPU Description]]","v":"Clear Hills Bedding Plants (per sq ft)"},"Clear Hills",70,"Bedding Plants (per sq ft)",3.8,4.4800000000000004,3.49,0.23,5.27,6.25,null,"Barrhead",null,{"$f":"CropYear-1","v":2024},null,null,null,"Corn - Sweet (Fresh)"]
[{"$f":"Table_BPU[[#This Row],[Risk Area]]&\" \"&Table_BPU[[#This Row],[BPU Description]]","v":"Clearwater Bedding Plants (per sq ft)"},"Clearwater",70,"Bedding Plants (per sq ft)",3.8,4.4800000000000004,3.49,0.23,5.27,6.25,null,"Beaver",null,null,null,null,null,"Cucumbers (per sq ft)"]
[{"$f":"Table_BPU[[#This Row],[Risk Area]]&\" \"&Table_BPU[[#This Row],[BPU Description]]","v":"Cypress Bedding Plants (per sq ft)"},"Cypress",70,"Bedding Plants (per sq ft)",3.8,4.4800000000000004,3.49,0.23,5.27,6.25,null,"Big Lakes",null,null,null,null,null,"Dairy / Hectoliters"]
[{"$f":"Table_BPU[[#This Row],[Risk Area]]&\" \"&Table_BPU[[#This Row],[BPU Description]]","v":"Edmonton Bedding Plants (per sq ft)"},"Edmonton",70,"Bedding Plants (per sq ft)",3.8,4.4800000000000004,3.49,0.23,5.27,6.25,null,"Bighorn",null,null,null,null,null,"Dry Beans"]
[{"$f":"Table_BPU[[#This Row],[Risk Area]]&\" \"&Table_BPU[[#This Row],[BPU Description]]","v":"Fairview Bedding Plants (per sq ft)"},"Fairview",70,"Bedding Plants (per sq ft)",3.8,4.4800000000000004,3.49,0.23,5.27,6.25,null,"Birch Hills",null,null,null,null,null,"Eggs (consumption) per dz"]
[{"$f":"Table_BPU[[#This Row],[Risk Area]]&\" \"&Table_BPU[[#This Row],[BPU Description]]","v":"Flagstaff Bedding Plants (per sq ft)"},"Flagstaff",70,"Bedding Plants (per sq ft)",3.8,4.4800000000000004,3.49,0.23,5.27,6.25,null,"Bonnyville",null,null,null,null,null,"Eggs (consumption) per layer"]
[{"$f":"Table_BPU[[#This Row],[Risk Area]]&\" \"&Table_BPU[[#This Row],[BPU Description]]","v":"Foothills Bedding Plants (per sq ft)"},"Foothills",70,"Bedding Plants (per sq ft)",3.8,4.4800000000000004,3.49,0.23,5.27,6.25,null,"Brazeau",null,null,null,null,null,"Eggs (hatchery) per dz sold"]
[{"$f":"Table_BPU[[#This Row],[Risk Area]]&\" \"&Table_BPU[[#This Row],[BPU Description]]","v":"Forty Mile Bedding Plants (per sq ft)"},"Forty Mile",70,"Bedding Plants (per sq ft)",3.8,4.4800000000000004,3.49,0.23,5.27,6.25,null,"Camrose",null,null,null,null,null,"Eggs (hatchery) per layer"]
[{"$f":"Table_BPU[[#This Row],[Risk Area]]&\" \"&Table_BPU[[#This Row],[BPU Description]]","v":"Grande Prairie Bedding Plants (per sq ft)"},"Grande Prairie",70,"Bedding Plants (per sq ft)",3.8,4.4800000000000004,3.49,0.23,5.27,6.25,null,"Cardston",null,null,null,null,null,"Elk Births"]
[{"$f":"Table_BPU[[#This Row],[Risk Area]]&\" \"&Table_BPU[[#This Row],[BPU Description]]","v":"Greenview Bedding Plants (per sq ft)"},"Greenview",70,"Bedding Plants (per sq ft)",3.8,4.4800000000000004,3.49,0.23,5.27,6.25,null,"Clear Hills",null,null,null,null,null,"Elk Velvet Bulls"]
[{"$f":"Table_BPU[[#This Row],[Risk Area]]&\" \"&Table_BPU[[#This Row],[BPU Description]]","v":"Kneehill Bedding Plants (per sq ft)"},"Kneehill",70,"Bedding Plants (per sq ft)",3.8,4.4800000000000004,3.49,0.23,5.27,6.25,null,"Clearwater",null,null,null,null,null,"Forage Seed"]
[{"$f":"Table_BPU[[#This Row],[Risk Area]]&\" \"&Table_BPU[[#This Row],[BPU Description]]","v":"Lac La Biche Bedding Plants (per sq ft)"},"Lac La Biche",70,"Bedding Plants (per sq ft)",3.8,4.4800000000000004,3.49,0.23,5.27,6.25,null,"Cypress",null,null,null,null,null,"Forage Seed - Irrigated"]
[{"$f":"Table_BPU[[#This Row],[Risk Area]]&\" \"&Table_BPU[[#This Row],[BPU Description]]","v":"Lac Ste. Anne County Bedding Plants (per sq ft)"},"Lac Ste. Anne County",70,"Bedding Plants (per sq ft)",3.8,4.4800000000000004,3.49,0.23,5.27,6.25,null,"Edmonton",null,null,null,null,null,"Green peas (processing)"]
[{"$f":"Table_BPU[[#This Row],[Risk Area]]&\" \"&Table_BPU[[#This Row],[BPU Description]]","v":"Lacombe Bedding Plants (per sq ft)"},"Lacombe",70,"Bedding Plants (per sq ft)",3.8,4.4800000000000004,3.49,0.23,5.27,6.25,null,"Fairview",null,null,null,null,null,"Herb & Spice Basket (acres)"]
[{"$f":"Table_BPU[[#This Row],[Risk Area]]&\" \"&Table_BPU[[#This Row],[BPU Description]]","v":"Lamont Bedding Plants (per sq ft)"},"Lamont",70,"Bedding Plants (per sq ft)",3.8,4.4800000000000004,3.49,0.23,5.27,6.25,null,"Flagstaff",null,null,null,null,null,"Honey (per Hive)"]
[{"$f":"Table_BPU[[#This Row],[Risk Area]]&\" \"&Table_BPU[[#This Row],[BPU Description]]","v":"Leduc Bedding Plants (per sq ft)"},"Leduc",70,"Bedding Plants (per sq ft)",3.8,4.4800000000000004,3.49,0.23,5.27,6.25,null,"Foothills",null,null,null,null,null,"Hybrid Canola"]
[{"$f":"Table_BPU[[#This Row],[Risk Area]]&\" \"&Table_BPU[[#This Row],[BPU Description]]","v":"Lesser Slave River Bedding Plants (per sq ft)"},"Lesser Slave River",70,"Bedding Plants (per sq ft)",3.8,4.4800000000000004,3.49,0.23,5.27,6.25,null,"Forty Mile",null,null,null,null,null,"Leafcutter Bees"]
[{"$f":"Table_BPU[[#This Row],[Risk Area]]&\" \"&Table_BPU[[#This Row],[BPU Description]]","v":"Lethbridge Bedding Plants (per sq ft)"},"Lethbridge",70,"Bedding Plants (per sq ft)",3.8,4.4800000000000004,3.49,0.23,5.27,6.25,null,"Grande Prairie",null,null,null,null,null,"Lentils - Dryland"]
[{"$f":"Table_BPU[[#This Row],[Risk Area]]&\" \"&Table_BPU[[#This Row],[BPU Description]]","v":"Mackenzie Bedding Plants (per sq ft)"},"Mackenzie",70,"Bedding Plants (per sq ft)",3.8,4.4800000000000004,3.49,0.23,5.27,6.25,null,"Greenview",null,null,null,null,null,"Lentils - Irrigated"]
[{"$f":"Table_BPU[[#This Row],[Risk Area]]&\" \"&Table_BPU[[#This Row],[BPU Description]]","v":"Minburn Bedding Plants (per sq ft)"},"Minburn",70,"Bedding Plants (per sq ft)",3.8,4.4800000000000004,3.49,0.23,5.27,6.25,null,"Kneehill",null,null,null,null,null,"Mustard - Brown"]
[{"$f":"Table_BPU[[#This Row],[Risk Area]]&\" \"&Table_BPU[[#This Row],[BPU Description]]","v":"Mountain View Bedding Plants (per sq ft)"},"Mountain View",70,"Bedding Plants (per sq ft)",3.8,4.4800000000000004,3.49,0.23,5.27,6.25,null,"Lac La Biche",null,null,null,null,null,"Mustard - Oriental"]
[{"$f":"Table_BPU[[#This Row],[Risk Area]]&\" \"&Table_BPU[[#This Row],[BPU Description]]","v":"Newell Bedding Plants (per sq ft)"},"Newell",70,"Bedding Plants (per sq ft)",3.8,4.4800000000000004,3.49,0.23,5.27,6.25,null,"Lac Ste. Anne County",null,null,null,null,null,"Mustard - Yellow"]
[{"$f":"Table_BPU[[#This Row],[Risk Area]]&\" \"&Table_BPU[[#This Row],[BPU Description]]","v":"Northern Lights Bedding Plants (per sq ft)"},"Northern Lights",70,"Bedding Plants (per sq ft)",3.8,4.4800000000000004,3.49,0.23,5.27,6.25,null,"Lacombe",null,null,null,null,null,"Peppers (sq. ft.)"]
[{"$f":"Table_BPU[[#This Row],[Risk Area]]&\" \"&Table_BPU[[#This Row],[BPU Description]]","v":"Northern Sunrise Bedding Plants (per sq ft)"},"Northern Sunrise",70,"Bedding Plants (per sq ft)",3.8,4.4800000000000004,3.49,0.23,5.27,6.25,null,"Lamont",null,null,null,null,null,"Processing potatoes"]
[{"$f":"Table_BPU[[#This Row],[Risk Area]]&\" \"&Table_BPU[[#This Row],[BPU Description]]","v":"Opportunity Bedding Plants (per sq ft)"},"Opportunity",70,"Bedding Plants (per sq ft)",3.8,4.4800000000000004,3.49,0.23,5.27,6.25,null,"Leduc",null,null,null,null,null,"Seed potatoes - Dryland"]
[{"$f":"Table_BPU[[#This Row],[Risk Area]]&\" \"&Table_BPU[[#This Row],[BPU Description]]","v":"Paintearth Bedding Plants (per sq ft)"},"Paintearth",70,"Bedding Plants (per sq ft)",3.8,4.4800000000000004,3.49,0.23,5.27,6.25,null,"Lesser Slave River",null,null,null,null,null,"Seed Potatoes - Irrigated"]
[{"$f":"Table_BPU[[#This Row],[Risk Area]]&\" \"&Table_BPU[[#This Row],[BPU Description]]","v":"Parkland County Bedding Plants (per sq ft)"},"Parkland County",70,"Bedding Plants (per sq ft)",3.8,4.4800000000000004,3.49,0.23,5.27,6.25,null,"Lethbridge",null,null,null,null,null,"Sheep - Ewe/lamb"]
[{"$f":"Table_BPU[[#This Row],[Risk Area]]&\" \"&Table_BPU[[#This Row],[BPU Description]]","v":"Peace Bedding Plants (per sq ft)"},"Peace",70,"Bedding Plants (per sq ft)",3.8,4.4800000000000004,3.49,0.23,5.27,6.25,null,"Mackenzie",null,null,null,null,null,"Sugar Beets"]
[{"$f":"Table_BPU[[#This Row],[Risk Area]]&\" \"&Table_BPU[[#This Row],[BPU Description]]","v":"Pincher Creek Bedding Plants (per sq ft)"},"Pincher Creek",70,"Bedding Plants (per sq ft)",3.8,4.4800000000000004,3.49,0.23,5.27,6.25,null,"Minburn",null,null,null,null,null,"Sunflower"]
[{"$f":"Table_BPU[[#This Row],[Risk Area]]&\" \"&Table_BPU[[#This Row],[BPU Description]]","v":"Ponoka Bedding Plants (per sq ft)"},"Ponoka",70,"Bedding Plants (per sq ft)",3.8,4.4800000000000004,3.49,0.23,5.27,6.25,null,"Mountain View",null,null,null,null,null,"Table Potatoes"]
[{"$f":"Table_BPU[[#This Row],[Risk Area]]&\" \"&Table_BPU[[#This Row],[BPU Description]]","v":"Provost Bedding Plants (per sq ft)"},"Provost",70,"Bedding Plants (per sq ft)",3.8,4.4800000000000004,3.49,0.23,5.27,6.25,null,"Newell",null,null,null,null,null,"Timothy Hay (export)"]
[{"$f":"Table_BPU[[#This Row],[Risk Area]]&\" \"&Table_BPU[[#This Row],[BPU Description]]","v":"Ranchland Bedding Plants (per sq ft)"},"Ranchland",70,"Bedding Plants (per sq ft)",3.8,4.4800000000000004,3.49,0.23,5.27,6.25,null,"Northern Lights",null,null,null,null,null,"Tomatoes (per sq ft)"]
[{"$f":"Table_BPU[[#This Row],[Risk Area]]&\" \"&Table_BPU[[#This Row],[BPU Description]]","v":"Red Deer Bedding Plants (per sq ft)"},"Red Deer",70,"Bedding Plants (per sq ft)",3.8,4.4800000000000004,3.49,0.23,5.27,6.25,null,"Northern Sunrise",null,null,null,null,null,"Triticale"]
[{"$f":"Table_BPU[[#This Row],[Risk Area]]&\" \"&Table_BPU[[#This Row],[BPU Description]]","v":"Rocky View Bedding Plants (per sq ft)"},"Rocky View",70,"Bedding Plants (per sq ft)",3.8,4.4800000000000004,3.49,0.23,5.27,6.25,null,"Opportunity",null,null,null,null,null,"Turkey Broilers / bird"]
[{"$f":"Table_BPU[[#This Row],[Risk Area]]&\" \"&Table_BPU[[#This Row],[BPU Description]]","v":"Saddle Hills Bedding Plants (per sq ft)"},"Saddle Hills",70,"Bedding Plants (per sq ft)",3.8,4.4800000000000004,3.49,0.23,5.27,6.25,null,"Paintearth",null,null,null,null,null,"Veggie Basket"]
[{"$f":"Table_BPU[[#This Row],[Risk Area]]&\" \"&Table_BPU[[#This Row],[BPU Description]]","v":"Smoky Lake Bedding Plants (per sq ft)"},"Smoky Lake",70,"Bedding Plants (per sq ft)",3.8,4.4800000000000004,3.49,0.23,5.27,6.25,null,"Parkland County"]
[{"$f":"Table_BPU[[#This Row],[Risk Area]]&\" \"&Table_BPU[[#This Row],[BPU Description]]","v":"Smoky River Bedding Plants (per sq ft)"},"Smoky River",70,"Bedding Plants (per sq ft)",3.8,4.4800000000000004,3.49,0.23,5.27,6.25,null,"Peace"]
[{"$f":"Table_BPU[[#This Row],[Risk Area]]&\" \"&Table_BPU[[#This Row],[BPU Description]]","v":"Special Area 02 Bedding Plants (per sq ft)"},"Special Area 02",70,"Bedding Plants (per sq ft)",3.8,4.4800000000000004,3.49,0.23,5.27,6.25,null,"Pincher Creek"]
[{"$f":"Table_BPU[[#This Row],[Risk Area]]&\" \"&Table_BPU[[#This Row],[BPU Description]]","v":"Special Area 03 Bedding Plants (per sq ft)"},"Special Area 03",70,"Bedding Plants (per sq ft)",3.8,4.4800000000000004,3.49,0.23,5.27,6.25,null,"Ponoka"]
[{"$f":"Table_BPU[[#This Row],[Risk Area]]&\" \"&Table_BPU[[#This Row],[BPU Description]]","v":"Special Area 04 Bedding Plants (per sq ft)"},"Special Area 04",70,"Bedding Plants (per sq ft)",3.8,4.4800000000000004,3.49,0.23,5.27,6.25,null,"Provost"]
[{"$f":"Table_BPU[[#This Row],[Risk Area]]&\" \"&Table_BPU[[#This Row],[BPU Description]]","v":"Spirit River Bedding Plants (per sq ft)"},"Spirit River",70,"Bedding Plants (per sq ft)",3.8,4.4800000000000004,3.49,0.23,5.27,6.25,null,"Ranchland"]
[{"$f":"Table_BPU[[#This Row],[Risk Area]]&\" \"&Table_BPU[[#This Row],[BPU Description]]","v":"St. Paul Bedding Plants (per sq ft)"},"St. Paul",70,"Bedding Plants (per sq ft)",3.8,4.4800000000000004,3.49,0.23,5.27,6.25,null,"Red Deer"]
[{"$f":"Table_BPU[[#This Row],[Risk Area]]&\" \"&Table_BPU[[#This Row],[BPU Description]]","v":"Starland Bedding Plants (per sq ft)"},"Starland",70,"Bedding Plants (per sq ft)",3.8,4.4800000000000004,3.49,0.23,5.27,6.25,null,"Rocky View"]
[{"$f":"Table_BPU[[#This Row],[Risk Area]]&\" \"&Table_BPU[[#This Row],[BPU Description]]","v":"Stettler Bedding Plants (per sq ft)"},"Stettler",70,"Bedding Plants (per sq ft)",3.8,4.4800000000000004,3.49,0.23,5.27,6.25,null,"Saddle Hills"]
[{"$f":"Table_BPU[[#This Row],[Risk Area]]&\" \"&Table_BPU[[#This Row],[BPU Description]]","v":"Strathcona County Bedding Plants (per sq ft)"},"Strathcona County",70,"Bedding Plants (per sq ft)",3.8,4.4800000000000004,3.49,0.23,5.27,6.25,null,"Smoky Lake"]
[{"$f":"Table_BPU[[#This Row],[Risk Area]]&\" \"&Table_BPU[[#This Row],[BPU Description]]","v":"Sturgeon Bedding Plants (per sq ft)"},"Sturgeon",70,"Bedding Plants (per sq ft)",3.8,4.4800000000000004,3.49,0.23,5.27,6.25,null,"Smoky River"]
[{"$f":"Table_BPU[[#This Row],[Risk Area]]&\" \"&Table_BPU[[#This Row],[BPU Description]]","v":"Taber Bedding Plants (per sq ft)"},"Taber",70,"Bedding Plants (per sq ft)",3.8,4.4800000000000004,3.49,0.23,5.27,6.25,null,"Special Area 02"]
[{"$f":"Table_BPU[[#This Row],[Risk Area]]&\" \"&Table_BPU[[#This Row],[BPU Description]]","v":"Thorhild Bedding Plants (per sq ft)"},"Thorhild",70,"Bedding Plants (per sq ft)",3.8,4.4800000000000004,3.49,0.23,5.27,6.25,null,"Special Area 03"]
[{"$f":"Table_BPU[[#This Row],[Risk Area]]&\" \"&Table_BPU[[#This Row],[BPU Description]]","v":"Two Hills Bedding Plants (per sq ft)"},"Two Hills",70,"Bedding Plants (per sq ft)",3.8,4.4800000000000004,3.49,0.23,5.27,6.25,null,"Special Area 04"]
[{"$f":"Table_BPU[[#This Row],[Risk Area]]&\" \"&Table_BPU[[#This Row],[BPU Description]]","v":"Vermilion River Bedding Plants (per sq ft)"},"Vermilion River",70,"Bedding Plants (per sq ft)",3.8,4.4800000000000004,3.49,0.23,5.27,6.25,null,"Spirit River"]
[{"$f":"Table_BPU[[#This Row],[Risk Area]]&\" \"&Table_BPU[[#This Row],[BPU Description]]","v":"Vulcan Bedding Plants (per sq ft)"},"Vulcan",70,"Bedding Plants (per sq ft)",3.8,4.4800000000000004,3.49,0.23,5.27,6.25,null,"St. Paul"]
[{"$f":"Table_BPU[[#This Row],[Risk Area]]&\" \"&Table_BPU[[#This Row],[BPU Description]]","v":"Wainwright Bedding Plants (per sq ft)"},"Wainwright",70,"Bedding Plants (per sq ft)",3.8,4.4800000000000004,3.49,0.23,5.27,6.25,null,"Starland"]
[{"$f":"Table_BPU[[#This Row],[Risk Area]]&\" \"&Table_BPU[[#This Row],[BPU Description]]","v":"Warner Bedding Plants (per sq ft)"},"Warner",70,"Bedding Plants (per sq ft)",3.8,4.4800000000000004,3.49,0.23,5.27,6.25,null,"Stettler"]
[{"$f":"Table_BPU[[#This Row],[Risk Area]]&\" \"&Table_BPU[[#This Row],[BPU Description]]","v":"Westlock Bedding Plants (per sq ft)"},"Westlock",70,"Bedding Plants (per sq ft)",3.8,4.4800000000000004,3.49,0.23,5.27,6.25,null,"Strathcona County"]
[{"$f":"Table_BPU[[#This Row],[Risk Area]]&\" \"&Table_BPU[[#This Row],[BPU Description]]","v":"Wetaskiwin Bedding Plants (per sq ft)"},"Wetaskiwin",70,"Bedding Plants (per sq ft)",3.8,4.4800000000000004,3.49,0.23,5.27,6.25,null,"Sturgeon"]
[{"$f":"Table_BPU[[#This Row],[Risk Area]]&\" \"&Table_BPU[[#This Row],[BPU Description]]","v":"Wheatland Bedding Plants (per sq ft)"},"Wheatland",70,"Bedding Plants (per sq ft)",3.8,4.4800000000000004,3.49,0.23,5.27,6.25,null,"Taber"]
[{"$f":"Table_BPU[[#This Row],[Risk Area]]&\" \"&Table_BPU[[#This Row],[BPU Description]]","v":"Willow Creek Bedding Plants (per sq ft)"},"Willow Creek",70,"Bedding Plants (per sq ft)",3.8,4.4800000000000004,3.49,0.23,5.27,6.25,null,"Thorhild"]
[{"$f":"Table_BPU[[#This Row],[Risk Area]]&\" \"&Table_BPU[[#This Row],[BPU Description]]","v":"Wood Buffalo Bedding Plants (per sq ft)"},"Wood Buffalo",70,"Bedding Plants (per sq ft)",3.8,4.4800000000000004,3.49,0.23,5.27,6.25,null,"Two Hills"]
[{"$f":"Table_BPU[[#This Row],[Risk Area]]&\" \"&Table_BPU[[#This Row],[BPU Description]]","v":"Woodlands Bedding Plants (per sq ft)"},"Woodlands",70,"Bedding Plants (per sq ft)",3.8,4.4800000000000004,3.49,0.23,5.27,6.25,null,"Vermilion River"]
[{"$f":"Table_BPU[[#This Row],[Risk Area]]&\" \"&Table_BPU[[#This Row],[BPU Description]]","v":"Yellowhead Bedding Plants (per sq ft)"},"Yellowhead",70,"Bedding Plants (per sq ft)",3.8,4.4800000000000004,3.49,0.23,5.27,6.25,null,"Vulcan"]
[{"$f":"Table_BPU[[#This Row],[Risk Area]]&\" \"&Table_BPU[[#This Row],[BPU Description]]","v":"Acadia Beef Cow / Calf"},"Acadia",4,"Beef Cow / Calf",502.01,534.24,383.51,465.07,1039.17,1327.05,null,"Wainwright"]
[{"$f":"Table_BPU[[#This Row],[Risk Area]]&\" \"&Table_BPU[[#This Row],[BPU Description]]","v":"Athabasca Beef Cow / Calf"},"Athabasca",4,"Beef Cow / Calf",517.73,534.28,386.93,438.24,1092.1600000000001,1351.85,null,"Warner"]
[{"$f":"Table_BPU[[#This Row],[Risk Area]]&\" \"&Table_BPU[[#This Row],[BPU Description]]","v":"Barrhead Beef Cow / Calf"},"Barrhead",4,"Beef Cow / Calf",517.73,534.28,386.93,438.24,1092.1600000000001,1351.85,null,"Westlock"]
[{"$f":"Table_BPU[[#This Row],[Risk Area]]&\" \"&Table_BPU[[#This Row],[BPU Description]]","v":"Beaver Beef Cow / Calf"},"Beaver",4,"Beef Cow / Calf",555.48,550.19000000000005,355.99,422.1,1066.27,1334.83,null,"Wetaskiwin"]
[{"$f":"Table_BPU[[#This Row],[Risk Area]]&\" \"&Table_BPU[[#This Row],[BPU Description]]","v":"Big Lakes Beef Cow / Calf"},"Big Lakes",4,"Beef Cow / Calf",597.79,578.59,471.46,555.39,1216.75,1390.05,null,"Wheatland"]
[{"$f":"Table_BPU[[#This Row],[Risk Area]]&\" \"&Table_BPU[[#This Row],[BPU Description]]","v":"Bighorn Beef Cow / Calf"},"Bighorn",4,"Beef Cow / Calf",502.01,534.24,383.51,465.07,1039.17,1327.05,null,"Willow Creek"]
[{"$f":"Table_BPU[[#This Row],[Risk Area]]&\" \"&Table_BPU[[#This Row],[BPU Description]]","v":"Birch Hills Beef Cow / Calf"},"Birch Hills",4,"Beef Cow / Calf",597.79,578.59,471.46,555.39,1216.75,1390.05,null,"Wood Buffalo"]
[{"$f":"Table_BPU[[#This Row],[Risk Area]]&\" \"&Table_BPU[[#This Row],[BPU Description]]","v":"Bonnyville Beef Cow / Calf"},"Bonnyville",4,"Beef Cow / Calf",555.48,550.19000000000005,355.99,422.1,1066.27,1334.83,null,"Woodlands"]
[{"$f":"Table_BPU[[#This Row],[Risk Area]]&\" \"&Table_BPU[[#This Row],[BPU Description]]","v":"Brazeau Beef Cow / Calf"},"Brazeau",4,"Beef Cow / Calf",517.73,534.28,386.93,438.24,1092.1600000000001,1351.85,null,"Yellowhead"]
[{"$f":"Table_BPU[[#This Row],[Risk Area]]&\" \"&Table_BPU[[#This Row],[BPU Description]]","v":"Camrose Beef Cow / Calf"},"Camrose",4,"Beef Cow / Calf",555.48,550.19000000000005,355.99,422.1,1066.27,1334.83]
[{"$f":"Table_BPU[[#This Row],[Risk Area]]&\" \"&Table_BPU[[#This Row],[BPU Description]]","v":"Cardston Beef Cow / Calf"},"Cardston",4,"Beef Cow / Calf",462.52,495.83,457.43,603.29,1043.8,1376.09]
[{"$f":"Table_BPU[[#This Row],[Risk Area]]&\" \"&Table_BPU[[#This Row],[BPU Description]]","v":"Clear Hills Beef Cow / Calf"},"Clear Hills",4,"Beef Cow / Calf",597.79,578.59,471.46,555.39,1216.75,1390.05]
[{"$f":"Table_BPU[[#This Row],[Risk Area]]&\" \"&Table_BPU[[#This Row],[BPU Description]]","v":"Clearwater Beef Cow / Calf"},"Clearwater",4,"Beef Cow / Calf",502.01,534.24,383.51,465.07,1039.17,1327.05]
[{"$f":"Table_BPU[[#This Row],[Risk Area]]&\" \"&Table_BPU[[#This Row],[BPU Description]]","v":"Cypress Beef Cow / Calf"},"Cypress",4,"Beef Cow / Calf",462.52,495.83,457.43,603.29,1043.8,1376.09]
[{"$f":"Table_BPU[[#This Row],[Risk Area]]&\" \"&Table_BPU[[#This Row],[BPU Description]]","v":"Edmonton Beef Cow / Calf"},"Edmonton",4,"Beef Cow / Calf",517.73,534.28,386.93,438.24,1092.1600000000001,1351.85]
[{"$f":"Table_BPU[[#This Row],[Risk Area]]&\" \"&Table_BPU[[#This Row],[BPU Description]]","v":"Fairview Beef Cow / Calf"},"Fairview",4,"Beef Cow / Calf",597.79,578.59,471.46,555.39,1216.75,1390.05,null,"Bedding Plants (per sq ft)"]
[{"$f":"Table_BPU[[#This Row],[Risk Area]]&\" \"&Table_BPU[[#This Row],[BPU Description]]","v":"Flagstaff Beef Cow / Calf"},"Flagstaff",4,"Beef Cow / Calf",555.48,550.19000000000005,355.99,422.1,1066.27,1334.83,null,"Bison Cow / Calf"]
[{"$f":"Table_BPU[[#This Row],[Risk Area]]&\" \"&Table_BPU[[#This Row],[BPU Description]]","v":"Foothills Beef Cow / Calf"},"Foothills",4,"Beef Cow / Calf",462.52,495.83,457.43,603.29,1043.8,1376.09,null,"Bison Feeder"]
[{"$f":"Table_BPU[[#This Row],[Risk Area]]&\" \"&Table_BPU[[#This Row],[BPU Description]]","v":"Forty Mile Beef Cow / Calf"},"Forty Mile",4,"Beef Cow / Calf",462.52,495.83,457.43,603.29,1043.8,1376.09,null,"Canary Seed"]
[{"$f":"Table_BPU[[#This Row],[Risk Area]]&\" \"&Table_BPU[[#This Row],[BPU Description]]","v":"Grande Prairie Beef Cow / Calf"},"Grande Prairie",4,"Beef Cow / Calf",597.79,578.59,471.46,555.39,1216.75,1390.05,null,"Chick Peas - Desi"]
[{"$f":"Table_BPU[[#This Row],[Risk Area]]&\" \"&Table_BPU[[#This Row],[BPU Description]]","v":"Greenview Beef Cow / Calf"},"Greenview",4,"Beef Cow / Calf",597.79,578.59,471.46,555.39,1216.75,1390.05,null,"Chick Peas - Kabuli"]
[{"$f":"Table_BPU[[#This Row],[Risk Area]]&\" \"&Table_BPU[[#This Row],[BPU Description]]","v":"Kneehill Beef Cow / Calf"},"Kneehill",4,"Beef Cow / Calf",502.01,534.24,383.51,465.07,1039.17,1327.05,null,"Chicken Broilers per bird"]
[{"$f":"Table_BPU[[#This Row],[Risk Area]]&\" \"&Table_BPU[[#This Row],[BPU Description]]","v":"Lac La Biche Beef Cow / Calf"},"Lac La Biche",4,"Beef Cow / Calf",555.48,550.19000000000005,355.99,422.1,1066.27,1334.83,null,"Corn - Processing"]
[{"$f":"Table_BPU[[#This Row],[Risk Area]]&\" \"&Table_BPU[[#This Row],[BPU Description]]","v":"Lac Ste. Anne County Beef Cow / Calf"},"Lac Ste. Anne County",4,"Beef Cow / Calf",517.73,534.28,386.93,438.24,1092.1600000000001,1351.85,null,"Corn - Sweet (Fresh)"]
[{"$f":"Table_BPU[[#This Row],[Risk Area]]&\" \"&Table_BPU[[#This Row],[BPU Description]]","v":"Lacombe Beef Cow / Calf"},"Lacombe",4,"Beef Cow / Calf",502.01,534.24,383.51,465.07,1039.17,1327.05,null,"Cucumbers (per sq ft)"]
[{"$f":"Table_BPU[[#This Row],[Risk Area]]&\" \"&Table_BPU[[#This Row],[BPU Description]]","v":"Lamont Beef Cow / Calf"},"Lamont",4,"Beef Cow / Calf",555.48,550.19000000000005,355.99,422.1,1066.27,1334.83,null,"Dairy / Hectoliters"]
[{"$f":"Table_BPU[[#This Row],[Risk Area]]&\" \"&Table_BPU[[#This Row],[BPU Description]]","v":"Leduc Beef Cow / Calf"},"Leduc",4,"Beef Cow / Calf",517.73,534.28,386.93,438.24,1092.1600000000001,1351.85,null,"Dry Beans"]
[{"$f":"Table_BPU[[#This Row],[Risk Area]]&\" \"&Table_BPU[[#This Row],[BPU Description]]","v":"Lesser Slave River Beef Cow / Calf"},"Lesser Slave River",4,"Beef Cow / Calf",517.73,534.28,386.93,438.24,1092.1600000000001,1351.85,null,"Eggs (consumption) per dz"]
[{"$f":"Table_BPU[[#This Row],[Risk Area]]&\" \"&Table_BPU[[#This Row],[BPU Description]]","v":"Lethbridge Beef Cow / Calf"},"Lethbridge",4,"Beef Cow / Calf",462.52,495.83,457.43,603.29,1043.8,1376.09,null,"Eggs (consumption) per layer"]
[{"$f":"Table_BPU[[#This Row],[Risk Area]]&\" \"&Table_BPU[[#This Row],[BPU Description]]","v":"Mackenzie Beef Cow / Calf"},"Mackenzie",4,"Beef Cow / Calf",597.79,578.59,471.46,555.39,1216.75,1390.05,null,"Eggs (hatchery) per dz sold"]
[{"$f":"Table_BPU[[#This Row],[Risk Area]]&\" \"&Table_BPU[[#This Row],[BPU Description]]","v":"Minburn Beef Cow / Calf"},"Minburn",4,"Beef Cow / Calf",555.48,550.19000000000005,355.99,422.1,1066.27,1334.83,null,"Eggs (hatchery) per layer"]
[{"$f":"Table_BPU[[#This Row],[Risk Area]]&\" \"&Table_BPU[[#This Row],[BPU Description]]","v":"Mountain View Beef Cow / Calf"},"Mountain View",4,"Beef Cow / Calf",502.01,534.24,383.51,465.07,1039.17,1327.05,null,"Elk Births"]
[{"$f":"Table_BPU[[#This Row],[Risk Area]]&\" \"&Table_BPU[[#This Row],[BPU Description]]","v":"Newell Beef Cow / Calf"},"Newell",4,"Beef Cow / Calf",462.52,495.83,457.43,603.29,1043.8,1376.09,null,"Elk Velvet Bulls"]
[{"$f":"Table_BPU[[#This Row],[Risk Area]]&\" \"&Table_BPU[[#This Row],[BPU Description]]","v":"Northern Lights Beef Cow / Calf"},"Northern Lights",4,"Beef Cow / Calf",597.79,578.59,471.46,555.39,1216.75,1390.05,null,"Forage Seed"]
[{"$f":"Table_BPU[[#This Row],[Risk Area]]&\" \"&Table_BPU[[#This Row],[BPU Description]]","v":"Northern Sunrise Beef Cow / Calf"},"Northern Sunrise",4,"Beef Cow / Calf",597.79,578.59,471.46,555.39,1216.75,1390.05,null,"Forage Seed - Irrigated"]
[{"$f":"Table_BPU[[#This Row],[Risk Area]]&\" \"&Table_BPU[[#This Row],[BPU Description]]","v":"Opportunity Beef Cow / Calf"},"Opportunity",4,"Beef Cow / Calf",597.79,578.59,471.46,555.39,1216.75,1390.05,null,"Green peas (processing)"]
[{"$f":"Table_BPU[[#This Row],[Risk Area]]&\" \"&Table_BPU[[#This Row],[BPU Description]]","v":"Paintearth Beef Cow / Calf"},"Paintearth",4,"Beef Cow / Calf",502.01,534.24,383.51,465.07,1039.17,1327.05,null,"Herb & Spice Basket (acres)"]
[{"$f":"Table_BPU[[#This Row],[Risk Area]]&\" \"&Table_BPU[[#This Row],[BPU Description]]","v":"Parkland County Beef Cow / Calf"},"Parkland County",4,"Beef Cow / Calf",517.73,534.28,386.93,438.24,1092.1600000000001,1351.85,null,"Honey (per Hive)"]
[{"$f":"Table_BPU[[#This Row],[Risk Area]]&\" \"&Table_BPU[[#This Row],[BPU Description]]","v":"Peace Beef Cow / Calf"},"Peace",4,"Beef Cow / Calf",597.79,578.59,471.46,555.39,1216.75,1390.05,null,"Hybrid Canola"]
[{"$f":"Table_BPU[[#This Row],[Risk Area]]&\" \"&Table_BPU[[#This Row],[BPU Description]]","v":"Pincher Creek Beef Cow / Calf"},"Pincher Creek",4,"Beef Cow / Calf",462.52,495.83,457.43,603.29,1043.8,1376.09,null,"Leafcutter Bees"]
[{"$f":"Table_BPU[[#This Row],[Risk Area]]&\" \"&Table_BPU[[#This Row],[BPU Description]]","v":"Ponoka Beef Cow / Calf"},"Ponoka",4,"Beef Cow / Calf",502.01,534.24,383.51,465.07,1039.17,1327.05,null,"Lentils - Dryland"]
[{"$f":"Table_BPU[[#This Row],[Risk Area]]&\" \"&Table_BPU[[#This Row],[BPU Description]]","v":"Provost Beef Cow / Calf"},"Provost",4,"Beef Cow / Calf",555.48,550.19000000000005,355.99,422.1,1066.27,1334.83,null,"Lentils - Irrigated"]
[{"$f":"Table_BPU[[#This Row],[Risk Area]]&\" \"&Table_BPU[[#This Row],[BPU Description]]","v":"Ranchland Beef Cow / Calf"},"Ranchland",4,"Beef Cow / Calf",462.52,495.83,457.43,603.29,1043.8,1376.09,null,"Mustard - Brown"]
[{"$f":"Table_BPU[[#This Row],[Risk Area]]&\" \"&Table_BPU[[#This Row],[BPU Description]]","v":"Red Deer Beef Cow / Calf"},"Red Deer",4,"Beef Cow / Calf",502.01,534.24,383.51,465.07,1039.17,1327.05,null,"Mustard - Oriental"]
[{"$f":"Table_BPU[[#This Row],[Risk Area]]&\" \"&Table_BPU[[#This Row],[BPU Description]]","v":"Rocky View Beef Cow / Calf"},"Rocky View",4,"Beef Cow / Calf",502.01,534.24,383.51,465.07,1039.17,1327.05,null,"Mustard - Yellow"]
[{"$f":"Table_BPU[[#This Row],[Risk Area]]&\" \"&Table_BPU[[#This Row],[BPU Description]]","v":"Saddle Hills Beef Cow / Calf"},"Saddle Hills",4,"Beef Cow / Calf",597.79,578.59,471.46,555.39,1216.75,1390.05,null,"Peppers (sq. ft.)"]
[{"$f":"Table_BPU[[#This Row],[Risk Area]]&\" \"&Table_BPU[[#This Row],[BPU Description]]","v":"Smoky Lake Beef Cow / Calf"},"Smoky Lake",4,"Beef Cow / Calf",555.48,550.19000000000005,355.99,422.1,1066.27,1334.83,null,"Processing potatoes"]
[{"$f":"Table_BPU[[#This Row],[Risk Area]]&\" \"&Table_BPU[[#This Row],[BPU Description]]","v":"Smoky River Beef Cow / Calf"},"Smoky River",4,"Beef Cow / Calf",597.79,578.59,471.46,555.39,1216.75,1390.05,null,"Seed potatoes - Dryland"]
[{"$f":"Table_BPU[[#This Row],[Risk Area]]&\" \"&Table_BPU[[#This Row],[BPU Description]]","v":"Special Area 02 Beef Cow / Calf"},"Special Area 02",4,"Beef Cow / Calf",502.01,534.24,383.51,465.07,1039.17,1327.05,null,"Seed Potatoes - Irrigated"]
[{"$f":"Table_BPU[[#This Row],[Risk Area]]&\" \"&Table_BPU[[#This Row],[BPU Description]]","v":"Special Area 03 Beef Cow / Calf"},"Special Area 03",4,"Beef Cow / Calf",502.01,534.24,383.51,465.07,1039.17,1327.05,null,"Sheep - Ewe/lamb"]
[{"$f":"Table_BPU[[#This Row],[Risk Area]]&\" \"&Table_BPU[[#This Row],[BPU Description]]","v":"Special Area 04 Beef Cow / Calf"},"Special Area 04",4,"Beef Cow / Calf",502.01,534.24,383.51,465.07,1039.17,1327.05,null,"Sugar Beets"]
[{"$f":"Table_BPU[[#This Row],[Risk Area]]&\" \"&Table_BPU[[#This Row],[BPU Description]]","v":"Spirit River Beef Cow / Calf"},"Spirit River",4,"Beef Cow / Calf",597.79,578.59,471.46,555.39,1216.75,1390.05,null,"Sunflower"]
[{"$f":"Table_BPU[[#This Row],[Risk Area]]&\" \"&Table_BPU[[#This Row],[BPU Description]]","v":"St. Paul Beef Cow / Calf"},"St. Paul",4,"Beef Cow / Calf",555.48,550.19000000000005,355.99,422.1,1066.27,1334.83,null,"Table Potatoes"]
[{"$f":"Table_BPU[[#This Row],[Risk Area]]&\" \"&Table_BPU[[#This Row],[BPU Description]]","v":"Starland Beef Cow / Calf"},"Starland",4,"Beef Cow / Calf",502.01,534.24,383.51,465.07,1039.17,1327.05,null,"Timothy Hay (export)"]
[{"$f":"Table_BPU[[#This Row],[Risk Area]]&\" \"&Table_BPU[[#This Row],[BPU Description]]","v":"Stettler Beef Cow / Calf"},"Stettler",4,"Beef Cow / Calf",502.01,534.24,383.51,465.07,1039.17,1327.05,null,"Tomatoes (per sq ft)"]
[{"$f":"Table_BPU[[#This Row],[Risk Area]]&\" \"&Table_BPU[[#This Row],[BPU Description]]","v":"Strathcona County Beef Cow / Calf"},"Strathcona County",4,"Beef Cow / Calf",517.73,534.28,386.93,438.24,1092.1600000000001,1351.85,null,"Triticale"]
[{"$f":"Table_BPU[[#This Row],[Risk Area]]&\" \"&Table_BPU[[#This Row],[BPU Description]]","v":"Sturgeon Beef Cow / Calf"},"Sturgeon",4,"Beef Cow / Calf",517.73,534.28,386.93,438.24,1092.1600000000001,1351.85,null,"Turkey Broilers / bird"]
[{"$f":"Table_BPU[[#This Row],[Risk Area]]&\" \"&Table_BPU[[#This Row],[BPU Description]]","v":"Taber Beef Cow / Calf"},"Taber",4,"Beef Cow / Calf",462.52,495.83,457.43,603.29,1043.8,1376.09,null,"Veggie Basket"]
[{"$f":"Table_BPU[[#This Row],[Risk Area]]&\" \"&Table_BPU[[#This Row],[BPU Description]]","v":"Thorhild Beef Cow / Calf"},"Thorhild",4,"Beef Cow / Calf",517.73,534.28,386.93,438.24,1092.1600000000001,1351.85]
[{"$f":"Table_BPU[[#This Row],[Risk Area]]&\" \"&Table_BPU[[#This Row],[BPU Description]]","v":"Two Hills Beef Cow / Calf"},"Two Hills",4,"Beef Cow / Calf",555.48,550.19000000000005,355.99,422.1,1066.27,1334.83]
[{"$f":"Table_BPU[[#This Row],[Risk Area]]&\" \"&Table_BPU[[#This Row],[BPU Description]]","v":"Vermilion River Beef Cow / Calf"},"Vermilion River",4,"Beef Cow / Calf",555.48,550.19000000000005,355.99,422.1,1066.27,1334.83]
[{"$f":"Table_BPU[[#This Row],[Risk Area]]&\" \"&Table_BPU[[#This Row],[BPU Description]]","v":"Vulcan Beef Cow / Calf"},"Vulcan",4,"Beef Cow / Calf",462.52,495.83,457.43,603.29,1043.8,1376.09]
[{"$f":"Table_BPU[[#This Row],[Risk Area]]&\" \"&Table_BPU[[#This Row],[BPU Description]]","v":"Wainwright Beef Cow / Calf"},"Wainwright",4,"Beef Cow / Calf",555.48,550.19000000000005,355.99,422.1,1066.27,1334.83]
[{"$f":"Table_BPU[[#This Row],[Risk Area]]&\" \"&Table_BPU[[#This Row],[BPU Description]]","v":"Warner Beef Cow / Calf"},"Warner",4,"Beef Cow / Calf",462.52,495.83,457.43,603.29,1043.8,1376.09]
[{"$f":"Table_BPU[[#This Row],[Risk Area]]&\" \"&Table_BPU[[#This Row],[BPU Description]]","v":"Westlock Beef Cow / Calf"},"Westlock",4,"Beef Cow / Calf",517.73,534.28,386.93,438.24,1092.1600000000001,1351.85]
[{"$f":"Table_BPU[[#This Row],[Risk Area]]&\" \"&Table_BPU[[#This Row],[BPU Description]]","v":"Wetaskiwin Beef Cow / Calf"},"Wetaskiwin",4,"Beef Cow / Calf",517.73,534.28,386.93,438.24,1092.1600000000001,1351.85]
[{"$f":"Table_BPU[[#This Row],[Risk Area]]&\" \"&Table_BPU[[#This Row],[BPU Description]]","v":"Wheatland Beef Cow / Calf"},"Wheatland",4,"Beef Cow / Calf",462.52,495.83,457.43,603.29,1043.8,1376.09]
[{"$f":"Table_BPU[[#This Row],[Risk Area]]&\" \"&Table_BPU[[#This Row],[BPU Description]]","v":"Willow Creek Beef Cow / Calf"},"Willow Creek",4,"Beef Cow / Calf",462.52,495.83,457.43,603.29,1043.8,1376.09]
[{"$f":"Table_BPU[[#This Row],[Risk Area]]&\" \"&Table_BPU[[#This Row],[BPU Description]]","v":"Wood Buffalo Beef Cow / Calf"},"Wood Buffalo",4,"Beef Cow / Calf",555.48,550.19000000000005,355.99,422.1,1066.27,1334.83]
[{"$f":"Table_BPU[[#This Row],[Risk Area]]&\" \"&Table_BPU[[#This Row],[BPU Description]]","v":"Woodlands Beef Cow / Calf"},"Woodlands",4,"Beef Cow / Calf",517.73,534.28,386.93,438.24,1092.1600000000001,1351.85]
[{"$f":"Table_BPU[[#This Row],[Risk Area]]&\" \"&Table_BPU[[#This Row],[BPU Description]]","v":"Yellowhead Beef Cow / Calf"},"Yellowhead",4,"Beef Cow / Calf",517.73,534.28,386.93,438.24,1092.1600000000001,1351.85]
[{"$f":"Table_BPU[[#This Row],[Risk Area]]&\" \"&Table_BPU[[#This Row],[BPU Description]]","v":"Acadia Beef Fat Cattle Custom Fed"},"Acadia",5,"Beef Fat Cattle Custom Fed",27.84,28.6,30.46,34.9,40.24,41.79]
[{"$f":"Table_BPU[[#This Row],[Risk Area]]&\" \"&Table_BPU[[#This Row],[BPU Description]]","v":"Athabasca Beef Fat Cattle Custom Fed"},"Athabasca",5,"Beef Fat Cattle Custom Fed",27.84,28.6,30.46,34.9,40.24,41.79]
[{"$f":"Table_BPU[[#This Row],[Risk Area]]&\" \"&Table_BPU[[#This Row],[BPU Description]]","v":"Barrhead Beef Fat Cattle Custom Fed"},"Barrhead",5,"Beef Fat Cattle Custom Fed",27.84,28.6,30.46,34.9,40.24,41.79]
[{"$f":"Table_BPU[[#This Row],[Risk Area]]&\" \"&Table_BPU[[#This Row],[BPU Description]]","v":"Beaver Beef Fat Cattle Custom Fed"},"Beaver",5,"Beef Fat Cattle Custom Fed",27.84,28.6,30.46,34.9,40.24,41.79]
[{"$f":"Table_BPU[[#This Row],[Risk Area]]&\" \"&Table_BPU[[#This Row],[BPU Description]]","v":"Big Lakes Beef Fat Cattle Custom Fed"},"Big Lakes",5,"Beef Fat Cattle Custom Fed",27.84,28.6,30.46,34.9,40.24,41.79]
[{"$f":"Table_BPU[[#This Row],[Risk Area]]&\" \"&Table_BPU[[#This Row],[BPU Description]]","v":"Bighorn Beef Fat Cattle Custom Fed"},"Bighorn",5,"Beef Fat Cattle Custom Fed",27.84,28.6,30.46,34.9,40.24,41.79]
[{"$f":"Table_BPU[[#This Row],[Risk Area]]&\" \"&Table_BPU[[#This Row],[BPU Description]]","v":"Birch Hills Beef Fat Cattle Custom Fed"},"Birch Hills",5,"Beef Fat Cattle Custom Fed",27.84,28.6,30.46,34.9,40.24,41.79]
[{"$f":"Table_BPU[[#This Row],[Risk Area]]&\" \"&Table_BPU[[#This Row],[BPU Description]]","v":"Bonnyville Beef Fat Cattle Custom Fed"},"Bonnyville",5,"Beef Fat Cattle Custom Fed",27.84,28.6,30.46,34.9,40.24,41.79]
[{"$f":"Table_BPU[[#This Row],[Risk Area]]&\" \"&Table_BPU[[#This Row],[BPU Description]]","v":"Brazeau Beef Fat Cattle Custom Fed"},"Brazeau",5,"Beef Fat Cattle Custom Fed",27.84,28.6,30.46,34.9,40.24,41.79]
[{"$f":"Table_BPU[[#This Row],[Risk Area]]&\" \"&Table_BPU[[#This Row],[BPU Description]]","v":"Camrose Beef Fat Cattle Custom Fed"},"Camrose",5,"Beef Fat Cattle Custom Fed",27.84,28.6,30.46,34.9,40.24,41.79]
[{"$f":"Table_BPU[[#This Row],[Risk Area]]&\" \"&Table_BPU[[#This Row],[BPU Description]]","v":"Cardston Beef Fat Cattle Custom Fed"},"Cardston",5,"Beef Fat Cattle Custom Fed",27.84,28.6,30.46,34.9,40.24,41.79]
[{"$f":"Table_BPU[[#This Row],[Risk Area]]&\" \"&Table_BPU[[#This Row],[BPU Description]]","v":"Clear Hills Beef Fat Cattle Custom Fed"},"Clear Hills",5,"Beef Fat Cattle Custom Fed",27.84,28.6,30.46,34.9,40.24,41.79]
[{"$f":"Table_BPU[[#This Row],[Risk Area]]&\" \"&Table_BPU[[#This Row],[BPU Description]]","v":"Clearwater Beef Fat Cattle Custom Fed"},"Clearwater",5,"Beef Fat Cattle Custom Fed",27.84,28.6,30.46,34.9,40.24,41.79]
[{"$f":"Table_BPU[[#This Row],[Risk Area]]&\" \"&Table_BPU[[#This Row],[BPU Description]]","v":"Cypress Beef Fat Cattle Custom Fed"},"Cypress",5,"Beef Fat Cattle Custom Fed",27.84,28.6,30.46,34.9,40.24,41.79]
[{"$f":"Table_BPU[[#This Row],[Risk Area]]&\" \"&Table_BPU[[#This Row],[BPU Description]]","v":"Edmonton Beef Fat Cattle Custom Fed"},"Edmonton",5,"Beef Fat Cattle Custom Fed",27.84,28.6,30.46,34.9,40.24,41.79]
[{"$f":"Table_BPU[[#This Row],[Risk Area]]&\" \"&Table_BPU[[#This Row],[BPU Description]]","v":"Fairview Beef Fat Cattle Custom Fed"},"Fairview",5,"Beef Fat Cattle Custom Fed",27.84,28.6,30.46,34.9,40.24,41.79]
[{"$f":"Table_BPU[[#This Row],[Risk Area]]&\" \"&Table_BPU[[#This Row],[BPU Description]]","v":"Flagstaff Beef Fat Cattle Custom Fed"},"Flagstaff",5,"Beef Fat Cattle Custom Fed",27.84,28.6,30.46,34.9,40.24,41.79]
[{"$f":"Table_BPU[[#This Row],[Risk Area]]&\" \"&Table_BPU[[#This Row],[BPU Description]]","v":"Foothills Beef Fat Cattle Custom Fed"},"Foothills",5,"Beef Fat Cattle Custom Fed",27.84,28.6,30.46,34.9,40.24,41.79]
[{"$f":"Table_BPU[[#This Row],[Risk Area]]&\" \"&Table_BPU[[#This Row],[BPU Description]]","v":"Forty Mile Beef Fat Cattle Custom Fed"},"Forty Mile",5,"Beef Fat Cattle Custom Fed",27.84,28.6,30.46,34.9,40.24,41.79]
[{"$f":"Table_BPU[[#This Row],[Risk Area]]&\" \"&Table_BPU[[#This Row],[BPU Description]]","v":"Grande Prairie Beef Fat Cattle Custom Fed"},"Grande Prairie",5,"Beef Fat Cattle Custom Fed",27.84,28.6,30.46,34.9,40.24,41.79]
[{"$f":"Table_BPU[[#This Row],[Risk Area]]&\" \"&Table_BPU[[#This Row],[BPU Description]]","v":"Greenview Beef Fat Cattle Custom Fed"},"Greenview",5,"Beef Fat Cattle Custom Fed",27.84,28.6,30.46,34.9,40.24,41.79]
[{"$f":"Table_BPU[[#This Row],[Risk Area]]&\" \"&Table_BPU[[#This Row],[BPU Description]]","v":"Kneehill Beef Fat Cattle Custom Fed"},"Kneehill",5,"Beef Fat Cattle Custom Fed",27.84,28.6,30.46,34.9,40.24,41.79]
[{"$f":"Table_BPU[[#This Row],[Risk Area]]&\" \"&Table_BPU[[#This Row],[BPU Description]]","v":"Lac La Biche Beef Fat Cattle Custom Fed"},"Lac La Biche",5,"Beef Fat Cattle Custom Fed",27.84,28.6,30.46,34.9,40.24,41.79]
[{"$f":"Table_BPU[[#This Row],[Risk Area]]&\" \"&Table_BPU[[#This Row],[BPU Description]]","v":"Lac Ste. Anne County Beef Fat Cattle Custom Fed"},"Lac Ste. Anne County",5,"Beef Fat Cattle Custom Fed",27.84,28.6,30.46,34.9,40.24,41.79]
[{"$f":"Table_BPU[[#This Row],[Risk Area]]&\" \"&Table_BPU[[#This Row],[BPU Description]]","v":"Lacombe Beef Fat Cattle Custom Fed"},"Lacombe",5,"Beef Fat Cattle Custom Fed",27.84,28.6,30.46,34.9,40.24,41.79]
[{"$f":"Table_BPU[[#This Row],[Risk Area]]&\" \"&Table_BPU[[#This Row],[BPU Description]]","v":"Lamont Beef Fat Cattle Custom Fed"},"Lamont",5,"Beef Fat Cattle Custom Fed",27.84,28.6,30.46,34.9,40.24,41.79]
[{"$f":"Table_BPU[[#This Row],[Risk Area]]&\" \"&Table_BPU[[#This Row],[BPU Description]]","v":"Leduc Beef Fat Cattle Custom Fed"},"Leduc",5,"Beef Fat Cattle Custom Fed",27.84,28.6,30.46,34.9,40.24,41.79]
[{"$f":"Table_BPU[[#This Row],[Risk Area]]&\" \"&Table_BPU[[#This Row],[BPU Description]]","v":"Lesser Slave River Beef Fat Cattle Custom Fed"},"Lesser Slave River",5,"Beef Fat Cattle Custom Fed",27.84,28.6,30.46,34.9,40.24,41.79]
[{"$f":"Table_BPU[[#This Row],[Risk Area]]&\" \"&Table_BPU[[#This Row],[BPU Description]]","v":"Lethbridge Beef Fat Cattle Custom Fed"},"Lethbridge",5,"Beef Fat Cattle Custom Fed",27.84,28.6,30.46,34.9,40.24,41.79]
[{"$f":"Table_BPU[[#This Row],[Risk Area]]&\" \"&Table_BPU[[#This Row],[BPU Description]]","v":"Mackenzie Beef Fat Cattle Custom Fed"},"Mackenzie",5,"Beef Fat Cattle Custom Fed",27.84,28.6,30.46,34.9,40.24,41.79]
[{"$f":"Table_BPU[[#This Row],[Risk Area]]&\" \"&Table_BPU[[#This Row],[BPU Description]]","v":"Minburn Beef Fat Cattle Custom Fed"},"Minburn",5,"Beef Fat Cattle Custom Fed",27.84,28.6,30.46,34.9,40.24,41.79]
[{"$f":"Table_BPU[[#This Row],[Risk Area]]&\" \"&Table_BPU[[#This Row],[BPU Description]]","v":"Mountain View Beef Fat Cattle Custom Fed"},"Mountain View",5,"Beef Fat Cattle Custom Fed",27.84,28.6,30.46,34.9,40.24,41.79]
[{"$f":"Table_BPU[[#This Row],[Risk Area]]&\" \"&Table_BPU[[#This Row],[BPU Description]]","v":"Newell Beef Fat Cattle Custom Fed"},"Newell",5,"Beef Fat Cattle Custom Fed",27.84,28.6,30.46,34.9,40.24,41.79]
[{"$f":"Table_BPU[[#This Row],[Risk Area]]&\" \"&Table_BPU[[#This Row],[BPU Description]]","v":"Northern Lights Beef Fat Cattle Custom Fed"},"Northern Lights",5,"Beef Fat Cattle Custom Fed",27.84,28.6,30.46,34.9,40.24,41.79]
[{"$f":"Table_BPU[[#This Row],[Risk Area]]&\" \"&Table_BPU[[#This Row],[BPU Description]]","v":"Northern Sunrise Beef Fat Cattle Custom Fed"},"Northern Sunrise",5,"Beef Fat Cattle Custom Fed",27.84,28.6,30.46,34.9,40.24,41.79]
[{"$f":"Table_BPU[[#This Row],[Risk Area]]&\" \"&Table_BPU[[#This Row],[BPU Description]]","v":"Opportunity Beef Fat Cattle Custom Fed"},"Opportunity",5,"Beef Fat Cattle Custom Fed",27.84,28.6,30.46,34.9,40.24,41.79]
[{"$f":"Table_BPU[[#This Row],[Risk Area]]&\" \"&Table_BPU[[#This Row],[BPU Description]]","v":"Paintearth Beef Fat Cattle Custom Fed"},"Paintearth",5,"Beef Fat Cattle Custom Fed",27.84,28.6,30.46,34.9,40.24,41.79]
[{"$f":"Table_BPU[[#This Row],[Risk Area]]&\" \"&Table_BPU[[#This Row],[BPU Description]]","v":"Parkland County Beef Fat Cattle Custom Fed"},"Parkland County",5,"Beef Fat Cattle Custom Fed",27.84,28.6,30.46,34.9,40.24,41.79]
[{"$f":"Table_BPU[[#This Row],[Risk Area]]&\" \"&Table_BPU[[#This Row],[BPU Description]]","v":"Peace Beef Fat Cattle Custom Fed"},"Peace",5,"Beef Fat Cattle Custom Fed",27.84,28.6,30.46,34.9,40.24,41.79]
[{"$f":"Table_BPU[[#This Row],[Risk Area]]&\" \"&Table_BPU[[#This Row],[BPU Description]]","v":"Pincher Creek Beef Fat Cattle Custom Fed"},"Pincher Creek",5,"Beef Fat Cattle Custom Fed",27.84,28.6,30.46,34.9,40.24,41.79]
[{"$f":"Table_BPU[[#This Row],[Risk Area]]&\" \"&Table_BPU[[#This Row],[BPU Description]]","v":"Ponoka Beef Fat Cattle Custom Fed"},"Ponoka",5,"Beef Fat Cattle Custom Fed",27.84,28.6,30.46,34.9,40.24,41.79]
[{"$f":"Table_BPU[[#This Row],[Risk Area]]&\" \"&Table_BPU[[#This Row],[BPU Description]]","v":"Provost Beef Fat Cattle Custom Fed"},"Provost",5,"Beef Fat Cattle Custom Fed",27.84,28.6,30.46,34.9,40.24,41.79]
[{"$f":"Table_BPU[[#This Row],[Risk Area]]&\" \"&Table_BPU[[#This Row],[BPU Description]]","v":"Ranchland Beef Fat Cattle Custom Fed"},"Ranchland",5,"Beef Fat Cattle Custom Fed",27.84,28.6,30.46,34.9,40.24,41.79]
[{"$f":"Table_BPU[[#This Row],[Risk Area]]&\" \"&Table_BPU[[#This Row],[BPU Description]]","v":"Red Deer Beef Fat Cattle Custom Fed"},"Red Deer",5,"Beef Fat Cattle Custom Fed",27.84,28.6,30.46,34.9,40.24,41.79]
[{"$f":"Table_BPU[[#This Row],[Risk Area]]&\" \"&Table_BPU[[#This Row],[BPU Description]]","v":"Rocky View Beef Fat Cattle Custom Fed"},"Rocky View",5,"Beef Fat Cattle Custom Fed",27.84,28.6,30.46,34.9,40.24,41.79]
[{"$f":"Table_BPU[[#This Row],[Risk Area]]&\" \"&Table_BPU[[#This Row],[BPU Description]]","v":"Saddle Hills Beef Fat Cattle Custom Fed"},"Saddle Hills",5,"Beef Fat Cattle Custom Fed",27.84,28.6,30.46,34.9,40.24,41.79]
[{"$f":"Table_BPU[[#This Row],[Risk Area]]&\" \"&Table_BPU[[#This Row],[BPU Description]]","v":"Smoky Lake Beef Fat Cattle Custom Fed"},"Smoky Lake",5,"Beef Fat Cattle Custom Fed",27.84,28.6,30.46,34.9,40.24,41.79]
[{"$f":"Table_BPU[[#This Row],[Risk Area]]&\" \"&Table_BPU[[#This Row],[BPU Description]]","v":"Smoky River Beef Fat Cattle Custom Fed"},"Smoky River",5,"Beef Fat Cattle Custom Fed",27.84,28.6,30.46,34.9,40.24,41.79]
[{"$f":"Table_BPU[[#This Row],[Risk Area]]&\" \"&Table_BPU[[#This Row],[BPU Description]]","v":"Special Area 02 Beef Fat Cattle Custom Fed"},"Special Area 02",5,"Beef Fat Cattle Custom Fed",27.84,28.6,30.46,34.9,40.24,41.79]
[{"$f":"Table_BPU[[#This Row],[Risk Area]]&\" \"&Table_BPU[[#This Row],[BPU Description]]","v":"Special Area 03 Beef Fat Cattle Custom Fed"},"Special Area 03",5,"Beef Fat Cattle Custom Fed",27.84,28.6,30.46,34.9,40.24,41.79]
[{"$f":"Table_BPU[[#This Row],[Risk Area]]&\" \"&Table_BPU[[#This Row],[BPU Description]]","v":"Special Area 04 Beef Fat Cattle Custom Fed"},"Special Area 04",5,"Beef Fat Cattle Custom Fed",27.84,28.6,30.46,34.9,40.24,41.79]
[{"$f":"Table_BPU[[#This Row],[Risk Area]]&\" \"&Table_BPU[[#This Row],[BPU Description]]","v":"Spirit River Beef Fat Cattle Custom Fed"},"Spirit River",5,"Beef Fat Cattle Custom Fed",27.84,28.6,30.46,34.9,40.24,41.79]
[{"$f":"Table_BPU[[#This Row],[Risk Area]]&\" \"&Table_BPU[[#This Row],[BPU Description]]","v":"St. Paul Beef Fat Cattle Custom Fed"},"St. Paul",5,"Beef Fat Cattle Custom Fed",27.84,28.6,30.46,34.9,40.24,41.79]
[{"$f":"Table_BPU[[#This Row],[Risk Area]]&\" \"&Table_BPU[[#This Row],[BPU Description]]","v":"Starland Beef Fat Cattle Custom Fed"},"Starland",5,"Beef Fat Cattle Custom Fed",27.84,28.6,30.46,34.9,40.24,41.79]
[{"$f":"Table_BPU[[#This Row],[Risk Area]]&\" \"&Table_BPU[[#This Row],[BPU Description]]","v":"Stettler Beef Fat Cattle Custom Fed"},"Stettler",5,"Beef Fat Cattle Custom Fed",27.84,28.6,30.46,34.9,40.24,41.79]
[{"$f":"Table_BPU[[#This Row],[Risk Area]]&\" \"&Table_BPU[[#This Row],[BPU Description]]","v":"Strathcona County Beef Fat Cattle Custom Fed"},"Strathcona County",5,"Beef Fat Cattle Custom Fed",27.84,28.6,30.46,34.9,40.24,41.79]
[{"$f":"Table_BPU[[#This Row],[Risk Area]]&\" \"&Table_BPU[[#This Row],[BPU Description]]","v":"Sturgeon Beef Fat Cattle Custom Fed"},"Sturgeon",5,"Beef Fat Cattle Custom Fed",27.84,28.6,30.46,34.9,40.24,41.79]
[{"$f":"Table_BPU[[#This Row],[Risk Area]]&\" \"&Table_BPU[[#This Row],[BPU Description]]","v":"Taber Beef Fat Cattle Custom Fed"},"Taber",5,"Beef Fat Cattle Custom Fed",27.84,28.6,30.46,34.9,40.24,41.79]
[{"$f":"Table_BPU[[#This Row],[Risk Area]]&\" \"&Table_BPU[[#This Row],[BPU Description]]","v":"Thorhild Beef Fat Cattle Custom Fed"},"Thorhild",5,"Beef Fat Cattle Custom Fed",27.84,28.6,30.46,34.9,40.24,41.79]
[{"$f":"Table_BPU[[#This Row],[Risk Area]]&\" \"&Table_BPU[[#This Row],[BPU Description]]","v":"Two Hills Beef Fat Cattle Custom Fed"},"Two Hills",5,"Beef Fat Cattle Custom Fed",27.84,28.6,30.46,34.9,40.24,41.79]
[{"$f":"Table_BPU[[#This Row],[Risk Area]]&\" \"&Table_BPU[[#This Row],[BPU Description]]","v":"Vermilion River Beef Fat Cattle Custom Fed"},"Vermilion River",5,"Beef Fat Cattle Custom Fed",27.84,28.6,30.46,34.9,40.24,41.79]
[{"$f":"Table_BPU[[#This Row],[Risk Area]]&\" \"&Table_BPU[[#This Row],[BPU Description]]","v":"Vulcan Beef Fat Cattle Custom Fed"},"Vulcan",5,"Beef Fat Cattle Custom Fed",27.84,28.6,30.46,34.9,40.24,41.79]
[{"$f":"Table_BPU[[#This Row],[Risk Area]]&\" \"&Table_BPU[[#This Row],[BPU Description]]","v":"Wainwright Beef Fat Cattle Custom Fed"},"Wainwright",5,"Beef Fat Cattle Custom Fed",27.84,28.6,30.46,34.9,40.24,41.79]
[{"$f":"Table_BPU[[#This Row],[Risk Area]]&\" \"&Table_BPU[[#This Row],[BPU Description]]","v":"Warner Beef Fat Cattle Custom Fed"},"Warner",5,"Beef Fat Cattle Custom Fed",27.84,28.6,30.46,34.9,40.24,41.79]
[{"$f":"Table_BPU[[#This Row],[Risk Area]]&\" \"&Table_BPU[[#This Row],[BPU Description]]","v":"Westlock Beef Fat Cattle Custom Fed"},"Westlock",5,"Beef Fat Cattle Custom Fed",27.84,28.6,30.46,34.9,40.24,41.79]
[{"$f":"Table_BPU[[#This Row],[Risk Area]]&\" \"&Table_BPU[[#This Row],[BPU Description]]","v":"Wetaskiwin Beef Fat Cattle Custom Fed"},"Wetaskiwin",5,"Beef Fat Cattle Custom Fed",27.84,28.6,30.46,34.9,40.24,41.79]
[{"$f":"Table_BPU[[#This Row],[Risk Area]]&\" \"&Table_BPU[[#This Row],[BPU Description]]","v":"Wheatland Beef Fat Cattle Custom Fed"},"Wheatland",5,"Beef Fat Cattle Custom Fed",27.84,28.6,30.46,34.9,40.24,41.79]
[{"$f":"Table_BPU[[#This Row],[Risk Area]]&\" \"&Table_BPU[[#This Row],[BPU Description]]","v":"Willow Creek Beef Fat Cattle Custom Fed"},"Willow Creek",5,"Beef Fat Cattle Custom Fed",27.84,28.6,30.46,34.9,40.24,41.79]
[{"$f":"Table_BPU[[#This Row],[Risk Area]]&\" \"&Table_BPU[[#This Row],[BPU Description]]","v":"Wood Buffalo Beef Fat Cattle Custom Fed"},"Wood Buffalo",5,"Beef Fat Cattle Custom Fed",27.84,28.6,30.46,34.9,40.24,41.79]
[{"$f":"Table_BPU[[#This Row],[Risk Area]]&\" \"&Table_BPU[[#This Row],[BPU Description]]","v":"Woodlands Beef Fat Cattle Custom Fed"},"Woodlands",5,"Beef Fat Cattle Custom Fed",27.84,28.6,30.46,34.9,40.24,41.79]
[{"$f":"Table_BPU[[#This Row],[Risk Area]]&\" \"&Table_BPU[[#This Row],[BPU Description]]","v":"Yellowhead Beef Fat Cattle Custom Fed"},"Yellowhead",5,"Beef Fat Cattle Custom Fed",27.84,28.6,30.46,34.9,40.24,41.79]
[{"$f":"Table_BPU[[#This Row],[Risk Area]]&\" \"&Table_BPU[[#This Row],[BPU Description]]","v":"Acadia Beef Fat Cattle Owned"},"Acadia",8,"Beef Fat Cattle Owned",69.41,62.91,19.11,0.01,0.01,0.01]
[{"$f":"Table_BPU[[#This Row],[Risk Area]]&\" \"&Table_BPU[[#This Row],[BPU Description]]","v":"Athabasca Beef Fat Cattle Owned"},"Athabasca",8,"Beef Fat Cattle Owned",69.41,62.91,19.11,0.01,0.01,0.01]
[{"$f":"Table_BPU[[#This Row],[Risk Area]]&\" \"&Table_BPU[[#This Row],[BPU Description]]","v":"Barrhead Beef Fat Cattle Owned"},"Barrhead",8,"Beef Fat Cattle Owned",69.41,62.91,19.11,0.01,0.01,0.01]
[{"$f":"Table_BPU[[#This Row],[Risk Area]]&\" \"&Table_BPU[[#This Row],[BPU Description]]","v":"Beaver Beef Fat Cattle Owned"},"Beaver",8,"Beef Fat Cattle Owned",69.41,62.91,19.11,0.01,0.01,0.01]
[{"$f":"Table_BPU[[#This Row],[Risk Area]]&\" \"&Table_BPU[[#This Row],[BPU Description]]","v":"Big Lakes Beef Fat Cattle Owned"},"Big Lakes",8,"Beef Fat Cattle Owned",69.41,62.91,19.11,0.01,0.01,0.01]
[{"$f":"Table_BPU[[#This Row],[Risk Area]]&\" \"&Table_BPU[[#This Row],[BPU Description]]","v":"Bighorn Beef Fat Cattle Owned"},"Bighorn",8,"Beef Fat Cattle Owned",69.41,62.91,19.11,0.01,0.01,0.01]
[{"$f":"Table_BPU[[#This Row],[Risk Area]]&\" \"&Table_BPU[[#This Row],[BPU Description]]","v":"Birch Hills Beef Fat Cattle Owned"},"Birch Hills",8,"Beef Fat Cattle Owned",69.41,62.91,19.11,0.01,0.01,0.01]
[{"$f":"Table_BPU[[#This Row],[Risk Area]]&\" \"&Table_BPU[[#This Row],[BPU Description]]","v":"Bonnyville Beef Fat Cattle Owned"},"Bonnyville",8,"Beef Fat Cattle Owned",69.41,62.91,19.11,0.01,0.01,0.01]
[{"$f":"Table_BPU[[#This Row],[Risk Area]]&\" \"&Table_BPU[[#This Row],[BPU Description]]","v":"Brazeau Beef Fat Cattle Owned"},"Brazeau",8,"Beef Fat Cattle Owned",69.41,62.91,19.11,0.01,0.01,0.01]
[{"$f":"Table_BPU[[#This Row],[Risk Area]]&\" \"&Table_BPU[[#This Row],[BPU Description]]","v":"Camrose Beef Fat Cattle Owned"},"Camrose",8,"Beef Fat Cattle Owned",69.41,62.91,19.11,0.01,0.01,0.01]
[{"$f":"Table_BPU[[#This Row],[Risk Area]]&\" \"&Table_BPU[[#This Row],[BPU Description]]","v":"Cardston Beef Fat Cattle Owned"},"Cardston",8,"Beef Fat Cattle Owned",69.41,62.91,19.11,0.01,0.01,0.01]
[{"$f":"Table_BPU[[#This Row],[Risk Area]]&\" \"&Table_BPU[[#This Row],[BPU Description]]","v":"Clear Hills Beef Fat Cattle Owned"},"Clear Hills",8,"Beef Fat Cattle Owned",69.41,62.91,19.11,0.01,0.01,0.01]
[{"$f":"Table_BPU[[#This Row],[Risk Area]]&\" \"&Table_BPU[[#This Row],[BPU Description]]","v":"Clearwater Beef Fat Cattle Owned"},"Clearwater",8,"Beef Fat Cattle Owned",69.41,62.91,19.11,0.01,0.01,0.01]
[{"$f":"Table_BPU[[#This Row],[Risk Area]]&\" \"&Table_BPU[[#This Row],[BPU Description]]","v":"Cypress Beef Fat Cattle Owned"},"Cypress",8,"Beef Fat Cattle Owned",69.41,62.91,19.11,0.01,0.01,0.01]
[{"$f":"Table_BPU[[#This Row],[Risk Area]]&\" \"&Table_BPU[[#This Row],[BPU Description]]","v":"Edmonton Beef Fat Cattle Owned"},"Edmonton",8,"Beef Fat Cattle Owned",69.41,62.91,19.11,0.01,0.01,0.01]
[{"$f":"Table_BPU[[#This Row],[Risk Area]]&\" \"&Table_BPU[[#This Row],[BPU Description]]","v":"Fairview Beef Fat Cattle Owned"},"Fairview",8,"Beef Fat Cattle Owned",69.41,62.91,19.11,0.01,0.01,0.01]
[{"$f":"Table_BPU[[#This Row],[Risk Area]]&\" \"&Table_BPU[[#This Row],[BPU Description]]","v":"Flagstaff Beef Fat Cattle Owned"},"Flagstaff",8,"Beef Fat Cattle Owned",69.41,62.91,19.11,0.01,0.01,0.01]
[{"$f":"Table_BPU[[#This Row],[Risk Area]]&\" \"&Table_BPU[[#This Row],[BPU Description]]","v":"Foothills Beef Fat Cattle Owned"},"Foothills",8,"Beef Fat Cattle Owned",69.41,62.91,19.11,0.01,0.01,0.01]
[{"$f":"Table_BPU[[#This Row],[Risk Area]]&\" \"&Table_BPU[[#This Row],[BPU Description]]","v":"Forty Mile Beef Fat Cattle Owned"},"Forty Mile",8,"Beef Fat Cattle Owned",69.41,62.91,19.11,0.01,0.01,0.01]
[{"$f":"Table_BPU[[#This Row],[Risk Area]]&\" \"&Table_BPU[[#This Row],[BPU Description]]","v":"Grande Prairie Beef Fat Cattle Owned"},"Grande Prairie",8,"Beef Fat Cattle Owned",69.41,62.91,19.11,0.01,0.01,0.01]
[{"$f":"Table_BPU[[#This Row],[Risk Area]]&\" \"&Table_BPU[[#This Row],[BPU Description]]","v":"Greenview Beef Fat Cattle Owned"},"Greenview",8,"Beef Fat Cattle Owned",69.41,62.91,19.11,0.01,0.01,0.01]
[{"$f":"Table_BPU[[#This Row],[Risk Area]]&\" \"&Table_BPU[[#This Row],[BPU Description]]","v":"Kneehill Beef Fat Cattle Owned"},"Kneehill",8,"Beef Fat Cattle Owned",69.41,62.91,19.11,0.01,0.01,0.01]
[{"$f":"Table_BPU[[#This Row],[Risk Area]]&\" \"&Table_BPU[[#This Row],[BPU Description]]","v":"Lac La Biche Beef Fat Cattle Owned"},"Lac La Biche",8,"Beef Fat Cattle Owned",69.41,62.91,19.11,0.01,0.01,0.01]
[{"$f":"Table_BPU[[#This Row],[Risk Area]]&\" \"&Table_BPU[[#This Row],[BPU Description]]","v":"Lac Ste. Anne County Beef Fat Cattle Owned"},"Lac Ste. Anne County",8,"Beef Fat Cattle Owned",69.41,62.91,19.11,0.01,0.01,0.01]
[{"$f":"Table_BPU[[#This Row],[Risk Area]]&\" \"&Table_BPU[[#This Row],[BPU Description]]","v":"Lacombe Beef Fat Cattle Owned"},"Lacombe",8,"Beef Fat Cattle Owned",69.41,62.91,19.11,0.01,0.01,0.01]
[{"$f":"Table_BPU[[#This Row],[Risk Area]]&\" \"&Table_BPU[[#This Row],[BPU Description]]","v":"Lamont Beef Fat Cattle Owned"},"Lamont",8,"Beef Fat Cattle Owned",69.41,62.91,19.11,0.01,0.01,0.01]
[{"$f":"Table_BPU[[#This Row],[Risk Area]]&\" \"&Table_BPU[[#This Row],[BPU Description]]","v":"Leduc Beef Fat Cattle Owned"},"Leduc",8,"Beef Fat Cattle Owned",69.41,62.91,19.11,0.01,0.01,0.01]
[{"$f":"Table_BPU[[#This Row],[Risk Area]]&\" \"&Table_BPU[[#This Row],[BPU Description]]","v":"Lesser Slave River Beef Fat Cattle Owned"},"Lesser Slave River",8,"Beef Fat Cattle Owned",69.41,62.91,19.11,0.01,0.01,0.01]
[{"$f":"Table_BPU[[#This Row],[Risk Area]]&\" \"&Table_BPU[[#This Row],[BPU Description]]","v":"Lethbridge Beef Fat Cattle Owned"},"Lethbridge",8,"Beef Fat Cattle Owned",69.41,62.91,19.11,0.01,0.01,0.01]
[{"$f":"Table_BPU[[#This Row],[Risk Area]]&\" \"&Table_BPU[[#This Row],[BPU Description]]","v":"Mackenzie Beef Fat Cattle Owned"},"Mackenzie",8,"Beef Fat Cattle Owned",69.41,62.91,19.11,0.01,0.01,0.01]
[{"$f":"Table_BPU[[#This Row],[Risk Area]]&\" \"&Table_BPU[[#This Row],[BPU Description]]","v":"Minburn Beef Fat Cattle Owned"},"Minburn",8,"Beef Fat Cattle Owned",69.41,62.91,19.11,0.01,0.01,0.01]
[{"$f":"Table_BPU[[#This Row],[Risk Area]]&\" \"&Table_BPU[[#This Row],[BPU Description]]","v":"Mountain View Beef Fat Cattle Owned"},"Mountain View",8,"Beef Fat Cattle Owned",69.41,62.91,19.11,0.01,0.01,0.01]
[{"$f":"Table_BPU[[#This Row],[Risk Area]]&\" \"&Table_BPU[[#This Row],[BPU Description]]","v":"Newell Beef Fat Cattle Owned"},"Newell",8,"Beef Fat Cattle Owned",69.41,62.91,19.11,0.01,0.01,0.01]
[{"$f":"Table_BPU[[#This Row],[Risk Area]]&\" \"&Table_BPU[[#This Row],[BPU Description]]","v":"Northern Lights Beef Fat Cattle Owned"},"Northern Lights",8,"Beef Fat Cattle Owned",69.41,62.91,19.11,0.01,0.01,0.01]
[{"$f":"Table_BPU[[#This Row],[Risk Area]]&\" \"&Table_BPU[[#This Row],[BPU Description]]","v":"Northern Sunrise Beef Fat Cattle Owned"},"Northern Sunrise",8,"Beef Fat Cattle Owned",69.41,62.91,19.11,0.01,0.01,0.01]
[{"$f":"Table_BPU[[#This Row],[Risk Area]]&\" \"&Table_BPU[[#This Row],[BPU Description]]","v":"Opportunity Beef Fat Cattle Owned"},"Opportunity",8,"Beef Fat Cattle Owned",69.41,62.91,19.11,0.01,0.01,0.01]
[{"$f":"Table_BPU[[#This Row],[Risk Area]]&\" \"&Table_BPU[[#This Row],[BPU Description]]","v":"Paintearth Beef Fat Cattle Owned"},"Paintearth",8,"Beef Fat Cattle Owned",69.41,62.91,19.11,0.01,0.01,0.01]
[{"$f":"Table_BPU[[#This Row],[Risk Area]]&\" \"&Table_BPU[[#This Row],[BPU Description]]","v":"Parkland County Beef Fat Cattle Owned"},"Parkland County",8,"Beef Fat Cattle Owned",69.41,62.91,19.11,0.01,0.01,0.01]
[{"$f":"Table_BPU[[#This Row],[Risk Area]]&\" \"&Table_BPU[[#This Row],[BPU Description]]","v":"Peace Beef Fat Cattle Owned"},"Peace",8,"Beef Fat Cattle Owned",69.41,62.91,19.11,0.01,0.01,0.01]
[{"$f":"Table_BPU[[#This Row],[Risk Area]]&\" \"&Table_BPU[[#This Row],[BPU Description]]","v":"Pincher Creek Beef Fat Cattle Owned"},"Pincher Creek",8,"Beef Fat Cattle Owned",69.41,62.91,19.11,0.01,0.01,0.01]
[{"$f":"Table_BPU[[#This Row],[Risk Area]]&\" \"&Table_BPU[[#This Row],[BPU Description]]","v":"Ponoka Beef Fat Cattle Owned"},"Ponoka",8,"Beef Fat Cattle Owned",69.41,62.91,19.11,0.01,0.01,0.01]
[{"$f":"Table_BPU[[#This Row],[Risk Area]]&\" \"&Table_BPU[[#This Row],[BPU Description]]","v":"Provost Beef Fat Cattle Owned"},"Provost",8,"Beef Fat Cattle Owned",69.41,62.91,19.11,0.01,0.01,0.01]
[{"$f":"Table_BPU[[#This Row],[Risk Area]]&\" \"&Table_BPU[[#This Row],[BPU Description]]","v":"Ranchland Beef Fat Cattle Owned"},"Ranchland",8,"Beef Fat Cattle Owned",69.41,62.91,19.11,0.01,0.01,0.01]
[{"$f":"Table_BPU[[#This Row],[Risk Area]]&\" \"&Table_BPU[[#This Row],[BPU Description]]","v":"Red Deer Beef Fat Cattle Owned"},"Red Deer",8,"Beef Fat Cattle Owned",69.41,62.91,19.11,0.01,0.01,0.01]
[{"$f":"Table_BPU[[#This Row],[Risk Area]]&\" \"&Table_BPU[[#This Row],[BPU Description]]","v":"Rocky View Beef Fat Cattle Owned"},"Rocky View",8,"Beef Fat Cattle Owned",69.41,62.91,19.11,0.01,0.01,0.01]
[{"$f":"Table_BPU[[#This Row],[Risk Area]]&\" \"&Table_BPU[[#This Row],[BPU Description]]","v":"Saddle Hills Beef Fat Cattle Owned"},"Saddle Hills",8,"Beef Fat Cattle Owned",69.41,62.91,19.11,0.01,0.01,0.01]
[{"$f":"Table_BPU[[#This Row],[Risk Area]]&\" \"&Table_BPU[[#This Row],[BPU Description]]","v":"Smoky Lake Beef Fat Cattle Owned"},"Smoky Lake",8,"Beef Fat Cattle Owned",69.41,62.91,19.11,0.01,0.01,0.01]
[{"$f":"Table_BPU[[#This Row],[Risk Area]]&\" \"&Table_BPU[[#This Row],[BPU Description]]","v":"Smoky River Beef Fat Cattle Owned"},"Smoky River",8,"Beef Fat Cattle Owned",69.41,62.91,19.11,0.01,0.01,0.01]
[{"$f":"Table_BPU[[#This Row],[Risk Area]]&\" \"&Table_BPU[[#This Row],[BPU Description]]","v":"Special Area 02 Beef Fat Cattle Owned"},"Special Area 02",8,"Beef Fat Cattle Owned",69.41,62.91,19.11,0.01,0.01,0.01]
[{"$f":"Table_BPU[[#This Row],[Risk Area]]&\" \"&Table_BPU[[#This Row],[BPU Description]]","v":"Special Area 03 Beef Fat Cattle Owned"},"Special Area 03",8,"Beef Fat Cattle Owned",69.41,62.91,19.11,0.01,0.01,0.01]
[{"$f":"Table_BPU[[#This Row],[Risk Area]]&\" \"&Table_BPU[[#This Row],[BPU Description]]","v":"Special Area 04 Beef Fat Cattle Owned"},"Special Area 04",8,"Beef Fat Cattle Owned",69.41,62.91,19.11,0.01,0.01,0.01]
[{"$f":"Table_BPU[[#This Row],[Risk Area]]&\" \"&Table_BPU[[#This Row],[BPU Description]]","v":"Spirit River Beef Fat Cattle Owned"},"Spirit River",8,"Beef Fat Cattle Owned",69.41,62.91,19.11,0.01,0.01,0.01]
[{"$f":"Table_BPU[[#This Row],[Risk Area]]&\" \"&Table_BPU[[#This Row],[BPU Description]]","v":"St. Paul Beef Fat Cattle Owned"},"St. Paul",8,"Beef Fat Cattle Owned",69.41,62.91,19.11,0.01,0.01,0.01]
[{"$f":"Table_BPU[[#This Row],[Risk Area]]&\" \"&Table_BPU[[#This Row],[BPU Description]]","v":"Starland Beef Fat Cattle Owned"},"Starland",8,"Beef Fat Cattle Owned",69.41,62.91,19.11,0.01,0.01,0.01]
[{"$f":"Table_BPU[[#This Row],[Risk Area]]&\" \"&Table_BPU[[#This Row],[BPU Description]]","v":"Stettler Beef Fat Cattle Owned"},"Stettler",8,"Beef Fat Cattle Owned",69.41,62.91,19.11,0.01,0.01,0.01]
[{"$f":"Table_BPU[[#This Row],[Risk Area]]&\" \"&Table_BPU[[#This Row],[BPU Description]]","v":"Strathcona County Beef Fat Cattle Owned"},"Strathcona County",8,"Beef Fat Cattle Owned",69.41,62.91,19.11,0.01,0.01,0.01]
[{"$f":"Table_BPU[[#This Row],[Risk Area]]&\" \"&Table_BPU[[#This Row],[BPU Description]]","v":"Sturgeon Beef Fat Cattle Owned"},"Sturgeon",8,"Beef Fat Cattle Owned",69.41,62.91,19.11,0.01,0.01,0.01]
[{"$f":"Table_BPU[[#This Row],[Risk Area]]&\" \"&Table_BPU[[#This Row],[BPU Description]]","v":"Taber Beef Fat Cattle Owned"},"Taber",8,"Beef Fat Cattle Owned",69.41,62.91,19.11,0.01,0.01,0.01]
[{"$f":"Table_BPU[[#This Row],[Risk Area]]&\" \"&Table_BPU[[#This Row],[BPU Description]]","v":"Thorhild Beef Fat Cattle Owned"},"Thorhild",8,"Beef Fat Cattle Owned",69.41,62.91,19.11,0.01,0.01,0.01]
[{"$f":"Table_BPU[[#This Row],[Risk Area]]&\" \"&Table_BPU[[#This Row],[BPU Description]]","v":"Two Hills Beef Fat Cattle Owned"},"Two Hills",8,"Beef Fat Cattle Owned",69.41,62.91,19.11,0.01,0.01,0.01]
[{"$f":"Table_BPU[[#This Row],[Risk Area]]&\" \"&Table_BPU[[#This Row],[BPU Description]]","v":"Vermilion River Beef Fat Cattle Owned"},"Vermilion River",8,"Beef Fat Cattle Owned",69.41,62.91,19.11,0.01,0.01,0.01]
[{"$f":"Table_BPU[[#This Row],[Risk Area]]&\" \"&Table_BPU[[#This Row],[BPU Description]]","v":"Vulcan Beef Fat Cattle Owned"},"Vulcan",8,"Beef Fat Cattle Owned",69.41,62.91,19.11,0.01,0.01,0.01]
[{"$f":"Table_BPU[[#This Row],[Risk Area]]&\" \"&Table_BPU[[#This Row],[BPU Description]]","v":"Wainwright Beef Fat Cattle Owned"},"Wainwright",8,"Beef Fat Cattle Owned",69.41,62.91,19.11,0.01,0.01,0.01]
[{"$f":"Table_BPU[[#This Row],[Risk Area]]&\" \"&Table_BPU[[#This Row],[BPU Description]]","v":"Warner Beef Fat Cattle Owned"},"Warner",8,"Beef Fat Cattle Owned",69.41,62.91,19.11,0.01,0.01,0.01]
[{"$f":"Table_BPU[[#This Row],[Risk Area]]&\" \"&Table_BPU[[#This Row],[BPU Description]]","v":"Westlock Beef Fat Cattle Owned"},"Westlock",8,"Beef Fat Cattle Owned",69.41,62.91,19.11,0.01,0.01,0.01]
[{"$f":"Table_BPU[[#This Row],[Risk Area]]&\" \"&Table_BPU[[#This Row],[BPU Description]]","v":"Wetaskiwin Beef Fat Cattle Owned"},"Wetaskiwin",8,"Beef Fat Cattle Owned",69.41,62.91,19.11,0.01,0.01,0.01]
[{"$f":"Table_BPU[[#This Row],[Risk Area]]&\" \"&Table_BPU[[#This Row],[BPU Description]]","v":"Wheatland Beef Fat Cattle Owned"},"Wheatland",8,"Beef Fat Cattle Owned",69.41,62.91,19.11,0.01,0.01,0.01]
[{"$f":"Table_BPU[[#This Row],[Risk Area]]&\" \"&Table_BPU[[#This Row],[BPU Description]]","v":"Willow Creek Beef Fat Cattle Owned"},"Willow Creek",8,"Beef Fat Cattle Owned",69.41,62.91,19.11,0.01,0.01,0.01]
[{"$f":"Table_BPU[[#This Row],[Risk Area]]&\" \"&Table_BPU[[#This Row],[BPU Description]]","v":"Wood Buffalo Beef Fat Cattle Owned"},"Wood Buffalo",8,"Beef Fat Cattle Owned",69.41,62.91,19.11,0.01,0.01,0.01]
[{"$f":"Table_BPU[[#This Row],[Risk Area]]&\" \"&Table_BPU[[#This Row],[BPU Description]]","v":"Woodlands Beef Fat Cattle Owned"},"Woodlands",8,"Beef Fat Cattle Owned",69.41,62.91,19.11,0.01,0.01,0.01]
[{"$f":"Table_BPU[[#This Row],[Risk Area]]&\" \"&Table_BPU[[#This Row],[BPU Description]]","v":"Yellowhead Beef Fat Cattle Owned"},"Yellowhead",8,"Beef Fat Cattle Owned",69.41,62.91,19.11,0.01,0.01,0.01]
[{"$f":"Table_BPU[[#This Row],[Risk Area]]&\" \"&Table_BPU[[#This Row],[BPU Description]]","v":"Acadia Beef Feeders Custom Fed"},"Acadia",61,"Beef Feeders Custom Fed",18.11,18.510000000000002,19.52,21.99,25.12,26.17]
[{"$f":"Table_BPU[[#This Row],[Risk Area]]&\" \"&Table_BPU[[#This Row],[BPU Description]]","v":"Athabasca Beef Feeders Custom Fed"},"Athabasca",61,"Beef Feeders Custom Fed",18.11,18.510000000000002,19.52,21.99,25.12,26.17]
[{"$f":"Table_BPU[[#This Row],[Risk Area]]&\" \"&Table_BPU[[#This Row],[BPU Description]]","v":"Barrhead Beef Feeders Custom Fed"},"Barrhead",61,"Beef Feeders Custom Fed",18.11,18.510000000000002,19.52,21.99,25.12,26.17]
[{"$f":"Table_BPU[[#This Row],[Risk Area]]&\" \"&Table_BPU[[#This Row],[BPU Description]]","v":"Beaver Beef Feeders Custom Fed"},"Beaver",61,"Beef Feeders Custom Fed",18.11,18.510000000000002,19.52,21.99,25.12,26.17]
[{"$f":"Table_BPU[[#This Row],[Risk Area]]&\" \"&Table_BPU[[#This Row],[BPU Description]]","v":"Big Lakes Beef Feeders Custom Fed"},"Big Lakes",61,"Beef Feeders Custom Fed",18.11,18.510000000000002,19.52,21.99,25.12,26.17]
[{"$f":"Table_BPU[[#This Row],[Risk Area]]&\" \"&Table_BPU[[#This Row],[BPU Description]]","v":"Bighorn Beef Feeders Custom Fed"},"Bighorn",61,"Beef Feeders Custom Fed",18.11,18.510000000000002,19.52,21.99,25.12,26.17]
[{"$f":"Table_BPU[[#This Row],[Risk Area]]&\" \"&Table_BPU[[#This Row],[BPU Description]]","v":"Birch Hills Beef Feeders Custom Fed"},"Birch Hills",61,"Beef Feeders Custom Fed",18.11,18.510000000000002,19.52,21.99,25.12,26.17]
[{"$f":"Table_BPU[[#This Row],[Risk Area]]&\" \"&Table_BPU[[#This Row],[BPU Description]]","v":"Bonnyville Beef Feeders Custom Fed"},"Bonnyville",61,"Beef Feeders Custom Fed",18.11,18.510000000000002,19.52,21.99,25.12,26.17]
[{"$f":"Table_BPU[[#This Row],[Risk Area]]&\" \"&Table_BPU[[#This Row],[BPU Description]]","v":"Brazeau Beef Feeders Custom Fed"},"Brazeau",61,"Beef Feeders Custom Fed",18.11,18.510000000000002,19.52,21.99,25.12,26.17]
[{"$f":"Table_BPU[[#This Row],[Risk Area]]&\" \"&Table_BPU[[#This Row],[BPU Description]]","v":"Camrose Beef Feeders Custom Fed"},"Camrose",61,"Beef Feeders Custom Fed",18.11,18.510000000000002,19.52,21.99,25.12,26.17]
[{"$f":"Table_BPU[[#This Row],[Risk Area]]&\" \"&Table_BPU[[#This Row],[BPU Description]]","v":"Cardston Beef Feeders Custom Fed"},"Cardston",61,"Beef Feeders Custom Fed",18.11,18.510000000000002,19.52,21.99,25.12,26.17]
[{"$f":"Table_BPU[[#This Row],[Risk Area]]&\" \"&Table_BPU[[#This Row],[BPU Description]]","v":"Clear Hills Beef Feeders Custom Fed"},"Clear Hills",61,"Beef Feeders Custom Fed",18.11,18.510000000000002,19.52,21.99,25.12,26.17]
[{"$f":"Table_BPU[[#This Row],[Risk Area]]&\" \"&Table_BPU[[#This Row],[BPU Description]]","v":"Clearwater Beef Feeders Custom Fed"},"Clearwater",61,"Beef Feeders Custom Fed",18.11,18.510000000000002,19.52,21.99,25.12,26.17]
[{"$f":"Table_BPU[[#This Row],[Risk Area]]&\" \"&Table_BPU[[#This Row],[BPU Description]]","v":"Cypress Beef Feeders Custom Fed"},"Cypress",61,"Beef Feeders Custom Fed",18.11,18.510000000000002,19.52,21.99,25.12,26.17]
[{"$f":"Table_BPU[[#This Row],[Risk Area]]&\" \"&Table_BPU[[#This Row],[BPU Description]]","v":"Edmonton Beef Feeders Custom Fed"},"Edmonton",61,"Beef Feeders Custom Fed",18.11,18.510000000000002,19.52,21.99,25.12,26.17]
[{"$f":"Table_BPU[[#This Row],[Risk Area]]&\" \"&Table_BPU[[#This Row],[BPU Description]]","v":"Fairview Beef Feeders Custom Fed"},"Fairview",61,"Beef Feeders Custom Fed",18.11,18.510000000000002,19.52,21.99,25.12,26.17]
[{"$f":"Table_BPU[[#This Row],[Risk Area]]&\" \"&Table_BPU[[#This Row],[BPU Description]]","v":"Flagstaff Beef Feeders Custom Fed"},"Flagstaff",61,"Beef Feeders Custom Fed",18.11,18.510000000000002,19.52,21.99,25.12,26.17]
[{"$f":"Table_BPU[[#This Row],[Risk Area]]&\" \"&Table_BPU[[#This Row],[BPU Description]]","v":"Foothills Beef Feeders Custom Fed"},"Foothills",61,"Beef Feeders Custom Fed",18.11,18.510000000000002,19.52,21.99,25.12,26.17]
[{"$f":"Table_BPU[[#This Row],[Risk Area]]&\" \"&Table_BPU[[#This Row],[BPU Description]]","v":"Forty Mile Beef Feeders Custom Fed"},"Forty Mile",61,"Beef Feeders Custom Fed",18.11,18.510000000000002,19.52,21.99,25.12,26.17]
[{"$f":"Table_BPU[[#This Row],[Risk Area]]&\" \"&Table_BPU[[#This Row],[BPU Description]]","v":"Grande Prairie Beef Feeders Custom Fed"},"Grande Prairie",61,"Beef Feeders Custom Fed",18.11,18.510000000000002,19.52,21.99,25.12,26.17]
[{"$f":"Table_BPU[[#This Row],[Risk Area]]&\" \"&Table_BPU[[#This Row],[BPU Description]]","v":"Greenview Beef Feeders Custom Fed"},"Greenview",61,"Beef Feeders Custom Fed",18.11,18.510000000000002,19.52,21.99,25.12,26.17]
[{"$f":"Table_BPU[[#This Row],[Risk Area]]&\" \"&Table_BPU[[#This Row],[BPU Description]]","v":"Kneehill Beef Feeders Custom Fed"},"Kneehill",61,"Beef Feeders Custom Fed",18.11,18.510000000000002,19.52,21.99,25.12,26.17]
[{"$f":"Table_BPU[[#This Row],[Risk Area]]&\" \"&Table_BPU[[#This Row],[BPU Description]]","v":"Lac La Biche Beef Feeders Custom Fed"},"Lac La Biche",61,"Beef Feeders Custom Fed",18.11,18.510000000000002,19.52,21.99,25.12,26.17]
[{"$f":"Table_BPU[[#This Row],[Risk Area]]&\" \"&Table_BPU[[#This Row],[BPU Description]]","v":"Lac Ste. Anne County Beef Feeders Custom Fed"},"Lac Ste. Anne County",61,"Beef Feeders Custom Fed",18.11,18.510000000000002,19.52,21.99,25.12,26.17]
[{"$f":"Table_BPU[[#This Row],[Risk Area]]&\" \"&Table_BPU[[#This Row],[BPU Description]]","v":"Lacombe Beef Feeders Custom Fed"},"Lacombe",61,"Beef Feeders Custom Fed",18.11,18.510000000000002,19.52,21.99,25.12,26.17]
[{"$f":"Table_BPU[[#This Row],[Risk Area]]&\" \"&Table_BPU[[#This Row],[BPU Description]]","v":"Lamont Beef Feeders Custom Fed"},"Lamont",61,"Beef Feeders Custom Fed",18.11,18.510000000000002,19.52,21.99,25.12,26.17]
[{"$f":"Table_BPU[[#This Row],[Risk Area]]&\" \"&Table_BPU[[#This Row],[BPU Description]]","v":"Leduc Beef Feeders Custom Fed"},"Leduc",61,"Beef Feeders Custom Fed",18.11,18.510000000000002,19.52,21.99,25.12,26.17]
[{"$f":"Table_BPU[[#This Row],[Risk Area]]&\" \"&Table_BPU[[#This Row],[BPU Description]]","v":"Lesser Slave River Beef Feeders Custom Fed"},"Lesser Slave River",61,"Beef Feeders Custom Fed",18.11,18.510000000000002,19.52,21.99,25.12,26.17]
[{"$f":"Table_BPU[[#This Row],[Risk Area]]&\" \"&Table_BPU[[#This Row],[BPU Description]]","v":"Lethbridge Beef Feeders Custom Fed"},"Lethbridge",61,"Beef Feeders Custom Fed",18.11,18.510000000000002,19.52,21.99,25.12,26.17]
[{"$f":"Table_BPU[[#This Row],[Risk Area]]&\" \"&Table_BPU[[#This Row],[BPU Description]]","v":"Mackenzie Beef Feeders Custom Fed"},"Mackenzie",61,"Beef Feeders Custom Fed",18.11,18.510000000000002,19.52,21.99,25.12,26.17]
[{"$f":"Table_BPU[[#This Row],[Risk Area]]&\" \"&Table_BPU[[#This Row],[BPU Description]]","v":"Minburn Beef Feeders Custom Fed"},"Minburn",61,"Beef Feeders Custom Fed",18.11,18.510000000000002,19.52,21.99,25.12,26.17]
[{"$f":"Table_BPU[[#This Row],[Risk Area]]&\" \"&Table_BPU[[#This Row],[BPU Description]]","v":"Mountain View Beef Feeders Custom Fed"},"Mountain View",61,"Beef Feeders Custom Fed",18.11,18.510000000000002,19.52,21.99,25.12,26.17]
[{"$f":"Table_BPU[[#This Row],[Risk Area]]&\" \"&Table_BPU[[#This Row],[BPU Description]]","v":"Newell Beef Feeders Custom Fed"},"Newell",61,"Beef Feeders Custom Fed",18.11,18.510000000000002,19.52,21.99,25.12,26.17]
[{"$f":"Table_BPU[[#This Row],[Risk Area]]&\" \"&Table_BPU[[#This Row],[BPU Description]]","v":"Northern Lights Beef Feeders Custom Fed"},"Northern Lights",61,"Beef Feeders Custom Fed",18.11,18.510000000000002,19.52,21.99,25.12,26.17]
[{"$f":"Table_BPU[[#This Row],[Risk Area]]&\" \"&Table_BPU[[#This Row],[BPU Description]]","v":"Northern Sunrise Beef Feeders Custom Fed"},"Northern Sunrise",61,"Beef Feeders Custom Fed",18.11,18.510000000000002,19.52,21.99,25.12,26.17]
[{"$f":"Table_BPU[[#This Row],[Risk Area]]&\" \"&Table_BPU[[#This Row],[BPU Description]]","v":"Opportunity Beef Feeders Custom Fed"},"Opportunity",61,"Beef Feeders Custom Fed",18.11,18.510000000000002,19.52,21.99,25.12,26.17]
[{"$f":"Table_BPU[[#This Row],[Risk Area]]&\" \"&Table_BPU[[#This Row],[BPU Description]]","v":"Paintearth Beef Feeders Custom Fed"},"Paintearth",61,"Beef Feeders Custom Fed",18.11,18.510000000000002,19.52,21.99,25.12,26.17]
[{"$f":"Table_BPU[[#This Row],[Risk Area]]&\" \"&Table_BPU[[#This Row],[BPU Description]]","v":"Parkland County Beef Feeders Custom Fed"},"Parkland County",61,"Beef Feeders Custom Fed",18.11,18.510000000000002,19.52,21.99,25.12,26.17]
[{"$f":"Table_BPU[[#This Row],[Risk Area]]&\" \"&Table_BPU[[#This Row],[BPU Description]]","v":"Peace Beef Feeders Custom Fed"},"Peace",61,"Beef Feeders Custom Fed",18.11,18.510000000000002,19.52,21.99,25.12,26.17]
[{"$f":"Table_BPU[[#This Row],[Risk Area]]&\" \"&Table_BPU[[#This Row],[BPU Description]]","v":"Pincher Creek Beef Feeders Custom Fed"},"Pincher Creek",61,"Beef Feeders Custom Fed",18.11,18.510000000000002,19.52,21.99,25.12,26.17]
[{"$f":"Table_BPU[[#This Row],[Risk Area]]&\" \"&Table_BPU[[#This Row],[BPU Description]]","v":"Ponoka Beef Feeders Custom Fed"},"Ponoka",61,"Beef Feeders Custom Fed",18.11,18.510000000000002,19.52,21.99,25.12,26.17]
[{"$f":"Table_BPU[[#This Row],[Risk Area]]&\" \"&Table_BPU[[#This Row],[BPU Description]]","v":"Provost Beef Feeders Custom Fed"},"Provost",61,"Beef Feeders Custom Fed",18.11,18.510000000000002,19.52,21.99,25.12,26.17]
[{"$f":"Table_BPU[[#This Row],[Risk Area]]&\" \"&Table_BPU[[#This Row],[BPU Description]]","v":"Ranchland Beef Feeders Custom Fed"},"Ranchland",61,"Beef Feeders Custom Fed",18.11,18.510000000000002,19.52,21.99,25.12,26.17]
[{"$f":"Table_BPU[[#This Row],[Risk Area]]&\" \"&Table_BPU[[#This Row],[BPU Description]]","v":"Red Deer Beef Feeders Custom Fed"},"Red Deer",61,"Beef Feeders Custom Fed",18.11,18.510000000000002,19.52,21.99,25.12,26.17]
[{"$f":"Table_BPU[[#This Row],[Risk Area]]&\" \"&Table_BPU[[#This Row],[BPU Description]]","v":"Rocky View Beef Feeders Custom Fed"},"Rocky View",61,"Beef Feeders Custom Fed",18.11,18.510000000000002,19.52,21.99,25.12,26.17]
[{"$f":"Table_BPU[[#This Row],[Risk Area]]&\" \"&Table_BPU[[#This Row],[BPU Description]]","v":"Saddle Hills Beef Feeders Custom Fed"},"Saddle Hills",61,"Beef Feeders Custom Fed",18.11,18.510000000000002,19.52,21.99,25.12,26.17]
[{"$f":"Table_BPU[[#This Row],[Risk Area]]&\" \"&Table_BPU[[#This Row],[BPU Description]]","v":"Smoky Lake Beef Feeders Custom Fed"},"Smoky Lake",61,"Beef Feeders Custom Fed",18.11,18.510000000000002,19.52,21.99,25.12,26.17]
[{"$f":"Table_BPU[[#This Row],[Risk Area]]&\" \"&Table_BPU[[#This Row],[BPU Description]]","v":"Smoky River Beef Feeders Custom Fed"},"Smoky River",61,"Beef Feeders Custom Fed",18.11,18.510000000000002,19.52,21.99,25.12,26.17]
[{"$f":"Table_BPU[[#This Row],[Risk Area]]&\" \"&Table_BPU[[#This Row],[BPU Description]]","v":"Special Area 02 Beef Feeders Custom Fed"},"Special Area 02",61,"Beef Feeders Custom Fed",18.11,18.510000000000002,19.52,21.99,25.12,26.17]
[{"$f":"Table_BPU[[#This Row],[Risk Area]]&\" \"&Table_BPU[[#This Row],[BPU Description]]","v":"Special Area 03 Beef Feeders Custom Fed"},"Special Area 03",61,"Beef Feeders Custom Fed",18.11,18.510000000000002,19.52,21.99,25.12,26.17]
[{"$f":"Table_BPU[[#This Row],[Risk Area]]&\" \"&Table_BPU[[#This Row],[BPU Description]]","v":"Special Area 04 Beef Feeders Custom Fed"},"Special Area 04",61,"Beef Feeders Custom Fed",18.11,18.510000000000002,19.52,21.99,25.12,26.17]
[{"$f":"Table_BPU[[#This Row],[Risk Area]]&\" \"&Table_BPU[[#This Row],[BPU Description]]","v":"Spirit River Beef Feeders Custom Fed"},"Spirit River",61,"Beef Feeders Custom Fed",18.11,18.510000000000002,19.52,21.99,25.12,26.17]
[{"$f":"Table_BPU[[#This Row],[Risk Area]]&\" \"&Table_BPU[[#This Row],[BPU Description]]","v":"St. Paul Beef Feeders Custom Fed"},"St. Paul",61,"Beef Feeders Custom Fed",18.11,18.510000000000002,19.52,21.99,25.12,26.17]
[{"$f":"Table_BPU[[#This Row],[Risk Area]]&\" \"&Table_BPU[[#This Row],[BPU Description]]","v":"Starland Beef Feeders Custom Fed"},"Starland",61,"Beef Feeders Custom Fed",18.11,18.510000000000002,19.52,21.99,25.12,26.17]
[{"$f":"Table_BPU[[#This Row],[Risk Area]]&\" \"&Table_BPU[[#This Row],[BPU Description]]","v":"Stettler Beef Feeders Custom Fed"},"Stettler",61,"Beef Feeders Custom Fed",18.11,18.510000000000002,19.52,21.99,25.12,26.17]
[{"$f":"Table_BPU[[#This Row],[Risk Area]]&\" \"&Table_BPU[[#This Row],[BPU Description]]","v":"Strathcona County Beef Feeders Custom Fed"},"Strathcona County",61,"Beef Feeders Custom Fed",18.11,18.510000000000002,19.52,21.99,25.12,26.17]
[{"$f":"Table_BPU[[#This Row],[Risk Area]]&\" \"&Table_BPU[[#This Row],[BPU Description]]","v":"Sturgeon Beef Feeders Custom Fed"},"Sturgeon",61,"Beef Feeders Custom Fed",18.11,18.510000000000002,19.52,21.99,25.12,26.17]
[{"$f":"Table_BPU[[#This Row],[Risk Area]]&\" \"&Table_BPU[[#This Row],[BPU Description]]","v":"Taber Beef Feeders Custom Fed"},"Taber",61,"Beef Feeders Custom Fed",18.11,18.510000000000002,19.52,21.99,25.12,26.17]
[{"$f":"Table_BPU[[#This Row],[Risk Area]]&\" \"&Table_BPU[[#This Row],[BPU Description]]","v":"Thorhild Beef Feeders Custom Fed"},"Thorhild",61,"Beef Feeders Custom Fed",18.11,18.510000000000002,19.52,21.99,25.12,26.17]
[{"$f":"Table_BPU[[#This Row],[Risk Area]]&\" \"&Table_BPU[[#This Row],[BPU Description]]","v":"Two Hills Beef Feeders Custom Fed"},"Two Hills",61,"Beef Feeders Custom Fed",18.11,18.510000000000002,19.52,21.99,25.12,26.17]
[{"$f":"Table_BPU[[#This Row],[Risk Area]]&\" \"&Table_BPU[[#This Row],[BPU Description]]","v":"Vermilion River Beef Feeders Custom Fed"},"Vermilion River",61,"Beef Feeders Custom Fed",18.11,18.510000000000002,19.52,21.99,25.12,26.17]
[{"$f":"Table_BPU[[#This Row],[Risk Area]]&\" \"&Table_BPU[[#This Row],[BPU Description]]","v":"Vulcan Beef Feeders Custom Fed"},"Vulcan",61,"Beef Feeders Custom Fed",18.11,18.510000000000002,19.52,21.99,25.12,26.17]
[{"$f":"Table_BPU[[#This Row],[Risk Area]]&\" \"&Table_BPU[[#This Row],[BPU Description]]","v":"Wainwright Beef Feeders Custom Fed"},"Wainwright",61,"Beef Feeders Custom Fed",18.11,18.510000000000002,19.52,21.99,25.12,26.17]
[{"$f":"Table_BPU[[#This Row],[Risk Area]]&\" \"&Table_BPU[[#This Row],[BPU Description]]","v":"Warner Beef Feeders Custom Fed"},"Warner",61,"Beef Feeders Custom Fed",18.11,18.510000000000002,19.52,21.99,25.12,26.17]
[{"$f":"Table_BPU[[#This Row],[Risk Area]]&\" \"&Table_BPU[[#This Row],[BPU Description]]","v":"Westlock Beef Feeders Custom Fed"},"Westlock",61,"Beef Feeders Custom Fed",18.11,18.510000000000002,19.52,21.99,25.12,26.17]
[{"$f":"Table_BPU[[#This Row],[Risk Area]]&\" \"&Table_BPU[[#This Row],[BPU Description]]","v":"Wetaskiwin Beef Feeders Custom Fed"},"Wetaskiwin",61,"Beef Feeders Custom Fed",18.11,18.510000000000002,19.52,21.99,25.12,26.17]
[{"$f":"Table_BPU[[#This Row],[Risk Area]]&\" \"&Table_BPU[[#This Row],[BPU Description]]","v":"Wheatland Beef Feeders Custom Fed"},"Wheatland",61,"Beef Feeders Custom Fed",18.11,18.510000000000002,19.52,21.99,25.12,26.17]
[{"$f":"Table_BPU[[#This Row],[Risk Area]]&\" \"&Table_BPU[[#This Row],[BPU Description]]","v":"Willow Creek Beef Feeders Custom Fed"},"Willow Creek",61,"Beef Feeders Custom Fed",18.11,18.510000000000002,19.52,21.99,25.12,26.17]
[{"$f":"Table_BPU[[#This Row],[Risk Area]]&\" \"&Table_BPU[[#This Row],[BPU Description]]","v":"Wood Buffalo Beef Feeders Custom Fed"},"Wood Buffalo",61,"Beef Feeders Custom Fed",18.11,18.510000000000002,19.52,21.99,25.12,26.17]
[{"$f":"Table_BPU[[#This Row],[Risk Area]]&\" \"&Table_BPU[[#This Row],[BPU Description]]","v":"Woodlands Beef Feeders Custom Fed"},"Woodlands",61,"Beef Feeders Custom Fed",18.11,18.510000000000002,19.52,21.99,25.12,26.17]
[{"$f":"Table_BPU[[#This Row],[Risk Area]]&\" \"&Table_BPU[[#This Row],[BPU Description]]","v":"Yellowhead Beef Feeders Custom Fed"},"Yellowhead",61,"Beef Feeders Custom Fed",18.11,18.510000000000002,19.52,21.99,25.12,26.17]
[{"$f":"Table_BPU[[#This Row],[Risk Area]]&\" \"&Table_BPU[[#This Row],[BPU Description]]","v":"Acadia Beef Feeders Owned"},"Acadia",7,"Beef Feeders Owned",69.41,62.91,19.11,0.01,0.01,0.01]
[{"$f":"Table_BPU[[#This Row],[Risk Area]]&\" \"&Table_BPU[[#This Row],[BPU Description]]","v":"Athabasca Beef Feeders Owned"},"Athabasca",7,"Beef Feeders Owned",69.41,62.91,19.11,0.01,0.01,0.01]
[{"$f":"Table_BPU[[#This Row],[Risk Area]]&\" \"&Table_BPU[[#This Row],[BPU Description]]","v":"Barrhead Beef Feeders Owned"},"Barrhead",7,"Beef Feeders Owned",69.41,62.91,19.11,0.01,0.01,0.01]
[{"$f":"Table_BPU[[#This Row],[Risk Area]]&\" \"&Table_BPU[[#This Row],[BPU Description]]","v":"Beaver Beef Feeders Owned"},"Beaver",7,"Beef Feeders Owned",69.41,62.91,19.11,0.01,0.01,0.01]
[{"$f":"Table_BPU[[#This Row],[Risk Area]]&\" \"&Table_BPU[[#This Row],[BPU Description]]","v":"Big Lakes Beef Feeders Owned"},"Big Lakes",7,"Beef Feeders Owned",69.41,62.91,19.11,0.01,0.01,0.01]
[{"$f":"Table_BPU[[#This Row],[Risk Area]]&\" \"&Table_BPU[[#This Row],[BPU Description]]","v":"Bighorn Beef Feeders Owned"},"Bighorn",7,"Beef Feeders Owned",69.41,62.91,19.11,0.01,0.01,0.01]
[{"$f":"Table_BPU[[#This Row],[Risk Area]]&\" \"&Table_BPU[[#This Row],[BPU Description]]","v":"Birch Hills Beef Feeders Owned"},"Birch Hills",7,"Beef Feeders Owned",69.41,62.91,19.11,0.01,0.01,0.01]
[{"$f":"Table_BPU[[#This Row],[Risk Area]]&\" \"&Table_BPU[[#This Row],[BPU Description]]","v":"Bonnyville Beef Feeders Owned"},"Bonnyville",7,"Beef Feeders Owned",69.41,62.91,19.11,0.01,0.01,0.01]
[{"$f":"Table_BPU[[#This Row],[Risk Area]]&\" \"&Table_BPU[[#This Row],[BPU Description]]","v":"Brazeau Beef Feeders Owned"},"Brazeau",7,"Beef Feeders Owned",69.41,62.91,19.11,0.01,0.01,0.01]
[{"$f":"Table_BPU[[#This Row],[Risk Area]]&\" \"&Table_BPU[[#This Row],[BPU Description]]","v":"Camrose Beef Feeders Owned"},"Camrose",7,"Beef Feeders Owned",69.41,62.91,19.11,0.01,0.01,0.01]
[{"$f":"Table_BPU[[#This Row],[Risk Area]]&\" \"&Table_BPU[[#This Row],[BPU Description]]","v":"Cardston Beef Feeders Owned"},"Cardston",7,"Beef Feeders Owned",69.41,62.91,19.11,0.01,0.01,0.01]
[{"$f":"Table_BPU[[#This Row],[Risk Area]]&\" \"&Table_BPU[[#This Row],[BPU Description]]","v":"Clear Hills Beef Feeders Owned"},"Clear Hills",7,"Beef Feeders Owned",69.41,62.91,19.11,0.01,0.01,0.01]
[{"$f":"Table_BPU[[#This Row],[Risk Area]]&\" \"&Table_BPU[[#This Row],[BPU Description]]","v":"Clearwater Beef Feeders Owned"},"Clearwater",7,"Beef Feeders Owned",69.41,62.91,19.11,0.01,0.01,0.01]
[{"$f":"Table_BPU[[#This Row],[Risk Area]]&\" \"&Table_BPU[[#This Row],[BPU Description]]","v":"Cypress Beef Feeders Owned"},"Cypress",7,"Beef Feeders Owned",69.41,62.91,19.11,0.01,0.01,0.01]
[{"$f":"Table_BPU[[#This Row],[Risk Area]]&\" \"&Table_BPU[[#This Row],[BPU Description]]","v":"Edmonton Beef Feeders Owned"},"Edmonton",7,"Beef Feeders Owned",69.41,62.91,19.11,0.01,0.01,0.01]
[{"$f":"Table_BPU[[#This Row],[Risk Area]]&\" \"&Table_BPU[[#This Row],[BPU Description]]","v":"Fairview Beef Feeders Owned"},"Fairview",7,"Beef Feeders Owned",69.41,62.91,19.11,0.01,0.01,0.01]
[{"$f":"Table_BPU[[#This Row],[Risk Area]]&\" \"&Table_BPU[[#This Row],[BPU Description]]","v":"Flagstaff Beef Feeders Owned"},"Flagstaff",7,"Beef Feeders Owned",69.41,62.91,19.11,0.01,0.01,0.01]
[{"$f":"Table_BPU[[#This Row],[Risk Area]]&\" \"&Table_BPU[[#This Row],[BPU Description]]","v":"Foothills Beef Feeders Owned"},"Foothills",7,"Beef Feeders Owned",69.41,62.91,19.11,0.01,0.01,0.01]
[{"$f":"Table_BPU[[#This Row],[Risk Area]]&\" \"&Table_BPU[[#This Row],[BPU Description]]","v":"Forty Mile Beef Feeders Owned"},"Forty Mile",7,"Beef Feeders Owned",69.41,62.91,19.11,0.01,0.01,0.01]
[{"$f":"Table_BPU[[#This Row],[Risk Area]]&\" \"&Table_BPU[[#This Row],[BPU Description]]","v":"Grande Prairie Beef Feeders Owned"},"Grande Prairie",7,"Beef Feeders Owned",69.41,62.91,19.11,0.01,0.01,0.01]
[{"$f":"Table_BPU[[#This Row],[Risk Area]]&\" \"&Table_BPU[[#This Row],[BPU Description]]","v":"Greenview Beef Feeders Owned"},"Greenview",7,"Beef Feeders Owned",69.41,62.91,19.11,0.01,0.01,0.01]
[{"$f":"Table_BPU[[#This Row],[Risk Area]]&\" \"&Table_BPU[[#This Row],[BPU Description]]","v":"Kneehill Beef Feeders Owned"},"Kneehill",7,"Beef Feeders Owned",69.41,62.91,19.11,0.01,0.01,0.01]
[{"$f":"Table_BPU[[#This Row],[Risk Area]]&\" \"&Table_BPU[[#This Row],[BPU Description]]","v":"Lac La Biche Beef Feeders Owned"},"Lac La Biche",7,"Beef Feeders Owned",69.41,62.91,19.11,0.01,0.01,0.01]
[{"$f":"Table_BPU[[#This Row],[Risk Area]]&\" \"&Table_BPU[[#This Row],[BPU Description]]","v":"Lac Ste. Anne County Beef Feeders Owned"},"Lac Ste. Anne County",7,"Beef Feeders Owned",69.41,62.91,19.11,0.01,0.01,0.01]
[{"$f":"Table_BPU[[#This Row],[Risk Area]]&\" \"&Table_BPU[[#This Row],[BPU Description]]","v":"Lacombe Beef Feeders Owned"},"Lacombe",7,"Beef Feeders Owned",69.41,62.91,19.11,0.01,0.01,0.01]
[{"$f":"Table_BPU[[#This Row],[Risk Area]]&\" \"&Table_BPU[[#This Row],[BPU Description]]","v":"Lamont Beef Feeders Owned"},"Lamont",7,"Beef Feeders Owned",69.41,62.91,19.11,0.01,0.01,0.01]
[{"$f":"Table_BPU[[#This Row],[Risk Area]]&\" \"&Table_BPU[[#This Row],[BPU Description]]","v":"Leduc Beef Feeders Owned"},"Leduc",7,"Beef Feeders Owned",69.41,62.91,19.11,0.01,0.01,0.01]
[{"$f":"Table_BPU[[#This Row],[Risk Area]]&\" \"&Table_BPU[[#This Row],[BPU Description]]","v":"Lesser Slave River Beef Feeders Owned"},"Lesser Slave River",7,"Beef Feeders Owned",69.41,62.91,19.11,0.01,0.01,0.01]
[{"$f":"Table_BPU[[#This Row],[Risk Area]]&\" \"&Table_BPU[[#This Row],[BPU Description]]","v":"Lethbridge Beef Feeders Owned"},"Lethbridge",7,"Beef Feeders Owned",69.41,62.91,19.11,0.01,0.01,0.01]
[{"$f":"Table_BPU[[#This Row],[Risk Area]]&\" \"&Table_BPU[[#This Row],[BPU Description]]","v":"Mackenzie Beef Feeders Owned"},"Mackenzie",7,"Beef Feeders Owned",69.41,62.91,19.11,0.01,0.01,0.01]
[{"$f":"Table_BPU[[#This Row],[Risk Area]]&\" \"&Table_BPU[[#This Row],[BPU Description]]","v":"Minburn Beef Feeders Owned"},"Minburn",7,"Beef Feeders Owned",69.41,62.91,19.11,0.01,0.01,0.01]
[{"$f":"Table_BPU[[#This Row],[Risk Area]]&\" \"&Table_BPU[[#This Row],[BPU Description]]","v":"Mountain View Beef Feeders Owned"},"Mountain View",7,"Beef Feeders Owned",69.41,62.91,19.11,0.01,0.01,0.01]
[{"$f":"Table_BPU[[#This Row],[Risk Area]]&\" \"&Table_BPU[[#This Row],[BPU Description]]","v":"Newell Beef Feeders Owned"},"Newell",7,"Beef Feeders Owned",69.41,62.91,19.11,0.01,0.01,0.01]
[{"$f":"Table_BPU[[#This Row],[Risk Area]]&\" \"&Table_BPU[[#This Row],[BPU Description]]","v":"Northern Lights Beef Feeders Owned"},"Northern Lights",7,"Beef Feeders Owned",69.41,62.91,19.11,0.01,0.01,0.01]
[{"$f":"Table_BPU[[#This Row],[Risk Area]]&\" \"&Table_BPU[[#This Row],[BPU Description]]","v":"Northern Sunrise Beef Feeders Owned"},"Northern Sunrise",7,"Beef Feeders Owned",69.41,62.91,19.11,0.01,0.01,0.01]
[{"$f":"Table_BPU[[#This Row],[Risk Area]]&\" \"&Table_BPU[[#This Row],[BPU Description]]","v":"Opportunity Beef Feeders Owned"},"Opportunity",7,"Beef Feeders Owned",69.41,62.91,19.11,0.01,0.01,0.01]
[{"$f":"Table_BPU[[#This Row],[Risk Area]]&\" \"&Table_BPU[[#This Row],[BPU Description]]","v":"Paintearth Beef Feeders Owned"},"Paintearth",7,"Beef Feeders Owned",69.41,62.91,19.11,0.01,0.01,0.01]
[{"$f":"Table_BPU[[#This Row],[Risk Area]]&\" \"&Table_BPU[[#This Row],[BPU Description]]","v":"Parkland County Beef Feeders Owned"},"Parkland County",7,"Beef Feeders Owned",69.41,62.91,19.11,0.01,0.01,0.01]
[{"$f":"Table_BPU[[#This Row],[Risk Area]]&\" \"&Table_BPU[[#This Row],[BPU Description]]","v":"Peace Beef Feeders Owned"},"Peace",7,"Beef Feeders Owned",69.41,62.91,19.11,0.01,0.01,0.01]
[{"$f":"Table_BPU[[#This Row],[Risk Area]]&\" \"&Table_BPU[[#This Row],[BPU Description]]","v":"Pincher Creek Beef Feeders Owned"},"Pincher Creek",7,"Beef Feeders Owned",69.41,62.91,19.11,0.01,0.01,0.01]
[{"$f":"Table_BPU[[#This Row],[Risk Area]]&\" \"&Table_BPU[[#This Row],[BPU Description]]","v":"Ponoka Beef Feeders Owned"},"Ponoka",7,"Beef Feeders Owned",69.41,62.91,19.11,0.01,0.01,0.01]
[{"$f":"Table_BPU[[#This Row],[Risk Area]]&\" \"&Table_BPU[[#This Row],[BPU Description]]","v":"Provost Beef Feeders Owned"},"Provost",7,"Beef Feeders Owned",69.41,62.91,19.11,0.01,0.01,0.01]
[{"$f":"Table_BPU[[#This Row],[Risk Area]]&\" \"&Table_BPU[[#This Row],[BPU Description]]","v":"Ranchland Beef Feeders Owned"},"Ranchland",7,"Beef Feeders Owned",69.41,62.91,19.11,0.01,0.01,0.01]
[{"$f":"Table_BPU[[#This Row],[Risk Area]]&\" \"&Table_BPU[[#This Row],[BPU Description]]","v":"Red Deer Beef Feeders Owned"},"Red Deer",7,"Beef Feeders Owned",69.41,62.91,19.11,0.01,0.01,0.01]
[{"$f":"Table_BPU[[#This Row],[Risk Area]]&\" \"&Table_BPU[[#This Row],[BPU Description]]","v":"Rocky View Beef Feeders Owned"},"Rocky View",7,"Beef Feeders Owned",69.41,62.91,19.11,0.01,0.01,0.01]
[{"$f":"Table_BPU[[#This Row],[Risk Area]]&\" \"&Table_BPU[[#This Row],[BPU Description]]","v":"Saddle Hills Beef Feeders Owned"},"Saddle Hills",7,"Beef Feeders Owned",69.41,62.91,19.11,0.01,0.01,0.01]
[{"$f":"Table_BPU[[#This Row],[Risk Area]]&\" \"&Table_BPU[[#This Row],[BPU Description]]","v":"Smoky Lake Beef Feeders Owned"},"Smoky Lake",7,"Beef Feeders Owned",69.41,62.91,19.11,0.01,0.01,0.01]
[{"$f":"Table_BPU[[#This Row],[Risk Area]]&\" \"&Table_BPU[[#This Row],[BPU Description]]","v":"Smoky River Beef Feeders Owned"},"Smoky River",7,"Beef Feeders Owned",69.41,62.91,19.11,0.01,0.01,0.01]
[{"$f":"Table_BPU[[#This Row],[Risk Area]]&\" \"&Table_BPU[[#This Row],[BPU Description]]","v":"Special Area 02 Beef Feeders Owned"},"Special Area 02",7,"Beef Feeders Owned",69.41,62.91,19.11,0.01,0.01,0.01]
[{"$f":"Table_BPU[[#This Row],[Risk Area]]&\" \"&Table_BPU[[#This Row],[BPU Description]]","v":"Special Area 03 Beef Feeders Owned"},"Special Area 03",7,"Beef Feeders Owned",69.41,62.91,19.11,0.01,0.01,0.01]
[{"$f":"Table_BPU[[#This Row],[Risk Area]]&\" \"&Table_BPU[[#This Row],[BPU Description]]","v":"Special Area 04 Beef Feeders Owned"},"Special Area 04",7,"Beef Feeders Owned",69.41,62.91,19.11,0.01,0.01,0.01]
[{"$f":"Table_BPU[[#This Row],[Risk Area]]&\" \"&Table_BPU[[#This Row],[BPU Description]]","v":"Spirit River Beef Feeders Owned"},"Spirit River",7,"Beef Feeders Owned",69.41,62.91,19.11,0.01,0.01,0.01]
[{"$f":"Table_BPU[[#This Row],[Risk Area]]&\" \"&Table_BPU[[#This Row],[BPU Description]]","v":"St. Paul Beef Feeders Owned"},"St. Paul",7,"Beef Feeders Owned",69.41,62.91,19.11,0.01,0.01,0.01]
[{"$f":"Table_BPU[[#This Row],[Risk Area]]&\" \"&Table_BPU[[#This Row],[BPU Description]]","v":"Starland Beef Feeders Owned"},"Starland",7,"Beef Feeders Owned",69.41,62.91,19.11,0.01,0.01,0.01]
[{"$f":"Table_BPU[[#This Row],[Risk Area]]&\" \"&Table_BPU[[#This Row],[BPU Description]]","v":"Stettler Beef Feeders Owned"},"Stettler",7,"Beef Feeders Owned",69.41,62.91,19.11,0.01,0.01,0.01]
[{"$f":"Table_BPU[[#This Row],[Risk Area]]&\" \"&Table_BPU[[#This Row],[BPU Description]]","v":"Strathcona County Beef Feeders Owned"},"Strathcona County",7,"Beef Feeders Owned",69.41,62.91,19.11,0.01,0.01,0.01]
[{"$f":"Table_BPU[[#This Row],[Risk Area]]&\" \"&Table_BPU[[#This Row],[BPU Description]]","v":"Sturgeon Beef Feeders Owned"},"Sturgeon",7,"Beef Feeders Owned",69.41,62.91,19.11,0.01,0.01,0.01]
[{"$f":"Table_BPU[[#This Row],[Risk Area]]&\" \"&Table_BPU[[#This Row],[BPU Description]]","v":"Taber Beef Feeders Owned"},"Taber",7,"Beef Feeders Owned",69.41,62.91,19.11,0.01,0.01,0.01]
[{"$f":"Table_BPU[[#This Row],[Risk Area]]&\" \"&Table_BPU[[#This Row],[BPU Description]]","v":"Thorhild Beef Feeders Owned"},"Thorhild",7,"Beef Feeders Owned",69.41,62.91,19.11,0.01,0.01,0.01]
[{"$f":"Table_BPU[[#This Row],[Risk Area]]&\" \"&Table_BPU[[#This Row],[BPU Description]]","v":"Two Hills Beef Feeders Owned"},"Two Hills",7,"Beef Feeders Owned",69.41,62.91,19.11,0.01,0.01,0.01]
[{"$f":"Table_BPU[[#This Row],[Risk Area]]&\" \"&Table_BPU[[#This Row],[BPU Description]]","v":"Vermilion River Beef Feeders Owned"},"Vermilion River",7,"Beef Feeders Owned",69.41,62.91,19.11,0.01,0.01,0.01]
[{"$f":"Table_BPU[[#This Row],[Risk Area]]&\" \"&Table_BPU[[#This Row],[BPU Description]]","v":"Vulcan Beef Feeders Owned"},"Vulcan",7,"Beef Feeders Owned",69.41,62.91,19.11,0.01,0.01,0.01]
[{"$f":"Table_BPU[[#This Row],[Risk Area]]&\" \"&Table_BPU[[#This Row],[BPU Description]]","v":"Wainwright Beef Feeders Owned"},"Wainwright",7,"Beef Feeders Owned",69.41,62.91,19.11,0.01,0.01,0.01]
[{"$f":"Table_BPU[[#This Row],[Risk Area]]&\" \"&Table_BPU[[#This Row],[BPU Description]]","v":"Warner Beef Feeders Owned"},"Warner",7,"Beef Feeders Owned",69.41,62.91,19.11,0.01,0.01,0.01]
[{"$f":"Table_BPU[[#This Row],[Risk Area]]&\" \"&Table_BPU[[#This Row],[BPU Description]]","v":"Westlock Beef Feeders Owned"},"Westlock",7,"Beef Feeders Owned",69.41,62.91,19.11,0.01,0.01,0.01]
[{"$f":"Table_BPU[[#This Row],[Risk Area]]&\" \"&Table_BPU[[#This Row],[BPU Description]]","v":"Wetaskiwin Beef Feeders Owned"},"Wetaskiwin",7,"Beef Feeders Owned",69.41,62.91,19.11,0.01,0.01,0.01]
[{"$f":"Table_BPU[[#This Row],[Risk Area]]&\" \"&Table_BPU[[#This Row],[BPU Description]]","v":"Wheatland Beef Feeders Owned"},"Wheatland",7,"Beef Feeders Owned",69.41,62.91,19.11,0.01,0.01,0.01]
[{"$f":"Table_BPU[[#This Row],[Risk Area]]&\" \"&Table_BPU[[#This Row],[BPU Description]]","v":"Willow Creek Beef Feeders Owned"},"Willow Creek",7,"Beef Feeders Owned",69.41,62.91,19.11,0.01,0.01,0.01]
[{"$f":"Table_BPU[[#This Row],[Risk Area]]&\" \"&Table_BPU[[#This Row],[BPU Description]]","v":"Wood Buffalo Beef Feeders Owned"},"Wood Buffalo",7,"Beef Feeders Owned",69.41,62.91,19.11,0.01,0.01,0.01]
[{"$f":"Table_BPU[[#This Row],[Risk Area]]&\" \"&Table_BPU[[#This Row],[BPU Description]]","v":"Woodlands Beef Feeders Owned"},"Woodlands",7,"Beef Feeders Owned",69.41,62.91,19.11,0.01,0.01,0.01]
[{"$f":"Table_BPU[[#This Row],[Risk Area]]&\" \"&Table_BPU[[#This Row],[BPU Description]]","v":"Yellowhead Beef Feeders Owned"},"Yellowhead",7,"Beef Feeders Owned",69.41,62.91,19.11,0.01,0.01,0.01]
[{"$f":"Table_BPU[[#This Row],[Risk Area]]&\" \"&Table_BPU[[#This Row],[BPU Description]]","v":"Acadia Bison Cow / Calf"},"Acadia",75,"Bison Cow / Calf",124.23,0.01,0.01,0.01,0.01,0.01]
[{"$f":"Table_BPU[[#This Row],[Risk Area]]&\" \"&Table_BPU[[#This Row],[BPU Description]]","v":"Athabasca Bison Cow / Calf"},"Athabasca",75,"Bison Cow / Calf",124.23,0.01,0.01,0.01,0.01,0.01]
[{"$f":"Table_BPU[[#This Row],[Risk Area]]&\" \"&Table_BPU[[#This Row],[BPU Description]]","v":"Barrhead Bison Cow / Calf"},"Barrhead",75,"Bison Cow / Calf",124.23,0.01,0.01,0.01,0.01,0.01]
[{"$f":"Table_BPU[[#This Row],[Risk Area]]&\" \"&Table_BPU[[#This Row],[BPU Description]]","v":"Beaver Bison Cow / Calf"},"Beaver",75,"Bison Cow / Calf",124.23,0.01,0.01,0.01,0.01,0.01]
[{"$f":"Table_BPU[[#This Row],[Risk Area]]&\" \"&Table_BPU[[#This Row],[BPU Description]]","v":"Big Lakes Bison Cow / Calf"},"Big Lakes",75,"Bison Cow / Calf",124.23,0.01,0.01,0.01,0.01,0.01]
[{"$f":"Table_BPU[[#This Row],[Risk Area]]&\" \"&Table_BPU[[#This Row],[BPU Description]]","v":"Bighorn Bison Cow / Calf"},"Bighorn",75,"Bison Cow / Calf",124.23,0.01,0.01,0.01,0.01,0.01]
[{"$f":"Table_BPU[[#This Row],[Risk Area]]&\" \"&Table_BPU[[#This Row],[BPU Description]]","v":"Birch Hills Bison Cow / Calf"},"Birch Hills",75,"Bison Cow / Calf",124.23,0.01,0.01,0.01,0.01,0.01]
[{"$f":"Table_BPU[[#This Row],[Risk Area]]&\" \"&Table_BPU[[#This Row],[BPU Description]]","v":"Bonnyville Bison Cow / Calf"},"Bonnyville",75,"Bison Cow / Calf",124.23,0.01,0.01,0.01,0.01,0.01]
[{"$f":"Table_BPU[[#This Row],[Risk Area]]&\" \"&Table_BPU[[#This Row],[BPU Description]]","v":"Brazeau Bison Cow / Calf"},"Brazeau",75,"Bison Cow / Calf",124.23,0.01,0.01,0.01,0.01,0.01]
[{"$f":"Table_BPU[[#This Row],[Risk Area]]&\" \"&Table_BPU[[#This Row],[BPU Description]]","v":"Camrose Bison Cow / Calf"},"Camrose",75,"Bison Cow / Calf",124.23,0.01,0.01,0.01,0.01,0.01]
[{"$f":"Table_BPU[[#This Row],[Risk Area]]&\" \"&Table_BPU[[#This Row],[BPU Description]]","v":"Cardston Bison Cow / Calf"},"Cardston",75,"Bison Cow / Calf",124.23,0.01,0.01,0.01,0.01,0.01]
[{"$f":"Table_BPU[[#This Row],[Risk Area]]&\" \"&Table_BPU[[#This Row],[BPU Description]]","v":"Clear Hills Bison Cow / Calf"},"Clear Hills",75,"Bison Cow / Calf",124.23,0.01,0.01,0.01,0.01,0.01]
[{"$f":"Table_BPU[[#This Row],[Risk Area]]&\" \"&Table_BPU[[#This Row],[BPU Description]]","v":"Clearwater Bison Cow / Calf"},"Clearwater",75,"Bison Cow / Calf",124.23,0.01,0.01,0.01,0.01,0.01]
[{"$f":"Table_BPU[[#This Row],[Risk Area]]&\" \"&Table_BPU[[#This Row],[BPU Description]]","v":"Cypress Bison Cow / Calf"},"Cypress",75,"Bison Cow / Calf",124.23,0.01,0.01,0.01,0.01,0.01]
[{"$f":"Table_BPU[[#This Row],[Risk Area]]&\" \"&Table_BPU[[#This Row],[BPU Description]]","v":"Edmonton Bison Cow / Calf"},"Edmonton",75,"Bison Cow / Calf",124.23,0.01,0.01,0.01,0.01,0.01]
[{"$f":"Table_BPU[[#This Row],[Risk Area]]&\" \"&Table_BPU[[#This Row],[BPU Description]]","v":"Fairview Bison Cow / Calf"},"Fairview",75,"Bison Cow / Calf",124.23,0.01,0.01,0.01,0.01,0.01]
[{"$f":"Table_BPU[[#This Row],[Risk Area]]&\" \"&Table_BPU[[#This Row],[BPU Description]]","v":"Flagstaff Bison Cow / Calf"},"Flagstaff",75,"Bison Cow / Calf",124.23,0.01,0.01,0.01,0.01,0.01]
[{"$f":"Table_BPU[[#This Row],[Risk Area]]&\" \"&Table_BPU[[#This Row],[BPU Description]]","v":"Foothills Bison Cow / Calf"},"Foothills",75,"Bison Cow / Calf",124.23,0.01,0.01,0.01,0.01,0.01]
[{"$f":"Table_BPU[[#This Row],[Risk Area]]&\" \"&Table_BPU[[#This Row],[BPU Description]]","v":"Forty Mile Bison Cow / Calf"},"Forty Mile",75,"Bison Cow / Calf",124.23,0.01,0.01,0.01,0.01,0.01]
[{"$f":"Table_BPU[[#This Row],[Risk Area]]&\" \"&Table_BPU[[#This Row],[BPU Description]]","v":"Grande Prairie Bison Cow / Calf"},"Grande Prairie",75,"Bison Cow / Calf",124.23,0.01,0.01,0.01,0.01,0.01]
[{"$f":"Table_BPU[[#This Row],[Risk Area]]&\" \"&Table_BPU[[#This Row],[BPU Description]]","v":"Greenview Bison Cow / Calf"},"Greenview",75,"Bison Cow / Calf",124.23,0.01,0.01,0.01,0.01,0.01]
[{"$f":"Table_BPU[[#This Row],[Risk Area]]&\" \"&Table_BPU[[#This Row],[BPU Description]]","v":"Kneehill Bison Cow / Calf"},"Kneehill",75,"Bison Cow / Calf",124.23,0.01,0.01,0.01,0.01,0.01]
[{"$f":"Table_BPU[[#This Row],[Risk Area]]&\" \"&Table_BPU[[#This Row],[BPU Description]]","v":"Lac La Biche Bison Cow / Calf"},"Lac La Biche",75,"Bison Cow / Calf",124.23,0.01,0.01,0.01,0.01,0.01]
[{"$f":"Table_BPU[[#This Row],[Risk Area]]&\" \"&Table_BPU[[#This Row],[BPU Description]]","v":"Lac Ste. Anne County Bison Cow / Calf"},"Lac Ste. Anne County",75,"Bison Cow / Calf",124.23,0.01,0.01,0.01,0.01,0.01]
[{"$f":"Table_BPU[[#This Row],[Risk Area]]&\" \"&Table_BPU[[#This Row],[BPU Description]]","v":"Lacombe Bison Cow / Calf"},"Lacombe",75,"Bison Cow / Calf",124.23,0.01,0.01,0.01,0.01,0.01]
[{"$f":"Table_BPU[[#This Row],[Risk Area]]&\" \"&Table_BPU[[#This Row],[BPU Description]]","v":"Lamont Bison Cow / Calf"},"Lamont",75,"Bison Cow / Calf",124.23,0.01,0.01,0.01,0.01,0.01]
[{"$f":"Table_BPU[[#This Row],[Risk Area]]&\" \"&Table_BPU[[#This Row],[BPU Description]]","v":"Leduc Bison Cow / Calf"},"Leduc",75,"Bison Cow / Calf",124.23,0.01,0.01,0.01,0.01,0.01]
[{"$f":"Table_BPU[[#This Row],[Risk Area]]&\" \"&Table_BPU[[#This Row],[BPU Description]]","v":"Lesser Slave River Bison Cow / Calf"},"Lesser Slave River",75,"Bison Cow / Calf",124.23,0.01,0.01,0.01,0.01,0.01]
[{"$f":"Table_BPU[[#This Row],[Risk Area]]&\" \"&Table_BPU[[#This Row],[BPU Description]]","v":"Lethbridge Bison Cow / Calf"},"Lethbridge",75,"Bison Cow / Calf",124.23,0.01,0.01,0.01,0.01,0.01]
[{"$f":"Table_BPU[[#This Row],[Risk Area]]&\" \"&Table_BPU[[#This Row],[BPU Description]]","v":"Mackenzie Bison Cow / Calf"},"Mackenzie",75,"Bison Cow / Calf",124.23,0.01,0.01,0.01,0.01,0.01]
[{"$f":"Table_BPU[[#This Row],[Risk Area]]&\" \"&Table_BPU[[#This Row],[BPU Description]]","v":"Minburn Bison Cow / Calf"},"Minburn",75,"Bison Cow / Calf",124.23,0.01,0.01,0.01,0.01,0.01]
[{"$f":"Table_BPU[[#This Row],[Risk Area]]&\" \"&Table_BPU[[#This Row],[BPU Description]]","v":"Mountain View Bison Cow / Calf"},"Mountain View",75,"Bison Cow / Calf",124.23,0.01,0.01,0.01,0.01,0.01]
[{"$f":"Table_BPU[[#This Row],[Risk Area]]&\" \"&Table_BPU[[#This Row],[BPU Description]]","v":"Newell Bison Cow / Calf"},"Newell",75,"Bison Cow / Calf",124.23,0.01,0.01,0.01,0.01,0.01]
[{"$f":"Table_BPU[[#This Row],[Risk Area]]&\" \"&Table_BPU[[#This Row],[BPU Description]]","v":"Northern Lights Bison Cow / Calf"},"Northern Lights",75,"Bison Cow / Calf",124.23,0.01,0.01,0.01,0.01,0.01]
[{"$f":"Table_BPU[[#This Row],[Risk Area]]&\" \"&Table_BPU[[#This Row],[BPU Description]]","v":"Northern Sunrise Bison Cow / Calf"},"Northern Sunrise",75,"Bison Cow / Calf",124.23,0.01,0.01,0.01,0.01,0.01]
[{"$f":"Table_BPU[[#This Row],[Risk Area]]&\" \"&Table_BPU[[#This Row],[BPU Description]]","v":"Opportunity Bison Cow / Calf"},"Opportunity",75,"Bison Cow / Calf",124.23,0.01,0.01,0.01,0.01,0.01]
[{"$f":"Table_BPU[[#This Row],[Risk Area]]&\" \"&Table_BPU[[#This Row],[BPU Description]]","v":"Paintearth Bison Cow / Calf"},"Paintearth",75,"Bison Cow / Calf",124.23,0.01,0.01,0.01,0.01,0.01]
[{"$f":"Table_BPU[[#This Row],[Risk Area]]&\" \"&Table_BPU[[#This Row],[BPU Description]]","v":"Parkland County Bison Cow / Calf"},"Parkland County",75,"Bison Cow / Calf",124.23,0.01,0.01,0.01,0.01,0.01]
[{"$f":"Table_BPU[[#This Row],[Risk Area]]&\" \"&Table_BPU[[#This Row],[BPU Description]]","v":"Peace Bison Cow / Calf"},"Peace",75,"Bison Cow / Calf",124.23,0.01,0.01,0.01,0.01,0.01]
[{"$f":"Table_BPU[[#This Row],[Risk Area]]&\" \"&Table_BPU[[#This Row],[BPU Description]]","v":"Pincher Creek Bison Cow / Calf"},"Pincher Creek",75,"Bison Cow / Calf",124.23,0.01,0.01,0.01,0.01,0.01]
[{"$f":"Table_BPU[[#This Row],[Risk Area]]&\" \"&Table_BPU[[#This Row],[BPU Description]]","v":"Ponoka Bison Cow / Calf"},"Ponoka",75,"Bison Cow / Calf",124.23,0.01,0.01,0.01,0.01,0.01]
[{"$f":"Table_BPU[[#This Row],[Risk Area]]&\" \"&Table_BPU[[#This Row],[BPU Description]]","v":"Provost Bison Cow / Calf"},"Provost",75,"Bison Cow / Calf",124.23,0.01,0.01,0.01,0.01,0.01]
[{"$f":"Table_BPU[[#This Row],[Risk Area]]&\" \"&Table_BPU[[#This Row],[BPU Description]]","v":"Ranchland Bison Cow / Calf"},"Ranchland",75,"Bison Cow / Calf",124.23,0.01,0.01,0.01,0.01,0.01]
[{"$f":"Table_BPU[[#This Row],[Risk Area]]&\" \"&Table_BPU[[#This Row],[BPU Description]]","v":"Red Deer Bison Cow / Calf"},"Red Deer",75,"Bison Cow / Calf",124.23,0.01,0.01,0.01,0.01,0.01]
[{"$f":"Table_BPU[[#This Row],[Risk Area]]&\" \"&Table_BPU[[#This Row],[BPU Description]]","v":"Rocky View Bison Cow / Calf"},"Rocky View",75,"Bison Cow / Calf",124.23,0.01,0.01,0.01,0.01,0.01]
[{"$f":"Table_BPU[[#This Row],[Risk Area]]&\" \"&Table_BPU[[#This Row],[BPU Description]]","v":"Saddle Hills Bison Cow / Calf"},"Saddle Hills",75,"Bison Cow / Calf",124.23,0.01,0.01,0.01,0.01,0.01]
[{"$f":"Table_BPU[[#This Row],[Risk Area]]&\" \"&Table_BPU[[#This Row],[BPU Description]]","v":"Smoky Lake Bison Cow / Calf"},"Smoky Lake",75,"Bison Cow / Calf",124.23,0.01,0.01,0.01,0.01,0.01]
[{"$f":"Table_BPU[[#This Row],[Risk Area]]&\" \"&Table_BPU[[#This Row],[BPU Description]]","v":"Smoky River Bison Cow / Calf"},"Smoky River",75,"Bison Cow / Calf",124.23,0.01,0.01,0.01,0.01,0.01]
[{"$f":"Table_BPU[[#This Row],[Risk Area]]&\" \"&Table_BPU[[#This Row],[BPU Description]]","v":"Special Area 02 Bison Cow / Calf"},"Special Area 02",75,"Bison Cow / Calf",124.23,0.01,0.01,0.01,0.01,0.01]
[{"$f":"Table_BPU[[#This Row],[Risk Area]]&\" \"&Table_BPU[[#This Row],[BPU Description]]","v":"Special Area 03 Bison Cow / Calf"},"Special Area 03",75,"Bison Cow / Calf",124.23,0.01,0.01,0.01,0.01,0.01]
[{"$f":"Table_BPU[[#This Row],[Risk Area]]&\" \"&Table_BPU[[#This Row],[BPU Description]]","v":"Special Area 04 Bison Cow / Calf"},"Special Area 04",75,"Bison Cow / Calf",124.23,0.01,0.01,0.01,0.01,0.01]
[{"$f":"Table_BPU[[#This Row],[Risk Area]]&\" \"&Table_BPU[[#This Row],[BPU Description]]","v":"Spirit River Bison Cow / Calf"},"Spirit River",75,"Bison Cow / Calf",124.23,0.01,0.01,0.01,0.01,0.01]
[{"$f":"Table_BPU[[#This Row],[Risk Area]]&\" \"&Table_BPU[[#This Row],[BPU Description]]","v":"St. Paul Bison Cow / Calf"},"St. Paul",75,"Bison Cow / Calf",124.23,0.01,0.01,0.01,0.01,0.01]
[{"$f":"Table_BPU[[#This Row],[Risk Area]]&\" \"&Table_BPU[[#This Row],[BPU Description]]","v":"Starland Bison Cow / Calf"},"Starland",75,"Bison Cow / Calf",124.23,0.01,0.01,0.01,0.01,0.01]
[{"$f":"Table_BPU[[#This Row],[Risk Area]]&\" \"&Table_BPU[[#This Row],[BPU Description]]","v":"Stettler Bison Cow / Calf"},"Stettler",75,"Bison Cow / Calf",124.23,0.01,0.01,0.01,0.01,0.01]
[{"$f":"Table_BPU[[#This Row],[Risk Area]]&\" \"&Table_BPU[[#This Row],[BPU Description]]","v":"Strathcona County Bison Cow / Calf"},"Strathcona County",75,"Bison Cow / Calf",124.23,0.01,0.01,0.01,0.01,0.01]
[{"$f":"Table_BPU[[#This Row],[Risk Area]]&\" \"&Table_BPU[[#This Row],[BPU Description]]","v":"Sturgeon Bison Cow / Calf"},"Sturgeon",75,"Bison Cow / Calf",124.23,0.01,0.01,0.01,0.01,0.01]
[{"$f":"Table_BPU[[#This Row],[Risk Area]]&\" \"&Table_BPU[[#This Row],[BPU Description]]","v":"Taber Bison Cow / Calf"},"Taber",75,"Bison Cow / Calf",124.23,0.01,0.01,0.01,0.01,0.01]
[{"$f":"Table_BPU[[#This Row],[Risk Area]]&\" \"&Table_BPU[[#This Row],[BPU Description]]","v":"Thorhild Bison Cow / Calf"},"Thorhild",75,"Bison Cow / Calf",124.23,0.01,0.01,0.01,0.01,0.01]
[{"$f":"Table_BPU[[#This Row],[Risk Area]]&\" \"&Table_BPU[[#This Row],[BPU Description]]","v":"Two Hills Bison Cow / Calf"},"Two Hills",75,"Bison Cow / Calf",124.23,0.01,0.01,0.01,0.01,0.01]
[{"$f":"Table_BPU[[#This Row],[Risk Area]]&\" \"&Table_BPU[[#This Row],[BPU Description]]","v":"Vermilion River Bison Cow / Calf"},"Vermilion River",75,"Bison Cow / Calf",124.23,0.01,0.01,0.01,0.01,0.01]
[{"$f":"Table_BPU[[#This Row],[Risk Area]]&\" \"&Table_BPU[[#This Row],[BPU Description]]","v":"Vulcan Bison Cow / Calf"},"Vulcan",75,"Bison Cow / Calf",124.23,0.01,0.01,0.01,0.01,0.01]
[{"$f":"Table_BPU[[#This Row],[Risk Area]]&\" \"&Table_BPU[[#This Row],[BPU Description]]","v":"Wainwright Bison Cow / Calf"},"Wainwright",75,"Bison Cow / Calf",124.23,0.01,0.01,0.01,0.01,0.01]
[{"$f":"Table_BPU[[#This Row],[Risk Area]]&\" \"&Table_BPU[[#This Row],[BPU Description]]","v":"Warner Bison Cow / Calf"},"Warner",75,"Bison Cow / Calf",124.23,0.01,0.01,0.01,0.01,0.01]
[{"$f":"Table_BPU[[#This Row],[Risk Area]]&\" \"&Table_BPU[[#This Row],[BPU Description]]","v":"Westlock Bison Cow / Calf"},"Westlock",75,"Bison Cow / Calf",124.23,0.01,0.01,0.01,0.01,0.01]
[{"$f":"Table_BPU[[#This Row],[Risk Area]]&\" \"&Table_BPU[[#This Row],[BPU Description]]","v":"Wetaskiwin Bison Cow / Calf"},"Wetaskiwin",75,"Bison Cow / Calf",124.23,0.01,0.01,0.01,0.01,0.01]
[{"$f":"Table_BPU[[#This Row],[Risk Area]]&\" \"&Table_BPU[[#This Row],[BPU Description]]","v":"Wheatland Bison Cow / Calf"},"Wheatland",75,"Bison Cow / Calf",124.23,0.01,0.01,0.01,0.01,0.01]
[{"$f":"Table_BPU[[#This Row],[Risk Area]]&\" \"&Table_BPU[[#This Row],[BPU Description]]","v":"Willow Creek Bison Cow / Calf"},"Willow Creek",75,"Bison Cow / Calf",124.23,0.01,0.01,0.01,0.01,0.01]
[{"$f":"Table_BPU[[#This Row],[Risk Area]]&\" \"&Table_BPU[[#This Row],[BPU Description]]","v":"Wood Buffalo Bison Cow / Calf"},"Wood Buffalo",75,"Bison Cow / Calf",124.23,0.01,0.01,0.01,0.01,0.01]
[{"$f":"Table_BPU[[#This Row],[Risk Area]]&\" \"&Table_BPU[[#This Row],[BPU Description]]","v":"Woodlands Bison Cow / Calf"},"Woodlands",75,"Bison Cow / Calf",124.23,0.01,0.01,0.01,0.01,0.01]
[{"$f":"Table_BPU[[#This Row],[Risk Area]]&\" \"&Table_BPU[[#This Row],[BPU Description]]","v":"Yellowhead Bison Cow / Calf"},"Yellowhead",75,"Bison Cow / Calf",124.23,0.01,0.01,0.01,0.01,0.01]
[{"$f":"Table_BPU[[#This Row],[Risk Area]]&\" \"&Table_BPU[[#This Row],[BPU Description]]","v":"Acadia Bison Feeder"},"Acadia",76,"Bison Feeder",0.01,234.12,111.85,0.01,356.91,0.01]
[{"$f":"Table_BPU[[#This Row],[Risk Area]]&\" \"&Table_BPU[[#This Row],[BPU Description]]","v":"Athabasca Bison Feeder"},"Athabasca",76,"Bison Feeder",0.01,234.12,111.85,0.01,356.91,0.01]
[{"$f":"Table_BPU[[#This Row],[Risk Area]]&\" \"&Table_BPU[[#This Row],[BPU Description]]","v":"Barrhead Bison Feeder"},"Barrhead",76,"Bison Feeder",0.01,234.12,111.85,0.01,356.91,0.01]
[{"$f":"Table_BPU[[#This Row],[Risk Area]]&\" \"&Table_BPU[[#This Row],[BPU Description]]","v":"Beaver Bison Feeder"},"Beaver",76,"Bison Feeder",0.01,234.12,111.85,0.01,356.91,0.01]
[{"$f":"Table_BPU[[#This Row],[Risk Area]]&\" \"&Table_BPU[[#This Row],[BPU Description]]","v":"Big Lakes Bison Feeder"},"Big Lakes",76,"Bison Feeder",0.01,234.12,111.85,0.01,356.91,0.01]
[{"$f":"Table_BPU[[#This Row],[Risk Area]]&\" \"&Table_BPU[[#This Row],[BPU Description]]","v":"Bighorn Bison Feeder"},"Bighorn",76,"Bison Feeder",0.01,234.12,111.85,0.01,356.91,0.01]
[{"$f":"Table_BPU[[#This Row],[Risk Area]]&\" \"&Table_BPU[[#This Row],[BPU Description]]","v":"Birch Hills Bison Feeder"},"Birch Hills",76,"Bison Feeder",0.01,234.12,111.85,0.01,356.91,0.01]
[{"$f":"Table_BPU[[#This Row],[Risk Area]]&\" \"&Table_BPU[[#This Row],[BPU Description]]","v":"Bonnyville Bison Feeder"},"Bonnyville",76,"Bison Feeder",0.01,234.12,111.85,0.01,356.91,0.01]
[{"$f":"Table_BPU[[#This Row],[Risk Area]]&\" \"&Table_BPU[[#This Row],[BPU Description]]","v":"Brazeau Bison Feeder"},"Brazeau",76,"Bison Feeder",0.01,234.12,111.85,0.01,356.91,0.01]
[{"$f":"Table_BPU[[#This Row],[Risk Area]]&\" \"&Table_BPU[[#This Row],[BPU Description]]","v":"Camrose Bison Feeder"},"Camrose",76,"Bison Feeder",0.01,234.12,111.85,0.01,356.91,0.01]
[{"$f":"Table_BPU[[#This Row],[Risk Area]]&\" \"&Table_BPU[[#This Row],[BPU Description]]","v":"Cardston Bison Feeder"},"Cardston",76,"Bison Feeder",0.01,234.12,111.85,0.01,356.91,0.01]
[{"$f":"Table_BPU[[#This Row],[Risk Area]]&\" \"&Table_BPU[[#This Row],[BPU Description]]","v":"Clear Hills Bison Feeder"},"Clear Hills",76,"Bison Feeder",0.01,234.12,111.85,0.01,356.91,0.01]
[{"$f":"Table_BPU[[#This Row],[Risk Area]]&\" \"&Table_BPU[[#This Row],[BPU Description]]","v":"Clearwater Bison Feeder"},"Clearwater",76,"Bison Feeder",0.01,234.12,111.85,0.01,356.91,0.01]
[{"$f":"Table_BPU[[#This Row],[Risk Area]]&\" \"&Table_BPU[[#This Row],[BPU Description]]","v":"Cypress Bison Feeder"},"Cypress",76,"Bison Feeder",0.01,234.12,111.85,0.01,356.91,0.01]
[{"$f":"Table_BPU[[#This Row],[Risk Area]]&\" \"&Table_BPU[[#This Row],[BPU Description]]","v":"Edmonton Bison Feeder"},"Edmonton",76,"Bison Feeder",0.01,234.12,111.85,0.01,356.91,0.01]
[{"$f":"Table_BPU[[#This Row],[Risk Area]]&\" \"&Table_BPU[[#This Row],[BPU Description]]","v":"Fairview Bison Feeder"},"Fairview",76,"Bison Feeder",0.01,234.12,111.85,0.01,356.91,0.01]
[{"$f":"Table_BPU[[#This Row],[Risk Area]]&\" \"&Table_BPU[[#This Row],[BPU Description]]","v":"Flagstaff Bison Feeder"},"Flagstaff",76,"Bison Feeder",0.01,234.12,111.85,0.01,356.91,0.01]
[{"$f":"Table_BPU[[#This Row],[Risk Area]]&\" \"&Table_BPU[[#This Row],[BPU Description]]","v":"Foothills Bison Feeder"},"Foothills",76,"Bison Feeder",0.01,234.12,111.85,0.01,356.91,0.01]
[{"$f":"Table_BPU[[#This Row],[Risk Area]]&\" \"&Table_BPU[[#This Row],[BPU Description]]","v":"Forty Mile Bison Feeder"},"Forty Mile",76,"Bison Feeder",0.01,234.12,111.85,0.01,356.91,0.01]
[{"$f":"Table_BPU[[#This Row],[Risk Area]]&\" \"&Table_BPU[[#This Row],[BPU Description]]","v":"Grande Prairie Bison Feeder"},"Grande Prairie",76,"Bison Feeder",0.01,234.12,111.85,0.01,356.91,0.01]
[{"$f":"Table_BPU[[#This Row],[Risk Area]]&\" \"&Table_BPU[[#This Row],[BPU Description]]","v":"Greenview Bison Feeder"},"Greenview",76,"Bison Feeder",0.01,234.12,111.85,0.01,356.91,0.01]
[{"$f":"Table_BPU[[#This Row],[Risk Area]]&\" \"&Table_BPU[[#This Row],[BPU Description]]","v":"Kneehill Bison Feeder"},"Kneehill",76,"Bison Feeder",0.01,234.12,111.85,0.01,356.91,0.01]
[{"$f":"Table_BPU[[#This Row],[Risk Area]]&\" \"&Table_BPU[[#This Row],[BPU Description]]","v":"Lac La Biche Bison Feeder"},"Lac La Biche",76,"Bison Feeder",0.01,234.12,111.85,0.01,356.91,0.01]
[{"$f":"Table_BPU[[#This Row],[Risk Area]]&\" \"&Table_BPU[[#This Row],[BPU Description]]","v":"Lac Ste. Anne County Bison Feeder"},"Lac Ste. Anne County",76,"Bison Feeder",0.01,234.12,111.85,0.01,356.91,0.01]
[{"$f":"Table_BPU[[#This Row],[Risk Area]]&\" \"&Table_BPU[[#This Row],[BPU Description]]","v":"Lacombe Bison Feeder"},"Lacombe",76,"Bison Feeder",0.01,234.12,111.85,0.01,356.91,0.01]
[{"$f":"Table_BPU[[#This Row],[Risk Area]]&\" \"&Table_BPU[[#This Row],[BPU Description]]","v":"Lamont Bison Feeder"},"Lamont",76,"Bison Feeder",0.01,234.12,111.85,0.01,356.91,0.01]
[{"$f":"Table_BPU[[#This Row],[Risk Area]]&\" \"&Table_BPU[[#This Row],[BPU Description]]","v":"Leduc Bison Feeder"},"Leduc",76,"Bison Feeder",0.01,234.12,111.85,0.01,356.91,0.01]
[{"$f":"Table_BPU[[#This Row],[Risk Area]]&\" \"&Table_BPU[[#This Row],[BPU Description]]","v":"Lesser Slave River Bison Feeder"},"Lesser Slave River",76,"Bison Feeder",0.01,234.12,111.85,0.01,356.91,0.01]
[{"$f":"Table_BPU[[#This Row],[Risk Area]]&\" \"&Table_BPU[[#This Row],[BPU Description]]","v":"Lethbridge Bison Feeder"},"Lethbridge",76,"Bison Feeder",0.01,234.12,111.85,0.01,356.91,0.01]
[{"$f":"Table_BPU[[#This Row],[Risk Area]]&\" \"&Table_BPU[[#This Row],[BPU Description]]","v":"Mackenzie Bison Feeder"},"Mackenzie",76,"Bison Feeder",0.01,234.12,111.85,0.01,356.91,0.01]
[{"$f":"Table_BPU[[#This Row],[Risk Area]]&\" \"&Table_BPU[[#This Row],[BPU Description]]","v":"Minburn Bison Feeder"},"Minburn",76,"Bison Feeder",0.01,234.12,111.85,0.01,356.91,0.01]
[{"$f":"Table_BPU[[#This Row],[Risk Area]]&\" \"&Table_BPU[[#This Row],[BPU Description]]","v":"Mountain View Bison Feeder"},"Mountain View",76,"Bison Feeder",0.01,234.12,111.85,0.01,356.91,0.01]
[{"$f":"Table_BPU[[#This Row],[Risk Area]]&\" \"&Table_BPU[[#This Row],[BPU Description]]","v":"Newell Bison Feeder"},"Newell",76,"Bison Feeder",0.01,234.12,111.85,0.01,356.91,0.01]
[{"$f":"Table_BPU[[#This Row],[Risk Area]]&\" \"&Table_BPU[[#This Row],[BPU Description]]","v":"Northern Lights Bison Feeder"},"Northern Lights",76,"Bison Feeder",0.01,234.12,111.85,0.01,356.91,0.01]
[{"$f":"Table_BPU[[#This Row],[Risk Area]]&\" \"&Table_BPU[[#This Row],[BPU Description]]","v":"Northern Sunrise Bison Feeder"},"Northern Sunrise",76,"Bison Feeder",0.01,234.12,111.85,0.01,356.91,0.01]
[{"$f":"Table_BPU[[#This Row],[Risk Area]]&\" \"&Table_BPU[[#This Row],[BPU Description]]","v":"Opportunity Bison Feeder"},"Opportunity",76,"Bison Feeder",0.01,234.12,111.85,0.01,356.91,0.01]
[{"$f":"Table_BPU[[#This Row],[Risk Area]]&\" \"&Table_BPU[[#This Row],[BPU Description]]","v":"Paintearth Bison Feeder"},"Paintearth",76,"Bison Feeder",0.01,234.12,111.85,0.01,356.91,0.01]
[{"$f":"Table_BPU[[#This Row],[Risk Area]]&\" \"&Table_BPU[[#This Row],[BPU Description]]","v":"Parkland County Bison Feeder"},"Parkland County",76,"Bison Feeder",0.01,234.12,111.85,0.01,356.91,0.01]
[{"$f":"Table_BPU[[#This Row],[Risk Area]]&\" \"&Table_BPU[[#This Row],[BPU Description]]","v":"Peace Bison Feeder"},"Peace",76,"Bison Feeder",0.01,234.12,111.85,0.01,356.91,0.01]
[{"$f":"Table_BPU[[#This Row],[Risk Area]]&\" \"&Table_BPU[[#This Row],[BPU Description]]","v":"Pincher Creek Bison Feeder"},"Pincher Creek",76,"Bison Feeder",0.01,234.12,111.85,0.01,356.91,0.01]
[{"$f":"Table_BPU[[#This Row],[Risk Area]]&\" \"&Table_BPU[[#This Row],[BPU Description]]","v":"Ponoka Bison Feeder"},"Ponoka",76,"Bison Feeder",0.01,234.12,111.85,0.01,356.91,0.01]
[{"$f":"Table_BPU[[#This Row],[Risk Area]]&\" \"&Table_BPU[[#This Row],[BPU Description]]","v":"Provost Bison Feeder"},"Provost",76,"Bison Feeder",0.01,234.12,111.85,0.01,356.91,0.01]
[{"$f":"Table_BPU[[#This Row],[Risk Area]]&\" \"&Table_BPU[[#This Row],[BPU Description]]","v":"Ranchland Bison Feeder"},"Ranchland",76,"Bison Feeder",0.01,234.12,111.85,0.01,356.91,0.01]
[{"$f":"Table_BPU[[#This Row],[Risk Area]]&\" \"&Table_BPU[[#This Row],[BPU Description]]","v":"Red Deer Bison Feeder"},"Red Deer",76,"Bison Feeder",0.01,234.12,111.85,0.01,356.91,0.01]
[{"$f":"Table_BPU[[#This Row],[Risk Area]]&\" \"&Table_BPU[[#This Row],[BPU Description]]","v":"Rocky View Bison Feeder"},"Rocky View",76,"Bison Feeder",0.01,234.12,111.85,0.01,356.91,0.01]
[{"$f":"Table_BPU[[#This Row],[Risk Area]]&\" \"&Table_BPU[[#This Row],[BPU Description]]","v":"Saddle Hills Bison Feeder"},"Saddle Hills",76,"Bison Feeder",0.01,234.12,111.85,0.01,356.91,0.01]
[{"$f":"Table_BPU[[#This Row],[Risk Area]]&\" \"&Table_BPU[[#This Row],[BPU Description]]","v":"Smoky Lake Bison Feeder"},"Smoky Lake",76,"Bison Feeder",0.01,234.12,111.85,0.01,356.91,0.01]
[{"$f":"Table_BPU[[#This Row],[Risk Area]]&\" \"&Table_BPU[[#This Row],[BPU Description]]","v":"Smoky River Bison Feeder"},"Smoky River",76,"Bison Feeder",0.01,234.12,111.85,0.01,356.91,0.01]
[{"$f":"Table_BPU[[#This Row],[Risk Area]]&\" \"&Table_BPU[[#This Row],[BPU Description]]","v":"Special Area 02 Bison Feeder"},"Special Area 02",76,"Bison Feeder",0.01,234.12,111.85,0.01,356.91,0.01]
[{"$f":"Table_BPU[[#This Row],[Risk Area]]&\" \"&Table_BPU[[#This Row],[BPU Description]]","v":"Special Area 03 Bison Feeder"},"Special Area 03",76,"Bison Feeder",0.01,234.12,111.85,0.01,356.91,0.01]
[{"$f":"Table_BPU[[#This Row],[Risk Area]]&\" \"&Table_BPU[[#This Row],[BPU Description]]","v":"Special Area 04 Bison Feeder"},"Special Area 04",76,"Bison Feeder",0.01,234.12,111.85,0.01,356.91,0.01]
[{"$f":"Table_BPU[[#This Row],[Risk Area]]&\" \"&Table_BPU[[#This Row],[BPU Description]]","v":"Spirit River Bison Feeder"},"Spirit River",76,"Bison Feeder",0.01,234.12,111.85,0.01,356.91,0.01]
[{"$f":"Table_BPU[[#This Row],[Risk Area]]&\" \"&Table_BPU[[#This Row],[BPU Description]]","v":"St. Paul Bison Feeder"},"St. Paul",76,"Bison Feeder",0.01,234.12,111.85,0.01,356.91,0.01]
[{"$f":"Table_BPU[[#This Row],[Risk Area]]&\" \"&Table_BPU[[#This Row],[BPU Description]]","v":"Starland Bison Feeder"},"Starland",76,"Bison Feeder",0.01,234.12,111.85,0.01,356.91,0.01]
[{"$f":"Table_BPU[[#This Row],[Risk Area]]&\" \"&Table_BPU[[#This Row],[BPU Description]]","v":"Stettler Bison Feeder"},"Stettler",76,"Bison Feeder",0.01,234.12,111.85,0.01,356.91,0.01]
[{"$f":"Table_BPU[[#This Row],[Risk Area]]&\" \"&Table_BPU[[#This Row],[BPU Description]]","v":"Strathcona County Bison Feeder"},"Strathcona County",76,"Bison Feeder",0.01,234.12,111.85,0.01,356.91,0.01]
[{"$f":"Table_BPU[[#This Row],[Risk Area]]&\" \"&Table_BPU[[#This Row],[BPU Description]]","v":"Sturgeon Bison Feeder"},"Sturgeon",76,"Bison Feeder",0.01,234.12,111.85,0.01,356.91,0.01]
[{"$f":"Table_BPU[[#This Row],[Risk Area]]&\" \"&Table_BPU[[#This Row],[BPU Description]]","v":"Taber Bison Feeder"},"Taber",76,"Bison Feeder",0.01,234.12,111.85,0.01,356.91,0.01]
[{"$f":"Table_BPU[[#This Row],[Risk Area]]&\" \"&Table_BPU[[#This Row],[BPU Description]]","v":"Thorhild Bison Feeder"},"Thorhild",76,"Bison Feeder",0.01,234.12,111.85,0.01,356.91,0.01]
[{"$f":"Table_BPU[[#This Row],[Risk Area]]&\" \"&Table_BPU[[#This Row],[BPU Description]]","v":"Two Hills Bison Feeder"},"Two Hills",76,"Bison Feeder",0.01,234.12,111.85,0.01,356.91,0.01]
[{"$f":"Table_BPU[[#This Row],[Risk Area]]&\" \"&Table_BPU[[#This Row],[BPU Description]]","v":"Vermilion River Bison Feeder"},"Vermilion River",76,"Bison Feeder",0.01,234.12,111.85,0.01,356.91,0.01]
[{"$f":"Table_BPU[[#This Row],[Risk Area]]&\" \"&Table_BPU[[#This Row],[BPU Description]]","v":"Vulcan Bison Feeder"},"Vulcan",76,"Bison Feeder",0.01,234.12,111.85,0.01,356.91,0.01]
[{"$f":"Table_BPU[[#This Row],[Risk Area]]&\" \"&Table_BPU[[#This Row],[BPU Description]]","v":"Wainwright Bison Feeder"},"Wainwright",76,"Bison Feeder",0.01,234.12,111.85,0.01,356.91,0.01]
[{"$f":"Table_BPU[[#This Row],[Risk Area]]&\" \"&Table_BPU[[#This Row],[BPU Description]]","v":"Warner Bison Feeder"},"Warner",76,"Bison Feeder",0.01,234.12,111.85,0.01,356.91,0.01]
[{"$f":"Table_BPU[[#This Row],[Risk Area]]&\" \"&Table_BPU[[#This Row],[BPU Description]]","v":"Westlock Bison Feeder"},"Westlock",76,"Bison Feeder",0.01,234.12,111.85,0.01,356.91,0.01]
[{"$f":"Table_BPU[[#This Row],[Risk Area]]&\" \"&Table_BPU[[#This Row],[BPU Description]]","v":"Wetaskiwin Bison Feeder"},"Wetaskiwin",76,"Bison Feeder",0.01,234.12,111.85,0.01,356.91,0.01]
[{"$f":"Table_BPU[[#This Row],[Risk Area]]&\" \"&Table_BPU[[#This Row],[BPU Description]]","v":"Wheatland Bison Feeder"},"Wheatland",76,"Bison Feeder",0.01,234.12,111.85,0.01,356.91,0.01]
[{"$f":"Table_BPU[[#This Row],[Risk Area]]&\" \"&Table_BPU[[#This Row],[BPU Description]]","v":"Willow Creek Bison Feeder"},"Willow Creek",76,"Bison Feeder",0.01,234.12,111.85,0.01,356.91,0.01]
[{"$f":"Table_BPU[[#This Row],[Risk Area]]&\" \"&Table_BPU[[#This Row],[BPU Description]]","v":"Wood Buffalo Bison Feeder"},"Wood Buffalo",76,"Bison Feeder",0.01,234.12,111.85,0.01,356.91,0.01]
[{"$f":"Table_BPU[[#This Row],[Risk Area]]&\" \"&Table_BPU[[#This Row],[BPU Description]]","v":"Woodlands Bison Feeder"},"Woodlands",76,"Bison Feeder",0.01,234.12,111.85,0.01,356.91,0.01]
[{"$f":"Table_BPU[[#This Row],[Risk Area]]&\" \"&Table_BPU[[#This Row],[BPU Description]]","v":"Yellowhead Bison Feeder"},"Yellowhead",76,"Bison Feeder",0.01,234.12,111.85,0.01,356.91,0.01]
[{"$f":"Table_BPU[[#This Row],[Risk Area]]&\" \"&Table_BPU[[#This Row],[BPU Description]]","v":"Acadia Canary Seed"},"Acadia",38,"Canary Seed",260.33,349.69,83.97,467.29,258.35000000000002,213.93]
[{"$f":"Table_BPU[[#This Row],[Risk Area]]&\" \"&Table_BPU[[#This Row],[BPU Description]]","v":"Athabasca Canary Seed"},"Athabasca",38,"Canary Seed",260.33,349.69,83.97,467.29,258.35000000000002,213.93]
[{"$f":"Table_BPU[[#This Row],[Risk Area]]&\" \"&Table_BPU[[#This Row],[BPU Description]]","v":"Barrhead Canary Seed"},"Barrhead",38,"Canary Seed",260.33,349.69,83.97,467.29,258.35000000000002,213.93]
[{"$f":"Table_BPU[[#This Row],[Risk Area]]&\" \"&Table_BPU[[#This Row],[BPU Description]]","v":"Beaver Canary Seed"},"Beaver",38,"Canary Seed",260.33,349.69,83.97,467.29,258.35000000000002,213.93]
[{"$f":"Table_BPU[[#This Row],[Risk Area]]&\" \"&Table_BPU[[#This Row],[BPU Description]]","v":"Big Lakes Canary Seed"},"Big Lakes",38,"Canary Seed",260.33,349.69,83.97,467.29,258.35000000000002,213.93]
[{"$f":"Table_BPU[[#This Row],[Risk Area]]&\" \"&Table_BPU[[#This Row],[BPU Description]]","v":"Bighorn Canary Seed"},"Bighorn",38,"Canary Seed",260.33,349.69,83.97,467.29,258.35000000000002,213.93]
[{"$f":"Table_BPU[[#This Row],[Risk Area]]&\" \"&Table_BPU[[#This Row],[BPU Description]]","v":"Birch Hills Canary Seed"},"Birch Hills",38,"Canary Seed",260.33,349.69,83.97,467.29,258.35000000000002,213.93]
[{"$f":"Table_BPU[[#This Row],[Risk Area]]&\" \"&Table_BPU[[#This Row],[BPU Description]]","v":"Bonnyville Canary Seed"},"Bonnyville",38,"Canary Seed",260.33,349.69,83.97,467.29,258.35000000000002,213.93]
[{"$f":"Table_BPU[[#This Row],[Risk Area]]&\" \"&Table_BPU[[#This Row],[BPU Description]]","v":"Brazeau Canary Seed"},"Brazeau",38,"Canary Seed",260.33,349.69,83.97,467.29,258.35000000000002,213.93]
[{"$f":"Table_BPU[[#This Row],[Risk Area]]&\" \"&Table_BPU[[#This Row],[BPU Description]]","v":"Camrose Canary Seed"},"Camrose",38,"Canary Seed",260.33,349.69,83.97,467.29,258.35000000000002,213.93]
[{"$f":"Table_BPU[[#This Row],[Risk Area]]&\" \"&Table_BPU[[#This Row],[BPU Description]]","v":"Cardston Canary Seed"},"Cardston",38,"Canary Seed",260.33,349.69,83.97,467.29,258.35000000000002,213.93]
[{"$f":"Table_BPU[[#This Row],[Risk Area]]&\" \"&Table_BPU[[#This Row],[BPU Description]]","v":"Clear Hills Canary Seed"},"Clear Hills",38,"Canary Seed",260.33,349.69,83.97,467.29,258.35000000000002,213.93]
[{"$f":"Table_BPU[[#This Row],[Risk Area]]&\" \"&Table_BPU[[#This Row],[BPU Description]]","v":"Clearwater Canary Seed"},"Clearwater",38,"Canary Seed",260.33,349.69,83.97,467.29,258.35000000000002,213.93]
[{"$f":"Table_BPU[[#This Row],[Risk Area]]&\" \"&Table_BPU[[#This Row],[BPU Description]]","v":"Cypress Canary Seed"},"Cypress",38,"Canary Seed",260.33,349.69,83.97,467.29,258.35000000000002,213.93]
[{"$f":"Table_BPU[[#This Row],[Risk Area]]&\" \"&Table_BPU[[#This Row],[BPU Description]]","v":"Edmonton Canary Seed"},"Edmonton",38,"Canary Seed",260.33,349.69,83.97,467.29,258.35000000000002,213.93]
[{"$f":"Table_BPU[[#This Row],[Risk Area]]&\" \"&Table_BPU[[#This Row],[BPU Description]]","v":"Fairview Canary Seed"},"Fairview",38,"Canary Seed",260.33,349.69,83.97,467.29,258.35000000000002,213.93]
[{"$f":"Table_BPU[[#This Row],[Risk Area]]&\" \"&Table_BPU[[#This Row],[BPU Description]]","v":"Flagstaff Canary Seed"},"Flagstaff",38,"Canary Seed",260.33,349.69,83.97,467.29,258.35000000000002,213.93]
[{"$f":"Table_BPU[[#This Row],[Risk Area]]&\" \"&Table_BPU[[#This Row],[BPU Description]]","v":"Foothills Canary Seed"},"Foothills",38,"Canary Seed",260.33,349.69,83.97,467.29,258.35000000000002,213.93]
[{"$f":"Table_BPU[[#This Row],[Risk Area]]&\" \"&Table_BPU[[#This Row],[BPU Description]]","v":"Forty Mile Canary Seed"},"Forty Mile",38,"Canary Seed",260.33,349.69,83.97,467.29,258.35000000000002,213.93]
[{"$f":"Table_BPU[[#This Row],[Risk Area]]&\" \"&Table_BPU[[#This Row],[BPU Description]]","v":"Grande Prairie Canary Seed"},"Grande Prairie",38,"Canary Seed",260.33,349.69,83.97,467.29,258.35000000000002,213.93]
[{"$f":"Table_BPU[[#This Row],[Risk Area]]&\" \"&Table_BPU[[#This Row],[BPU Description]]","v":"Greenview Canary Seed"},"Greenview",38,"Canary Seed",260.33,349.69,83.97,467.29,258.35000000000002,213.93]
[{"$f":"Table_BPU[[#This Row],[Risk Area]]&\" \"&Table_BPU[[#This Row],[BPU Description]]","v":"Kneehill Canary Seed"},"Kneehill",38,"Canary Seed",260.33,349.69,83.97,467.29,258.35000000000002,213.93]
[{"$f":"Table_BPU[[#This Row],[Risk Area]]&\" \"&Table_BPU[[#This Row],[BPU Description]]","v":"Lac La Biche Canary Seed"},"Lac La Biche",38,"Canary Seed",260.33,349.69,83.97,467.29,258.35000000000002,213.93]
[{"$f":"Table_BPU[[#This Row],[Risk Area]]&\" \"&Table_BPU[[#This Row],[BPU Description]]","v":"Lac Ste. Anne County Canary Seed"},"Lac Ste. Anne County",38,"Canary Seed",260.33,349.69,83.97,467.29,258.35000000000002,213.93]
[{"$f":"Table_BPU[[#This Row],[Risk Area]]&\" \"&Table_BPU[[#This Row],[BPU Description]]","v":"Lacombe Canary Seed"},"Lacombe",38,"Canary Seed",260.33,349.69,83.97,467.29,258.35000000000002,213.93]
[{"$f":"Table_BPU[[#This Row],[Risk Area]]&\" \"&Table_BPU[[#This Row],[BPU Description]]","v":"Lamont Canary Seed"},"Lamont",38,"Canary Seed",260.33,349.69,83.97,467.29,258.35000000000002,213.93]
[{"$f":"Table_BPU[[#This Row],[Risk Area]]&\" \"&Table_BPU[[#This Row],[BPU Description]]","v":"Leduc Canary Seed"},"Leduc",38,"Canary Seed",260.33,349.69,83.97,467.29,258.35000000000002,213.93]
[{"$f":"Table_BPU[[#This Row],[Risk Area]]&\" \"&Table_BPU[[#This Row],[BPU Description]]","v":"Lesser Slave River Canary Seed"},"Lesser Slave River",38,"Canary Seed",260.33,349.69,83.97,467.29,258.35000000000002,213.93]
[{"$f":"Table_BPU[[#This Row],[Risk Area]]&\" \"&Table_BPU[[#This Row],[BPU Description]]","v":"Lethbridge Canary Seed"},"Lethbridge",38,"Canary Seed",260.33,349.69,83.97,467.29,258.35000000000002,213.93]
[{"$f":"Table_BPU[[#This Row],[Risk Area]]&\" \"&Table_BPU[[#This Row],[BPU Description]]","v":"Mackenzie Canary Seed"},"Mackenzie",38,"Canary Seed",260.33,349.69,83.97,467.29,258.35000000000002,213.93]
[{"$f":"Table_BPU[[#This Row],[Risk Area]]&\" \"&Table_BPU[[#This Row],[BPU Description]]","v":"Minburn Canary Seed"},"Minburn",38,"Canary Seed",260.33,349.69,83.97,467.29,258.35000000000002,213.93]
[{"$f":"Table_BPU[[#This Row],[Risk Area]]&\" \"&Table_BPU[[#This Row],[BPU Description]]","v":"Mountain View Canary Seed"},"Mountain View",38,"Canary Seed",260.33,349.69,83.97,467.29,258.35000000000002,213.93]
[{"$f":"Table_BPU[[#This Row],[Risk Area]]&\" \"&Table_BPU[[#This Row],[BPU Description]]","v":"Newell Canary Seed"},"Newell",38,"Canary Seed",260.33,349.69,83.97,467.29,258.35000000000002,213.93]
[{"$f":"Table_BPU[[#This Row],[Risk Area]]&\" \"&Table_BPU[[#This Row],[BPU Description]]","v":"Northern Lights Canary Seed"},"Northern Lights",38,"Canary Seed",260.33,349.69,83.97,467.29,258.35000000000002,213.93]
[{"$f":"Table_BPU[[#This Row],[Risk Area]]&\" \"&Table_BPU[[#This Row],[BPU Description]]","v":"Northern Sunrise Canary Seed"},"Northern Sunrise",38,"Canary Seed",260.33,349.69,83.97,467.29,258.35000000000002,213.93]
[{"$f":"Table_BPU[[#This Row],[Risk Area]]&\" \"&Table_BPU[[#This Row],[BPU Description]]","v":"Opportunity Canary Seed"},"Opportunity",38,"Canary Seed",260.33,349.69,83.97,467.29,258.35000000000002,213.93]
[{"$f":"Table_BPU[[#This Row],[Risk Area]]&\" \"&Table_BPU[[#This Row],[BPU Description]]","v":"Paintearth Canary Seed"},"Paintearth",38,"Canary Seed",260.33,349.69,83.97,467.29,258.35000000000002,213.93]
[{"$f":"Table_BPU[[#This Row],[Risk Area]]&\" \"&Table_BPU[[#This Row],[BPU Description]]","v":"Parkland County Canary Seed"},"Parkland County",38,"Canary Seed",260.33,349.69,83.97,467.29,258.35000000000002,213.93]
[{"$f":"Table_BPU[[#This Row],[Risk Area]]&\" \"&Table_BPU[[#This Row],[BPU Description]]","v":"Peace Canary Seed"},"Peace",38,"Canary Seed",260.33,349.69,83.97,467.29,258.35000000000002,213.93]
[{"$f":"Table_BPU[[#This Row],[Risk Area]]&\" \"&Table_BPU[[#This Row],[BPU Description]]","v":"Pincher Creek Canary Seed"},"Pincher Creek",38,"Canary Seed",260.33,349.69,83.97,467.29,258.35000000000002,213.93]
[{"$f":"Table_BPU[[#This Row],[Risk Area]]&\" \"&Table_BPU[[#This Row],[BPU Description]]","v":"Ponoka Canary Seed"},"Ponoka",38,"Canary Seed",260.33,349.69,83.97,467.29,258.35000000000002,213.93]
[{"$f":"Table_BPU[[#This Row],[Risk Area]]&\" \"&Table_BPU[[#This Row],[BPU Description]]","v":"Provost Canary Seed"},"Provost",38,"Canary Seed",260.33,349.69,83.97,467.29,258.35000000000002,213.93]
[{"$f":"Table_BPU[[#This Row],[Risk Area]]&\" \"&Table_BPU[[#This Row],[BPU Description]]","v":"Ranchland Canary Seed"},"Ranchland",38,"Canary Seed",260.33,349.69,83.97,467.29,258.35000000000002,213.93]
[{"$f":"Table_BPU[[#This Row],[Risk Area]]&\" \"&Table_BPU[[#This Row],[BPU Description]]","v":"Red Deer Canary Seed"},"Red Deer",38,"Canary Seed",260.33,349.69,83.97,467.29,258.35000000000002,213.93]
[{"$f":"Table_BPU[[#This Row],[Risk Area]]&\" \"&Table_BPU[[#This Row],[BPU Description]]","v":"Rocky View Canary Seed"},"Rocky View",38,"Canary Seed",260.33,349.69,83.97,467.29,258.35000000000002,213.93]
[{"$f":"Table_BPU[[#This Row],[Risk Area]]&\" \"&Table_BPU[[#This Row],[BPU Description]]","v":"Saddle Hills Canary Seed"},"Saddle Hills",38,"Canary Seed",260.33,349.69,83.97,467.29,258.35000000000002,213.93]
[{"$f":"Table_BPU[[#This Row],[Risk Area]]&\" \"&Table_BPU[[#This Row],[BPU Description]]","v":"Smoky Lake Canary Seed"},"Smoky Lake",38,"Canary Seed",260.33,349.69,83.97,467.29,258.35000000000002,213.93]
[{"$f":"Table_BPU[[#This Row],[Risk Area]]&\" \"&Table_BPU[[#This Row],[BPU Description]]","v":"Smoky River Canary Seed"},"Smoky River",38,"Canary Seed",260.33,349.69,83.97,467.29,258.35000000000002,213.93]
[{"$f":"Table_BPU[[#This Row],[Risk Area]]&\" \"&Table_BPU[[#This Row],[BPU Description]]","v":"Special Area 02 Canary Seed"},"Special Area 02",38,"Canary Seed",260.33,349.69,83.97,467.29,258.35000000000002,213.93]
[{"$f":"Table_BPU[[#This Row],[Risk Area]]&\" \"&Table_BPU[[#This Row],[BPU Description]]","v":"Special Area 03 Canary Seed"},"Special Area 03",38,"Canary Seed",260.33,349.69,83.97,467.29,258.35000000000002,213.93]
[{"$f":"Table_BPU[[#This Row],[Risk Area]]&\" \"&Table_BPU[[#This Row],[BPU Description]]","v":"Special Area 04 Canary Seed"},"Special Area 04",38,"Canary Seed",260.33,349.69,83.97,467.29,258.35000000000002,213.93]
[{"$f":"Table_BPU[[#This Row],[Risk Area]]&\" \"&Table_BPU[[#This Row],[BPU Description]]","v":"Spirit River Canary Seed"},"Spirit River",38,"Canary Seed",260.33,349.69,83.97,467.29,258.35000000000002,213.93]
[{"$f":"Table_BPU[[#This Row],[Risk Area]]&\" \"&Table_BPU[[#This Row],[BPU Description]]","v":"St. Paul Canary Seed"},"St. Paul",38,"Canary Seed",260.33,349.69,83.97,467.29,258.35000000000002,213.93]
[{"$f":"Table_BPU[[#This Row],[Risk Area]]&\" \"&Table_BPU[[#This Row],[BPU Description]]","v":"Starland Canary Seed"},"Starland",38,"Canary Seed",260.33,349.69,83.97,467.29,258.35000000000002,213.93]
[{"$f":"Table_BPU[[#This Row],[Risk Area]]&\" \"&Table_BPU[[#This Row],[BPU Description]]","v":"Stettler Canary Seed"},"Stettler",38,"Canary Seed",260.33,349.69,83.97,467.29,258.35000000000002,213.93]
[{"$f":"Table_BPU[[#This Row],[Risk Area]]&\" \"&Table_BPU[[#This Row],[BPU Description]]","v":"Strathcona County Canary Seed"},"Strathcona County",38,"Canary Seed",260.33,349.69,83.97,467.29,258.35000000000002,213.93]
[{"$f":"Table_BPU[[#This Row],[Risk Area]]&\" \"&Table_BPU[[#This Row],[BPU Description]]","v":"Sturgeon Canary Seed"},"Sturgeon",38,"Canary Seed",260.33,349.69,83.97,467.29,258.35000000000002,213.93]
[{"$f":"Table_BPU[[#This Row],[Risk Area]]&\" \"&Table_BPU[[#This Row],[BPU Description]]","v":"Taber Canary Seed"},"Taber",38,"Canary Seed",260.33,349.69,83.97,467.29,258.35000000000002,213.93]
[{"$f":"Table_BPU[[#This Row],[Risk Area]]&\" \"&Table_BPU[[#This Row],[BPU Description]]","v":"Thorhild Canary Seed"},"Thorhild",38,"Canary Seed",260.33,349.69,83.97,467.29,258.35000000000002,213.93]
[{"$f":"Table_BPU[[#This Row],[Risk Area]]&\" \"&Table_BPU[[#This Row],[BPU Description]]","v":"Two Hills Canary Seed"},"Two Hills",38,"Canary Seed",260.33,349.69,83.97,467.29,258.35000000000002,213.93]
[{"$f":"Table_BPU[[#This Row],[Risk Area]]&\" \"&Table_BPU[[#This Row],[BPU Description]]","v":"Vermilion River Canary Seed"},"Vermilion River",38,"Canary Seed",260.33,349.69,83.97,467.29,258.35000000000002,213.93]
[{"$f":"Table_BPU[[#This Row],[Risk Area]]&\" \"&Table_BPU[[#This Row],[BPU Description]]","v":"Vulcan Canary Seed"},"Vulcan",38,"Canary Seed",260.33,349.69,83.97,467.29,258.35000000000002,213.93]
[{"$f":"Table_BPU[[#This Row],[Risk Area]]&\" \"&Table_BPU[[#This Row],[BPU Description]]","v":"Wainwright Canary Seed"},"Wainwright",38,"Canary Seed",260.33,349.69,83.97,467.29,258.35000000000002,213.93]
[{"$f":"Table_BPU[[#This Row],[Risk Area]]&\" \"&Table_BPU[[#This Row],[BPU Description]]","v":"Warner Canary Seed"},"Warner",38,"Canary Seed",260.33,349.69,83.97,467.29,258.35000000000002,213.93]
[{"$f":"Table_BPU[[#This Row],[Risk Area]]&\" \"&Table_BPU[[#This Row],[BPU Description]]","v":"Westlock Canary Seed"},"Westlock",38,"Canary Seed",260.33,349.69,83.97,467.29,258.35000000000002,213.93]
[{"$f":"Table_BPU[[#This Row],[Risk Area]]&\" \"&Table_BPU[[#This Row],[BPU Description]]","v":"Wetaskiwin Canary Seed"},"Wetaskiwin",38,"Canary Seed",260.33,349.69,83.97,467.29,258.35000000000002,213.93]
[{"$f":"Table_BPU[[#This Row],[Risk Area]]&\" \"&Table_BPU[[#This Row],[BPU Description]]","v":"Wheatland Canary Seed"},"Wheatland",38,"Canary Seed",260.33,349.69,83.97,467.29,258.35000000000002,213.93]
[{"$f":"Table_BPU[[#This Row],[Risk Area]]&\" \"&Table_BPU[[#This Row],[BPU Description]]","v":"Willow Creek Canary Seed"},"Willow Creek",38,"Canary Seed",260.33,349.69,83.97,467.29,258.35000000000002,213.93]
[{"$f":"Table_BPU[[#This Row],[Risk Area]]&\" \"&Table_BPU[[#This Row],[BPU Description]]","v":"Wood Buffalo Canary Seed"},"Wood Buffalo",38,"Canary Seed",260.33,349.69,83.97,467.29,258.35000000000002,213.93]
[{"$f":"Table_BPU[[#This Row],[Risk Area]]&\" \"&Table_BPU[[#This Row],[BPU Description]]","v":"Woodlands Canary Seed"},"Woodlands",38,"Canary Seed",260.33,349.69,83.97,467.29,258.35000000000002,213.93]
[{"$f":"Table_BPU[[#This Row],[Risk Area]]&\" \"&Table_BPU[[#This Row],[BPU Description]]","v":"Yellowhead Canary Seed"},"Yellowhead",38,"Canary Seed",260.33,349.69,83.97,467.29,258.35000000000002,213.93]
[{"$f":"Table_BPU[[#This Row],[Risk Area]]&\" \"&Table_BPU[[#This Row],[BPU Description]]","v":"Acadia Chick Peas - Desi"},"Acadia",39,"Chick Peas - Desi",56.82,297.33,104.68,369.51,204.82,285.27]
[{"$f":"Table_BPU[[#This Row],[Risk Area]]&\" \"&Table_BPU[[#This Row],[BPU Description]]","v":"Athabasca Chick Peas - Desi"},"Athabasca",39,"Chick Peas - Desi",56.82,297.33,104.68,369.51,204.82,285.27]
[{"$f":"Table_BPU[[#This Row],[Risk Area]]&\" \"&Table_BPU[[#This Row],[BPU Description]]","v":"Barrhead Chick Peas - Desi"},"Barrhead",39,"Chick Peas - Desi",56.82,297.33,104.68,369.51,204.82,285.27]
[{"$f":"Table_BPU[[#This Row],[Risk Area]]&\" \"&Table_BPU[[#This Row],[BPU Description]]","v":"Beaver Chick Peas - Desi"},"Beaver",39,"Chick Peas - Desi",56.82,297.33,104.68,369.51,204.82,285.27]
[{"$f":"Table_BPU[[#This Row],[Risk Area]]&\" \"&Table_BPU[[#This Row],[BPU Description]]","v":"Big Lakes Chick Peas - Desi"},"Big Lakes",39,"Chick Peas - Desi",56.82,297.33,104.68,369.51,204.82,285.27]
[{"$f":"Table_BPU[[#This Row],[Risk Area]]&\" \"&Table_BPU[[#This Row],[BPU Description]]","v":"Bighorn Chick Peas - Desi"},"Bighorn",39,"Chick Peas - Desi",56.82,297.33,104.68,369.51,204.82,285.27]
[{"$f":"Table_BPU[[#This Row],[Risk Area]]&\" \"&Table_BPU[[#This Row],[BPU Description]]","v":"Birch Hills Chick Peas - Desi"},"Birch Hills",39,"Chick Peas - Desi",56.82,297.33,104.68,369.51,204.82,285.27]
[{"$f":"Table_BPU[[#This Row],[Risk Area]]&\" \"&Table_BPU[[#This Row],[BPU Description]]","v":"Bonnyville Chick Peas - Desi"},"Bonnyville",39,"Chick Peas - Desi",56.82,297.33,104.68,369.51,204.82,285.27]
[{"$f":"Table_BPU[[#This Row],[Risk Area]]&\" \"&Table_BPU[[#This Row],[BPU Description]]","v":"Brazeau Chick Peas - Desi"},"Brazeau",39,"Chick Peas - Desi",56.82,297.33,104.68,369.51,204.82,285.27]
[{"$f":"Table_BPU[[#This Row],[Risk Area]]&\" \"&Table_BPU[[#This Row],[BPU Description]]","v":"Camrose Chick Peas - Desi"},"Camrose",39,"Chick Peas - Desi",56.82,297.33,104.68,369.51,204.82,285.27]
[{"$f":"Table_BPU[[#This Row],[Risk Area]]&\" \"&Table_BPU[[#This Row],[BPU Description]]","v":"Cardston Chick Peas - Desi"},"Cardston",39,"Chick Peas - Desi",56.82,297.33,104.68,369.51,204.82,285.27]
[{"$f":"Table_BPU[[#This Row],[Risk Area]]&\" \"&Table_BPU[[#This Row],[BPU Description]]","v":"Clear Hills Chick Peas - Desi"},"Clear Hills",39,"Chick Peas - Desi",56.82,297.33,104.68,369.51,204.82,285.27]
[{"$f":"Table_BPU[[#This Row],[Risk Area]]&\" \"&Table_BPU[[#This Row],[BPU Description]]","v":"Clearwater Chick Peas - Desi"},"Clearwater",39,"Chick Peas - Desi",56.82,297.33,104.68,369.51,204.82,285.27]
[{"$f":"Table_BPU[[#This Row],[Risk Area]]&\" \"&Table_BPU[[#This Row],[BPU Description]]","v":"Cypress Chick Peas - Desi"},"Cypress",39,"Chick Peas - Desi",56.82,297.33,104.68,369.51,204.82,285.27]
[{"$f":"Table_BPU[[#This Row],[Risk Area]]&\" \"&Table_BPU[[#This Row],[BPU Description]]","v":"Edmonton Chick Peas - Desi"},"Edmonton",39,"Chick Peas - Desi",56.82,297.33,104.68,369.51,204.82,285.27]
[{"$f":"Table_BPU[[#This Row],[Risk Area]]&\" \"&Table_BPU[[#This Row],[BPU Description]]","v":"Fairview Chick Peas - Desi"},"Fairview",39,"Chick Peas - Desi",56.82,297.33,104.68,369.51,204.82,285.27]
[{"$f":"Table_BPU[[#This Row],[Risk Area]]&\" \"&Table_BPU[[#This Row],[BPU Description]]","v":"Flagstaff Chick Peas - Desi"},"Flagstaff",39,"Chick Peas - Desi",56.82,297.33,104.68,369.51,204.82,285.27]
[{"$f":"Table_BPU[[#This Row],[Risk Area]]&\" \"&Table_BPU[[#This Row],[BPU Description]]","v":"Foothills Chick Peas - Desi"},"Foothills",39,"Chick Peas - Desi",56.82,297.33,104.68,369.51,204.82,285.27]
[{"$f":"Table_BPU[[#This Row],[Risk Area]]&\" \"&Table_BPU[[#This Row],[BPU Description]]","v":"Forty Mile Chick Peas - Desi"},"Forty Mile",39,"Chick Peas - Desi",56.82,297.33,104.68,369.51,204.82,285.27]
[{"$f":"Table_BPU[[#This Row],[Risk Area]]&\" \"&Table_BPU[[#This Row],[BPU Description]]","v":"Grande Prairie Chick Peas - Desi"},"Grande Prairie",39,"Chick Peas - Desi",56.82,297.33,104.68,369.51,204.82,285.27]
[{"$f":"Table_BPU[[#This Row],[Risk Area]]&\" \"&Table_BPU[[#This Row],[BPU Description]]","v":"Greenview Chick Peas - Desi"},"Greenview",39,"Chick Peas - Desi",56.82,297.33,104.68,369.51,204.82,285.27]
[{"$f":"Table_BPU[[#This Row],[Risk Area]]&\" \"&Table_BPU[[#This Row],[BPU Description]]","v":"Kneehill Chick Peas - Desi"},"Kneehill",39,"Chick Peas - Desi",56.82,297.33,104.68,369.51,204.82,285.27]
[{"$f":"Table_BPU[[#This Row],[Risk Area]]&\" \"&Table_BPU[[#This Row],[BPU Description]]","v":"Lac La Biche Chick Peas - Desi"},"Lac La Biche",39,"Chick Peas - Desi",56.82,297.33,104.68,369.51,204.82,285.27]
[{"$f":"Table_BPU[[#This Row],[Risk Area]]&\" \"&Table_BPU[[#This Row],[BPU Description]]","v":"Lac Ste. Anne County Chick Peas - Desi"},"Lac Ste. Anne County",39,"Chick Peas - Desi",56.82,297.33,104.68,369.51,204.82,285.27]
[{"$f":"Table_BPU[[#This Row],[Risk Area]]&\" \"&Table_BPU[[#This Row],[BPU Description]]","v":"Lacombe Chick Peas - Desi"},"Lacombe",39,"Chick Peas - Desi",56.82,297.33,104.68,369.51,204.82,285.27]
[{"$f":"Table_BPU[[#This Row],[Risk Area]]&\" \"&Table_BPU[[#This Row],[BPU Description]]","v":"Lamont Chick Peas - Desi"},"Lamont",39,"Chick Peas - Desi",56.82,297.33,104.68,369.51,204.82,285.27]
[{"$f":"Table_BPU[[#This Row],[Risk Area]]&\" \"&Table_BPU[[#This Row],[BPU Description]]","v":"Leduc Chick Peas - Desi"},"Leduc",39,"Chick Peas - Desi",56.82,297.33,104.68,369.51,204.82,285.27]
[{"$f":"Table_BPU[[#This Row],[Risk Area]]&\" \"&Table_BPU[[#This Row],[BPU Description]]","v":"Lesser Slave River Chick Peas - Desi"},"Lesser Slave River",39,"Chick Peas - Desi",56.82,297.33,104.68,369.51,204.82,285.27]
[{"$f":"Table_BPU[[#This Row],[Risk Area]]&\" \"&Table_BPU[[#This Row],[BPU Description]]","v":"Lethbridge Chick Peas - Desi"},"Lethbridge",39,"Chick Peas - Desi",56.82,297.33,104.68,369.51,204.82,285.27]
[{"$f":"Table_BPU[[#This Row],[Risk Area]]&\" \"&Table_BPU[[#This Row],[BPU Description]]","v":"Mackenzie Chick Peas - Desi"},"Mackenzie",39,"Chick Peas - Desi",56.82,297.33,104.68,369.51,204.82,285.27]
[{"$f":"Table_BPU[[#This Row],[Risk Area]]&\" \"&Table_BPU[[#This Row],[BPU Description]]","v":"Minburn Chick Peas - Desi"},"Minburn",39,"Chick Peas - Desi",56.82,297.33,104.68,369.51,204.82,285.27]
[{"$f":"Table_BPU[[#This Row],[Risk Area]]&\" \"&Table_BPU[[#This Row],[BPU Description]]","v":"Mountain View Chick Peas - Desi"},"Mountain View",39,"Chick Peas - Desi",56.82,297.33,104.68,369.51,204.82,285.27]
[{"$f":"Table_BPU[[#This Row],[Risk Area]]&\" \"&Table_BPU[[#This Row],[BPU Description]]","v":"Newell Chick Peas - Desi"},"Newell",39,"Chick Peas - Desi",56.82,297.33,104.68,369.51,204.82,285.27]
[{"$f":"Table_BPU[[#This Row],[Risk Area]]&\" \"&Table_BPU[[#This Row],[BPU Description]]","v":"Northern Lights Chick Peas - Desi"},"Northern Lights",39,"Chick Peas - Desi",56.82,297.33,104.68,369.51,204.82,285.27]
[{"$f":"Table_BPU[[#This Row],[Risk Area]]&\" \"&Table_BPU[[#This Row],[BPU Description]]","v":"Northern Sunrise Chick Peas - Desi"},"Northern Sunrise",39,"Chick Peas - Desi",56.82,297.33,104.68,369.51,204.82,285.27]
[{"$f":"Table_BPU[[#This Row],[Risk Area]]&\" \"&Table_BPU[[#This Row],[BPU Description]]","v":"Opportunity Chick Peas - Desi"},"Opportunity",39,"Chick Peas - Desi",56.82,297.33,104.68,369.51,204.82,285.27]
[{"$f":"Table_BPU[[#This Row],[Risk Area]]&\" \"&Table_BPU[[#This Row],[BPU Description]]","v":"Paintearth Chick Peas - Desi"},"Paintearth",39,"Chick Peas - Desi",56.82,297.33,104.68,369.51,204.82,285.27]
[{"$f":"Table_BPU[[#This Row],[Risk Area]]&\" \"&Table_BPU[[#This Row],[BPU Description]]","v":"Parkland County Chick Peas - Desi"},"Parkland County",39,"Chick Peas - Desi",56.82,297.33,104.68,369.51,204.82,285.27]
[{"$f":"Table_BPU[[#This Row],[Risk Area]]&\" \"&Table_BPU[[#This Row],[BPU Description]]","v":"Peace Chick Peas - Desi"},"Peace",39,"Chick Peas - Desi",56.82,297.33,104.68,369.51,204.82,285.27]
[{"$f":"Table_BPU[[#This Row],[Risk Area]]&\" \"&Table_BPU[[#This Row],[BPU Description]]","v":"Pincher Creek Chick Peas - Desi"},"Pincher Creek",39,"Chick Peas - Desi",56.82,297.33,104.68,369.51,204.82,285.27]
[{"$f":"Table_BPU[[#This Row],[Risk Area]]&\" \"&Table_BPU[[#This Row],[BPU Description]]","v":"Ponoka Chick Peas - Desi"},"Ponoka",39,"Chick Peas - Desi",56.82,297.33,104.68,369.51,204.82,285.27]
[{"$f":"Table_BPU[[#This Row],[Risk Area]]&\" \"&Table_BPU[[#This Row],[BPU Description]]","v":"Provost Chick Peas - Desi"},"Provost",39,"Chick Peas - Desi",56.82,297.33,104.68,369.51,204.82,285.27]
[{"$f":"Table_BPU[[#This Row],[Risk Area]]&\" \"&Table_BPU[[#This Row],[BPU Description]]","v":"Ranchland Chick Peas - Desi"},"Ranchland",39,"Chick Peas - Desi",56.82,297.33,104.68,369.51,204.82,285.27]
[{"$f":"Table_BPU[[#This Row],[Risk Area]]&\" \"&Table_BPU[[#This Row],[BPU Description]]","v":"Red Deer Chick Peas - Desi"},"Red Deer",39,"Chick Peas - Desi",56.82,297.33,104.68,369.51,204.82,285.27]
[{"$f":"Table_BPU[[#This Row],[Risk Area]]&\" \"&Table_BPU[[#This Row],[BPU Description]]","v":"Rocky View Chick Peas - Desi"},"Rocky View",39,"Chick Peas - Desi",56.82,297.33,104.68,369.51,204.82,285.27]
[{"$f":"Table_BPU[[#This Row],[Risk Area]]&\" \"&Table_BPU[[#This Row],[BPU Description]]","v":"Saddle Hills Chick Peas - Desi"},"Saddle Hills",39,"Chick Peas - Desi",56.82,297.33,104.68,369.51,204.82,285.27]
[{"$f":"Table_BPU[[#This Row],[Risk Area]]&\" \"&Table_BPU[[#This Row],[BPU Description]]","v":"Smoky Lake Chick Peas - Desi"},"Smoky Lake",39,"Chick Peas - Desi",56.82,297.33,104.68,369.51,204.82,285.27]
[{"$f":"Table_BPU[[#This Row],[Risk Area]]&\" \"&Table_BPU[[#This Row],[BPU Description]]","v":"Smoky River Chick Peas - Desi"},"Smoky River",39,"Chick Peas - Desi",56.82,297.33,104.68,369.51,204.82,285.27]
[{"$f":"Table_BPU[[#This Row],[Risk Area]]&\" \"&Table_BPU[[#This Row],[BPU Description]]","v":"Special Area 02 Chick Peas - Desi"},"Special Area 02",39,"Chick Peas - Desi",56.82,297.33,104.68,369.51,204.82,285.27]
[{"$f":"Table_BPU[[#This Row],[Risk Area]]&\" \"&Table_BPU[[#This Row],[BPU Description]]","v":"Special Area 03 Chick Peas - Desi"},"Special Area 03",39,"Chick Peas - Desi",56.82,297.33,104.68,369.51,204.82,285.27]
[{"$f":"Table_BPU[[#This Row],[Risk Area]]&\" \"&Table_BPU[[#This Row],[BPU Description]]","v":"Special Area 04 Chick Peas - Desi"},"Special Area 04",39,"Chick Peas - Desi",56.82,297.33,104.68,369.51,204.82,285.27]
[{"$f":"Table_BPU[[#This Row],[Risk Area]]&\" \"&Table_BPU[[#This Row],[BPU Description]]","v":"Spirit River Chick Peas - Desi"},"Spirit River",39,"Chick Peas - Desi",56.82,297.33,104.68,369.51,204.82,285.27]
[{"$f":"Table_BPU[[#This Row],[Risk Area]]&\" \"&Table_BPU[[#This Row],[BPU Description]]","v":"St. Paul Chick Peas - Desi"},"St. Paul",39,"Chick Peas - Desi",56.82,297.33,104.68,369.51,204.82,285.27]
[{"$f":"Table_BPU[[#This Row],[Risk Area]]&\" \"&Table_BPU[[#This Row],[BPU Description]]","v":"Starland Chick Peas - Desi"},"Starland",39,"Chick Peas - Desi",56.82,297.33,104.68,369.51,204.82,285.27]
[{"$f":"Table_BPU[[#This Row],[Risk Area]]&\" \"&Table_BPU[[#This Row],[BPU Description]]","v":"Stettler Chick Peas - Desi"},"Stettler",39,"Chick Peas - Desi",56.82,297.33,104.68,369.51,204.82,285.27]
[{"$f":"Table_BPU[[#This Row],[Risk Area]]&\" \"&Table_BPU[[#This Row],[BPU Description]]","v":"Strathcona County Chick Peas - Desi"},"Strathcona County",39,"Chick Peas - Desi",56.82,297.33,104.68,369.51,204.82,285.27]
[{"$f":"Table_BPU[[#This Row],[Risk Area]]&\" \"&Table_BPU[[#This Row],[BPU Description]]","v":"Sturgeon Chick Peas - Desi"},"Sturgeon",39,"Chick Peas - Desi",56.82,297.33,104.68,369.51,204.82,285.27]
[{"$f":"Table_BPU[[#This Row],[Risk Area]]&\" \"&Table_BPU[[#This Row],[BPU Description]]","v":"Taber Chick Peas - Desi"},"Taber",39,"Chick Peas - Desi",56.82,297.33,104.68,369.51,204.82,285.27]
[{"$f":"Table_BPU[[#This Row],[Risk Area]]&\" \"&Table_BPU[[#This Row],[BPU Description]]","v":"Thorhild Chick Peas - Desi"},"Thorhild",39,"Chick Peas - Desi",56.82,297.33,104.68,369.51,204.82,285.27]
[{"$f":"Table_BPU[[#This Row],[Risk Area]]&\" \"&Table_BPU[[#This Row],[BPU Description]]","v":"Two Hills Chick Peas - Desi"},"Two Hills",39,"Chick Peas - Desi",56.82,297.33,104.68,369.51,204.82,285.27]
[{"$f":"Table_BPU[[#This Row],[Risk Area]]&\" \"&Table_BPU[[#This Row],[BPU Description]]","v":"Vermilion River Chick Peas - Desi"},"Vermilion River",39,"Chick Peas - Desi",56.82,297.33,104.68,369.51,204.82,285.27]
[{"$f":"Table_BPU[[#This Row],[Risk Area]]&\" \"&Table_BPU[[#This Row],[BPU Description]]","v":"Vulcan Chick Peas - Desi"},"Vulcan",39,"Chick Peas - Desi",56.82,297.33,104.68,369.51,204.82,285.27]
[{"$f":"Table_BPU[[#This Row],[Risk Area]]&\" \"&Table_BPU[[#This Row],[BPU Description]]","v":"Wainwright Chick Peas - Desi"},"Wainwright",39,"Chick Peas - Desi",56.82,297.33,104.68,369.51,204.82,285.27]
[{"$f":"Table_BPU[[#This Row],[Risk Area]]&\" \"&Table_BPU[[#This Row],[BPU Description]]","v":"Warner Chick Peas - Desi"},"Warner",39,"Chick Peas - Desi",56.82,297.33,104.68,369.51,204.82,285.27]
[{"$f":"Table_BPU[[#This Row],[Risk Area]]&\" \"&Table_BPU[[#This Row],[BPU Description]]","v":"Westlock Chick Peas - Desi"},"Westlock",39,"Chick Peas - Desi",56.82,297.33,104.68,369.51,204.82,285.27]
[{"$f":"Table_BPU[[#This Row],[Risk Area]]&\" \"&Table_BPU[[#This Row],[BPU Description]]","v":"Wetaskiwin Chick Peas - Desi"},"Wetaskiwin",39,"Chick Peas - Desi",56.82,297.33,104.68,369.51,204.82,285.27]
[{"$f":"Table_BPU[[#This Row],[Risk Area]]&\" \"&Table_BPU[[#This Row],[BPU Description]]","v":"Wheatland Chick Peas - Desi"},"Wheatland",39,"Chick Peas - Desi",56.82,297.33,104.68,369.51,204.82,285.27]
[{"$f":"Table_BPU[[#This Row],[Risk Area]]&\" \"&Table_BPU[[#This Row],[BPU Description]]","v":"Willow Creek Chick Peas - Desi"},"Willow Creek",39,"Chick Peas - Desi",56.82,297.33,104.68,369.51,204.82,285.27]
[{"$f":"Table_BPU[[#This Row],[Risk Area]]&\" \"&Table_BPU[[#This Row],[BPU Description]]","v":"Wood Buffalo Chick Peas - Desi"},"Wood Buffalo",39,"Chick Peas - Desi",56.82,297.33,104.68,369.51,204.82,285.27]
[{"$f":"Table_BPU[[#This Row],[Risk Area]]&\" \"&Table_BPU[[#This Row],[BPU Description]]","v":"Woodlands Chick Peas - Desi"},"Woodlands",39,"Chick Peas - Desi",56.82,297.33,104.68,369.51,204.82,285.27]
[{"$f":"Table_BPU[[#This Row],[Risk Area]]&\" \"&Table_BPU[[#This Row],[BPU Description]]","v":"Yellowhead Chick Peas - Desi"},"Yellowhead",39,"Chick Peas - Desi",56.82,297.33,104.68,369.51,204.82,285.27]
[{"$f":"Table_BPU[[#This Row],[Risk Area]]&\" \"&Table_BPU[[#This Row],[BPU Description]]","v":"Acadia Chick Peas - Kabuli"},"Acadia",40,"Chick Peas - Kabuli",49.93,321.58999999999997,149.63999999999999,362.89,278.99,449.15]
[{"$f":"Table_BPU[[#This Row],[Risk Area]]&\" \"&Table_BPU[[#This Row],[BPU Description]]","v":"Athabasca Chick Peas - Kabuli"},"Athabasca",40,"Chick Peas - Kabuli",49.93,321.58999999999997,149.63999999999999,362.89,278.99,449.15]
[{"$f":"Table_BPU[[#This Row],[Risk Area]]&\" \"&Table_BPU[[#This Row],[BPU Description]]","v":"Barrhead Chick Peas - Kabuli"},"Barrhead",40,"Chick Peas - Kabuli",49.93,321.58999999999997,149.63999999999999,362.89,278.99,449.15]
[{"$f":"Table_BPU[[#This Row],[Risk Area]]&\" \"&Table_BPU[[#This Row],[BPU Description]]","v":"Beaver Chick Peas - Kabuli"},"Beaver",40,"Chick Peas - Kabuli",49.93,321.58999999999997,149.63999999999999,362.89,278.99,449.15]
[{"$f":"Table_BPU[[#This Row],[Risk Area]]&\" \"&Table_BPU[[#This Row],[BPU Description]]","v":"Big Lakes Chick Peas - Kabuli"},"Big Lakes",40,"Chick Peas - Kabuli",49.93,321.58999999999997,149.63999999999999,362.89,278.99,449.15]
[{"$f":"Table_BPU[[#This Row],[Risk Area]]&\" \"&Table_BPU[[#This Row],[BPU Description]]","v":"Bighorn Chick Peas - Kabuli"},"Bighorn",40,"Chick Peas - Kabuli",49.93,321.58999999999997,149.63999999999999,362.89,278.99,449.15]
[{"$f":"Table_BPU[[#This Row],[Risk Area]]&\" \"&Table_BPU[[#This Row],[BPU Description]]","v":"Birch Hills Chick Peas - Kabuli"},"Birch Hills",40,"Chick Peas - Kabuli",49.93,321.58999999999997,149.63999999999999,362.89,278.99,449.15]
[{"$f":"Table_BPU[[#This Row],[Risk Area]]&\" \"&Table_BPU[[#This Row],[BPU Description]]","v":"Bonnyville Chick Peas - Kabuli"},"Bonnyville",40,"Chick Peas - Kabuli",49.93,321.58999999999997,149.63999999999999,362.89,278.99,449.15]
[{"$f":"Table_BPU[[#This Row],[Risk Area]]&\" \"&Table_BPU[[#This Row],[BPU Description]]","v":"Brazeau Chick Peas - Kabuli"},"Brazeau",40,"Chick Peas - Kabuli",49.93,321.58999999999997,149.63999999999999,362.89,278.99,449.15]
[{"$f":"Table_BPU[[#This Row],[Risk Area]]&\" \"&Table_BPU[[#This Row],[BPU Description]]","v":"Camrose Chick Peas - Kabuli"},"Camrose",40,"Chick Peas - Kabuli",49.93,321.58999999999997,149.63999999999999,362.89,278.99,449.15]
[{"$f":"Table_BPU[[#This Row],[Risk Area]]&\" \"&Table_BPU[[#This Row],[BPU Description]]","v":"Cardston Chick Peas - Kabuli"},"Cardston",40,"Chick Peas - Kabuli",49.93,321.58999999999997,149.63999999999999,362.89,278.99,449.15]
[{"$f":"Table_BPU[[#This Row],[Risk Area]]&\" \"&Table_BPU[[#This Row],[BPU Description]]","v":"Clear Hills Chick Peas - Kabuli"},"Clear Hills",40,"Chick Peas - Kabuli",49.93,321.58999999999997,149.63999999999999,362.89,278.99,449.15]
[{"$f":"Table_BPU[[#This Row],[Risk Area]]&\" \"&Table_BPU[[#This Row],[BPU Description]]","v":"Clearwater Chick Peas - Kabuli"},"Clearwater",40,"Chick Peas - Kabuli",49.93,321.58999999999997,149.63999999999999,362.89,278.99,449.15]
[{"$f":"Table_BPU[[#This Row],[Risk Area]]&\" \"&Table_BPU[[#This Row],[BPU Description]]","v":"Cypress Chick Peas - Kabuli"},"Cypress",40,"Chick Peas - Kabuli",49.93,321.58999999999997,149.63999999999999,362.89,278.99,449.15]
[{"$f":"Table_BPU[[#This Row],[Risk Area]]&\" \"&Table_BPU[[#This Row],[BPU Description]]","v":"Edmonton Chick Peas - Kabuli"},"Edmonton",40,"Chick Peas - Kabuli",49.93,321.58999999999997,149.63999999999999,362.89,278.99,449.15]
[{"$f":"Table_BPU[[#This Row],[Risk Area]]&\" \"&Table_BPU[[#This Row],[BPU Description]]","v":"Fairview Chick Peas - Kabuli"},"Fairview",40,"Chick Peas - Kabuli",49.93,321.58999999999997,149.63999999999999,362.89,278.99,449.15]
[{"$f":"Table_BPU[[#This Row],[Risk Area]]&\" \"&Table_BPU[[#This Row],[BPU Description]]","v":"Flagstaff Chick Peas - Kabuli"},"Flagstaff",40,"Chick Peas - Kabuli",49.93,321.58999999999997,149.63999999999999,362.89,278.99,449.15]
[{"$f":"Table_BPU[[#This Row],[Risk Area]]&\" \"&Table_BPU[[#This Row],[BPU Description]]","v":"Foothills Chick Peas - Kabuli"},"Foothills",40,"Chick Peas - Kabuli",49.93,321.58999999999997,149.63999999999999,362.89,278.99,449.15]
[{"$f":"Table_BPU[[#This Row],[Risk Area]]&\" \"&Table_BPU[[#This Row],[BPU Description]]","v":"Forty Mile Chick Peas - Kabuli"},"Forty Mile",40,"Chick Peas - Kabuli",49.93,321.58999999999997,149.63999999999999,362.89,278.99,449.15]
[{"$f":"Table_BPU[[#This Row],[Risk Area]]&\" \"&Table_BPU[[#This Row],[BPU Description]]","v":"Grande Prairie Chick Peas - Kabuli"},"Grande Prairie",40,"Chick Peas - Kabuli",49.93,321.58999999999997,149.63999999999999,362.89,278.99,449.15]
[{"$f":"Table_BPU[[#This Row],[Risk Area]]&\" \"&Table_BPU[[#This Row],[BPU Description]]","v":"Greenview Chick Peas - Kabuli"},"Greenview",40,"Chick Peas - Kabuli",49.93,321.58999999999997,149.63999999999999,362.89,278.99,449.15]
[{"$f":"Table_BPU[[#This Row],[Risk Area]]&\" \"&Table_BPU[[#This Row],[BPU Description]]","v":"Kneehill Chick Peas - Kabuli"},"Kneehill",40,"Chick Peas - Kabuli",49.93,321.58999999999997,149.63999999999999,362.89,278.99,449.15]
[{"$f":"Table_BPU[[#This Row],[Risk Area]]&\" \"&Table_BPU[[#This Row],[BPU Description]]","v":"Lac La Biche Chick Peas - Kabuli"},"Lac La Biche",40,"Chick Peas - Kabuli",49.93,321.58999999999997,149.63999999999999,362.89,278.99,449.15]
[{"$f":"Table_BPU[[#This Row],[Risk Area]]&\" \"&Table_BPU[[#This Row],[BPU Description]]","v":"Lac Ste. Anne County Chick Peas - Kabuli"},"Lac Ste. Anne County",40,"Chick Peas - Kabuli",49.93,321.58999999999997,149.63999999999999,362.89,278.99,449.15]
[{"$f":"Table_BPU[[#This Row],[Risk Area]]&\" \"&Table_BPU[[#This Row],[BPU Description]]","v":"Lacombe Chick Peas - Kabuli"},"Lacombe",40,"Chick Peas - Kabuli",49.93,321.58999999999997,149.63999999999999,362.89,278.99,449.15]
[{"$f":"Table_BPU[[#This Row],[Risk Area]]&\" \"&Table_BPU[[#This Row],[BPU Description]]","v":"Lamont Chick Peas - Kabuli"},"Lamont",40,"Chick Peas - Kabuli",49.93,321.58999999999997,149.63999999999999,362.89,278.99,449.15]
[{"$f":"Table_BPU[[#This Row],[Risk Area]]&\" \"&Table_BPU[[#This Row],[BPU Description]]","v":"Leduc Chick Peas - Kabuli"},"Leduc",40,"Chick Peas - Kabuli",49.93,321.58999999999997,149.63999999999999,362.89,278.99,449.15]
[{"$f":"Table_BPU[[#This Row],[Risk Area]]&\" \"&Table_BPU[[#This Row],[BPU Description]]","v":"Lesser Slave River Chick Peas - Kabuli"},"Lesser Slave River",40,"Chick Peas - Kabuli",49.93,321.58999999999997,149.63999999999999,362.89,278.99,449.15]
[{"$f":"Table_BPU[[#This Row],[Risk Area]]&\" \"&Table_BPU[[#This Row],[BPU Description]]","v":"Lethbridge Chick Peas - Kabuli"},"Lethbridge",40,"Chick Peas - Kabuli",49.93,321.58999999999997,149.63999999999999,362.89,278.99,449.15]
[{"$f":"Table_BPU[[#This Row],[Risk Area]]&\" \"&Table_BPU[[#This Row],[BPU Description]]","v":"Mackenzie Chick Peas - Kabuli"},"Mackenzie",40,"Chick Peas - Kabuli",49.93,321.58999999999997,149.63999999999999,362.89,278.99,449.15]
[{"$f":"Table_BPU[[#This Row],[Risk Area]]&\" \"&Table_BPU[[#This Row],[BPU Description]]","v":"Minburn Chick Peas - Kabuli"},"Minburn",40,"Chick Peas - Kabuli",49.93,321.58999999999997,149.63999999999999,362.89,278.99,449.15]
[{"$f":"Table_BPU[[#This Row],[Risk Area]]&\" \"&Table_BPU[[#This Row],[BPU Description]]","v":"Mountain View Chick Peas - Kabuli"},"Mountain View",40,"Chick Peas - Kabuli",49.93,321.58999999999997,149.63999999999999,362.89,278.99,449.15]
[{"$f":"Table_BPU[[#This Row],[Risk Area]]&\" \"&Table_BPU[[#This Row],[BPU Description]]","v":"Newell Chick Peas - Kabuli"},"Newell",40,"Chick Peas - Kabuli",49.93,321.58999999999997,149.63999999999999,362.89,278.99,449.15]
[{"$f":"Table_BPU[[#This Row],[Risk Area]]&\" \"&Table_BPU[[#This Row],[BPU Description]]","v":"Northern Lights Chick Peas - Kabuli"},"Northern Lights",40,"Chick Peas - Kabuli",49.93,321.58999999999997,149.63999999999999,362.89,278.99,449.15]
[{"$f":"Table_BPU[[#This Row],[Risk Area]]&\" \"&Table_BPU[[#This Row],[BPU Description]]","v":"Northern Sunrise Chick Peas - Kabuli"},"Northern Sunrise",40,"Chick Peas - Kabuli",49.93,321.58999999999997,149.63999999999999,362.89,278.99,449.15]
[{"$f":"Table_BPU[[#This Row],[Risk Area]]&\" \"&Table_BPU[[#This Row],[BPU Description]]","v":"Opportunity Chick Peas - Kabuli"},"Opportunity",40,"Chick Peas - Kabuli",49.93,321.58999999999997,149.63999999999999,362.89,278.99,449.15]
[{"$f":"Table_BPU[[#This Row],[Risk Area]]&\" \"&Table_BPU[[#This Row],[BPU Description]]","v":"Paintearth Chick Peas - Kabuli"},"Paintearth",40,"Chick Peas - Kabuli",49.93,321.58999999999997,149.63999999999999,362.89,278.99,449.15]
[{"$f":"Table_BPU[[#This Row],[Risk Area]]&\" \"&Table_BPU[[#This Row],[BPU Description]]","v":"Parkland County Chick Peas - Kabuli"},"Parkland County",40,"Chick Peas - Kabuli",49.93,321.58999999999997,149.63999999999999,362.89,278.99,449.15]
[{"$f":"Table_BPU[[#This Row],[Risk Area]]&\" \"&Table_BPU[[#This Row],[BPU Description]]","v":"Peace Chick Peas - Kabuli"},"Peace",40,"Chick Peas - Kabuli",49.93,321.58999999999997,149.63999999999999,362.89,278.99,449.15]
[{"$f":"Table_BPU[[#This Row],[Risk Area]]&\" \"&Table_BPU[[#This Row],[BPU Description]]","v":"Pincher Creek Chick Peas - Kabuli"},"Pincher Creek",40,"Chick Peas - Kabuli",49.93,321.58999999999997,149.63999999999999,362.89,278.99,449.15]
[{"$f":"Table_BPU[[#This Row],[Risk Area]]&\" \"&Table_BPU[[#This Row],[BPU Description]]","v":"Ponoka Chick Peas - Kabuli"},"Ponoka",40,"Chick Peas - Kabuli",49.93,321.58999999999997,149.63999999999999,362.89,278.99,449.15]
[{"$f":"Table_BPU[[#This Row],[Risk Area]]&\" \"&Table_BPU[[#This Row],[BPU Description]]","v":"Provost Chick Peas - Kabuli"},"Provost",40,"Chick Peas - Kabuli",49.93,321.58999999999997,149.63999999999999,362.89,278.99,449.15]
[{"$f":"Table_BPU[[#This Row],[Risk Area]]&\" \"&Table_BPU[[#This Row],[BPU Description]]","v":"Ranchland Chick Peas - Kabuli"},"Ranchland",40,"Chick Peas - Kabuli",49.93,321.58999999999997,149.63999999999999,362.89,278.99,449.15]
[{"$f":"Table_BPU[[#This Row],[Risk Area]]&\" \"&Table_BPU[[#This Row],[BPU Description]]","v":"Red Deer Chick Peas - Kabuli"},"Red Deer",40,"Chick Peas - Kabuli",49.93,321.58999999999997,149.63999999999999,362.89,278.99,449.15]
[{"$f":"Table_BPU[[#This Row],[Risk Area]]&\" \"&Table_BPU[[#This Row],[BPU Description]]","v":"Rocky View Chick Peas - Kabuli"},"Rocky View",40,"Chick Peas - Kabuli",49.93,321.58999999999997,149.63999999999999,362.89,278.99,449.15]
[{"$f":"Table_BPU[[#This Row],[Risk Area]]&\" \"&Table_BPU[[#This Row],[BPU Description]]","v":"Saddle Hills Chick Peas - Kabuli"},"Saddle Hills",40,"Chick Peas - Kabuli",49.93,321.58999999999997,149.63999999999999,362.89,278.99,449.15]
[{"$f":"Table_BPU[[#This Row],[Risk Area]]&\" \"&Table_BPU[[#This Row],[BPU Description]]","v":"Smoky Lake Chick Peas - Kabuli"},"Smoky Lake",40,"Chick Peas - Kabuli",49.93,321.58999999999997,149.63999999999999,362.89,278.99,449.15]
[{"$f":"Table_BPU[[#This Row],[Risk Area]]&\" \"&Table_BPU[[#This Row],[BPU Description]]","v":"Smoky River Chick Peas - Kabuli"},"Smoky River",40,"Chick Peas - Kabuli",49.93,321.58999999999997,149.63999999999999,362.89,278.99,449.15]
[{"$f":"Table_BPU[[#This Row],[Risk Area]]&\" \"&Table_BPU[[#This Row],[BPU Description]]","v":"Special Area 02 Chick Peas - Kabuli"},"Special Area 02",40,"Chick Peas - Kabuli",49.93,321.58999999999997,149.63999999999999,362.89,278.99,449.15]
[{"$f":"Table_BPU[[#This Row],[Risk Area]]&\" \"&Table_BPU[[#This Row],[BPU Description]]","v":"Special Area 03 Chick Peas - Kabuli"},"Special Area 03",40,"Chick Peas - Kabuli",49.93,321.58999999999997,149.63999999999999,362.89,278.99,449.15]
[{"$f":"Table_BPU[[#This Row],[Risk Area]]&\" \"&Table_BPU[[#This Row],[BPU Description]]","v":"Special Area 04 Chick Peas - Kabuli"},"Special Area 04",40,"Chick Peas - Kabuli",49.93,321.58999999999997,149.63999999999999,362.89,278.99,449.15]
[{"$f":"Table_BPU[[#This Row],[Risk Area]]&\" \"&Table_BPU[[#This Row],[BPU Description]]","v":"Spirit River Chick Peas - Kabuli"},"Spirit River",40,"Chick Peas - Kabuli",49.93,321.58999999999997,149.63999999999999,362.89,278.99,449.15]
[{"$f":"Table_BPU[[#This Row],[Risk Area]]&\" \"&Table_BPU[[#This Row],[BPU Description]]","v":"St. Paul Chick Peas - Kabuli"},"St. Paul",40,"Chick Peas - Kabuli",49.93,321.58999999999997,149.63999999999999,362.89,278.99,449.15]
[{"$f":"Table_BPU[[#This Row],[Risk Area]]&\" \"&Table_BPU[[#This Row],[BPU Description]]","v":"Starland Chick Peas - Kabuli"},"Starland",40,"Chick Peas - Kabuli",49.93,321.58999999999997,149.63999999999999,362.89,278.99,449.15]
[{"$f":"Table_BPU[[#This Row],[Risk Area]]&\" \"&Table_BPU[[#This Row],[BPU Description]]","v":"Stettler Chick Peas - Kabuli"},"Stettler",40,"Chick Peas - Kabuli",49.93,321.58999999999997,149.63999999999999,362.89,278.99,449.15]
[{"$f":"Table_BPU[[#This Row],[Risk Area]]&\" \"&Table_BPU[[#This Row],[BPU Description]]","v":"Strathcona County Chick Peas - Kabuli"},"Strathcona County",40,"Chick Peas - Kabuli",49.93,321.58999999999997,149.63999999999999,362.89,278.99,449.15]
[{"$f":"Table_BPU[[#This Row],[Risk Area]]&\" \"&Table_BPU[[#This Row],[BPU Description]]","v":"Sturgeon Chick Peas - Kabuli"},"Sturgeon",40,"Chick Peas - Kabuli",49.93,321.58999999999997,149.63999999999999,362.89,278.99,449.15]
[{"$f":"Table_BPU[[#This Row],[Risk Area]]&\" \"&Table_BPU[[#This Row],[BPU Description]]","v":"Taber Chick Peas - Kabuli"},"Taber",40,"Chick Peas - Kabuli",49.93,321.58999999999997,149.63999999999999,362.89,278.99,449.15]
[{"$f":"Table_BPU[[#This Row],[Risk Area]]&\" \"&Table_BPU[[#This Row],[BPU Description]]","v":"Thorhild Chick Peas - Kabuli"},"Thorhild",40,"Chick Peas - Kabuli",49.93,321.58999999999997,149.63999999999999,362.89,278.99,449.15]
[{"$f":"Table_BPU[[#This Row],[Risk Area]]&\" \"&Table_BPU[[#This Row],[BPU Description]]","v":"Two Hills Chick Peas - Kabuli"},"Two Hills",40,"Chick Peas - Kabuli",49.93,321.58999999999997,149.63999999999999,362.89,278.99,449.15]
[{"$f":"Table_BPU[[#This Row],[Risk Area]]&\" \"&Table_BPU[[#This Row],[BPU Description]]","v":"Vermilion River Chick Peas - Kabuli"},"Vermilion River",40,"Chick Peas - Kabuli",49.93,321.58999999999997,149.63999999999999,362.89,278.99,449.15]
[{"$f":"Table_BPU[[#This Row],[Risk Area]]&\" \"&Table_BPU[[#This Row],[BPU Description]]","v":"Vulcan Chick Peas - Kabuli"},"Vulcan",40,"Chick Peas - Kabuli",49.93,321.58999999999997,149.63999999999999,362.89,278.99,449.15]
[{"$f":"Table_BPU[[#This Row],[Risk Area]]&\" \"&Table_BPU[[#This Row],[BPU Description]]","v":"Wainwright Chick Peas - Kabuli"},"Wainwright",40,"Chick Peas - Kabuli",49.93,321.58999999999997,149.63999999999999,362.89,278.99,449.15]
[{"$f":"Table_BPU[[#This Row],[Risk Area]]&\" \"&Table_BPU[[#This Row],[BPU Description]]","v":"Warner Chick Peas - Kabuli"},"Warner",40,"Chick Peas - Kabuli",49.93,321.58999999999997,149.63999999999999,362.89,278.99,449.15]
[{"$f":"Table_BPU[[#This Row],[Risk Area]]&\" \"&Table_BPU[[#This Row],[BPU Description]]","v":"Westlock Chick Peas - Kabuli"},"Westlock",40,"Chick Peas - Kabuli",49.93,321.58999999999997,149.63999999999999,362.89,278.99,449.15]
[{"$f":"Table_BPU[[#This Row],[Risk Area]]&\" \"&Table_BPU[[#This Row],[BPU Description]]","v":"Wetaskiwin Chick Peas - Kabuli"},"Wetaskiwin",40,"Chick Peas - Kabuli",49.93,321.58999999999997,149.63999999999999,362.89,278.99,449.15]
[{"$f":"Table_BPU[[#This Row],[Risk Area]]&\" \"&Table_BPU[[#This Row],[BPU Description]]","v":"Wheatland Chick Peas - Kabuli"},"Wheatland",40,"Chick Peas - Kabuli",49.93,321.58999999999997,149.63999999999999,362.89,278.99,449.15]
[{"$f":"Table_BPU[[#This Row],[Risk Area]]&\" \"&Table_BPU[[#This Row],[BPU Description]]","v":"Willow Creek Chick Peas - Kabuli"},"Willow Creek",40,"Chick Peas - Kabuli",49.93,321.58999999999997,149.63999999999999,362.89,278.99,449.15]
[{"$f":"Table_BPU[[#This Row],[Risk Area]]&\" \"&Table_BPU[[#This Row],[BPU Description]]","v":"Wood Buffalo Chick Peas - Kabuli"},"Wood Buffalo",40,"Chick Peas - Kabuli",49.93,321.58999999999997,149.63999999999999,362.89,278.99,449.15]
[{"$f":"Table_BPU[[#This Row],[Risk Area]]&\" \"&Table_BPU[[#This Row],[BPU Description]]","v":"Woodlands Chick Peas - Kabuli"},"Woodlands",40,"Chick Peas - Kabuli",49.93,321.58999999999997,149.63999999999999,362.89,278.99,449.15]
[{"$f":"Table_BPU[[#This Row],[Risk Area]]&\" \"&Table_BPU[[#This Row],[BPU Description]]","v":"Yellowhead Chick Peas - Kabuli"},"Yellowhead",40,"Chick Peas - Kabuli",49.93,321.58999999999997,149.63999999999999,362.89,278.99,449.15]
[{"$f":"Table_BPU[[#This Row],[Risk Area]]&\" \"&Table_BPU[[#This Row],[BPU Description]]","v":"Acadia Chicken Broilers per bird"},"Acadia",668,"Chicken Broilers per bird",0.64,0.55000000000000004,0.66,0.88,0.86,0.86]
[{"$f":"Table_BPU[[#This Row],[Risk Area]]&\" \"&Table_BPU[[#This Row],[BPU Description]]","v":"Athabasca Chicken Broilers per bird"},"Athabasca",668,"Chicken Broilers per bird",0.64,0.55000000000000004,0.66,0.88,0.86,0.86]
[{"$f":"Table_BPU[[#This Row],[Risk Area]]&\" \"&Table_BPU[[#This Row],[BPU Description]]","v":"Barrhead Chicken Broilers per bird"},"Barrhead",668,"Chicken Broilers per bird",0.64,0.55000000000000004,0.66,0.88,0.86,0.86]
[{"$f":"Table_BPU[[#This Row],[Risk Area]]&\" \"&Table_BPU[[#This Row],[BPU Description]]","v":"Beaver Chicken Broilers per bird"},"Beaver",668,"Chicken Broilers per bird",0.64,0.55000000000000004,0.66,0.88,0.86,0.86]
[{"$f":"Table_BPU[[#This Row],[Risk Area]]&\" \"&Table_BPU[[#This Row],[BPU Description]]","v":"Big Lakes Chicken Broilers per bird"},"Big Lakes",668,"Chicken Broilers per bird",0.64,0.55000000000000004,0.66,0.88,0.86,0.86]
[{"$f":"Table_BPU[[#This Row],[Risk Area]]&\" \"&Table_BPU[[#This Row],[BPU Description]]","v":"Bighorn Chicken Broilers per bird"},"Bighorn",668,"Chicken Broilers per bird",0.64,0.55000000000000004,0.66,0.88,0.86,0.86]
[{"$f":"Table_BPU[[#This Row],[Risk Area]]&\" \"&Table_BPU[[#This Row],[BPU Description]]","v":"Birch Hills Chicken Broilers per bird"},"Birch Hills",668,"Chicken Broilers per bird",0.64,0.55000000000000004,0.66,0.88,0.86,0.86]
[{"$f":"Table_BPU[[#This Row],[Risk Area]]&\" \"&Table_BPU[[#This Row],[BPU Description]]","v":"Bonnyville Chicken Broilers per bird"},"Bonnyville",668,"Chicken Broilers per bird",0.64,0.55000000000000004,0.66,0.88,0.86,0.86]
[{"$f":"Table_BPU[[#This Row],[Risk Area]]&\" \"&Table_BPU[[#This Row],[BPU Description]]","v":"Brazeau Chicken Broilers per bird"},"Brazeau",668,"Chicken Broilers per bird",0.64,0.55000000000000004,0.66,0.88,0.86,0.86]
[{"$f":"Table_BPU[[#This Row],[Risk Area]]&\" \"&Table_BPU[[#This Row],[BPU Description]]","v":"Camrose Chicken Broilers per bird"},"Camrose",668,"Chicken Broilers per bird",0.64,0.55000000000000004,0.66,0.88,0.86,0.86]
[{"$f":"Table_BPU[[#This Row],[Risk Area]]&\" \"&Table_BPU[[#This Row],[BPU Description]]","v":"Cardston Chicken Broilers per bird"},"Cardston",668,"Chicken Broilers per bird",0.64,0.55000000000000004,0.66,0.88,0.86,0.86]
[{"$f":"Table_BPU[[#This Row],[Risk Area]]&\" \"&Table_BPU[[#This Row],[BPU Description]]","v":"Clear Hills Chicken Broilers per bird"},"Clear Hills",668,"Chicken Broilers per bird",0.64,0.55000000000000004,0.66,0.88,0.86,0.86]
[{"$f":"Table_BPU[[#This Row],[Risk Area]]&\" \"&Table_BPU[[#This Row],[BPU Description]]","v":"Clearwater Chicken Broilers per bird"},"Clearwater",668,"Chicken Broilers per bird",0.64,0.55000000000000004,0.66,0.88,0.86,0.86]
[{"$f":"Table_BPU[[#This Row],[Risk Area]]&\" \"&Table_BPU[[#This Row],[BPU Description]]","v":"Cypress Chicken Broilers per bird"},"Cypress",668,"Chicken Broilers per bird",0.64,0.55000000000000004,0.66,0.88,0.86,0.86]
[{"$f":"Table_BPU[[#This Row],[Risk Area]]&\" \"&Table_BPU[[#This Row],[BPU Description]]","v":"Edmonton Chicken Broilers per bird"},"Edmonton",668,"Chicken Broilers per bird",0.64,0.55000000000000004,0.66,0.88,0.86,0.86]
[{"$f":"Table_BPU[[#This Row],[Risk Area]]&\" \"&Table_BPU[[#This Row],[BPU Description]]","v":"Fairview Chicken Broilers per bird"},"Fairview",668,"Chicken Broilers per bird",0.64,0.55000000000000004,0.66,0.88,0.86,0.86]
[{"$f":"Table_BPU[[#This Row],[Risk Area]]&\" \"&Table_BPU[[#This Row],[BPU Description]]","v":"Flagstaff Chicken Broilers per bird"},"Flagstaff",668,"Chicken Broilers per bird",0.64,0.55000000000000004,0.66,0.88,0.86,0.86]
[{"$f":"Table_BPU[[#This Row],[Risk Area]]&\" \"&Table_BPU[[#This Row],[BPU Description]]","v":"Foothills Chicken Broilers per bird"},"Foothills",668,"Chicken Broilers per bird",0.64,0.55000000000000004,0.66,0.88,0.86,0.86]
[{"$f":"Table_BPU[[#This Row],[Risk Area]]&\" \"&Table_BPU[[#This Row],[BPU Description]]","v":"Forty Mile Chicken Broilers per bird"},"Forty Mile",668,"Chicken Broilers per bird",0.64,0.55000000000000004,0.66,0.88,0.86,0.86]
[{"$f":"Table_BPU[[#This Row],[Risk Area]]&\" \"&Table_BPU[[#This Row],[BPU Description]]","v":"Grande Prairie Chicken Broilers per bird"},"Grande Prairie",668,"Chicken Broilers per bird",0.64,0.55000000000000004,0.66,0.88,0.86,0.86]
[{"$f":"Table_BPU[[#This Row],[Risk Area]]&\" \"&Table_BPU[[#This Row],[BPU Description]]","v":"Greenview Chicken Broilers per bird"},"Greenview",668,"Chicken Broilers per bird",0.64,0.55000000000000004,0.66,0.88,0.86,0.86]
[{"$f":"Table_BPU[[#This Row],[Risk Area]]&\" \"&Table_BPU[[#This Row],[BPU Description]]","v":"Kneehill Chicken Broilers per bird"},"Kneehill",668,"Chicken Broilers per bird",0.64,0.55000000000000004,0.66,0.88,0.86,0.86]
[{"$f":"Table_BPU[[#This Row],[Risk Area]]&\" \"&Table_BPU[[#This Row],[BPU Description]]","v":"Lac La Biche Chicken Broilers per bird"},"Lac La Biche",668,"Chicken Broilers per bird",0.64,0.55000000000000004,0.66,0.88,0.86,0.86]
[{"$f":"Table_BPU[[#This Row],[Risk Area]]&\" \"&Table_BPU[[#This Row],[BPU Description]]","v":"Lac Ste. Anne County Chicken Broilers per bird"},"Lac Ste. Anne County",668,"Chicken Broilers per bird",0.64,0.55000000000000004,0.66,0.88,0.86,0.86]
[{"$f":"Table_BPU[[#This Row],[Risk Area]]&\" \"&Table_BPU[[#This Row],[BPU Description]]","v":"Lacombe Chicken Broilers per bird"},"Lacombe",668,"Chicken Broilers per bird",0.64,0.55000000000000004,0.66,0.88,0.86,0.86]
[{"$f":"Table_BPU[[#This Row],[Risk Area]]&\" \"&Table_BPU[[#This Row],[BPU Description]]","v":"Lamont Chicken Broilers per bird"},"Lamont",668,"Chicken Broilers per bird",0.64,0.55000000000000004,0.66,0.88,0.86,0.86]
[{"$f":"Table_BPU[[#This Row],[Risk Area]]&\" \"&Table_BPU[[#This Row],[BPU Description]]","v":"Leduc Chicken Broilers per bird"},"Leduc",668,"Chicken Broilers per bird",0.64,0.55000000000000004,0.66,0.88,0.86,0.86]
[{"$f":"Table_BPU[[#This Row],[Risk Area]]&\" \"&Table_BPU[[#This Row],[BPU Description]]","v":"Lesser Slave River Chicken Broilers per bird"},"Lesser Slave River",668,"Chicken Broilers per bird",0.64,0.55000000000000004,0.66,0.88,0.86,0.86]
[{"$f":"Table_BPU[[#This Row],[Risk Area]]&\" \"&Table_BPU[[#This Row],[BPU Description]]","v":"Lethbridge Chicken Broilers per bird"},"Lethbridge",668,"Chicken Broilers per bird",0.64,0.55000000000000004,0.66,0.88,0.86,0.86]
[{"$f":"Table_BPU[[#This Row],[Risk Area]]&\" \"&Table_BPU[[#This Row],[BPU Description]]","v":"Mackenzie Chicken Broilers per bird"},"Mackenzie",668,"Chicken Broilers per bird",0.64,0.55000000000000004,0.66,0.88,0.86,0.86]
[{"$f":"Table_BPU[[#This Row],[Risk Area]]&\" \"&Table_BPU[[#This Row],[BPU Description]]","v":"Minburn Chicken Broilers per bird"},"Minburn",668,"Chicken Broilers per bird",0.64,0.55000000000000004,0.66,0.88,0.86,0.86]
[{"$f":"Table_BPU[[#This Row],[Risk Area]]&\" \"&Table_BPU[[#This Row],[BPU Description]]","v":"Mountain View Chicken Broilers per bird"},"Mountain View",668,"Chicken Broilers per bird",0.64,0.55000000000000004,0.66,0.88,0.86,0.86]
[{"$f":"Table_BPU[[#This Row],[Risk Area]]&\" \"&Table_BPU[[#This Row],[BPU Description]]","v":"Newell Chicken Broilers per bird"},"Newell",668,"Chicken Broilers per bird",0.64,0.55000000000000004,0.66,0.88,0.86,0.86]
[{"$f":"Table_BPU[[#This Row],[Risk Area]]&\" \"&Table_BPU[[#This Row],[BPU Description]]","v":"Northern Lights Chicken Broilers per bird"},"Northern Lights",668,"Chicken Broilers per bird",0.64,0.55000000000000004,0.66,0.88,0.86,0.86]
[{"$f":"Table_BPU[[#This Row],[Risk Area]]&\" \"&Table_BPU[[#This Row],[BPU Description]]","v":"Northern Sunrise Chicken Broilers per bird"},"Northern Sunrise",668,"Chicken Broilers per bird",0.64,0.55000000000000004,0.66,0.88,0.86,0.86]
[{"$f":"Table_BPU[[#This Row],[Risk Area]]&\" \"&Table_BPU[[#This Row],[BPU Description]]","v":"Opportunity Chicken Broilers per bird"},"Opportunity",668,"Chicken Broilers per bird",0.64,0.55000000000000004,0.66,0.88,0.86,0.86]
[{"$f":"Table_BPU[[#This Row],[Risk Area]]&\" \"&Table_BPU[[#This Row],[BPU Description]]","v":"Paintearth Chicken Broilers per bird"},"Paintearth",668,"Chicken Broilers per bird",0.64,0.55000000000000004,0.66,0.88,0.86,0.86]
[{"$f":"Table_BPU[[#This Row],[Risk Area]]&\" \"&Table_BPU[[#This Row],[BPU Description]]","v":"Parkland County Chicken Broilers per bird"},"Parkland County",668,"Chicken Broilers per bird",0.64,0.55000000000000004,0.66,0.88,0.86,0.86]
[{"$f":"Table_BPU[[#This Row],[Risk Area]]&\" \"&Table_BPU[[#This Row],[BPU Description]]","v":"Peace Chicken Broilers per bird"},"Peace",668,"Chicken Broilers per bird",0.64,0.55000000000000004,0.66,0.88,0.86,0.86]
[{"$f":"Table_BPU[[#This Row],[Risk Area]]&\" \"&Table_BPU[[#This Row],[BPU Description]]","v":"Pincher Creek Chicken Broilers per bird"},"Pincher Creek",668,"Chicken Broilers per bird",0.64,0.55000000000000004,0.66,0.88,0.86,0.86]
[{"$f":"Table_BPU[[#This Row],[Risk Area]]&\" \"&Table_BPU[[#This Row],[BPU Description]]","v":"Ponoka Chicken Broilers per bird"},"Ponoka",668,"Chicken Broilers per bird",0.64,0.55000000000000004,0.66,0.88,0.86,0.86]
[{"$f":"Table_BPU[[#This Row],[Risk Area]]&\" \"&Table_BPU[[#This Row],[BPU Description]]","v":"Provost Chicken Broilers per bird"},"Provost",668,"Chicken Broilers per bird",0.64,0.55000000000000004,0.66,0.88,0.86,0.86]
[{"$f":"Table_BPU[[#This Row],[Risk Area]]&\" \"&Table_BPU[[#This Row],[BPU Description]]","v":"Ranchland Chicken Broilers per bird"},"Ranchland",668,"Chicken Broilers per bird",0.64,0.55000000000000004,0.66,0.88,0.86,0.86]
[{"$f":"Table_BPU[[#This Row],[Risk Area]]&\" \"&Table_BPU[[#This Row],[BPU Description]]","v":"Red Deer Chicken Broilers per bird"},"Red Deer",668,"Chicken Broilers per bird",0.64,0.55000000000000004,0.66,0.88,0.86,0.86]
[{"$f":"Table_BPU[[#This Row],[Risk Area]]&\" \"&Table_BPU[[#This Row],[BPU Description]]","v":"Rocky View Chicken Broilers per bird"},"Rocky View",668,"Chicken Broilers per bird",0.64,0.55000000000000004,0.66,0.88,0.86,0.86]
[{"$f":"Table_BPU[[#This Row],[Risk Area]]&\" \"&Table_BPU[[#This Row],[BPU Description]]","v":"Saddle Hills Chicken Broilers per bird"},"Saddle Hills",668,"Chicken Broilers per bird",0.64,0.55000000000000004,0.66,0.88,0.86,0.86]
[{"$f":"Table_BPU[[#This Row],[Risk Area]]&\" \"&Table_BPU[[#This Row],[BPU Description]]","v":"Smoky Lake Chicken Broilers per bird"},"Smoky Lake",668,"Chicken Broilers per bird",0.64,0.55000000000000004,0.66,0.88,0.86,0.86]
[{"$f":"Table_BPU[[#This Row],[Risk Area]]&\" \"&Table_BPU[[#This Row],[BPU Description]]","v":"Smoky River Chicken Broilers per bird"},"Smoky River",668,"Chicken Broilers per bird",0.64,0.55000000000000004,0.66,0.88,0.86,0.86]
[{"$f":"Table_BPU[[#This Row],[Risk Area]]&\" \"&Table_BPU[[#This Row],[BPU Description]]","v":"Special Area 02 Chicken Broilers per bird"},"Special Area 02",668,"Chicken Broilers per bird",0.64,0.55000000000000004,0.66,0.88,0.86,0.86]
[{"$f":"Table_BPU[[#This Row],[Risk Area]]&\" \"&Table_BPU[[#This Row],[BPU Description]]","v":"Special Area 03 Chicken Broilers per bird"},"Special Area 03",668,"Chicken Broilers per bird",0.64,0.55000000000000004,0.66,0.88,0.86,0.86]
[{"$f":"Table_BPU[[#This Row],[Risk Area]]&\" \"&Table_BPU[[#This Row],[BPU Description]]","v":"Special Area 04 Chicken Broilers per bird"},"Special Area 04",668,"Chicken Broilers per bird",0.64,0.55000000000000004,0.66,0.88,0.86,0.86]
[{"$f":"Table_BPU[[#This Row],[Risk Area]]&\" \"&Table_BPU[[#This Row],[BPU Description]]","v":"Spirit River Chicken Broilers per bird"},"Spirit River",668,"Chicken Broilers per bird",0.64,0.55000000000000004,0.66,0.88,0.86,0.86]
[{"$f":"Table_BPU[[#This Row],[Risk Area]]&\" \"&Table_BPU[[#This Row],[BPU Description]]","v":"St. Paul Chicken Broilers per bird"},"St. Paul",668,"Chicken Broilers per bird",0.64,0.55000000000000004,0.66,0.88,0.86,0.86]
[{"$f":"Table_BPU[[#This Row],[Risk Area]]&\" \"&Table_BPU[[#This Row],[BPU Description]]","v":"Starland Chicken Broilers per bird"},"Starland",668,"Chicken Broilers per bird",0.64,0.55000000000000004,0.66,0.88,0.86,0.86]
[{"$f":"Table_BPU[[#This Row],[Risk Area]]&\" \"&Table_BPU[[#This Row],[BPU Description]]","v":"Stettler Chicken Broilers per bird"},"Stettler",668,"Chicken Broilers per bird",0.64,0.55000000000000004,0.66,0.88,0.86,0.86]
[{"$f":"Table_BPU[[#This Row],[Risk Area]]&\" \"&Table_BPU[[#This Row],[BPU Description]]","v":"Strathcona County Chicken Broilers per bird"},"Strathcona County",668,"Chicken Broilers per bird",0.64,0.55000000000000004,0.66,0.88,0.86,0.86]
[{"$f":"Table_BPU[[#This Row],[Risk Area]]&\" \"&Table_BPU[[#This Row],[BPU Description]]","v":"Sturgeon Chicken Broilers per bird"},"Sturgeon",668,"Chicken Broilers per bird",0.64,0.55000000000000004,0.66,0.88,0.86,0.86]
[{"$f":"Table_BPU[[#This Row],[Risk Area]]&\" \"&Table_BPU[[#This Row],[BPU Description]]","v":"Taber Chicken Broilers per bird"},"Taber",668,"Chicken Broilers per bird",0.64,0.55000000000000004,0.66,0.88,0.86,0.86]
[{"$f":"Table_BPU[[#This Row],[Risk Area]]&\" \"&Table_BPU[[#This Row],[BPU Description]]","v":"Thorhild Chicken Broilers per bird"},"Thorhild",668,"Chicken Broilers per bird",0.64,0.55000000000000004,0.66,0.88,0.86,0.86]
[{"$f":"Table_BPU[[#This Row],[Risk Area]]&\" \"&Table_BPU[[#This Row],[BPU Description]]","v":"Two Hills Chicken Broilers per bird"},"Two Hills",668,"Chicken Broilers per bird",0.64,0.55000000000000004,0.66,0.88,0.86,0.86]
[{"$f":"Table_BPU[[#This Row],[Risk Area]]&\" \"&Table_BPU[[#This Row],[BPU Description]]","v":"Vermilion River Chicken Broilers per bird"},"Vermilion River",668,"Chicken Broilers per bird",0.64,0.55000000000000004,0.66,0.88,0.86,0.86]
[{"$f":"Table_BPU[[#This Row],[Risk Area]]&\" \"&Table_BPU[[#This Row],[BPU Description]]","v":"Vulcan Chicken Broilers per bird"},"Vulcan",668,"Chicken Broilers per bird",0.64,0.55000000000000004,0.66,0.88,0.86,0.86]
[{"$f":"Table_BPU[[#This Row],[Risk Area]]&\" \"&Table_BPU[[#This Row],[BPU Description]]","v":"Wainwright Chicken Broilers per bird"},"Wainwright",668,"Chicken Broilers per bird",0.64,0.55000000000000004,0.66,0.88,0.86,0.86]
[{"$f":"Table_BPU[[#This Row],[Risk Area]]&\" \"&Table_BPU[[#This Row],[BPU Description]]","v":"Warner Chicken Broilers per bird"},"Warner",668,"Chicken Broilers per bird",0.64,0.55000000000000004,0.66,0.88,0.86,0.86]
[{"$f":"Table_BPU[[#This Row],[Risk Area]]&\" \"&Table_BPU[[#This Row],[BPU Description]]","v":"Westlock Chicken Broilers per bird"},"Westlock",668,"Chicken Broilers per bird",0.64,0.55000000000000004,0.66,0.88,0.86,0.86]
[{"$f":"Table_BPU[[#This Row],[Risk Area]]&\" \"&Table_BPU[[#This Row],[BPU Description]]","v":"Wetaskiwin Chicken Broilers per bird"},"Wetaskiwin",668,"Chicken Broilers per bird",0.64,0.55000000000000004,0.66,0.88,0.86,0.86]
[{"$f":"Table_BPU[[#This Row],[Risk Area]]&\" \"&Table_BPU[[#This Row],[BPU Description]]","v":"Wheatland Chicken Broilers per bird"},"Wheatland",668,"Chicken Broilers per bird",0.64,0.55000000000000004,0.66,0.88,0.86,0.86]
[{"$f":"Table_BPU[[#This Row],[Risk Area]]&\" \"&Table_BPU[[#This Row],[BPU Description]]","v":"Willow Creek Chicken Broilers per bird"},"Willow Creek",668,"Chicken Broilers per bird",0.64,0.55000000000000004,0.66,0.88,0.86,0.86]
[{"$f":"Table_BPU[[#This Row],[Risk Area]]&\" \"&Table_BPU[[#This Row],[BPU Description]]","v":"Wood Buffalo Chicken Broilers per bird"},"Wood Buffalo",668,"Chicken Broilers per bird",0.64,0.55000000000000004,0.66,0.88,0.86,0.86]
[{"$f":"Table_BPU[[#This Row],[Risk Area]]&\" \"&Table_BPU[[#This Row],[BPU Description]]","v":"Woodlands Chicken Broilers per bird"},"Woodlands",668,"Chicken Broilers per bird",0.64,0.55000000000000004,0.66,0.88,0.86,0.86]
[{"$f":"Table_BPU[[#This Row],[Risk Area]]&\" \"&Table_BPU[[#This Row],[BPU Description]]","v":"Yellowhead Chicken Broilers per bird"},"Yellowhead",668,"Chicken Broilers per bird",0.64,0.55000000000000004,0.66,0.88,0.86,0.86]
[{"$f":"Table_BPU[[#This Row],[Risk Area]]&\" \"&Table_BPU[[#This Row],[BPU Description]]","v":"Acadia Corn - Processing"},"Acadia",73,"Corn - Processing",127.04,608.55999999999995,532.39,937.16,1131.94,1954.49]
[{"$f":"Table_BPU[[#This Row],[Risk Area]]&\" \"&Table_BPU[[#This Row],[BPU Description]]","v":"Athabasca Corn - Processing"},"Athabasca",73,"Corn - Processing",127.04,608.55999999999995,532.39,937.16,1131.94,1954.49]
[{"$f":"Table_BPU[[#This Row],[Risk Area]]&\" \"&Table_BPU[[#This Row],[BPU Description]]","v":"Barrhead Corn - Processing"},"Barrhead",73,"Corn - Processing",127.04,608.55999999999995,532.39,937.16,1131.94,1954.49]
[{"$f":"Table_BPU[[#This Row],[Risk Area]]&\" \"&Table_BPU[[#This Row],[BPU Description]]","v":"Beaver Corn - Processing"},"Beaver",73,"Corn - Processing",127.04,608.55999999999995,532.39,937.16,1131.94,1954.49]
[{"$f":"Table_BPU[[#This Row],[Risk Area]]&\" \"&Table_BPU[[#This Row],[BPU Description]]","v":"Big Lakes Corn - Processing"},"Big Lakes",73,"Corn - Processing",127.04,608.55999999999995,532.39,937.16,1131.94,1954.49]
[{"$f":"Table_BPU[[#This Row],[Risk Area]]&\" \"&Table_BPU[[#This Row],[BPU Description]]","v":"Bighorn Corn - Processing"},"Bighorn",73,"Corn - Processing",127.04,608.55999999999995,532.39,937.16,1131.94,1954.49]
[{"$f":"Table_BPU[[#This Row],[Risk Area]]&\" \"&Table_BPU[[#This Row],[BPU Description]]","v":"Birch Hills Corn - Processing"},"Birch Hills",73,"Corn - Processing",127.04,608.55999999999995,532.39,937.16,1131.94,1954.49]
[{"$f":"Table_BPU[[#This Row],[Risk Area]]&\" \"&Table_BPU[[#This Row],[BPU Description]]","v":"Bonnyville Corn - Processing"},"Bonnyville",73,"Corn - Processing",127.04,608.55999999999995,532.39,937.16,1131.94,1954.49]
[{"$f":"Table_BPU[[#This Row],[Risk Area]]&\" \"&Table_BPU[[#This Row],[BPU Description]]","v":"Brazeau Corn - Processing"},"Brazeau",73,"Corn - Processing",127.04,608.55999999999995,532.39,937.16,1131.94,1954.49]
[{"$f":"Table_BPU[[#This Row],[Risk Area]]&\" \"&Table_BPU[[#This Row],[BPU Description]]","v":"Camrose Corn - Processing"},"Camrose",73,"Corn - Processing",127.04,608.55999999999995,532.39,937.16,1131.94,1954.49]
[{"$f":"Table_BPU[[#This Row],[Risk Area]]&\" \"&Table_BPU[[#This Row],[BPU Description]]","v":"Cardston Corn - Processing"},"Cardston",73,"Corn - Processing",127.04,608.55999999999995,532.39,937.16,1131.94,1954.49]
[{"$f":"Table_BPU[[#This Row],[Risk Area]]&\" \"&Table_BPU[[#This Row],[BPU Description]]","v":"Clear Hills Corn - Processing"},"Clear Hills",73,"Corn - Processing",127.04,608.55999999999995,532.39,937.16,1131.94,1954.49]
[{"$f":"Table_BPU[[#This Row],[Risk Area]]&\" \"&Table_BPU[[#This Row],[BPU Description]]","v":"Clearwater Corn - Processing"},"Clearwater",73,"Corn - Processing",127.04,608.55999999999995,532.39,937.16,1131.94,1954.49]
[{"$f":"Table_BPU[[#This Row],[Risk Area]]&\" \"&Table_BPU[[#This Row],[BPU Description]]","v":"Cypress Corn - Processing"},"Cypress",73,"Corn - Processing",127.04,608.55999999999995,532.39,937.16,1131.94,1954.49]
[{"$f":"Table_BPU[[#This Row],[Risk Area]]&\" \"&Table_BPU[[#This Row],[BPU Description]]","v":"Edmonton Corn - Processing"},"Edmonton",73,"Corn - Processing",127.04,608.55999999999995,532.39,937.16,1131.94,1954.49]
[{"$f":"Table_BPU[[#This Row],[Risk Area]]&\" \"&Table_BPU[[#This Row],[BPU Description]]","v":"Fairview Corn - Processing"},"Fairview",73,"Corn - Processing",127.04,608.55999999999995,532.39,937.16,1131.94,1954.49]
[{"$f":"Table_BPU[[#This Row],[Risk Area]]&\" \"&Table_BPU[[#This Row],[BPU Description]]","v":"Flagstaff Corn - Processing"},"Flagstaff",73,"Corn - Processing",127.04,608.55999999999995,532.39,937.16,1131.94,1954.49]
[{"$f":"Table_BPU[[#This Row],[Risk Area]]&\" \"&Table_BPU[[#This Row],[BPU Description]]","v":"Foothills Corn - Processing"},"Foothills",73,"Corn - Processing",127.04,608.55999999999995,532.39,937.16,1131.94,1954.49]
[{"$f":"Table_BPU[[#This Row],[Risk Area]]&\" \"&Table_BPU[[#This Row],[BPU Description]]","v":"Forty Mile Corn - Processing"},"Forty Mile",73,"Corn - Processing",127.04,608.55999999999995,532.39,937.16,1131.94,1954.49]
[{"$f":"Table_BPU[[#This Row],[Risk Area]]&\" \"&Table_BPU[[#This Row],[BPU Description]]","v":"Grande Prairie Corn - Processing"},"Grande Prairie",73,"Corn - Processing",127.04,608.55999999999995,532.39,937.16,1131.94,1954.49]
[{"$f":"Table_BPU[[#This Row],[Risk Area]]&\" \"&Table_BPU[[#This Row],[BPU Description]]","v":"Greenview Corn - Processing"},"Greenview",73,"Corn - Processing",127.04,608.55999999999995,532.39,937.16,1131.94,1954.49]
[{"$f":"Table_BPU[[#This Row],[Risk Area]]&\" \"&Table_BPU[[#This Row],[BPU Description]]","v":"Kneehill Corn - Processing"},"Kneehill",73,"Corn - Processing",127.04,608.55999999999995,532.39,937.16,1131.94,1954.49]
[{"$f":"Table_BPU[[#This Row],[Risk Area]]&\" \"&Table_BPU[[#This Row],[BPU Description]]","v":"Lac La Biche Corn - Processing"},"Lac La Biche",73,"Corn - Processing",127.04,608.55999999999995,532.39,937.16,1131.94,1954.49]
[{"$f":"Table_BPU[[#This Row],[Risk Area]]&\" \"&Table_BPU[[#This Row],[BPU Description]]","v":"Lac Ste. Anne County Corn - Processing"},"Lac Ste. Anne County",73,"Corn - Processing",127.04,608.55999999999995,532.39,937.16,1131.94,1954.49]
[{"$f":"Table_BPU[[#This Row],[Risk Area]]&\" \"&Table_BPU[[#This Row],[BPU Description]]","v":"Lacombe Corn - Processing"},"Lacombe",73,"Corn - Processing",127.04,608.55999999999995,532.39,937.16,1131.94,1954.49]
[{"$f":"Table_BPU[[#This Row],[Risk Area]]&\" \"&Table_BPU[[#This Row],[BPU Description]]","v":"Lamont Corn - Processing"},"Lamont",73,"Corn - Processing",127.04,608.55999999999995,532.39,937.16,1131.94,1954.49]
[{"$f":"Table_BPU[[#This Row],[Risk Area]]&\" \"&Table_BPU[[#This Row],[BPU Description]]","v":"Leduc Corn - Processing"},"Leduc",73,"Corn - Processing",127.04,608.55999999999995,532.39,937.16,1131.94,1954.49]
[{"$f":"Table_BPU[[#This Row],[Risk Area]]&\" \"&Table_BPU[[#This Row],[BPU Description]]","v":"Lesser Slave River Corn - Processing"},"Lesser Slave River",73,"Corn - Processing",127.04,608.55999999999995,532.39,937.16,1131.94,1954.49]
[{"$f":"Table_BPU[[#This Row],[Risk Area]]&\" \"&Table_BPU[[#This Row],[BPU Description]]","v":"Lethbridge Corn - Processing"},"Lethbridge",73,"Corn - Processing",127.04,608.55999999999995,532.39,937.16,1131.94,1954.49]
[{"$f":"Table_BPU[[#This Row],[Risk Area]]&\" \"&Table_BPU[[#This Row],[BPU Description]]","v":"Mackenzie Corn - Processing"},"Mackenzie",73,"Corn - Processing",127.04,608.55999999999995,532.39,937.16,1131.94,1954.49]
[{"$f":"Table_BPU[[#This Row],[Risk Area]]&\" \"&Table_BPU[[#This Row],[BPU Description]]","v":"Minburn Corn - Processing"},"Minburn",73,"Corn - Processing",127.04,608.55999999999995,532.39,937.16,1131.94,1954.49]
[{"$f":"Table_BPU[[#This Row],[Risk Area]]&\" \"&Table_BPU[[#This Row],[BPU Description]]","v":"Mountain View Corn - Processing"},"Mountain View",73,"Corn - Processing",127.04,608.55999999999995,532.39,937.16,1131.94,1954.49]
[{"$f":"Table_BPU[[#This Row],[Risk Area]]&\" \"&Table_BPU[[#This Row],[BPU Description]]","v":"Newell Corn - Processing"},"Newell",73,"Corn - Processing",127.04,608.55999999999995,532.39,937.16,1131.94,1954.49]
[{"$f":"Table_BPU[[#This Row],[Risk Area]]&\" \"&Table_BPU[[#This Row],[BPU Description]]","v":"Northern Lights Corn - Processing"},"Northern Lights",73,"Corn - Processing",127.04,608.55999999999995,532.39,937.16,1131.94,1954.49]
[{"$f":"Table_BPU[[#This Row],[Risk Area]]&\" \"&Table_BPU[[#This Row],[BPU Description]]","v":"Northern Sunrise Corn - Processing"},"Northern Sunrise",73,"Corn - Processing",127.04,608.55999999999995,532.39,937.16,1131.94,1954.49]
[{"$f":"Table_BPU[[#This Row],[Risk Area]]&\" \"&Table_BPU[[#This Row],[BPU Description]]","v":"Opportunity Corn - Processing"},"Opportunity",73,"Corn - Processing",127.04,608.55999999999995,532.39,937.16,1131.94,1954.49]
[{"$f":"Table_BPU[[#This Row],[Risk Area]]&\" \"&Table_BPU[[#This Row],[BPU Description]]","v":"Paintearth Corn - Processing"},"Paintearth",73,"Corn - Processing",127.04,608.55999999999995,532.39,937.16,1131.94,1954.49]
[{"$f":"Table_BPU[[#This Row],[Risk Area]]&\" \"&Table_BPU[[#This Row],[BPU Description]]","v":"Parkland County Corn - Processing"},"Parkland County",73,"Corn - Processing",127.04,608.55999999999995,532.39,937.16,1131.94,1954.49]
[{"$f":"Table_BPU[[#This Row],[Risk Area]]&\" \"&Table_BPU[[#This Row],[BPU Description]]","v":"Peace Corn - Processing"},"Peace",73,"Corn - Processing",127.04,608.55999999999995,532.39,937.16,1131.94,1954.49]
[{"$f":"Table_BPU[[#This Row],[Risk Area]]&\" \"&Table_BPU[[#This Row],[BPU Description]]","v":"Pincher Creek Corn - Processing"},"Pincher Creek",73,"Corn - Processing",127.04,608.55999999999995,532.39,937.16,1131.94,1954.49]
[{"$f":"Table_BPU[[#This Row],[Risk Area]]&\" \"&Table_BPU[[#This Row],[BPU Description]]","v":"Ponoka Corn - Processing"},"Ponoka",73,"Corn - Processing",127.04,608.55999999999995,532.39,937.16,1131.94,1954.49]
[{"$f":"Table_BPU[[#This Row],[Risk Area]]&\" \"&Table_BPU[[#This Row],[BPU Description]]","v":"Provost Corn - Processing"},"Provost",73,"Corn - Processing",127.04,608.55999999999995,532.39,937.16,1131.94,1954.49]
[{"$f":"Table_BPU[[#This Row],[Risk Area]]&\" \"&Table_BPU[[#This Row],[BPU Description]]","v":"Ranchland Corn - Processing"},"Ranchland",73,"Corn - Processing",127.04,608.55999999999995,532.39,937.16,1131.94,1954.49]
[{"$f":"Table_BPU[[#This Row],[Risk Area]]&\" \"&Table_BPU[[#This Row],[BPU Description]]","v":"Red Deer Corn - Processing"},"Red Deer",73,"Corn - Processing",127.04,608.55999999999995,532.39,937.16,1131.94,1954.49]
[{"$f":"Table_BPU[[#This Row],[Risk Area]]&\" \"&Table_BPU[[#This Row],[BPU Description]]","v":"Rocky View Corn - Processing"},"Rocky View",73,"Corn - Processing",127.04,608.55999999999995,532.39,937.16,1131.94,1954.49]
[{"$f":"Table_BPU[[#This Row],[Risk Area]]&\" \"&Table_BPU[[#This Row],[BPU Description]]","v":"Saddle Hills Corn - Processing"},"Saddle Hills",73,"Corn - Processing",127.04,608.55999999999995,532.39,937.16,1131.94,1954.49]
[{"$f":"Table_BPU[[#This Row],[Risk Area]]&\" \"&Table_BPU[[#This Row],[BPU Description]]","v":"Smoky Lake Corn - Processing"},"Smoky Lake",73,"Corn - Processing",127.04,608.55999999999995,532.39,937.16,1131.94,1954.49]
[{"$f":"Table_BPU[[#This Row],[Risk Area]]&\" \"&Table_BPU[[#This Row],[BPU Description]]","v":"Smoky River Corn - Processing"},"Smoky River",73,"Corn - Processing",127.04,608.55999999999995,532.39,937.16,1131.94,1954.49]
[{"$f":"Table_BPU[[#This Row],[Risk Area]]&\" \"&Table_BPU[[#This Row],[BPU Description]]","v":"Special Area 02 Corn - Processing"},"Special Area 02",73,"Corn - Processing",127.04,608.55999999999995,532.39,937.16,1131.94,1954.49]
[{"$f":"Table_BPU[[#This Row],[Risk Area]]&\" \"&Table_BPU[[#This Row],[BPU Description]]","v":"Special Area 03 Corn - Processing"},"Special Area 03",73,"Corn - Processing",127.04,608.55999999999995,532.39,937.16,1131.94,1954.49]
[{"$f":"Table_BPU[[#This Row],[Risk Area]]&\" \"&Table_BPU[[#This Row],[BPU Description]]","v":"Special Area 04 Corn - Processing"},"Special Area 04",73,"Corn - Processing",127.04,608.55999999999995,532.39,937.16,1131.94,1954.49]
[{"$f":"Table_BPU[[#This Row],[Risk Area]]&\" \"&Table_BPU[[#This Row],[BPU Description]]","v":"Spirit River Corn - Processing"},"Spirit River",73,"Corn - Processing",127.04,608.55999999999995,532.39,937.16,1131.94,1954.49]
[{"$f":"Table_BPU[[#This Row],[Risk Area]]&\" \"&Table_BPU[[#This Row],[BPU Description]]","v":"St. Paul Corn - Processing"},"St. Paul",73,"Corn - Processing",127.04,608.55999999999995,532.39,937.16,1131.94,1954.49]
[{"$f":"Table_BPU[[#This Row],[Risk Area]]&\" \"&Table_BPU[[#This Row],[BPU Description]]","v":"Starland Corn - Processing"},"Starland",73,"Corn - Processing",127.04,608.55999999999995,532.39,937.16,1131.94,1954.49]
[{"$f":"Table_BPU[[#This Row],[Risk Area]]&\" \"&Table_BPU[[#This Row],[BPU Description]]","v":"Stettler Corn - Processing"},"Stettler",73,"Corn - Processing",127.04,608.55999999999995,532.39,937.16,1131.94,1954.49]
[{"$f":"Table_BPU[[#This Row],[Risk Area]]&\" \"&Table_BPU[[#This Row],[BPU Description]]","v":"Strathcona County Corn - Processing"},"Strathcona County",73,"Corn - Processing",127.04,608.55999999999995,532.39,937.16,1131.94,1954.49]
[{"$f":"Table_BPU[[#This Row],[Risk Area]]&\" \"&Table_BPU[[#This Row],[BPU Description]]","v":"Sturgeon Corn - Processing"},"Sturgeon",73,"Corn - Processing",127.04,608.55999999999995,532.39,937.16,1131.94,1954.49]
[{"$f":"Table_BPU[[#This Row],[Risk Area]]&\" \"&Table_BPU[[#This Row],[BPU Description]]","v":"Taber Corn - Processing"},"Taber",73,"Corn - Processing",127.04,608.55999999999995,532.39,937.16,1131.94,1954.49]
[{"$f":"Table_BPU[[#This Row],[Risk Area]]&\" \"&Table_BPU[[#This Row],[BPU Description]]","v":"Thorhild Corn - Processing"},"Thorhild",73,"Corn - Processing",127.04,608.55999999999995,532.39,937.16,1131.94,1954.49]
[{"$f":"Table_BPU[[#This Row],[Risk Area]]&\" \"&Table_BPU[[#This Row],[BPU Description]]","v":"Two Hills Corn - Processing"},"Two Hills",73,"Corn - Processing",127.04,608.55999999999995,532.39,937.16,1131.94,1954.49]
[{"$f":"Table_BPU[[#This Row],[Risk Area]]&\" \"&Table_BPU[[#This Row],[BPU Description]]","v":"Vermilion River Corn - Processing"},"Vermilion River",73,"Corn - Processing",127.04,608.55999999999995,532.39,937.16,1131.94,1954.49]
[{"$f":"Table_BPU[[#This Row],[Risk Area]]&\" \"&Table_BPU[[#This Row],[BPU Description]]","v":"Vulcan Corn - Processing"},"Vulcan",73,"Corn - Processing",127.04,608.55999999999995,532.39,937.16,1131.94,1954.49]
[{"$f":"Table_BPU[[#This Row],[Risk Area]]&\" \"&Table_BPU[[#This Row],[BPU Description]]","v":"Wainwright Corn - Processing"},"Wainwright",73,"Corn - Processing",127.04,608.55999999999995,532.39,937.16,1131.94,1954.49]
[{"$f":"Table_BPU[[#This Row],[Risk Area]]&\" \"&Table_BPU[[#This Row],[BPU Description]]","v":"Warner Corn - Processing"},"Warner",73,"Corn - Processing",127.04,608.55999999999995,532.39,937.16,1131.94,1954.49]
[{"$f":"Table_BPU[[#This Row],[Risk Area]]&\" \"&Table_BPU[[#This Row],[BPU Description]]","v":"Westlock Corn - Processing"},"Westlock",73,"Corn - Processing",127.04,608.55999999999995,532.39,937.16,1131.94,1954.49]
[{"$f":"Table_BPU[[#This Row],[Risk Area]]&\" \"&Table_BPU[[#This Row],[BPU Description]]","v":"Wetaskiwin Corn - Processing"},"Wetaskiwin",73,"Corn - Processing",127.04,608.55999999999995,532.39,937.16,1131.94,1954.49]
[{"$f":"Table_BPU[[#This Row],[Risk Area]]&\" \"&Table_BPU[[#This Row],[BPU Description]]","v":"Wheatland Corn - Processing"},"Wheatland",73,"Corn - Processing",127.04,608.55999999999995,532.39,937.16,1131.94,1954.49]
[{"$f":"Table_BPU[[#This Row],[Risk Area]]&\" \"&Table_BPU[[#This Row],[BPU Description]]","v":"Willow Creek Corn - Processing"},"Willow Creek",73,"Corn - Processing",127.04,608.55999999999995,532.39,937.16,1131.94,1954.49]
[{"$f":"Table_BPU[[#This Row],[Risk Area]]&\" \"&Table_BPU[[#This Row],[BPU Description]]","v":"Wood Buffalo Corn - Processing"},"Wood Buffalo",73,"Corn - Processing",127.04,608.55999999999995,532.39,937.16,1131.94,1954.49]
[{"$f":"Table_BPU[[#This Row],[Risk Area]]&\" \"&Table_BPU[[#This Row],[BPU Description]]","v":"Woodlands Corn - Processing"},"Woodlands",73,"Corn - Processing",127.04,608.55999999999995,532.39,937.16,1131.94,1954.49]
[{"$f":"Table_BPU[[#This Row],[Risk Area]]&\" \"&Table_BPU[[#This Row],[BPU Description]]","v":"Yellowhead Corn - Processing"},"Yellowhead",73,"Corn - Processing",127.04,608.55999999999995,532.39,937.16,1131.94,1954.49]
[{"$f":"Table_BPU[[#This Row],[Risk Area]]&\" \"&Table_BPU[[#This Row],[BPU Description]]","v":"Acadia Corn - Sweet (Fresh)"},"Acadia",72,"Corn - Sweet (Fresh)",2322.94,1636.48,1912.35,3507.65,4431.18,3865.38]
[{"$f":"Table_BPU[[#This Row],[Risk Area]]&\" \"&Table_BPU[[#This Row],[BPU Description]]","v":"Athabasca Corn - Sweet (Fresh)"},"Athabasca",72,"Corn - Sweet (Fresh)",2322.94,1636.48,1912.35,3507.65,4431.18,3865.38]
[{"$f":"Table_BPU[[#This Row],[Risk Area]]&\" \"&Table_BPU[[#This Row],[BPU Description]]","v":"Barrhead Corn - Sweet (Fresh)"},"Barrhead",72,"Corn - Sweet (Fresh)",2322.94,1636.48,1912.35,3507.65,4431.18,3865.38]
[{"$f":"Table_BPU[[#This Row],[Risk Area]]&\" \"&Table_BPU[[#This Row],[BPU Description]]","v":"Beaver Corn - Sweet (Fresh)"},"Beaver",72,"Corn - Sweet (Fresh)",2322.94,1636.48,1912.35,3507.65,4431.18,3865.38]
[{"$f":"Table_BPU[[#This Row],[Risk Area]]&\" \"&Table_BPU[[#This Row],[BPU Description]]","v":"Big Lakes Corn - Sweet (Fresh)"},"Big Lakes",72,"Corn - Sweet (Fresh)",2322.94,1636.48,1912.35,3507.65,4431.18,3865.38]
[{"$f":"Table_BPU[[#This Row],[Risk Area]]&\" \"&Table_BPU[[#This Row],[BPU Description]]","v":"Bighorn Corn - Sweet (Fresh)"},"Bighorn",72,"Corn - Sweet (Fresh)",2322.94,1636.48,1912.35,3507.65,4431.18,3865.38]
[{"$f":"Table_BPU[[#This Row],[Risk Area]]&\" \"&Table_BPU[[#This Row],[BPU Description]]","v":"Birch Hills Corn - Sweet (Fresh)"},"Birch Hills",72,"Corn - Sweet (Fresh)",2322.94,1636.48,1912.35,3507.65,4431.18,3865.38]
[{"$f":"Table_BPU[[#This Row],[Risk Area]]&\" \"&Table_BPU[[#This Row],[BPU Description]]","v":"Bonnyville Corn - Sweet (Fresh)"},"Bonnyville",72,"Corn - Sweet (Fresh)",2322.94,1636.48,1912.35,3507.65,4431.18,3865.38]
[{"$f":"Table_BPU[[#This Row],[Risk Area]]&\" \"&Table_BPU[[#This Row],[BPU Description]]","v":"Brazeau Corn - Sweet (Fresh)"},"Brazeau",72,"Corn - Sweet (Fresh)",2322.94,1636.48,1912.35,3507.65,4431.18,3865.38]
[{"$f":"Table_BPU[[#This Row],[Risk Area]]&\" \"&Table_BPU[[#This Row],[BPU Description]]","v":"Camrose Corn - Sweet (Fresh)"},"Camrose",72,"Corn - Sweet (Fresh)",2322.94,1636.48,1912.35,3507.65,4431.18,3865.38]
[{"$f":"Table_BPU[[#This Row],[Risk Area]]&\" \"&Table_BPU[[#This Row],[BPU Description]]","v":"Cardston Corn - Sweet (Fresh)"},"Cardston",72,"Corn - Sweet (Fresh)",2322.94,1636.48,1912.35,3507.65,4431.18,3865.38]
[{"$f":"Table_BPU[[#This Row],[Risk Area]]&\" \"&Table_BPU[[#This Row],[BPU Description]]","v":"Clear Hills Corn - Sweet (Fresh)"},"Clear Hills",72,"Corn - Sweet (Fresh)",2322.94,1636.48,1912.35,3507.65,4431.18,3865.38]
[{"$f":"Table_BPU[[#This Row],[Risk Area]]&\" \"&Table_BPU[[#This Row],[BPU Description]]","v":"Clearwater Corn - Sweet (Fresh)"},"Clearwater",72,"Corn - Sweet (Fresh)",2322.94,1636.48,1912.35,3507.65,4431.18,3865.38]
[{"$f":"Table_BPU[[#This Row],[Risk Area]]&\" \"&Table_BPU[[#This Row],[BPU Description]]","v":"Cypress Corn - Sweet (Fresh)"},"Cypress",72,"Corn - Sweet (Fresh)",2322.94,1636.48,1912.35,3507.65,4431.18,3865.38]
[{"$f":"Table_BPU[[#This Row],[Risk Area]]&\" \"&Table_BPU[[#This Row],[BPU Description]]","v":"Edmonton Corn - Sweet (Fresh)"},"Edmonton",72,"Corn - Sweet (Fresh)",2322.94,1636.48,1912.35,3507.65,4431.18,3865.38]
[{"$f":"Table_BPU[[#This Row],[Risk Area]]&\" \"&Table_BPU[[#This Row],[BPU Description]]","v":"Fairview Corn - Sweet (Fresh)"},"Fairview",72,"Corn - Sweet (Fresh)",2322.94,1636.48,1912.35,3507.65,4431.18,3865.38]
[{"$f":"Table_BPU[[#This Row],[Risk Area]]&\" \"&Table_BPU[[#This Row],[BPU Description]]","v":"Flagstaff Corn - Sweet (Fresh)"},"Flagstaff",72,"Corn - Sweet (Fresh)",2322.94,1636.48,1912.35,3507.65,4431.18,3865.38]
[{"$f":"Table_BPU[[#This Row],[Risk Area]]&\" \"&Table_BPU[[#This Row],[BPU Description]]","v":"Foothills Corn - Sweet (Fresh)"},"Foothills",72,"Corn - Sweet (Fresh)",2322.94,1636.48,1912.35,3507.65,4431.18,3865.38]
[{"$f":"Table_BPU[[#This Row],[Risk Area]]&\" \"&Table_BPU[[#This Row],[BPU Description]]","v":"Forty Mile Corn - Sweet (Fresh)"},"Forty Mile",72,"Corn - Sweet (Fresh)",2322.94,1636.48,1912.35,3507.65,4431.18,3865.38]
[{"$f":"Table_BPU[[#This Row],[Risk Area]]&\" \"&Table_BPU[[#This Row],[BPU Description]]","v":"Grande Prairie Corn - Sweet (Fresh)"},"Grande Prairie",72,"Corn - Sweet (Fresh)",2322.94,1636.48,1912.35,3507.65,4431.18,3865.38]
[{"$f":"Table_BPU[[#This Row],[Risk Area]]&\" \"&Table_BPU[[#This Row],[BPU Description]]","v":"Greenview Corn - Sweet (Fresh)"},"Greenview",72,"Corn - Sweet (Fresh)",2322.94,1636.48,1912.35,3507.65,4431.18,3865.38]
[{"$f":"Table_BPU[[#This Row],[Risk Area]]&\" \"&Table_BPU[[#This Row],[BPU Description]]","v":"Kneehill Corn - Sweet (Fresh)"},"Kneehill",72,"Corn - Sweet (Fresh)",2322.94,1636.48,1912.35,3507.65,4431.18,3865.38]
[{"$f":"Table_BPU[[#This Row],[Risk Area]]&\" \"&Table_BPU[[#This Row],[BPU Description]]","v":"Lac La Biche Corn - Sweet (Fresh)"},"Lac La Biche",72,"Corn - Sweet (Fresh)",2322.94,1636.48,1912.35,3507.65,4431.18,3865.38]
[{"$f":"Table_BPU[[#This Row],[Risk Area]]&\" \"&Table_BPU[[#This Row],[BPU Description]]","v":"Lac Ste. Anne County Corn - Sweet (Fresh)"},"Lac Ste. Anne County",72,"Corn - Sweet (Fresh)",2322.94,1636.48,1912.35,3507.65,4431.18,3865.38]
[{"$f":"Table_BPU[[#This Row],[Risk Area]]&\" \"&Table_BPU[[#This Row],[BPU Description]]","v":"Lacombe Corn - Sweet (Fresh)"},"Lacombe",72,"Corn - Sweet (Fresh)",2322.94,1636.48,1912.35,3507.65,4431.18,3865.38]
[{"$f":"Table_BPU[[#This Row],[Risk Area]]&\" \"&Table_BPU[[#This Row],[BPU Description]]","v":"Lamont Corn - Sweet (Fresh)"},"Lamont",72,"Corn - Sweet (Fresh)",2322.94,1636.48,1912.35,3507.65,4431.18,3865.38]
[{"$f":"Table_BPU[[#This Row],[Risk Area]]&\" \"&Table_BPU[[#This Row],[BPU Description]]","v":"Leduc Corn - Sweet (Fresh)"},"Leduc",72,"Corn - Sweet (Fresh)",2322.94,1636.48,1912.35,3507.65,4431.18,3865.38]
[{"$f":"Table_BPU[[#This Row],[Risk Area]]&\" \"&Table_BPU[[#This Row],[BPU Description]]","v":"Lesser Slave River Corn - Sweet (Fresh)"},"Lesser Slave River",72,"Corn - Sweet (Fresh)",2322.94,1636.48,1912.35,3507.65,4431.18,3865.38]
[{"$f":"Table_BPU[[#This Row],[Risk Area]]&\" \"&Table_BPU[[#This Row],[BPU Description]]","v":"Lethbridge Corn - Sweet (Fresh)"},"Lethbridge",72,"Corn - Sweet (Fresh)",2322.94,1636.48,1912.35,3507.65,4431.18,3865.38]
[{"$f":"Table_BPU[[#This Row],[Risk Area]]&\" \"&Table_BPU[[#This Row],[BPU Description]]","v":"Mackenzie Corn - Sweet (Fresh)"},"Mackenzie",72,"Corn - Sweet (Fresh)",2322.94,1636.48,1912.35,3507.65,4431.18,3865.38]
[{"$f":"Table_BPU[[#This Row],[Risk Area]]&\" \"&Table_BPU[[#This Row],[BPU Description]]","v":"Minburn Corn - Sweet (Fresh)"},"Minburn",72,"Corn - Sweet (Fresh)",2322.94,1636.48,1912.35,3507.65,4431.18,3865.38]
[{"$f":"Table_BPU[[#This Row],[Risk Area]]&\" \"&Table_BPU[[#This Row],[BPU Description]]","v":"Mountain View Corn - Sweet (Fresh)"},"Mountain View",72,"Corn - Sweet (Fresh)",2322.94,1636.48,1912.35,3507.65,4431.18,3865.38]
[{"$f":"Table_BPU[[#This Row],[Risk Area]]&\" \"&Table_BPU[[#This Row],[BPU Description]]","v":"Newell Corn - Sweet (Fresh)"},"Newell",72,"Corn - Sweet (Fresh)",2322.94,1636.48,1912.35,3507.65,4431.18,3865.38]
[{"$f":"Table_BPU[[#This Row],[Risk Area]]&\" \"&Table_BPU[[#This Row],[BPU Description]]","v":"Northern Lights Corn - Sweet (Fresh)"},"Northern Lights",72,"Corn - Sweet (Fresh)",2322.94,1636.48,1912.35,3507.65,4431.18,3865.38]
[{"$f":"Table_BPU[[#This Row],[Risk Area]]&\" \"&Table_BPU[[#This Row],[BPU Description]]","v":"Northern Sunrise Corn - Sweet (Fresh)"},"Northern Sunrise",72,"Corn - Sweet (Fresh)",2322.94,1636.48,1912.35,3507.65,4431.18,3865.38]
[{"$f":"Table_BPU[[#This Row],[Risk Area]]&\" \"&Table_BPU[[#This Row],[BPU Description]]","v":"Opportunity Corn - Sweet (Fresh)"},"Opportunity",72,"Corn - Sweet (Fresh)",2322.94,1636.48,1912.35,3507.65,4431.18,3865.38]
[{"$f":"Table_BPU[[#This Row],[Risk Area]]&\" \"&Table_BPU[[#This Row],[BPU Description]]","v":"Paintearth Corn - Sweet (Fresh)"},"Paintearth",72,"Corn - Sweet (Fresh)",2322.94,1636.48,1912.35,3507.65,4431.18,3865.38]
[{"$f":"Table_BPU[[#This Row],[Risk Area]]&\" \"&Table_BPU[[#This Row],[BPU Description]]","v":"Parkland County Corn - Sweet (Fresh)"},"Parkland County",72,"Corn - Sweet (Fresh)",2322.94,1636.48,1912.35,3507.65,4431.18,3865.38]
[{"$f":"Table_BPU[[#This Row],[Risk Area]]&\" \"&Table_BPU[[#This Row],[BPU Description]]","v":"Peace Corn - Sweet (Fresh)"},"Peace",72,"Corn - Sweet (Fresh)",2322.94,1636.48,1912.35,3507.65,4431.18,3865.38]
[{"$f":"Table_BPU[[#This Row],[Risk Area]]&\" \"&Table_BPU[[#This Row],[BPU Description]]","v":"Pincher Creek Corn - Sweet (Fresh)"},"Pincher Creek",72,"Corn - Sweet (Fresh)",2322.94,1636.48,1912.35,3507.65,4431.18,3865.38]
[{"$f":"Table_BPU[[#This Row],[Risk Area]]&\" \"&Table_BPU[[#This Row],[BPU Description]]","v":"Ponoka Corn - Sweet (Fresh)"},"Ponoka",72,"Corn - Sweet (Fresh)",2322.94,1636.48,1912.35,3507.65,4431.18,3865.38]
[{"$f":"Table_BPU[[#This Row],[Risk Area]]&\" \"&Table_BPU[[#This Row],[BPU Description]]","v":"Provost Corn - Sweet (Fresh)"},"Provost",72,"Corn - Sweet (Fresh)",2322.94,1636.48,1912.35,3507.65,4431.18,3865.38]
[{"$f":"Table_BPU[[#This Row],[Risk Area]]&\" \"&Table_BPU[[#This Row],[BPU Description]]","v":"Ranchland Corn - Sweet (Fresh)"},"Ranchland",72,"Corn - Sweet (Fresh)",2322.94,1636.48,1912.35,3507.65,4431.18,3865.38]
[{"$f":"Table_BPU[[#This Row],[Risk Area]]&\" \"&Table_BPU[[#This Row],[BPU Description]]","v":"Red Deer Corn - Sweet (Fresh)"},"Red Deer",72,"Corn - Sweet (Fresh)",2322.94,1636.48,1912.35,3507.65,4431.18,3865.38]
[{"$f":"Table_BPU[[#This Row],[Risk Area]]&\" \"&Table_BPU[[#This Row],[BPU Description]]","v":"Rocky View Corn - Sweet (Fresh)"},"Rocky View",72,"Corn - Sweet (Fresh)",2322.94,1636.48,1912.35,3507.65,4431.18,3865.38]
[{"$f":"Table_BPU[[#This Row],[Risk Area]]&\" \"&Table_BPU[[#This Row],[BPU Description]]","v":"Saddle Hills Corn - Sweet (Fresh)"},"Saddle Hills",72,"Corn - Sweet (Fresh)",2322.94,1636.48,1912.35,3507.65,4431.18,3865.38]
[{"$f":"Table_BPU[[#This Row],[Risk Area]]&\" \"&Table_BPU[[#This Row],[BPU Description]]","v":"Smoky Lake Corn - Sweet (Fresh)"},"Smoky Lake",72,"Corn - Sweet (Fresh)",2322.94,1636.48,1912.35,3507.65,4431.18,3865.38]
[{"$f":"Table_BPU[[#This Row],[Risk Area]]&\" \"&Table_BPU[[#This Row],[BPU Description]]","v":"Smoky River Corn - Sweet (Fresh)"},"Smoky River",72,"Corn - Sweet (Fresh)",2322.94,1636.48,1912.35,3507.65,4431.18,3865.38]
[{"$f":"Table_BPU[[#This Row],[Risk Area]]&\" \"&Table_BPU[[#This Row],[BPU Description]]","v":"Special Area 02 Corn - Sweet (Fresh)"},"Special Area 02",72,"Corn - Sweet (Fresh)",2322.94,1636.48,1912.35,3507.65,4431.18,3865.38]
[{"$f":"Table_BPU[[#This Row],[Risk Area]]&\" \"&Table_BPU[[#This Row],[BPU Description]]","v":"Special Area 03 Corn - Sweet (Fresh)"},"Special Area 03",72,"Corn - Sweet (Fresh)",2322.94,1636.48,1912.35,3507.65,4431.18,3865.38]
[{"$f":"Table_BPU[[#This Row],[Risk Area]]&\" \"&Table_BPU[[#This Row],[BPU Description]]","v":"Special Area 04 Corn - Sweet (Fresh)"},"Special Area 04",72,"Corn - Sweet (Fresh)",2322.94,1636.48,1912.35,3507.65,4431.18,3865.38]
[{"$f":"Table_BPU[[#This Row],[Risk Area]]&\" \"&Table_BPU[[#This Row],[BPU Description]]","v":"Spirit River Corn - Sweet (Fresh)"},"Spirit River",72,"Corn - Sweet (Fresh)",2322.94,1636.48,1912.35,3507.65,4431.18,3865.38]
[{"$f":"Table_BPU[[#This Row],[Risk Area]]&\" \"&Table_BPU[[#This Row],[BPU Description]]","v":"St. Paul Corn - Sweet (Fresh)"},"St. Paul",72,"Corn - Sweet (Fresh)",2322.94,1636.48,1912.35,3507.65,4431.18,3865.38]
[{"$f":"Table_BPU[[#This Row],[Risk Area]]&\" \"&Table_BPU[[#This Row],[BPU Description]]","v":"Starland Corn - Sweet (Fresh)"},"Starland",72,"Corn - Sweet (Fresh)",2322.94,1636.48,1912.35,3507.65,4431.18,3865.38]
[{"$f":"Table_BPU[[#This Row],[Risk Area]]&\" \"&Table_BPU[[#This Row],[BPU Description]]","v":"Stettler Corn - Sweet (Fresh)"},"Stettler",72,"Corn - Sweet (Fresh)",2322.94,1636.48,1912.35,3507.65,4431.18,3865.38]
[{"$f":"Table_BPU[[#This Row],[Risk Area]]&\" \"&Table_BPU[[#This Row],[BPU Description]]","v":"Strathcona County Corn - Sweet (Fresh)"},"Strathcona County",72,"Corn - Sweet (Fresh)",2322.94,1636.48,1912.35,3507.65,4431.18,3865.38]
[{"$f":"Table_BPU[[#This Row],[Risk Area]]&\" \"&Table_BPU[[#This Row],[BPU Description]]","v":"Sturgeon Corn - Sweet (Fresh)"},"Sturgeon",72,"Corn - Sweet (Fresh)",2322.94,1636.48,1912.35,3507.65,4431.18,3865.38]
[{"$f":"Table_BPU[[#This Row],[Risk Area]]&\" \"&Table_BPU[[#This Row],[BPU Description]]","v":"Taber Corn - Sweet (Fresh)"},"Taber",72,"Corn - Sweet (Fresh)",2322.94,1636.48,1912.35,3507.65,4431.18,3865.38]
[{"$f":"Table_BPU[[#This Row],[Risk Area]]&\" \"&Table_BPU[[#This Row],[BPU Description]]","v":"Thorhild Corn - Sweet (Fresh)"},"Thorhild",72,"Corn - Sweet (Fresh)",2322.94,1636.48,1912.35,3507.65,4431.18,3865.38]
[{"$f":"Table_BPU[[#This Row],[Risk Area]]&\" \"&Table_BPU[[#This Row],[BPU Description]]","v":"Two Hills Corn - Sweet (Fresh)"},"Two Hills",72,"Corn - Sweet (Fresh)",2322.94,1636.48,1912.35,3507.65,4431.18,3865.38]
[{"$f":"Table_BPU[[#This Row],[Risk Area]]&\" \"&Table_BPU[[#This Row],[BPU Description]]","v":"Vermilion River Corn - Sweet (Fresh)"},"Vermilion River",72,"Corn - Sweet (Fresh)",2322.94,1636.48,1912.35,3507.65,4431.18,3865.38]
[{"$f":"Table_BPU[[#This Row],[Risk Area]]&\" \"&Table_BPU[[#This Row],[BPU Description]]","v":"Vulcan Corn - Sweet (Fresh)"},"Vulcan",72,"Corn - Sweet (Fresh)",2322.94,1636.48,1912.35,3507.65,4431.18,3865.38]
[{"$f":"Table_BPU[[#This Row],[Risk Area]]&\" \"&Table_BPU[[#This Row],[BPU Description]]","v":"Wainwright Corn - Sweet (Fresh)"},"Wainwright",72,"Corn - Sweet (Fresh)",2322.94,1636.48,1912.35,3507.65,4431.18,3865.38]
[{"$f":"Table_BPU[[#This Row],[Risk Area]]&\" \"&Table_BPU[[#This Row],[BPU Description]]","v":"Warner Corn - Sweet (Fresh)"},"Warner",72,"Corn - Sweet (Fresh)",2322.94,1636.48,1912.35,3507.65,4431.18,3865.38]
[{"$f":"Table_BPU[[#This Row],[Risk Area]]&\" \"&Table_BPU[[#This Row],[BPU Description]]","v":"Westlock Corn - Sweet (Fresh)"},"Westlock",72,"Corn - Sweet (Fresh)",2322.94,1636.48,1912.35,3507.65,4431.18,3865.38]
[{"$f":"Table_BPU[[#This Row],[Risk Area]]&\" \"&Table_BPU[[#This Row],[BPU Description]]","v":"Wetaskiwin Corn - Sweet (Fresh)"},"Wetaskiwin",72,"Corn - Sweet (Fresh)",2322.94,1636.48,1912.35,3507.65,4431.18,3865.38]
[{"$f":"Table_BPU[[#This Row],[Risk Area]]&\" \"&Table_BPU[[#This Row],[BPU Description]]","v":"Wheatland Corn - Sweet (Fresh)"},"Wheatland",72,"Corn - Sweet (Fresh)",2322.94,1636.48,1912.35,3507.65,4431.18,3865.38]
[{"$f":"Table_BPU[[#This Row],[Risk Area]]&\" \"&Table_BPU[[#This Row],[BPU Description]]","v":"Willow Creek Corn - Sweet (Fresh)"},"Willow Creek",72,"Corn - Sweet (Fresh)",2322.94,1636.48,1912.35,3507.65,4431.18,3865.38]
[{"$f":"Table_BPU[[#This Row],[Risk Area]]&\" \"&Table_BPU[[#This Row],[BPU Description]]","v":"Wood Buffalo Corn - Sweet (Fresh)"},"Wood Buffalo",72,"Corn - Sweet (Fresh)",2322.94,1636.48,1912.35,3507.65,4431.18,3865.38]
[{"$f":"Table_BPU[[#This Row],[Risk Area]]&\" \"&Table_BPU[[#This Row],[BPU Description]]","v":"Woodlands Corn - Sweet (Fresh)"},"Woodlands",72,"Corn - Sweet (Fresh)",2322.94,1636.48,1912.35,3507.65,4431.18,3865.38]
[{"$f":"Table_BPU[[#This Row],[Risk Area]]&\" \"&Table_BPU[[#This Row],[BPU Description]]","v":"Yellowhead Corn - Sweet (Fresh)"},"Yellowhead",72,"Corn - Sweet (Fresh)",2322.94,1636.48,1912.35,3507.65,4431.18,3865.38]
[{"$f":"Table_BPU[[#This Row],[Risk Area]]&\" \"&Table_BPU[[#This Row],[BPU Description]]","v":"Acadia Crop Basket"},"Acadia",66,"Crop Basket",110.19,93,129.16,171.31,28.42,47.19]
[{"$f":"Table_BPU[[#This Row],[Risk Area]]&\" \"&Table_BPU[[#This Row],[BPU Description]]","v":"Athabasca Crop Basket"},"Athabasca",66,"Crop Basket",251.12,191.82,389.12,754.47,366.55,216.74]
[{"$f":"Table_BPU[[#This Row],[Risk Area]]&\" \"&Table_BPU[[#This Row],[BPU Description]]","v":"Barrhead Crop Basket"},"Barrhead",66,"Crop Basket",252.71,223.38,411.92,704.16,416.99,254.71]
[{"$f":"Table_BPU[[#This Row],[Risk Area]]&\" \"&Table_BPU[[#This Row],[BPU Description]]","v":"Beaver Crop Basket"},"Beaver",66,"Crop Basket",245.75,225.69,350.61,589.72,406.79,198.12]
[{"$f":"Table_BPU[[#This Row],[Risk Area]]&\" \"&Table_BPU[[#This Row],[BPU Description]]","v":"Big Lakes Crop Basket"},"Big Lakes",66,"Crop Basket",262.26,175.05,452.71,739.63,449.45,311.61]
[{"$f":"Table_BPU[[#This Row],[Risk Area]]&\" \"&Table_BPU[[#This Row],[BPU Description]]","v":"Bighorn Crop Basket"},"Bighorn",66,"Crop Basket",319.52,298.33,395.74,575.69000000000005,322.20999999999998,212.84]
[{"$f":"Table_BPU[[#This Row],[Risk Area]]&\" \"&Table_BPU[[#This Row],[BPU Description]]","v":"Birch Hills Crop Basket"},"Birch Hills",66,"Crop Basket",297.52999999999997,297.19,355.28,660.71,504.13,320.64999999999998]
[{"$f":"Table_BPU[[#This Row],[Risk Area]]&\" \"&Table_BPU[[#This Row],[BPU Description]]","v":"Bonnyville Crop Basket"},"Bonnyville",66,"Crop Basket",295.47000000000003,242.48,340.56,712.12,462.58,192.06]
[{"$f":"Table_BPU[[#This Row],[Risk Area]]&\" \"&Table_BPU[[#This Row],[BPU Description]]","v":"Brazeau Crop Basket"},"Brazeau",66,"Crop Basket",210.36,128.58000000000001,290,441.42,287.83,163.30000000000001]
[{"$f":"Table_BPU[[#This Row],[Risk Area]]&\" \"&Table_BPU[[#This Row],[BPU Description]]","v":"Camrose Crop Basket"},"Camrose",66,"Crop Basket",264.83999999999997,258.87,497.53,693.21,490.09,235.59]
[{"$f":"Table_BPU[[#This Row],[Risk Area]]&\" \"&Table_BPU[[#This Row],[BPU Description]]","v":"Cardston Crop Basket"},"Cardston",66,"Crop Basket",144.91999999999999,341.68,253.32,427.65,225.14,180.85]
[{"$f":"Table_BPU[[#This Row],[Risk Area]]&\" \"&Table_BPU[[#This Row],[BPU Description]]","v":"Clear Hills Crop Basket"},"Clear Hills",66,"Crop Basket",195.5,170.47,265.45999999999998,493.96,249.31,233.78]
[{"$f":"Table_BPU[[#This Row],[Risk Area]]&\" \"&Table_BPU[[#This Row],[BPU Description]]","v":"Clearwater Crop Basket"},"Clearwater",66,"Crop Basket",260.86,272.29000000000002,486.03,571.1,415.68,240]
[{"$f":"Table_BPU[[#This Row],[Risk Area]]&\" \"&Table_BPU[[#This Row],[BPU Description]]","v":"Cypress Crop Basket"},"Cypress",66,"Crop Basket",134.47,154.91999999999999,157.77000000000001,284.52,91.75,78.22]
[{"$f":"Table_BPU[[#This Row],[Risk Area]]&\" \"&Table_BPU[[#This Row],[BPU Description]]","v":"Edmonton Crop Basket"},"Edmonton",66,"Crop Basket",323.38,258.64,449.56,744.14,493.07,305.31]
[{"$f":"Table_BPU[[#This Row],[Risk Area]]&\" \"&Table_BPU[[#This Row],[BPU Description]]","v":"Fairview Crop Basket"},"Fairview",66,"Crop Basket",271.44,310.24,345.85,590.09,324.19,228.78]
[{"$f":"Table_BPU[[#This Row],[Risk Area]]&\" \"&Table_BPU[[#This Row],[BPU Description]]","v":"Flagstaff Crop Basket"},"Flagstaff",66,"Crop Basket",266.44,279.94,381.75,618.39,417.95,188.15]
[{"$f":"Table_BPU[[#This Row],[Risk Area]]&\" \"&Table_BPU[[#This Row],[BPU Description]]","v":"Foothills Crop Basket"},"Foothills",66,"Crop Basket",217.75,315.39999999999998,326.69,542.27,266.06,205.01]
[{"$f":"Table_BPU[[#This Row],[Risk Area]]&\" \"&Table_BPU[[#This Row],[BPU Description]]","v":"Forty Mile Crop Basket"},"Forty Mile",66,"Crop Basket",111.24,226.23,167.37,295.61,90.66,59.33]
[{"$f":"Table_BPU[[#This Row],[Risk Area]]&\" \"&Table_BPU[[#This Row],[BPU Description]]","v":"Grande Prairie Crop Basket"},"Grande Prairie",66,"Crop Basket",219.01,197.3,310.43,501.78,415.61,143.16999999999999]
[{"$f":"Table_BPU[[#This Row],[Risk Area]]&\" \"&Table_BPU[[#This Row],[BPU Description]]","v":"Greenview Crop Basket"},"Greenview",66,"Crop Basket",258.42,186.9,357.54,698.38,465.79,275.04000000000002]
[{"$f":"Table_BPU[[#This Row],[Risk Area]]&\" \"&Table_BPU[[#This Row],[BPU Description]]","v":"Kneehill Crop Basket"},"Kneehill",66,"Crop Basket",340.2,298.77,362.52,678.58,191.75,124.52]
[{"$f":"Table_BPU[[#This Row],[Risk Area]]&\" \"&Table_BPU[[#This Row],[BPU Description]]","v":"Lac La Biche Crop Basket"},"Lac La Biche",66,"Crop Basket",295.47000000000003,242.48,340.56,712.12,462.58,192.06]
[{"$f":"Table_BPU[[#This Row],[Risk Area]]&\" \"&Table_BPU[[#This Row],[BPU Description]]","v":"Lac Ste. Anne County Crop Basket"},"Lac Ste. Anne County",66,"Crop Basket",229.63,162.44999999999999,313.51,615.91,375.13,200.14]
[{"$f":"Table_BPU[[#This Row],[Risk Area]]&\" \"&Table_BPU[[#This Row],[BPU Description]]","v":"Lacombe Crop Basket"},"Lacombe",66,"Crop Basket",310.83,340.59,483.87,733.76,528.76,251.58]
[{"$f":"Table_BPU[[#This Row],[Risk Area]]&\" \"&Table_BPU[[#This Row],[BPU Description]]","v":"Lamont Crop Basket"},"Lamont",66,"Crop Basket",244.97,174.58,404.84,640.1,435.48,231.12]
[{"$f":"Table_BPU[[#This Row],[Risk Area]]&\" \"&Table_BPU[[#This Row],[BPU Description]]","v":"Leduc Crop Basket"},"Leduc",66,"Crop Basket",295.45,223.18,466.13,708.88,421.28,249.64]
[{"$f":"Table_BPU[[#This Row],[Risk Area]]&\" \"&Table_BPU[[#This Row],[BPU Description]]","v":"Lesser Slave River Crop Basket"},"Lesser Slave River",66,"Crop Basket",142.6,149.1,399.1,697.6,347.29,252.65]
[{"$f":"Table_BPU[[#This Row],[Risk Area]]&\" \"&Table_BPU[[#This Row],[BPU Description]]","v":"Lethbridge Crop Basket"},"Lethbridge",66,"Crop Basket",130.88,356.65,230.67,404.86,129.69,108.57]
[{"$f":"Table_BPU[[#This Row],[Risk Area]]&\" \"&Table_BPU[[#This Row],[BPU Description]]","v":"Mackenzie Crop Basket"},"Mackenzie",66,"Crop Basket",202.86,270.47000000000003,504.08,695.2,272.45999999999998,154.84]
[{"$f":"Table_BPU[[#This Row],[Risk Area]]&\" \"&Table_BPU[[#This Row],[BPU Description]]","v":"Minburn Crop Basket"},"Minburn",66,"Crop Basket",280.74,280.72000000000003,356.37,711.69,416.61,241.52]
[{"$f":"Table_BPU[[#This Row],[Risk Area]]&\" \"&Table_BPU[[#This Row],[BPU Description]]","v":"Mountain View Crop Basket"},"Mountain View",66,"Crop Basket",329.64,317.86,449.57,708.34,525.9,285.36]
[{"$f":"Table_BPU[[#This Row],[Risk Area]]&\" \"&Table_BPU[[#This Row],[BPU Description]]","v":"Newell Crop Basket"},"Newell",66,"Crop Basket",148.38999999999999,254.54,132.56,363,66.7,52.47]
[{"$f":"Table_BPU[[#This Row],[Risk Area]]&\" \"&Table_BPU[[#This Row],[BPU Description]]","v":"Northern Lights Crop Basket"},"Northern Lights",66,"Crop Basket",222.97,169.2,408.08,645.63,278.64,285.20999999999998]
[{"$f":"Table_BPU[[#This Row],[Risk Area]]&\" \"&Table_BPU[[#This Row],[BPU Description]]","v":"Northern Sunrise Crop Basket"},"Northern Sunrise",66,"Crop Basket",264.52999999999997,189.7,391.89,747.38,398.04,280.04000000000002]
[{"$f":"Table_BPU[[#This Row],[Risk Area]]&\" \"&Table_BPU[[#This Row],[BPU Description]]","v":"Opportunity Crop Basket"},"Opportunity",66,"Crop Basket",264.52999999999997,189.7,391.89,747.38,398.04,280.04000000000002]
[{"$f":"Table_BPU[[#This Row],[Risk Area]]&\" \"&Table_BPU[[#This Row],[BPU Description]]","v":"Paintearth Crop Basket"},"Paintearth",66,"Crop Basket",147.30000000000001,244.14,193.43,462.38,135.80000000000001,19.95]
[{"$f":"Table_BPU[[#This Row],[Risk Area]]&\" \"&Table_BPU[[#This Row],[BPU Description]]","v":"Parkland County Crop Basket"},"Parkland County",66,"Crop Basket",334.33,262.27999999999997,399.54,674.47,353.31,194.99]
[{"$f":"Table_BPU[[#This Row],[Risk Area]]&\" \"&Table_BPU[[#This Row],[BPU Description]]","v":"Peace Crop Basket"},"Peace",66,"Crop Basket",195.1,260.45999999999998,293.95,547.80999999999995,303.17,295.2]
[{"$f":"Table_BPU[[#This Row],[Risk Area]]&\" \"&Table_BPU[[#This Row],[BPU Description]]","v":"Pincher Creek Crop Basket"},"Pincher Creek",66,"Crop Basket",180.48,299.31,316.76,494.96,219.72,199.86]
[{"$f":"Table_BPU[[#This Row],[Risk Area]]&\" \"&Table_BPU[[#This Row],[BPU Description]]","v":"Ponoka Crop Basket"},"Ponoka",66,"Crop Basket",245.49,294.16000000000003,529.82000000000005,604.1,495.21,248.48]
[{"$f":"Table_BPU[[#This Row],[Risk Area]]&\" \"&Table_BPU[[#This Row],[BPU Description]]","v":"Provost Crop Basket"},"Provost",66,"Crop Basket",194.82,244.44,233.94,521.72,318.49,155.82]
[{"$f":"Table_BPU[[#This Row],[Risk Area]]&\" \"&Table_BPU[[#This Row],[BPU Description]]","v":"Ranchland Crop Basket"},"Ranchland",66,"Crop Basket",176.88,358.55,282.32,518.44000000000005,143.71,83.97]
[{"$f":"Table_BPU[[#This Row],[Risk Area]]&\" \"&Table_BPU[[#This Row],[BPU Description]]","v":"Red Deer Crop Basket"},"Red Deer",66,"Crop Basket",307.22000000000003,298.52,510.59,592.27,505.01,259.33]
[{"$f":"Table_BPU[[#This Row],[Risk Area]]&\" \"&Table_BPU[[#This Row],[BPU Description]]","v":"Rocky View Crop Basket"},"Rocky View",66,"Crop Basket",319.52,298.33,395.74,575.69000000000005,322.20999999999998,212.84]
[{"$f":"Table_BPU[[#This Row],[Risk Area]]&\" \"&Table_BPU[[#This Row],[BPU Description]]","v":"Saddle Hills Crop Basket"},"Saddle Hills",66,"Crop Basket",247.96,147.16999999999999,362.35,492.04,352.73,223.46]
[{"$f":"Table_BPU[[#This Row],[Risk Area]]&\" \"&Table_BPU[[#This Row],[BPU Description]]","v":"Smoky Lake Crop Basket"},"Smoky Lake",66,"Crop Basket",280.76,192.1,461.58,760.7,491.82,218.45]
[{"$f":"Table_BPU[[#This Row],[Risk Area]]&\" \"&Table_BPU[[#This Row],[BPU Description]]","v":"Smoky River Crop Basket"},"Smoky River",66,"Crop Basket",248.53,204.76,403.29,718.49,450,305.82]
[{"$f":"Table_BPU[[#This Row],[Risk Area]]&\" \"&Table_BPU[[#This Row],[BPU Description]]","v":"Special Area 02 Crop Basket"},"Special Area 02",66,"Crop Basket",103.45,178.09,134.22999999999999,306.64,50.08,49.08]
[{"$f":"Table_BPU[[#This Row],[Risk Area]]&\" \"&Table_BPU[[#This Row],[BPU Description]]","v":"Special Area 03 Crop Basket"},"Special Area 03",66,"Crop Basket",91.06,115.74,105.66,174.26,46.32,19.53]
[{"$f":"Table_BPU[[#This Row],[Risk Area]]&\" \"&Table_BPU[[#This Row],[BPU Description]]","v":"Special Area 04 Crop Basket"},"Special Area 04",66,"Crop Basket",103.34,151.56,135.99,344.31,82.22,27.14]
[{"$f":"Table_BPU[[#This Row],[Risk Area]]&\" \"&Table_BPU[[#This Row],[BPU Description]]","v":"Spirit River Crop Basket"},"Spirit River",66,"Crop Basket",295.69,209.62,392.72,575.66,451.14,236.63]
[{"$f":"Table_BPU[[#This Row],[Risk Area]]&\" \"&Table_BPU[[#This Row],[BPU Description]]","v":"St. Paul Crop Basket"},"St. Paul",66,"Crop Basket",279.89,282.06,370.19,684.63,461.18,190.16]
[{"$f":"Table_BPU[[#This Row],[Risk Area]]&\" \"&Table_BPU[[#This Row],[BPU Description]]","v":"Starland Crop Basket"},"Starland",66,"Crop Basket",238.34,301.14999999999998,270.82,565.53,163.47999999999999,75.88]
[{"$f":"Table_BPU[[#This Row],[Risk Area]]&\" \"&Table_BPU[[#This Row],[BPU Description]]","v":"Stettler Crop Basket"},"Stettler",66,"Crop Basket",223.46,275.44,350.05,577.15,179.37,76.61]
[{"$f":"Table_BPU[[#This Row],[Risk Area]]&\" \"&Table_BPU[[#This Row],[BPU Description]]","v":"Strathcona County Crop Basket"},"Strathcona County",66,"Crop Basket",323.38,258.64,449.56,744.14,493.07,305.31]
[{"$f":"Table_BPU[[#This Row],[Risk Area]]&\" \"&Table_BPU[[#This Row],[BPU Description]]","v":"Sturgeon Crop Basket"},"Sturgeon",66,"Crop Basket",356.06,249.01,442.76,767.76,472.03,270.19]
[{"$f":"Table_BPU[[#This Row],[Risk Area]]&\" \"&Table_BPU[[#This Row],[BPU Description]]","v":"Taber Crop Basket"},"Taber",66,"Crop Basket",115.08,306.44,210.24,377.77,108.57,108.88]
[{"$f":"Table_BPU[[#This Row],[Risk Area]]&\" \"&Table_BPU[[#This Row],[BPU Description]]","v":"Thorhild Crop Basket"},"Thorhild",66,"Crop Basket",325.16000000000003,161.87,495.39,806.79,407.4,246.56]
[{"$f":"Table_BPU[[#This Row],[Risk Area]]&\" \"&Table_BPU[[#This Row],[BPU Description]]","v":"Two Hills Crop Basket"},"Two Hills",66,"Crop Basket",285.42,277.83,344.37,691.97,434.34,182.18]
[{"$f":"Table_BPU[[#This Row],[Risk Area]]&\" \"&Table_BPU[[#This Row],[BPU Description]]","v":"Vermilion River Crop Basket"},"Vermilion River",66,"Crop Basket",280.85000000000002,300.2,361.44,730.29,394.77,212.64]
[{"$f":"Table_BPU[[#This Row],[Risk Area]]&\" \"&Table_BPU[[#This Row],[BPU Description]]","v":"Vulcan Crop Basket"},"Vulcan",66,"Crop Basket",157.27000000000001,287.62,216.33,475.89,118.9,64.510000000000005]
[{"$f":"Table_BPU[[#This Row],[Risk Area]]&\" \"&Table_BPU[[#This Row],[BPU Description]]","v":"Wainwright Crop Basket"},"Wainwright",66,"Crop Basket",278.55,293.10000000000002,328.7,664.56,350.87,198.06]
[{"$f":"Table_BPU[[#This Row],[Risk Area]]&\" \"&Table_BPU[[#This Row],[BPU Description]]","v":"Warner Crop Basket"},"Warner",66,"Crop Basket",106.22,281.76,182.39,479.38,76.36,80.05]
[{"$f":"Table_BPU[[#This Row],[Risk Area]]&\" \"&Table_BPU[[#This Row],[BPU Description]]","v":"Westlock Crop Basket"},"Westlock",66,"Crop Basket",292.89,243.25,492.71,790.48,430.56,273.95]
[{"$f":"Table_BPU[[#This Row],[Risk Area]]&\" \"&Table_BPU[[#This Row],[BPU Description]]","v":"Wetaskiwin Crop Basket"},"Wetaskiwin",66,"Crop Basket",250.45,233.61,533.12,644.79999999999995,471.67,271.22000000000003]
[{"$f":"Table_BPU[[#This Row],[Risk Area]]&\" \"&Table_BPU[[#This Row],[BPU Description]]","v":"Wheatland Crop Basket"},"Wheatland",66,"Crop Basket",301.72000000000003,320.89999999999998,276.01,601.9,130.88,79.94]
[{"$f":"Table_BPU[[#This Row],[Risk Area]]&\" \"&Table_BPU[[#This Row],[BPU Description]]","v":"Willow Creek Crop Basket"},"Willow Creek",66,"Crop Basket",176.88,358.55,282.32,518.44000000000005,143.71,83.97]
[{"$f":"Table_BPU[[#This Row],[Risk Area]]&\" \"&Table_BPU[[#This Row],[BPU Description]]","v":"Wood Buffalo Crop Basket"},"Wood Buffalo",66,"Crop Basket",295.47000000000003,242.48,340.56,712.12,462.58,192.06]
[{"$f":"Table_BPU[[#This Row],[Risk Area]]&\" \"&Table_BPU[[#This Row],[BPU Description]]","v":"Woodlands Crop Basket"},"Woodlands",66,"Crop Basket",259.67,200.04,398.75,665.19,324.47000000000003,229.06]
[{"$f":"Table_BPU[[#This Row],[Risk Area]]&\" \"&Table_BPU[[#This Row],[BPU Description]]","v":"Yellowhead Crop Basket"},"Yellowhead",66,"Crop Basket",180.2,122.2,289.29000000000002,448.04,215.08,181.08]
[{"$f":"Table_BPU[[#This Row],[Risk Area]]&\" \"&Table_BPU[[#This Row],[BPU Description]]","v":"Cardston Crop Basket - Irrigated"},"Cardston",67,"Crop Basket - Irrigated",412.37,379.67,784.71,858.21,970.72,610.49]
[{"$f":"Table_BPU[[#This Row],[Risk Area]]&\" \"&Table_BPU[[#This Row],[BPU Description]]","v":"Cypress Crop Basket - Irrigated"},"Cypress",67,"Crop Basket - Irrigated",334.38,438.68,788.12,834.22,817.95,574.48]
[{"$f":"Table_BPU[[#This Row],[Risk Area]]&\" \"&Table_BPU[[#This Row],[BPU Description]]","v":"Forty Mile Crop Basket - Irrigated"},"Forty Mile",67,"Crop Basket - Irrigated",419.25,452.6,854.24,733.72,863.93,629.99]
[{"$f":"Table_BPU[[#This Row],[Risk Area]]&\" \"&Table_BPU[[#This Row],[BPU Description]]","v":"Lethbridge Crop Basket - Irrigated"},"Lethbridge",67,"Crop Basket - Irrigated",316.5,496.54,782.56,835.76,934.26,595.03]
[{"$f":"Table_BPU[[#This Row],[Risk Area]]&\" \"&Table_BPU[[#This Row],[BPU Description]]","v":"Newell Crop Basket - Irrigated"},"Newell",67,"Crop Basket - Irrigated",322.72000000000003,408.29,717.52,793.56,805.74,475.19]
[{"$f":"Table_BPU[[#This Row],[Risk Area]]&\" \"&Table_BPU[[#This Row],[BPU Description]]","v":"Taber Crop Basket - Irrigated"},"Taber",67,"Crop Basket - Irrigated",326.29000000000002,468.37,796.31,882.33,910.83,601.62]
[{"$f":"Table_BPU[[#This Row],[Risk Area]]&\" \"&Table_BPU[[#This Row],[BPU Description]]","v":"Vulcan Crop Basket - Irrigated"},"Vulcan",67,"Crop Basket - Irrigated",336.1,436.72,722.61,842.59,817.73,553.42999999999995]
[{"$f":"Table_BPU[[#This Row],[Risk Area]]&\" \"&Table_BPU[[#This Row],[BPU Description]]","v":"Warner Crop Basket - Irrigated"},"Warner",67,"Crop Basket - Irrigated",277.02,369.8,768.7,822.11,866.25,540.22]
[{"$f":"Table_BPU[[#This Row],[Risk Area]]&\" \"&Table_BPU[[#This Row],[BPU Description]]","v":"Wheatland Crop Basket - Irrigated"},"Wheatland",67,"Crop Basket - Irrigated",387.36,408.12,668.16,776.53,906.98,560.96]
[{"$f":"Table_BPU[[#This Row],[Risk Area]]&\" \"&Table_BPU[[#This Row],[BPU Description]]","v":"Willow Creek Crop Basket - Irrigated"},"Willow Creek",67,"Crop Basket - Irrigated",323.67,417.27,697.84,809.05,725.13,529.72]
[{"$f":"Table_BPU[[#This Row],[Risk Area]]&\" \"&Table_BPU[[#This Row],[BPU Description]]","v":"Acadia Cucumbers (per sq ft)"},"Acadia",74,"Cucumbers (per sq ft)",3.22,5.18,4.8099999999999996,1.7,2.86,3.86]
[{"$f":"Table_BPU[[#This Row],[Risk Area]]&\" \"&Table_BPU[[#This Row],[BPU Description]]","v":"Athabasca Cucumbers (per sq ft)"},"Athabasca",74,"Cucumbers (per sq ft)",3.22,5.18,4.8099999999999996,1.7,2.86,3.86]
[{"$f":"Table_BPU[[#This Row],[Risk Area]]&\" \"&Table_BPU[[#This Row],[BPU Description]]","v":"Barrhead Cucumbers (per sq ft)"},"Barrhead",74,"Cucumbers (per sq ft)",3.22,5.18,4.8099999999999996,1.7,2.86,3.86]
[{"$f":"Table_BPU[[#This Row],[Risk Area]]&\" \"&Table_BPU[[#This Row],[BPU Description]]","v":"Beaver Cucumbers (per sq ft)"},"Beaver",74,"Cucumbers (per sq ft)",3.22,5.18,4.8099999999999996,1.7,2.86,3.86]
[{"$f":"Table_BPU[[#This Row],[Risk Area]]&\" \"&Table_BPU[[#This Row],[BPU Description]]","v":"Big Lakes Cucumbers (per sq ft)"},"Big Lakes",74,"Cucumbers (per sq ft)",3.22,5.18,4.8099999999999996,1.7,2.86,3.86]
[{"$f":"Table_BPU[[#This Row],[Risk Area]]&\" \"&Table_BPU[[#This Row],[BPU Description]]","v":"Bighorn Cucumbers (per sq ft)"},"Bighorn",74,"Cucumbers (per sq ft)",3.22,5.18,4.8099999999999996,1.7,2.86,3.86]
[{"$f":"Table_BPU[[#This Row],[Risk Area]]&\" \"&Table_BPU[[#This Row],[BPU Description]]","v":"Birch Hills Cucumbers (per sq ft)"},"Birch Hills",74,"Cucumbers (per sq ft)",3.22,5.18,4.8099999999999996,1.7,2.86,3.86]
[{"$f":"Table_BPU[[#This Row],[Risk Area]]&\" \"&Table_BPU[[#This Row],[BPU Description]]","v":"Bonnyville Cucumbers (per sq ft)"},"Bonnyville",74,"Cucumbers (per sq ft)",3.22,5.18,4.8099999999999996,1.7,2.86,3.86]
[{"$f":"Table_BPU[[#This Row],[Risk Area]]&\" \"&Table_BPU[[#This Row],[BPU Description]]","v":"Brazeau Cucumbers (per sq ft)"},"Brazeau",74,"Cucumbers (per sq ft)",3.22,5.18,4.8099999999999996,1.7,2.86,3.86]
[{"$f":"Table_BPU[[#This Row],[Risk Area]]&\" \"&Table_BPU[[#This Row],[BPU Description]]","v":"Camrose Cucumbers (per sq ft)"},"Camrose",74,"Cucumbers (per sq ft)",3.22,5.18,4.8099999999999996,1.7,2.86,3.86]
[{"$f":"Table_BPU[[#This Row],[Risk Area]]&\" \"&Table_BPU[[#This Row],[BPU Description]]","v":"Cardston Cucumbers (per sq ft)"},"Cardston",74,"Cucumbers (per sq ft)",3.22,5.18,4.8099999999999996,1.7,2.86,3.86]
[{"$f":"Table_BPU[[#This Row],[Risk Area]]&\" \"&Table_BPU[[#This Row],[BPU Description]]","v":"Clear Hills Cucumbers (per sq ft)"},"Clear Hills",74,"Cucumbers (per sq ft)",3.22,5.18,4.8099999999999996,1.7,2.86,3.86]
[{"$f":"Table_BPU[[#This Row],[Risk Area]]&\" \"&Table_BPU[[#This Row],[BPU Description]]","v":"Clearwater Cucumbers (per sq ft)"},"Clearwater",74,"Cucumbers (per sq ft)",3.22,5.18,4.8099999999999996,1.7,2.86,3.86]
[{"$f":"Table_BPU[[#This Row],[Risk Area]]&\" \"&Table_BPU[[#This Row],[BPU Description]]","v":"Cypress Cucumbers (per sq ft)"},"Cypress",74,"Cucumbers (per sq ft)",3.22,5.18,4.8099999999999996,1.7,2.86,3.86]
[{"$f":"Table_BPU[[#This Row],[Risk Area]]&\" \"&Table_BPU[[#This Row],[BPU Description]]","v":"Edmonton Cucumbers (per sq ft)"},"Edmonton",74,"Cucumbers (per sq ft)",3.22,5.18,4.8099999999999996,1.7,2.86,3.86]
[{"$f":"Table_BPU[[#This Row],[Risk Area]]&\" \"&Table_BPU[[#This Row],[BPU Description]]","v":"Fairview Cucumbers (per sq ft)"},"Fairview",74,"Cucumbers (per sq ft)",3.22,5.18,4.8099999999999996,1.7,2.86,3.86]
[{"$f":"Table_BPU[[#This Row],[Risk Area]]&\" \"&Table_BPU[[#This Row],[BPU Description]]","v":"Flagstaff Cucumbers (per sq ft)"},"Flagstaff",74,"Cucumbers (per sq ft)",3.22,5.18,4.8099999999999996,1.7,2.86,3.86]
[{"$f":"Table_BPU[[#This Row],[Risk Area]]&\" \"&Table_BPU[[#This Row],[BPU Description]]","v":"Foothills Cucumbers (per sq ft)"},"Foothills",74,"Cucumbers (per sq ft)",3.22,5.18,4.8099999999999996,1.7,2.86,3.86]
[{"$f":"Table_BPU[[#This Row],[Risk Area]]&\" \"&Table_BPU[[#This Row],[BPU Description]]","v":"Forty Mile Cucumbers (per sq ft)"},"Forty Mile",74,"Cucumbers (per sq ft)",3.22,5.18,4.8099999999999996,1.7,2.86,3.86]
[{"$f":"Table_BPU[[#This Row],[Risk Area]]&\" \"&Table_BPU[[#This Row],[BPU Description]]","v":"Grande Prairie Cucumbers (per sq ft)"},"Grande Prairie",74,"Cucumbers (per sq ft)",3.22,5.18,4.8099999999999996,1.7,2.86,3.86]
[{"$f":"Table_BPU[[#This Row],[Risk Area]]&\" \"&Table_BPU[[#This Row],[BPU Description]]","v":"Greenview Cucumbers (per sq ft)"},"Greenview",74,"Cucumbers (per sq ft)",3.22,5.18,4.8099999999999996,1.7,2.86,3.86]
[{"$f":"Table_BPU[[#This Row],[Risk Area]]&\" \"&Table_BPU[[#This Row],[BPU Description]]","v":"Kneehill Cucumbers (per sq ft)"},"Kneehill",74,"Cucumbers (per sq ft)",3.22,5.18,4.8099999999999996,1.7,2.86,3.86]
[{"$f":"Table_BPU[[#This Row],[Risk Area]]&\" \"&Table_BPU[[#This Row],[BPU Description]]","v":"Lac La Biche Cucumbers (per sq ft)"},"Lac La Biche",74,"Cucumbers (per sq ft)",3.22,5.18,4.8099999999999996,1.7,2.86,3.86]
[{"$f":"Table_BPU[[#This Row],[Risk Area]]&\" \"&Table_BPU[[#This Row],[BPU Description]]","v":"Lac Ste. Anne County Cucumbers (per sq ft)"},"Lac Ste. Anne County",74,"Cucumbers (per sq ft)",3.22,5.18,4.8099999999999996,1.7,2.86,3.86]
[{"$f":"Table_BPU[[#This Row],[Risk Area]]&\" \"&Table_BPU[[#This Row],[BPU Description]]","v":"Lacombe Cucumbers (per sq ft)"},"Lacombe",74,"Cucumbers (per sq ft)",3.22,5.18,4.8099999999999996,1.7,2.86,3.86]
[{"$f":"Table_BPU[[#This Row],[Risk Area]]&\" \"&Table_BPU[[#This Row],[BPU Description]]","v":"Lamont Cucumbers (per sq ft)"},"Lamont",74,"Cucumbers (per sq ft)",3.22,5.18,4.8099999999999996,1.7,2.86,3.86]
[{"$f":"Table_BPU[[#This Row],[Risk Area]]&\" \"&Table_BPU[[#This Row],[BPU Description]]","v":"Leduc Cucumbers (per sq ft)"},"Leduc",74,"Cucumbers (per sq ft)",3.22,5.18,4.8099999999999996,1.7,2.86,3.86]
[{"$f":"Table_BPU[[#This Row],[Risk Area]]&\" \"&Table_BPU[[#This Row],[BPU Description]]","v":"Lesser Slave River Cucumbers (per sq ft)"},"Lesser Slave River",74,"Cucumbers (per sq ft)",3.22,5.18,4.8099999999999996,1.7,2.86,3.86]
[{"$f":"Table_BPU[[#This Row],[Risk Area]]&\" \"&Table_BPU[[#This Row],[BPU Description]]","v":"Lethbridge Cucumbers (per sq ft)"},"Lethbridge",74,"Cucumbers (per sq ft)",3.22,5.18,4.8099999999999996,1.7,2.86,3.86]
[{"$f":"Table_BPU[[#This Row],[Risk Area]]&\" \"&Table_BPU[[#This Row],[BPU Description]]","v":"Mackenzie Cucumbers (per sq ft)"},"Mackenzie",74,"Cucumbers (per sq ft)",3.22,5.18,4.8099999999999996,1.7,2.86,3.86]
[{"$f":"Table_BPU[[#This Row],[Risk Area]]&\" \"&Table_BPU[[#This Row],[BPU Description]]","v":"Minburn Cucumbers (per sq ft)"},"Minburn",74,"Cucumbers (per sq ft)",3.22,5.18,4.8099999999999996,1.7,2.86,3.86]
[{"$f":"Table_BPU[[#This Row],[Risk Area]]&\" \"&Table_BPU[[#This Row],[BPU Description]]","v":"Mountain View Cucumbers (per sq ft)"},"Mountain View",74,"Cucumbers (per sq ft)",3.22,5.18,4.8099999999999996,1.7,2.86,3.86]
[{"$f":"Table_BPU[[#This Row],[Risk Area]]&\" \"&Table_BPU[[#This Row],[BPU Description]]","v":"Newell Cucumbers (per sq ft)"},"Newell",74,"Cucumbers (per sq ft)",3.22,5.18,4.8099999999999996,1.7,2.86,3.86]
[{"$f":"Table_BPU[[#This Row],[Risk Area]]&\" \"&Table_BPU[[#This Row],[BPU Description]]","v":"Northern Lights Cucumbers (per sq ft)"},"Northern Lights",74,"Cucumbers (per sq ft)",3.22,5.18,4.8099999999999996,1.7,2.86,3.86]
[{"$f":"Table_BPU[[#This Row],[Risk Area]]&\" \"&Table_BPU[[#This Row],[BPU Description]]","v":"Northern Sunrise Cucumbers (per sq ft)"},"Northern Sunrise",74,"Cucumbers (per sq ft)",3.22,5.18,4.8099999999999996,1.7,2.86,3.86]
[{"$f":"Table_BPU[[#This Row],[Risk Area]]&\" \"&Table_BPU[[#This Row],[BPU Description]]","v":"Opportunity Cucumbers (per sq ft)"},"Opportunity",74,"Cucumbers (per sq ft)",3.22,5.18,4.8099999999999996,1.7,2.86,3.86]
[{"$f":"Table_BPU[[#This Row],[Risk Area]]&\" \"&Table_BPU[[#This Row],[BPU Description]]","v":"Paintearth Cucumbers (per sq ft)"},"Paintearth",74,"Cucumbers (per sq ft)",3.22,5.18,4.8099999999999996,1.7,2.86,3.86]
[{"$f":"Table_BPU[[#This Row],[Risk Area]]&\" \"&Table_BPU[[#This Row],[BPU Description]]","v":"Parkland County Cucumbers (per sq ft)"},"Parkland County",74,"Cucumbers (per sq ft)",3.22,5.18,4.8099999999999996,1.7,2.86,3.86]
[{"$f":"Table_BPU[[#This Row],[Risk Area]]&\" \"&Table_BPU[[#This Row],[BPU Description]]","v":"Peace Cucumbers (per sq ft)"},"Peace",74,"Cucumbers (per sq ft)",3.22,5.18,4.8099999999999996,1.7,2.86,3.86]
[{"$f":"Table_BPU[[#This Row],[Risk Area]]&\" \"&Table_BPU[[#This Row],[BPU Description]]","v":"Pincher Creek Cucumbers (per sq ft)"},"Pincher Creek",74,"Cucumbers (per sq ft)",3.22,5.18,4.8099999999999996,1.7,2.86,3.86]
[{"$f":"Table_BPU[[#This Row],[Risk Area]]&\" \"&Table_BPU[[#This Row],[BPU Description]]","v":"Ponoka Cucumbers (per sq ft)"},"Ponoka",74,"Cucumbers (per sq ft)",3.22,5.18,4.8099999999999996,1.7,2.86,3.86]
[{"$f":"Table_BPU[[#This Row],[Risk Area]]&\" \"&Table_BPU[[#This Row],[BPU Description]]","v":"Provost Cucumbers (per sq ft)"},"Provost",74,"Cucumbers (per sq ft)",3.22,5.18,4.8099999999999996,1.7,2.86,3.86]
[{"$f":"Table_BPU[[#This Row],[Risk Area]]&\" \"&Table_BPU[[#This Row],[BPU Description]]","v":"Ranchland Cucumbers (per sq ft)"},"Ranchland",74,"Cucumbers (per sq ft)",3.22,5.18,4.8099999999999996,1.7,2.86,3.86]
[{"$f":"Table_BPU[[#This Row],[Risk Area]]&\" \"&Table_BPU[[#This Row],[BPU Description]]","v":"Red Deer Cucumbers (per sq ft)"},"Red Deer",74,"Cucumbers (per sq ft)",3.22,5.18,4.8099999999999996,1.7,2.86,3.86]
[{"$f":"Table_BPU[[#This Row],[Risk Area]]&\" \"&Table_BPU[[#This Row],[BPU Description]]","v":"Rocky View Cucumbers (per sq ft)"},"Rocky View",74,"Cucumbers (per sq ft)",3.22,5.18,4.8099999999999996,1.7,2.86,3.86]
[{"$f":"Table_BPU[[#This Row],[Risk Area]]&\" \"&Table_BPU[[#This Row],[BPU Description]]","v":"Saddle Hills Cucumbers (per sq ft)"},"Saddle Hills",74,"Cucumbers (per sq ft)",3.22,5.18,4.8099999999999996,1.7,2.86,3.86]
[{"$f":"Table_BPU[[#This Row],[Risk Area]]&\" \"&Table_BPU[[#This Row],[BPU Description]]","v":"Smoky Lake Cucumbers (per sq ft)"},"Smoky Lake",74,"Cucumbers (per sq ft)",3.22,5.18,4.8099999999999996,1.7,2.86,3.86]
[{"$f":"Table_BPU[[#This Row],[Risk Area]]&\" \"&Table_BPU[[#This Row],[BPU Description]]","v":"Smoky River Cucumbers (per sq ft)"},"Smoky River",74,"Cucumbers (per sq ft)",3.22,5.18,4.8099999999999996,1.7,2.86,3.86]
[{"$f":"Table_BPU[[#This Row],[Risk Area]]&\" \"&Table_BPU[[#This Row],[BPU Description]]","v":"Special Area 02 Cucumbers (per sq ft)"},"Special Area 02",74,"Cucumbers (per sq ft)",3.22,5.18,4.8099999999999996,1.7,2.86,3.86]
[{"$f":"Table_BPU[[#This Row],[Risk Area]]&\" \"&Table_BPU[[#This Row],[BPU Description]]","v":"Special Area 03 Cucumbers (per sq ft)"},"Special Area 03",74,"Cucumbers (per sq ft)",3.22,5.18,4.8099999999999996,1.7,2.86,3.86]
[{"$f":"Table_BPU[[#This Row],[Risk Area]]&\" \"&Table_BPU[[#This Row],[BPU Description]]","v":"Special Area 04 Cucumbers (per sq ft)"},"Special Area 04",74,"Cucumbers (per sq ft)",3.22,5.18,4.8099999999999996,1.7,2.86,3.86]
[{"$f":"Table_BPU[[#This Row],[Risk Area]]&\" \"&Table_BPU[[#This Row],[BPU Description]]","v":"Spirit River Cucumbers (per sq ft)"},"Spirit River",74,"Cucumbers (per sq ft)",3.22,5.18,4.8099999999999996,1.7,2.86,3.86]
[{"$f":"Table_BPU[[#This Row],[Risk Area]]&\" \"&Table_BPU[[#This Row],[BPU Description]]","v":"St. Paul Cucumbers (per sq ft)"},"St. Paul",74,"Cucumbers (per sq ft)",3.22,5.18,4.8099999999999996,1.7,2.86,3.86]
[{"$f":"Table_BPU[[#This Row],[Risk Area]]&\" \"&Table_BPU[[#This Row],[BPU Description]]","v":"Starland Cucumbers (per sq ft)"},"Starland",74,"Cucumbers (per sq ft)",3.22,5.18,4.8099999999999996,1.7,2.86,3.86]
[{"$f":"Table_BPU[[#This Row],[Risk Area]]&\" \"&Table_BPU[[#This Row],[BPU Description]]","v":"Stettler Cucumbers (per sq ft)"},"Stettler",74,"Cucumbers (per sq ft)",3.22,5.18,4.8099999999999996,1.7,2.86,3.86]
[{"$f":"Table_BPU[[#This Row],[Risk Area]]&\" \"&Table_BPU[[#This Row],[BPU Description]]","v":"Strathcona County Cucumbers (per sq ft)"},"Strathcona County",74,"Cucumbers (per sq ft)",3.22,5.18,4.8099999999999996,1.7,2.86,3.86]
[{"$f":"Table_BPU[[#This Row],[Risk Area]]&\" \"&Table_BPU[[#This Row],[BPU Description]]","v":"Sturgeon Cucumbers (per sq ft)"},"Sturgeon",74,"Cucumbers (per sq ft)",3.22,5.18,4.8099999999999996,1.7,2.86,3.86]
[{"$f":"Table_BPU[[#This Row],[Risk Area]]&\" \"&Table_BPU[[#This Row],[BPU Description]]","v":"Taber Cucumbers (per sq ft)"},"Taber",74,"Cucumbers (per sq ft)",3.22,5.18,4.8099999999999996,1.7,2.86,3.86]
[{"$f":"Table_BPU[[#This Row],[Risk Area]]&\" \"&Table_BPU[[#This Row],[BPU Description]]","v":"Thorhild Cucumbers (per sq ft)"},"Thorhild",74,"Cucumbers (per sq ft)",3.22,5.18,4.8099999999999996,1.7,2.86,3.86]
[{"$f":"Table_BPU[[#This Row],[Risk Area]]&\" \"&Table_BPU[[#This Row],[BPU Description]]","v":"Two Hills Cucumbers (per sq ft)"},"Two Hills",74,"Cucumbers (per sq ft)",3.22,5.18,4.8099999999999996,1.7,2.86,3.86]
[{"$f":"Table_BPU[[#This Row],[Risk Area]]&\" \"&Table_BPU[[#This Row],[BPU Description]]","v":"Vermilion River Cucumbers (per sq ft)"},"Vermilion River",74,"Cucumbers (per sq ft)",3.22,5.18,4.8099999999999996,1.7,2.86,3.86]
[{"$f":"Table_BPU[[#This Row],[Risk Area]]&\" \"&Table_BPU[[#This Row],[BPU Description]]","v":"Vulcan Cucumbers (per sq ft)"},"Vulcan",74,"Cucumbers (per sq ft)",3.22,5.18,4.8099999999999996,1.7,2.86,3.86]
[{"$f":"Table_BPU[[#This Row],[Risk Area]]&\" \"&Table_BPU[[#This Row],[BPU Description]]","v":"Wainwright Cucumbers (per sq ft)"},"Wainwright",74,"Cucumbers (per sq ft)",3.22,5.18,4.8099999999999996,1.7,2.86,3.86]
[{"$f":"Table_BPU[[#This Row],[Risk Area]]&\" \"&Table_BPU[[#This Row],[BPU Description]]","v":"Warner Cucumbers (per sq ft)"},"Warner",74,"Cucumbers (per sq ft)",3.22,5.18,4.8099999999999996,1.7,2.86,3.86]
[{"$f":"Table_BPU[[#This Row],[Risk Area]]&\" \"&Table_BPU[[#This Row],[BPU Description]]","v":"Westlock Cucumbers (per sq ft)"},"Westlock",74,"Cucumbers (per sq ft)",3.22,5.18,4.8099999999999996,1.7,2.86,3.86]
[{"$f":"Table_BPU[[#This Row],[Risk Area]]&\" \"&Table_BPU[[#This Row],[BPU Description]]","v":"Wetaskiwin Cucumbers (per sq ft)"},"Wetaskiwin",74,"Cucumbers (per sq ft)",3.22,5.18,4.8099999999999996,1.7,2.86,3.86]
[{"$f":"Table_BPU[[#This Row],[Risk Area]]&\" \"&Table_BPU[[#This Row],[BPU Description]]","v":"Wheatland Cucumbers (per sq ft)"},"Wheatland",74,"Cucumbers (per sq ft)",3.22,5.18,4.8099999999999996,1.7,2.86,3.86]
[{"$f":"Table_BPU[[#This Row],[Risk Area]]&\" \"&Table_BPU[[#This Row],[BPU Description]]","v":"Willow Creek Cucumbers (per sq ft)"},"Willow Creek",74,"Cucumbers (per sq ft)",3.22,5.18,4.8099999999999996,1.7,2.86,3.86]
[{"$f":"Table_BPU[[#This Row],[Risk Area]]&\" \"&Table_BPU[[#This Row],[BPU Description]]","v":"Wood Buffalo Cucumbers (per sq ft)"},"Wood Buffalo",74,"Cucumbers (per sq ft)",3.22,5.18,4.8099999999999996,1.7,2.86,3.86]
[{"$f":"Table_BPU[[#This Row],[Risk Area]]&\" \"&Table_BPU[[#This Row],[BPU Description]]","v":"Woodlands Cucumbers (per sq ft)"},"Woodlands",74,"Cucumbers (per sq ft)",3.22,5.18,4.8099999999999996,1.7,2.86,3.86]
[{"$f":"Table_BPU[[#This Row],[Risk Area]]&\" \"&Table_BPU[[#This Row],[BPU Description]]","v":"Yellowhead Cucumbers (per sq ft)"},"Yellowhead",74,"Cucumbers (per sq ft)",3.22,5.18,4.8099999999999996,1.7,2.86,3.86]
[{"$f":"Table_BPU[[#This Row],[Risk Area]]&\" \"&Table_BPU[[#This Row],[BPU Description]]","v":"Acadia Dairy / Hectoliters"},"Acadia",23,"Dairy / Hectoliters",31.67,31.98,29.08,28.61,25.19,36.270000000000003]
[{"$f":"Table_BPU[[#This Row],[Risk Area]]&\" \"&Table_BPU[[#This Row],[BPU Description]]","v":"Athabasca Dairy / Hectoliters"},"Athabasca",23,"Dairy / Hectoliters",31.67,31.98,29.08,28.61,25.19,36.270000000000003]
[{"$f":"Table_BPU[[#This Row],[Risk Area]]&\" \"&Table_BPU[[#This Row],[BPU Description]]","v":"Barrhead Dairy / Hectoliters"},"Barrhead",23,"Dairy / Hectoliters",31.67,31.98,29.08,28.61,25.19,36.270000000000003]
[{"$f":"Table_BPU[[#This Row],[Risk Area]]&\" \"&Table_BPU[[#This Row],[BPU Description]]","v":"Beaver Dairy / Hectoliters"},"Beaver",23,"Dairy / Hectoliters",31.67,31.98,29.08,28.61,25.19,36.270000000000003]
[{"$f":"Table_BPU[[#This Row],[Risk Area]]&\" \"&Table_BPU[[#This Row],[BPU Description]]","v":"Big Lakes Dairy / Hectoliters"},"Big Lakes",23,"Dairy / Hectoliters",31.67,31.98,29.08,28.61,25.19,36.270000000000003]
[{"$f":"Table_BPU[[#This Row],[Risk Area]]&\" \"&Table_BPU[[#This Row],[BPU Description]]","v":"Bighorn Dairy / Hectoliters"},"Bighorn",23,"Dairy / Hectoliters",31.67,31.98,29.08,28.61,25.19,36.270000000000003]
[{"$f":"Table_BPU[[#This Row],[Risk Area]]&\" \"&Table_BPU[[#This Row],[BPU Description]]","v":"Birch Hills Dairy / Hectoliters"},"Birch Hills",23,"Dairy / Hectoliters",31.67,31.98,29.08,28.61,25.19,36.270000000000003]
[{"$f":"Table_BPU[[#This Row],[Risk Area]]&\" \"&Table_BPU[[#This Row],[BPU Description]]","v":"Bonnyville Dairy / Hectoliters"},"Bonnyville",23,"Dairy / Hectoliters",31.67,31.98,29.08,28.61,25.19,36.270000000000003]
[{"$f":"Table_BPU[[#This Row],[Risk Area]]&\" \"&Table_BPU[[#This Row],[BPU Description]]","v":"Brazeau Dairy / Hectoliters"},"Brazeau",23,"Dairy / Hectoliters",31.67,31.98,29.08,28.61,25.19,36.270000000000003]
[{"$f":"Table_BPU[[#This Row],[Risk Area]]&\" \"&Table_BPU[[#This Row],[BPU Description]]","v":"Camrose Dairy / Hectoliters"},"Camrose",23,"Dairy / Hectoliters",31.67,31.98,29.08,28.61,25.19,36.270000000000003]
[{"$f":"Table_BPU[[#This Row],[Risk Area]]&\" \"&Table_BPU[[#This Row],[BPU Description]]","v":"Cardston Dairy / Hectoliters"},"Cardston",23,"Dairy / Hectoliters",31.67,31.98,29.08,28.61,25.19,36.270000000000003]
[{"$f":"Table_BPU[[#This Row],[Risk Area]]&\" \"&Table_BPU[[#This Row],[BPU Description]]","v":"Clear Hills Dairy / Hectoliters"},"Clear Hills",23,"Dairy / Hectoliters",31.67,31.98,29.08,28.61,25.19,36.270000000000003]
[{"$f":"Table_BPU[[#This Row],[Risk Area]]&\" \"&Table_BPU[[#This Row],[BPU Description]]","v":"Clearwater Dairy / Hectoliters"},"Clearwater",23,"Dairy / Hectoliters",31.67,31.98,29.08,28.61,25.19,36.270000000000003]
[{"$f":"Table_BPU[[#This Row],[Risk Area]]&\" \"&Table_BPU[[#This Row],[BPU Description]]","v":"Cypress Dairy / Hectoliters"},"Cypress",23,"Dairy / Hectoliters",31.67,31.98,29.08,28.61,25.19,36.270000000000003]
[{"$f":"Table_BPU[[#This Row],[Risk Area]]&\" \"&Table_BPU[[#This Row],[BPU Description]]","v":"Edmonton Dairy / Hectoliters"},"Edmonton",23,"Dairy / Hectoliters",31.67,31.98,29.08,28.61,25.19,36.270000000000003]
[{"$f":"Table_BPU[[#This Row],[Risk Area]]&\" \"&Table_BPU[[#This Row],[BPU Description]]","v":"Fairview Dairy / Hectoliters"},"Fairview",23,"Dairy / Hectoliters",31.67,31.98,29.08,28.61,25.19,36.270000000000003]
[{"$f":"Table_BPU[[#This Row],[Risk Area]]&\" \"&Table_BPU[[#This Row],[BPU Description]]","v":"Flagstaff Dairy / Hectoliters"},"Flagstaff",23,"Dairy / Hectoliters",31.67,31.98,29.08,28.61,25.19,36.270000000000003]
[{"$f":"Table_BPU[[#This Row],[Risk Area]]&\" \"&Table_BPU[[#This Row],[BPU Description]]","v":"Foothills Dairy / Hectoliters"},"Foothills",23,"Dairy / Hectoliters",31.67,31.98,29.08,28.61,25.19,36.270000000000003]
[{"$f":"Table_BPU[[#This Row],[Risk Area]]&\" \"&Table_BPU[[#This Row],[BPU Description]]","v":"Forty Mile Dairy / Hectoliters"},"Forty Mile",23,"Dairy / Hectoliters",31.67,31.98,29.08,28.61,25.19,36.270000000000003]
[{"$f":"Table_BPU[[#This Row],[Risk Area]]&\" \"&Table_BPU[[#This Row],[BPU Description]]","v":"Grande Prairie Dairy / Hectoliters"},"Grande Prairie",23,"Dairy / Hectoliters",31.67,31.98,29.08,28.61,25.19,36.270000000000003]
[{"$f":"Table_BPU[[#This Row],[Risk Area]]&\" \"&Table_BPU[[#This Row],[BPU Description]]","v":"Greenview Dairy / Hectoliters"},"Greenview",23,"Dairy / Hectoliters",31.67,31.98,29.08,28.61,25.19,36.270000000000003]
[{"$f":"Table_BPU[[#This Row],[Risk Area]]&\" \"&Table_BPU[[#This Row],[BPU Description]]","v":"Kneehill Dairy / Hectoliters"},"Kneehill",23,"Dairy / Hectoliters",31.67,31.98,29.08,28.61,25.19,36.270000000000003]
[{"$f":"Table_BPU[[#This Row],[Risk Area]]&\" \"&Table_BPU[[#This Row],[BPU Description]]","v":"Lac La Biche Dairy / Hectoliters"},"Lac La Biche",23,"Dairy / Hectoliters",31.67,31.98,29.08,28.61,25.19,36.270000000000003]
[{"$f":"Table_BPU[[#This Row],[Risk Area]]&\" \"&Table_BPU[[#This Row],[BPU Description]]","v":"Lac Ste. Anne County Dairy / Hectoliters"},"Lac Ste. Anne County",23,"Dairy / Hectoliters",31.67,31.98,29.08,28.61,25.19,36.270000000000003]
[{"$f":"Table_BPU[[#This Row],[Risk Area]]&\" \"&Table_BPU[[#This Row],[BPU Description]]","v":"Lacombe Dairy / Hectoliters"},"Lacombe",23,"Dairy / Hectoliters",31.67,31.98,29.08,28.61,25.19,36.270000000000003]
[{"$f":"Table_BPU[[#This Row],[Risk Area]]&\" \"&Table_BPU[[#This Row],[BPU Description]]","v":"Lamont Dairy / Hectoliters"},"Lamont",23,"Dairy / Hectoliters",31.67,31.98,29.08,28.61,25.19,36.270000000000003]
[{"$f":"Table_BPU[[#This Row],[Risk Area]]&\" \"&Table_BPU[[#This Row],[BPU Description]]","v":"Leduc Dairy / Hectoliters"},"Leduc",23,"Dairy / Hectoliters",31.67,31.98,29.08,28.61,25.19,36.270000000000003]
[{"$f":"Table_BPU[[#This Row],[Risk Area]]&\" \"&Table_BPU[[#This Row],[BPU Description]]","v":"Lesser Slave River Dairy / Hectoliters"},"Lesser Slave River",23,"Dairy / Hectoliters",31.67,31.98,29.08,28.61,25.19,36.270000000000003]
[{"$f":"Table_BPU[[#This Row],[Risk Area]]&\" \"&Table_BPU[[#This Row],[BPU Description]]","v":"Lethbridge Dairy / Hectoliters"},"Lethbridge",23,"Dairy / Hectoliters",31.67,31.98,29.08,28.61,25.19,36.270000000000003]
[{"$f":"Table_BPU[[#This Row],[Risk Area]]&\" \"&Table_BPU[[#This Row],[BPU Description]]","v":"Mackenzie Dairy / Hectoliters"},"Mackenzie",23,"Dairy / Hectoliters",31.67,31.98,29.08,28.61,25.19,36.270000000000003]
[{"$f":"Table_BPU[[#This Row],[Risk Area]]&\" \"&Table_BPU[[#This Row],[BPU Description]]","v":"Minburn Dairy / Hectoliters"},"Minburn",23,"Dairy / Hectoliters",31.67,31.98,29.08,28.61,25.19,36.270000000000003]
[{"$f":"Table_BPU[[#This Row],[Risk Area]]&\" \"&Table_BPU[[#This Row],[BPU Description]]","v":"Mountain View Dairy / Hectoliters"},"Mountain View",23,"Dairy / Hectoliters",31.67,31.98,29.08,28.61,25.19,36.270000000000003]
[{"$f":"Table_BPU[[#This Row],[Risk Area]]&\" \"&Table_BPU[[#This Row],[BPU Description]]","v":"Newell Dairy / Hectoliters"},"Newell",23,"Dairy / Hectoliters",31.67,31.98,29.08,28.61,25.19,36.270000000000003]
[{"$f":"Table_BPU[[#This Row],[Risk Area]]&\" \"&Table_BPU[[#This Row],[BPU Description]]","v":"Northern Lights Dairy / Hectoliters"},"Northern Lights",23,"Dairy / Hectoliters",31.67,31.98,29.08,28.61,25.19,36.270000000000003]
[{"$f":"Table_BPU[[#This Row],[Risk Area]]&\" \"&Table_BPU[[#This Row],[BPU Description]]","v":"Northern Sunrise Dairy / Hectoliters"},"Northern Sunrise",23,"Dairy / Hectoliters",31.67,31.98,29.08,28.61,25.19,36.270000000000003]
[{"$f":"Table_BPU[[#This Row],[Risk Area]]&\" \"&Table_BPU[[#This Row],[BPU Description]]","v":"Opportunity Dairy / Hectoliters"},"Opportunity",23,"Dairy / Hectoliters",31.67,31.98,29.08,28.61,25.19,36.270000000000003]
[{"$f":"Table_BPU[[#This Row],[Risk Area]]&\" \"&Table_BPU[[#This Row],[BPU Description]]","v":"Paintearth Dairy / Hectoliters"},"Paintearth",23,"Dairy / Hectoliters",31.67,31.98,29.08,28.61,25.19,36.270000000000003]
[{"$f":"Table_BPU[[#This Row],[Risk Area]]&\" \"&Table_BPU[[#This Row],[BPU Description]]","v":"Parkland County Dairy / Hectoliters"},"Parkland County",23,"Dairy / Hectoliters",31.67,31.98,29.08,28.61,25.19,36.270000000000003]
[{"$f":"Table_BPU[[#This Row],[Risk Area]]&\" \"&Table_BPU[[#This Row],[BPU Description]]","v":"Peace Dairy / Hectoliters"},"Peace",23,"Dairy / Hectoliters",31.67,31.98,29.08,28.61,25.19,36.270000000000003]
[{"$f":"Table_BPU[[#This Row],[Risk Area]]&\" \"&Table_BPU[[#This Row],[BPU Description]]","v":"Pincher Creek Dairy / Hectoliters"},"Pincher Creek",23,"Dairy / Hectoliters",31.67,31.98,29.08,28.61,25.19,36.270000000000003]
[{"$f":"Table_BPU[[#This Row],[Risk Area]]&\" \"&Table_BPU[[#This Row],[BPU Description]]","v":"Ponoka Dairy / Hectoliters"},"Ponoka",23,"Dairy / Hectoliters",31.67,31.98,29.08,28.61,25.19,36.270000000000003]
[{"$f":"Table_BPU[[#This Row],[Risk Area]]&\" \"&Table_BPU[[#This Row],[BPU Description]]","v":"Provost Dairy / Hectoliters"},"Provost",23,"Dairy / Hectoliters",31.67,31.98,29.08,28.61,25.19,36.270000000000003]
[{"$f":"Table_BPU[[#This Row],[Risk Area]]&\" \"&Table_BPU[[#This Row],[BPU Description]]","v":"Ranchland Dairy / Hectoliters"},"Ranchland",23,"Dairy / Hectoliters",31.67,31.98,29.08,28.61,25.19,36.270000000000003]
[{"$f":"Table_BPU[[#This Row],[Risk Area]]&\" \"&Table_BPU[[#This Row],[BPU Description]]","v":"Red Deer Dairy / Hectoliters"},"Red Deer",23,"Dairy / Hectoliters",31.67,31.98,29.08,28.61,25.19,36.270000000000003]
[{"$f":"Table_BPU[[#This Row],[Risk Area]]&\" \"&Table_BPU[[#This Row],[BPU Description]]","v":"Rocky View Dairy / Hectoliters"},"Rocky View",23,"Dairy / Hectoliters",31.67,31.98,29.08,28.61,25.19,36.270000000000003]
[{"$f":"Table_BPU[[#This Row],[Risk Area]]&\" \"&Table_BPU[[#This Row],[BPU Description]]","v":"Saddle Hills Dairy / Hectoliters"},"Saddle Hills",23,"Dairy / Hectoliters",31.67,31.98,29.08,28.61,25.19,36.270000000000003]
[{"$f":"Table_BPU[[#This Row],[Risk Area]]&\" \"&Table_BPU[[#This Row],[BPU Description]]","v":"Smoky Lake Dairy / Hectoliters"},"Smoky Lake",23,"Dairy / Hectoliters",31.67,31.98,29.08,28.61,25.19,36.270000000000003]
[{"$f":"Table_BPU[[#This Row],[Risk Area]]&\" \"&Table_BPU[[#This Row],[BPU Description]]","v":"Smoky River Dairy / Hectoliters"},"Smoky River",23,"Dairy / Hectoliters",31.67,31.98,29.08,28.61,25.19,36.270000000000003]
[{"$f":"Table_BPU[[#This Row],[Risk Area]]&\" \"&Table_BPU[[#This Row],[BPU Description]]","v":"Special Area 02 Dairy / Hectoliters"},"Special Area 02",23,"Dairy / Hectoliters",31.67,31.98,29.08,28.61,25.19,36.270000000000003]
[{"$f":"Table_BPU[[#This Row],[Risk Area]]&\" \"&Table_BPU[[#This Row],[BPU Description]]","v":"Special Area 03 Dairy / Hectoliters"},"Special Area 03",23,"Dairy / Hectoliters",31.67,31.98,29.08,28.61,25.19,36.270000000000003]
[{"$f":"Table_BPU[[#This Row],[Risk Area]]&\" \"&Table_BPU[[#This Row],[BPU Description]]","v":"Special Area 04 Dairy / Hectoliters"},"Special Area 04",23,"Dairy / Hectoliters",31.67,31.98,29.08,28.61,25.19,36.270000000000003]
[{"$f":"Table_BPU[[#This Row],[Risk Area]]&\" \"&Table_BPU[[#This Row],[BPU Description]]","v":"Spirit River Dairy / Hectoliters"},"Spirit River",23,"Dairy / Hectoliters",31.67,31.98,29.08,28.61,25.19,36.270000000000003]
[{"$f":"Table_BPU[[#This Row],[Risk Area]]&\" \"&Table_BPU[[#This Row],[BPU Description]]","v":"St. Paul Dairy / Hectoliters"},"St. Paul",23,"Dairy / Hectoliters",31.67,31.98,29.08,28.61,25.19,36.270000000000003]
[{"$f":"Table_BPU[[#This Row],[Risk Area]]&\" \"&Table_BPU[[#This Row],[BPU Description]]","v":"Starland Dairy / Hectoliters"},"Starland",23,"Dairy / Hectoliters",31.67,31.98,29.08,28.61,25.19,36.270000000000003]
[{"$f":"Table_BPU[[#This Row],[Risk Area]]&\" \"&Table_BPU[[#This Row],[BPU Description]]","v":"Stettler Dairy / Hectoliters"},"Stettler",23,"Dairy / Hectoliters",31.67,31.98,29.08,28.61,25.19,36.270000000000003]
[{"$f":"Table_BPU[[#This Row],[Risk Area]]&\" \"&Table_BPU[[#This Row],[BPU Description]]","v":"Strathcona County Dairy / Hectoliters"},"Strathcona County",23,"Dairy / Hectoliters",31.67,31.98,29.08,28.61,25.19,36.270000000000003]
[{"$f":"Table_BPU[[#This Row],[Risk Area]]&\" \"&Table_BPU[[#This Row],[BPU Description]]","v":"Sturgeon Dairy / Hectoliters"},"Sturgeon",23,"Dairy / Hectoliters",31.67,31.98,29.08,28.61,25.19,36.270000000000003]
[{"$f":"Table_BPU[[#This Row],[Risk Area]]&\" \"&Table_BPU[[#This Row],[BPU Description]]","v":"Taber Dairy / Hectoliters"},"Taber",23,"Dairy / Hectoliters",31.67,31.98,29.08,28.61,25.19,36.270000000000003]
[{"$f":"Table_BPU[[#This Row],[Risk Area]]&\" \"&Table_BPU[[#This Row],[BPU Description]]","v":"Thorhild Dairy / Hectoliters"},"Thorhild",23,"Dairy / Hectoliters",31.67,31.98,29.08,28.61,25.19,36.270000000000003]
[{"$f":"Table_BPU[[#This Row],[Risk Area]]&\" \"&Table_BPU[[#This Row],[BPU Description]]","v":"Two Hills Dairy / Hectoliters"},"Two Hills",23,"Dairy / Hectoliters",31.67,31.98,29.08,28.61,25.19,36.270000000000003]
[{"$f":"Table_BPU[[#This Row],[Risk Area]]&\" \"&Table_BPU[[#This Row],[BPU Description]]","v":"Vermilion River Dairy / Hectoliters"},"Vermilion River",23,"Dairy / Hectoliters",31.67,31.98,29.08,28.61,25.19,36.270000000000003]
[{"$f":"Table_BPU[[#This Row],[Risk Area]]&\" \"&Table_BPU[[#This Row],[BPU Description]]","v":"Vulcan Dairy / Hectoliters"},"Vulcan",23,"Dairy / Hectoliters",31.67,31.98,29.08,28.61,25.19,36.270000000000003]
[{"$f":"Table_BPU[[#This Row],[Risk Area]]&\" \"&Table_BPU[[#This Row],[BPU Description]]","v":"Wainwright Dairy / Hectoliters"},"Wainwright",23,"Dairy / Hectoliters",31.67,31.98,29.08,28.61,25.19,36.270000000000003]
[{"$f":"Table_BPU[[#This Row],[Risk Area]]&\" \"&Table_BPU[[#This Row],[BPU Description]]","v":"Warner Dairy / Hectoliters"},"Warner",23,"Dairy / Hectoliters",31.67,31.98,29.08,28.61,25.19,36.270000000000003]
[{"$f":"Table_BPU[[#This Row],[Risk Area]]&\" \"&Table_BPU[[#This Row],[BPU Description]]","v":"Westlock Dairy / Hectoliters"},"Westlock",23,"Dairy / Hectoliters",31.67,31.98,29.08,28.61,25.19,36.270000000000003]
[{"$f":"Table_BPU[[#This Row],[Risk Area]]&\" \"&Table_BPU[[#This Row],[BPU Description]]","v":"Wetaskiwin Dairy / Hectoliters"},"Wetaskiwin",23,"Dairy / Hectoliters",31.67,31.98,29.08,28.61,25.19,36.270000000000003]
[{"$f":"Table_BPU[[#This Row],[Risk Area]]&\" \"&Table_BPU[[#This Row],[BPU Description]]","v":"Wheatland Dairy / Hectoliters"},"Wheatland",23,"Dairy / Hectoliters",31.67,31.98,29.08,28.61,25.19,36.270000000000003]
[{"$f":"Table_BPU[[#This Row],[Risk Area]]&\" \"&Table_BPU[[#This Row],[BPU Description]]","v":"Willow Creek Dairy / Hectoliters"},"Willow Creek",23,"Dairy / Hectoliters",31.67,31.98,29.08,28.61,25.19,36.270000000000003]
[{"$f":"Table_BPU[[#This Row],[Risk Area]]&\" \"&Table_BPU[[#This Row],[BPU Description]]","v":"Wood Buffalo Dairy / Hectoliters"},"Wood Buffalo",23,"Dairy / Hectoliters",31.67,31.98,29.08,28.61,25.19,36.270000000000003]
[{"$f":"Table_BPU[[#This Row],[Risk Area]]&\" \"&Table_BPU[[#This Row],[BPU Description]]","v":"Woodlands Dairy / Hectoliters"},"Woodlands",23,"Dairy / Hectoliters",31.67,31.98,29.08,28.61,25.19,36.270000000000003]
[{"$f":"Table_BPU[[#This Row],[Risk Area]]&\" \"&Table_BPU[[#This Row],[BPU Description]]","v":"Yellowhead Dairy / Hectoliters"},"Yellowhead",23,"Dairy / Hectoliters",31.67,31.98,29.08,28.61,25.19,36.270000000000003]
[{"$f":"Table_BPU[[#This Row],[Risk Area]]&\" \"&Table_BPU[[#This Row],[BPU Description]]","v":"Acadia Dry Beans"},"Acadia",41,"Dry Beans",892.61,803.76,989.54,843.22,1316.39,1251.3399999999999]
[{"$f":"Table_BPU[[#This Row],[Risk Area]]&\" \"&Table_BPU[[#This Row],[BPU Description]]","v":"Athabasca Dry Beans"},"Athabasca",41,"Dry Beans",892.61,803.76,989.54,843.22,1316.39,1251.3399999999999]
[{"$f":"Table_BPU[[#This Row],[Risk Area]]&\" \"&Table_BPU[[#This Row],[BPU Description]]","v":"Barrhead Dry Beans"},"Barrhead",41,"Dry Beans",892.61,803.76,989.54,843.22,1316.39,1251.3399999999999]
[{"$f":"Table_BPU[[#This Row],[Risk Area]]&\" \"&Table_BPU[[#This Row],[BPU Description]]","v":"Beaver Dry Beans"},"Beaver",41,"Dry Beans",892.61,803.76,989.54,843.22,1316.39,1251.3399999999999]
[{"$f":"Table_BPU[[#This Row],[Risk Area]]&\" \"&Table_BPU[[#This Row],[BPU Description]]","v":"Big Lakes Dry Beans"},"Big Lakes",41,"Dry Beans",892.61,803.76,989.54,843.22,1316.39,1251.3399999999999]
[{"$f":"Table_BPU[[#This Row],[Risk Area]]&\" \"&Table_BPU[[#This Row],[BPU Description]]","v":"Bighorn Dry Beans"},"Bighorn",41,"Dry Beans",892.61,803.76,989.54,843.22,1316.39,1251.3399999999999]
[{"$f":"Table_BPU[[#This Row],[Risk Area]]&\" \"&Table_BPU[[#This Row],[BPU Description]]","v":"Birch Hills Dry Beans"},"Birch Hills",41,"Dry Beans",892.61,803.76,989.54,843.22,1316.39,1251.3399999999999]
[{"$f":"Table_BPU[[#This Row],[Risk Area]]&\" \"&Table_BPU[[#This Row],[BPU Description]]","v":"Bonnyville Dry Beans"},"Bonnyville",41,"Dry Beans",892.61,803.76,989.54,843.22,1316.39,1251.3399999999999]
[{"$f":"Table_BPU[[#This Row],[Risk Area]]&\" \"&Table_BPU[[#This Row],[BPU Description]]","v":"Brazeau Dry Beans"},"Brazeau",41,"Dry Beans",892.61,803.76,989.54,843.22,1316.39,1251.3399999999999]
[{"$f":"Table_BPU[[#This Row],[Risk Area]]&\" \"&Table_BPU[[#This Row],[BPU Description]]","v":"Camrose Dry Beans"},"Camrose",41,"Dry Beans",892.61,803.76,989.54,843.22,1316.39,1251.3399999999999]
[{"$f":"Table_BPU[[#This Row],[Risk Area]]&\" \"&Table_BPU[[#This Row],[BPU Description]]","v":"Cardston Dry Beans"},"Cardston",41,"Dry Beans",892.61,803.76,989.54,843.22,1316.39,1251.3399999999999]
[{"$f":"Table_BPU[[#This Row],[Risk Area]]&\" \"&Table_BPU[[#This Row],[BPU Description]]","v":"Clear Hills Dry Beans"},"Clear Hills",41,"Dry Beans",892.61,803.76,989.54,843.22,1316.39,1251.3399999999999]
[{"$f":"Table_BPU[[#This Row],[Risk Area]]&\" \"&Table_BPU[[#This Row],[BPU Description]]","v":"Clearwater Dry Beans"},"Clearwater",41,"Dry Beans",892.61,803.76,989.54,843.22,1316.39,1251.3399999999999]
[{"$f":"Table_BPU[[#This Row],[Risk Area]]&\" \"&Table_BPU[[#This Row],[BPU Description]]","v":"Cypress Dry Beans"},"Cypress",41,"Dry Beans",892.61,803.76,989.54,843.22,1316.39,1251.3399999999999]
[{"$f":"Table_BPU[[#This Row],[Risk Area]]&\" \"&Table_BPU[[#This Row],[BPU Description]]","v":"Edmonton Dry Beans"},"Edmonton",41,"Dry Beans",892.61,803.76,989.54,843.22,1316.39,1251.3399999999999]
[{"$f":"Table_BPU[[#This Row],[Risk Area]]&\" \"&Table_BPU[[#This Row],[BPU Description]]","v":"Fairview Dry Beans"},"Fairview",41,"Dry Beans",892.61,803.76,989.54,843.22,1316.39,1251.3399999999999]
[{"$f":"Table_BPU[[#This Row],[Risk Area]]&\" \"&Table_BPU[[#This Row],[BPU Description]]","v":"Flagstaff Dry Beans"},"Flagstaff",41,"Dry Beans",892.61,803.76,989.54,843.22,1316.39,1251.3399999999999]
[{"$f":"Table_BPU[[#This Row],[Risk Area]]&\" \"&Table_BPU[[#This Row],[BPU Description]]","v":"Foothills Dry Beans"},"Foothills",41,"Dry Beans",892.61,803.76,989.54,843.22,1316.39,1251.3399999999999]
[{"$f":"Table_BPU[[#This Row],[Risk Area]]&\" \"&Table_BPU[[#This Row],[BPU Description]]","v":"Forty Mile Dry Beans"},"Forty Mile",41,"Dry Beans",892.61,803.76,989.54,843.22,1316.39,1251.3399999999999]
[{"$f":"Table_BPU[[#This Row],[Risk Area]]&\" \"&Table_BPU[[#This Row],[BPU Description]]","v":"Grande Prairie Dry Beans"},"Grande Prairie",41,"Dry Beans",892.61,803.76,989.54,843.22,1316.39,1251.3399999999999]
[{"$f":"Table_BPU[[#This Row],[Risk Area]]&\" \"&Table_BPU[[#This Row],[BPU Description]]","v":"Greenview Dry Beans"},"Greenview",41,"Dry Beans",892.61,803.76,989.54,843.22,1316.39,1251.3399999999999]
[{"$f":"Table_BPU[[#This Row],[Risk Area]]&\" \"&Table_BPU[[#This Row],[BPU Description]]","v":"Kneehill Dry Beans"},"Kneehill",41,"Dry Beans",892.61,803.76,989.54,843.22,1316.39,1251.3399999999999]
[{"$f":"Table_BPU[[#This Row],[Risk Area]]&\" \"&Table_BPU[[#This Row],[BPU Description]]","v":"Lac La Biche Dry Beans"},"Lac La Biche",41,"Dry Beans",892.61,803.76,989.54,843.22,1316.39,1251.3399999999999]
[{"$f":"Table_BPU[[#This Row],[Risk Area]]&\" \"&Table_BPU[[#This Row],[BPU Description]]","v":"Lac Ste. Anne County Dry Beans"},"Lac Ste. Anne County",41,"Dry Beans",892.61,803.76,989.54,843.22,1316.39,1251.3399999999999]
[{"$f":"Table_BPU[[#This Row],[Risk Area]]&\" \"&Table_BPU[[#This Row],[BPU Description]]","v":"Lacombe Dry Beans"},"Lacombe",41,"Dry Beans",892.61,803.76,989.54,843.22,1316.39,1251.3399999999999]
[{"$f":"Table_BPU[[#This Row],[Risk Area]]&\" \"&Table_BPU[[#This Row],[BPU Description]]","v":"Lamont Dry Beans"},"Lamont",41,"Dry Beans",892.61,803.76,989.54,843.22,1316.39,1251.3399999999999]
[{"$f":"Table_BPU[[#This Row],[Risk Area]]&\" \"&Table_BPU[[#This Row],[BPU Description]]","v":"Leduc Dry Beans"},"Leduc",41,"Dry Beans",892.61,803.76,989.54,843.22,1316.39,1251.3399999999999]
[{"$f":"Table_BPU[[#This Row],[Risk Area]]&\" \"&Table_BPU[[#This Row],[BPU Description]]","v":"Lesser Slave River Dry Beans"},"Lesser Slave River",41,"Dry Beans",892.61,803.76,989.54,843.22,1316.39,1251.3399999999999]
[{"$f":"Table_BPU[[#This Row],[Risk Area]]&\" \"&Table_BPU[[#This Row],[BPU Description]]","v":"Lethbridge Dry Beans"},"Lethbridge",41,"Dry Beans",892.61,803.76,989.54,843.22,1316.39,1251.3399999999999]
[{"$f":"Table_BPU[[#This Row],[Risk Area]]&\" \"&Table_BPU[[#This Row],[BPU Description]]","v":"Mackenzie Dry Beans"},"Mackenzie",41,"Dry Beans",892.61,803.76,989.54,843.22,1316.39,1251.3399999999999]
[{"$f":"Table_BPU[[#This Row],[Risk Area]]&\" \"&Table_BPU[[#This Row],[BPU Description]]","v":"Minburn Dry Beans"},"Minburn",41,"Dry Beans",892.61,803.76,989.54,843.22,1316.39,1251.3399999999999]
[{"$f":"Table_BPU[[#This Row],[Risk Area]]&\" \"&Table_BPU[[#This Row],[BPU Description]]","v":"Mountain View Dry Beans"},"Mountain View",41,"Dry Beans",892.61,803.76,989.54,843.22,1316.39,1251.3399999999999]
[{"$f":"Table_BPU[[#This Row],[Risk Area]]&\" \"&Table_BPU[[#This Row],[BPU Description]]","v":"Newell Dry Beans"},"Newell",41,"Dry Beans",892.61,803.76,989.54,843.22,1316.39,1251.3399999999999]
[{"$f":"Table_BPU[[#This Row],[Risk Area]]&\" \"&Table_BPU[[#This Row],[BPU Description]]","v":"Northern Lights Dry Beans"},"Northern Lights",41,"Dry Beans",892.61,803.76,989.54,843.22,1316.39,1251.3399999999999]
[{"$f":"Table_BPU[[#This Row],[Risk Area]]&\" \"&Table_BPU[[#This Row],[BPU Description]]","v":"Northern Sunrise Dry Beans"},"Northern Sunrise",41,"Dry Beans",892.61,803.76,989.54,843.22,1316.39,1251.3399999999999]
[{"$f":"Table_BPU[[#This Row],[Risk Area]]&\" \"&Table_BPU[[#This Row],[BPU Description]]","v":"Opportunity Dry Beans"},"Opportunity",41,"Dry Beans",892.61,803.76,989.54,843.22,1316.39,1251.3399999999999]
[{"$f":"Table_BPU[[#This Row],[Risk Area]]&\" \"&Table_BPU[[#This Row],[BPU Description]]","v":"Paintearth Dry Beans"},"Paintearth",41,"Dry Beans",892.61,803.76,989.54,843.22,1316.39,1251.3399999999999]
[{"$f":"Table_BPU[[#This Row],[Risk Area]]&\" \"&Table_BPU[[#This Row],[BPU Description]]","v":"Parkland County Dry Beans"},"Parkland County",41,"Dry Beans",892.61,803.76,989.54,843.22,1316.39,1251.3399999999999]
[{"$f":"Table_BPU[[#This Row],[Risk Area]]&\" \"&Table_BPU[[#This Row],[BPU Description]]","v":"Peace Dry Beans"},"Peace",41,"Dry Beans",892.61,803.76,989.54,843.22,1316.39,1251.3399999999999]
[{"$f":"Table_BPU[[#This Row],[Risk Area]]&\" \"&Table_BPU[[#This Row],[BPU Description]]","v":"Pincher Creek Dry Beans"},"Pincher Creek",41,"Dry Beans",892.61,803.76,989.54,843.22,1316.39,1251.3399999999999]
[{"$f":"Table_BPU[[#This Row],[Risk Area]]&\" \"&Table_BPU[[#This Row],[BPU Description]]","v":"Ponoka Dry Beans"},"Ponoka",41,"Dry Beans",892.61,803.76,989.54,843.22,1316.39,1251.3399999999999]
[{"$f":"Table_BPU[[#This Row],[Risk Area]]&\" \"&Table_BPU[[#This Row],[BPU Description]]","v":"Provost Dry Beans"},"Provost",41,"Dry Beans",892.61,803.76,989.54,843.22,1316.39,1251.3399999999999]
[{"$f":"Table_BPU[[#This Row],[Risk Area]]&\" \"&Table_BPU[[#This Row],[BPU Description]]","v":"Ranchland Dry Beans"},"Ranchland",41,"Dry Beans",892.61,803.76,989.54,843.22,1316.39,1251.3399999999999]
[{"$f":"Table_BPU[[#This Row],[Risk Area]]&\" \"&Table_BPU[[#This Row],[BPU Description]]","v":"Red Deer Dry Beans"},"Red Deer",41,"Dry Beans",892.61,803.76,989.54,843.22,1316.39,1251.3399999999999]
[{"$f":"Table_BPU[[#This Row],[Risk Area]]&\" \"&Table_BPU[[#This Row],[BPU Description]]","v":"Rocky View Dry Beans"},"Rocky View",41,"Dry Beans",892.61,803.76,989.54,843.22,1316.39,1251.3399999999999]
[{"$f":"Table_BPU[[#This Row],[Risk Area]]&\" \"&Table_BPU[[#This Row],[BPU Description]]","v":"Saddle Hills Dry Beans"},"Saddle Hills",41,"Dry Beans",892.61,803.76,989.54,843.22,1316.39,1251.3399999999999]
[{"$f":"Table_BPU[[#This Row],[Risk Area]]&\" \"&Table_BPU[[#This Row],[BPU Description]]","v":"Smoky Lake Dry Beans"},"Smoky Lake",41,"Dry Beans",892.61,803.76,989.54,843.22,1316.39,1251.3399999999999]
[{"$f":"Table_BPU[[#This Row],[Risk Area]]&\" \"&Table_BPU[[#This Row],[BPU Description]]","v":"Smoky River Dry Beans"},"Smoky River",41,"Dry Beans",892.61,803.76,989.54,843.22,1316.39,1251.3399999999999]
[{"$f":"Table_BPU[[#This Row],[Risk Area]]&\" \"&Table_BPU[[#This Row],[BPU Description]]","v":"Special Area 02 Dry Beans"},"Special Area 02",41,"Dry Beans",892.61,803.76,989.54,843.22,1316.39,1251.3399999999999]
[{"$f":"Table_BPU[[#This Row],[Risk Area]]&\" \"&Table_BPU[[#This Row],[BPU Description]]","v":"Special Area 03 Dry Beans"},"Special Area 03",41,"Dry Beans",892.61,803.76,989.54,843.22,1316.39,1251.3399999999999]
[{"$f":"Table_BPU[[#This Row],[Risk Area]]&\" \"&Table_BPU[[#This Row],[BPU Description]]","v":"Special Area 04 Dry Beans"},"Special Area 04",41,"Dry Beans",892.61,803.76,989.54,843.22,1316.39,1251.3399999999999]
[{"$f":"Table_BPU[[#This Row],[Risk Area]]&\" \"&Table_BPU[[#This Row],[BPU Description]]","v":"Spirit River Dry Beans"},"Spirit River",41,"Dry Beans",892.61,803.76,989.54,843.22,1316.39,1251.3399999999999]
[{"$f":"Table_BPU[[#This Row],[Risk Area]]&\" \"&Table_BPU[[#This Row],[BPU Description]]","v":"St. Paul Dry Beans"},"St. Paul",41,"Dry Beans",892.61,803.76,989.54,843.22,1316.39,1251.3399999999999]
[{"$f":"Table_BPU[[#This Row],[Risk Area]]&\" \"&Table_BPU[[#This Row],[BPU Description]]","v":"Starland Dry Beans"},"Starland",41,"Dry Beans",892.61,803.76,989.54,843.22,1316.39,1251.3399999999999]
[{"$f":"Table_BPU[[#This Row],[Risk Area]]&\" \"&Table_BPU[[#This Row],[BPU Description]]","v":"Stettler Dry Beans"},"Stettler",41,"Dry Beans",892.61,803.76,989.54,843.22,1316.39,1251.3399999999999]
[{"$f":"Table_BPU[[#This Row],[Risk Area]]&\" \"&Table_BPU[[#This Row],[BPU Description]]","v":"Strathcona County Dry Beans"},"Strathcona County",41,"Dry Beans",892.61,803.76,989.54,843.22,1316.39,1251.3399999999999]
[{"$f":"Table_BPU[[#This Row],[Risk Area]]&\" \"&Table_BPU[[#This Row],[BPU Description]]","v":"Sturgeon Dry Beans"},"Sturgeon",41,"Dry Beans",892.61,803.76,989.54,843.22,1316.39,1251.3399999999999]
[{"$f":"Table_BPU[[#This Row],[Risk Area]]&\" \"&Table_BPU[[#This Row],[BPU Description]]","v":"Taber Dry Beans"},"Taber",41,"Dry Beans",892.61,803.76,989.54,843.22,1316.39,1251.3399999999999]
[{"$f":"Table_BPU[[#This Row],[Risk Area]]&\" \"&Table_BPU[[#This Row],[BPU Description]]","v":"Thorhild Dry Beans"},"Thorhild",41,"Dry Beans",892.61,803.76,989.54,843.22,1316.39,1251.3399999999999]
[{"$f":"Table_BPU[[#This Row],[Risk Area]]&\" \"&Table_BPU[[#This Row],[BPU Description]]","v":"Two Hills Dry Beans"},"Two Hills",41,"Dry Beans",892.61,803.76,989.54,843.22,1316.39,1251.3399999999999]
[{"$f":"Table_BPU[[#This Row],[Risk Area]]&\" \"&Table_BPU[[#This Row],[BPU Description]]","v":"Vermilion River Dry Beans"},"Vermilion River",41,"Dry Beans",892.61,803.76,989.54,843.22,1316.39,1251.3399999999999]
[{"$f":"Table_BPU[[#This Row],[Risk Area]]&\" \"&Table_BPU[[#This Row],[BPU Description]]","v":"Vulcan Dry Beans"},"Vulcan",41,"Dry Beans",892.61,803.76,989.54,843.22,1316.39,1251.3399999999999]
[{"$f":"Table_BPU[[#This Row],[Risk Area]]&\" \"&Table_BPU[[#This Row],[BPU Description]]","v":"Wainwright Dry Beans"},"Wainwright",41,"Dry Beans",892.61,803.76,989.54,843.22,1316.39,1251.3399999999999]
[{"$f":"Table_BPU[[#This Row],[Risk Area]]&\" \"&Table_BPU[[#This Row],[BPU Description]]","v":"Warner Dry Beans"},"Warner",41,"Dry Beans",892.61,803.76,989.54,843.22,1316.39,1251.3399999999999]
[{"$f":"Table_BPU[[#This Row],[Risk Area]]&\" \"&Table_BPU[[#This Row],[BPU Description]]","v":"Westlock Dry Beans"},"Westlock",41,"Dry Beans",892.61,803.76,989.54,843.22,1316.39,1251.3399999999999]
[{"$f":"Table_BPU[[#This Row],[Risk Area]]&\" \"&Table_BPU[[#This Row],[BPU Description]]","v":"Wetaskiwin Dry Beans"},"Wetaskiwin",41,"Dry Beans",892.61,803.76,989.54,843.22,1316.39,1251.3399999999999]
[{"$f":"Table_BPU[[#This Row],[Risk Area]]&\" \"&Table_BPU[[#This Row],[BPU Description]]","v":"Wheatland Dry Beans"},"Wheatland",41,"Dry Beans",892.61,803.76,989.54,843.22,1316.39,1251.3399999999999]
[{"$f":"Table_BPU[[#This Row],[Risk Area]]&\" \"&Table_BPU[[#This Row],[BPU Description]]","v":"Willow Creek Dry Beans"},"Willow Creek",41,"Dry Beans",892.61,803.76,989.54,843.22,1316.39,1251.3399999999999]
[{"$f":"Table_BPU[[#This Row],[Risk Area]]&\" \"&Table_BPU[[#This Row],[BPU Description]]","v":"Wood Buffalo Dry Beans"},"Wood Buffalo",41,"Dry Beans",892.61,803.76,989.54,843.22,1316.39,1251.3399999999999]
[{"$f":"Table_BPU[[#This Row],[Risk Area]]&\" \"&Table_BPU[[#This Row],[BPU Description]]","v":"Woodlands Dry Beans"},"Woodlands",41,"Dry Beans",892.61,803.76,989.54,843.22,1316.39,1251.3399999999999]
[{"$f":"Table_BPU[[#This Row],[Risk Area]]&\" \"&Table_BPU[[#This Row],[BPU Description]]","v":"Yellowhead Dry Beans"},"Yellowhead",41,"Dry Beans",892.61,803.76,989.54,843.22,1316.39,1251.3399999999999]
[{"$f":"Table_BPU[[#This Row],[Risk Area]]&\" \"&Table_BPU[[#This Row],[BPU Description]]","v":"Acadia Eggs (consumption) per dz"},"Acadia",22,"Eggs (consumption) per dz",0.77,0.78,0.76,0.9,0.96,0.94]
[{"$f":"Table_BPU[[#This Row],[Risk Area]]&\" \"&Table_BPU[[#This Row],[BPU Description]]","v":"Athabasca Eggs (consumption) per dz"},"Athabasca",22,"Eggs (consumption) per dz",0.77,0.78,0.76,0.9,0.96,0.94]
[{"$f":"Table_BPU[[#This Row],[Risk Area]]&\" \"&Table_BPU[[#This Row],[BPU Description]]","v":"Barrhead Eggs (consumption) per dz"},"Barrhead",22,"Eggs (consumption) per dz",0.77,0.78,0.76,0.9,0.96,0.94]
[{"$f":"Table_BPU[[#This Row],[Risk Area]]&\" \"&Table_BPU[[#This Row],[BPU Description]]","v":"Beaver Eggs (consumption) per dz"},"Beaver",22,"Eggs (consumption) per dz",0.77,0.78,0.76,0.9,0.96,0.94]
[{"$f":"Table_BPU[[#This Row],[Risk Area]]&\" \"&Table_BPU[[#This Row],[BPU Description]]","v":"Big Lakes Eggs (consumption) per dz"},"Big Lakes",22,"Eggs (consumption) per dz",0.77,0.78,0.76,0.9,0.96,0.94]
[{"$f":"Table_BPU[[#This Row],[Risk Area]]&\" \"&Table_BPU[[#This Row],[BPU Description]]","v":"Bighorn Eggs (consumption) per dz"},"Bighorn",22,"Eggs (consumption) per dz",0.77,0.78,0.76,0.9,0.96,0.94]
[{"$f":"Table_BPU[[#This Row],[Risk Area]]&\" \"&Table_BPU[[#This Row],[BPU Description]]","v":"Birch Hills Eggs (consumption) per dz"},"Birch Hills",22,"Eggs (consumption) per dz",0.77,0.78,0.76,0.9,0.96,0.94]
[{"$f":"Table_BPU[[#This Row],[Risk Area]]&\" \"&Table_BPU[[#This Row],[BPU Description]]","v":"Bonnyville Eggs (consumption) per dz"},"Bonnyville",22,"Eggs (consumption) per dz",0.77,0.78,0.76,0.9,0.96,0.94]
[{"$f":"Table_BPU[[#This Row],[Risk Area]]&\" \"&Table_BPU[[#This Row],[BPU Description]]","v":"Brazeau Eggs (consumption) per dz"},"Brazeau",22,"Eggs (consumption) per dz",0.77,0.78,0.76,0.9,0.96,0.94]
[{"$f":"Table_BPU[[#This Row],[Risk Area]]&\" \"&Table_BPU[[#This Row],[BPU Description]]","v":"Camrose Eggs (consumption) per dz"},"Camrose",22,"Eggs (consumption) per dz",0.77,0.78,0.76,0.9,0.96,0.94]
[{"$f":"Table_BPU[[#This Row],[Risk Area]]&\" \"&Table_BPU[[#This Row],[BPU Description]]","v":"Cardston Eggs (consumption) per dz"},"Cardston",22,"Eggs (consumption) per dz",0.77,0.78,0.76,0.9,0.96,0.94]
[{"$f":"Table_BPU[[#This Row],[Risk Area]]&\" \"&Table_BPU[[#This Row],[BPU Description]]","v":"Clear Hills Eggs (consumption) per dz"},"Clear Hills",22,"Eggs (consumption) per dz",0.77,0.78,0.76,0.9,0.96,0.94]
[{"$f":"Table_BPU[[#This Row],[Risk Area]]&\" \"&Table_BPU[[#This Row],[BPU Description]]","v":"Clearwater Eggs (consumption) per dz"},"Clearwater",22,"Eggs (consumption) per dz",0.77,0.78,0.76,0.9,0.96,0.94]
[{"$f":"Table_BPU[[#This Row],[Risk Area]]&\" \"&Table_BPU[[#This Row],[BPU Description]]","v":"Cypress Eggs (consumption) per dz"},"Cypress",22,"Eggs (consumption) per dz",0.77,0.78,0.76,0.9,0.96,0.94]
[{"$f":"Table_BPU[[#This Row],[Risk Area]]&\" \"&Table_BPU[[#This Row],[BPU Description]]","v":"Edmonton Eggs (consumption) per dz"},"Edmonton",22,"Eggs (consumption) per dz",0.77,0.78,0.76,0.9,0.96,0.94]
[{"$f":"Table_BPU[[#This Row],[Risk Area]]&\" \"&Table_BPU[[#This Row],[BPU Description]]","v":"Fairview Eggs (consumption) per dz"},"Fairview",22,"Eggs (consumption) per dz",0.77,0.78,0.76,0.9,0.96,0.94]
[{"$f":"Table_BPU[[#This Row],[Risk Area]]&\" \"&Table_BPU[[#This Row],[BPU Description]]","v":"Flagstaff Eggs (consumption) per dz"},"Flagstaff",22,"Eggs (consumption) per dz",0.77,0.78,0.76,0.9,0.96,0.94]
[{"$f":"Table_BPU[[#This Row],[Risk Area]]&\" \"&Table_BPU[[#This Row],[BPU Description]]","v":"Foothills Eggs (consumption) per dz"},"Foothills",22,"Eggs (consumption) per dz",0.77,0.78,0.76,0.9,0.96,0.94]
[{"$f":"Table_BPU[[#This Row],[Risk Area]]&\" \"&Table_BPU[[#This Row],[BPU Description]]","v":"Forty Mile Eggs (consumption) per dz"},"Forty Mile",22,"Eggs (consumption) per dz",0.77,0.78,0.76,0.9,0.96,0.94]
[{"$f":"Table_BPU[[#This Row],[Risk Area]]&\" \"&Table_BPU[[#This Row],[BPU Description]]","v":"Grande Prairie Eggs (consumption) per dz"},"Grande Prairie",22,"Eggs (consumption) per dz",0.77,0.78,0.76,0.9,0.96,0.94]
[{"$f":"Table_BPU[[#This Row],[Risk Area]]&\" \"&Table_BPU[[#This Row],[BPU Description]]","v":"Greenview Eggs (consumption) per dz"},"Greenview",22,"Eggs (consumption) per dz",0.77,0.78,0.76,0.9,0.96,0.94]
[{"$f":"Table_BPU[[#This Row],[Risk Area]]&\" \"&Table_BPU[[#This Row],[BPU Description]]","v":"Kneehill Eggs (consumption) per dz"},"Kneehill",22,"Eggs (consumption) per dz",0.77,0.78,0.76,0.9,0.96,0.94]
[{"$f":"Table_BPU[[#This Row],[Risk Area]]&\" \"&Table_BPU[[#This Row],[BPU Description]]","v":"Lac La Biche Eggs (consumption) per dz"},"Lac La Biche",22,"Eggs (consumption) per dz",0.77,0.78,0.76,0.9,0.96,0.94]
[{"$f":"Table_BPU[[#This Row],[Risk Area]]&\" \"&Table_BPU[[#This Row],[BPU Description]]","v":"Lac Ste. Anne County Eggs (consumption) per dz"},"Lac Ste. Anne County",22,"Eggs (consumption) per dz",0.77,0.78,0.76,0.9,0.96,0.94]
[{"$f":"Table_BPU[[#This Row],[Risk Area]]&\" \"&Table_BPU[[#This Row],[BPU Description]]","v":"Lacombe Eggs (consumption) per dz"},"Lacombe",22,"Eggs (consumption) per dz",0.77,0.78,0.76,0.9,0.96,0.94]
[{"$f":"Table_BPU[[#This Row],[Risk Area]]&\" \"&Table_BPU[[#This Row],[BPU Description]]","v":"Lamont Eggs (consumption) per dz"},"Lamont",22,"Eggs (consumption) per dz",0.77,0.78,0.76,0.9,0.96,0.94]
[{"$f":"Table_BPU[[#This Row],[Risk Area]]&\" \"&Table_BPU[[#This Row],[BPU Description]]","v":"Leduc Eggs (consumption) per dz"},"Leduc",22,"Eggs (consumption) per dz",0.77,0.78,0.76,0.9,0.96,0.94]
[{"$f":"Table_BPU[[#This Row],[Risk Area]]&\" \"&Table_BPU[[#This Row],[BPU Description]]","v":"Lesser Slave River Eggs (consumption) per dz"},"Lesser Slave River",22,"Eggs (consumption) per dz",0.77,0.78,0.76,0.9,0.96,0.94]
[{"$f":"Table_BPU[[#This Row],[Risk Area]]&\" \"&Table_BPU[[#This Row],[BPU Description]]","v":"Lethbridge Eggs (consumption) per dz"},"Lethbridge",22,"Eggs (consumption) per dz",0.77,0.78,0.76,0.9,0.96,0.94]
[{"$f":"Table_BPU[[#This Row],[Risk Area]]&\" \"&Table_BPU[[#This Row],[BPU Description]]","v":"Mackenzie Eggs (consumption) per dz"},"Mackenzie",22,"Eggs (consumption) per dz",0.77,0.78,0.76,0.9,0.96,0.94]
[{"$f":"Table_BPU[[#This Row],[Risk Area]]&\" \"&Table_BPU[[#This Row],[BPU Description]]","v":"Minburn Eggs (consumption) per dz"},"Minburn",22,"Eggs (consumption) per dz",0.77,0.78,0.76,0.9,0.96,0.94]
[{"$f":"Table_BPU[[#This Row],[Risk Area]]&\" \"&Table_BPU[[#This Row],[BPU Description]]","v":"Mountain View Eggs (consumption) per dz"},"Mountain View",22,"Eggs (consumption) per dz",0.77,0.78,0.76,0.9,0.96,0.94]
[{"$f":"Table_BPU[[#This Row],[Risk Area]]&\" \"&Table_BPU[[#This Row],[BPU Description]]","v":"Newell Eggs (consumption) per dz"},"Newell",22,"Eggs (consumption) per dz",0.77,0.78,0.76,0.9,0.96,0.94]
[{"$f":"Table_BPU[[#This Row],[Risk Area]]&\" \"&Table_BPU[[#This Row],[BPU Description]]","v":"Northern Lights Eggs (consumption) per dz"},"Northern Lights",22,"Eggs (consumption) per dz",0.77,0.78,0.76,0.9,0.96,0.94]
[{"$f":"Table_BPU[[#This Row],[Risk Area]]&\" \"&Table_BPU[[#This Row],[BPU Description]]","v":"Northern Sunrise Eggs (consumption) per dz"},"Northern Sunrise",22,"Eggs (consumption) per dz",0.77,0.78,0.76,0.9,0.96,0.94]
[{"$f":"Table_BPU[[#This Row],[Risk Area]]&\" \"&Table_BPU[[#This Row],[BPU Description]]","v":"Opportunity Eggs (consumption) per dz"},"Opportunity",22,"Eggs (consumption) per dz",0.77,0.78,0.76,0.9,0.96,0.94]
[{"$f":"Table_BPU[[#This Row],[Risk Area]]&\" \"&Table_BPU[[#This Row],[BPU Description]]","v":"Paintearth Eggs (consumption) per dz"},"Paintearth",22,"Eggs (consumption) per dz",0.77,0.78,0.76,0.9,0.96,0.94]
[{"$f":"Table_BPU[[#This Row],[Risk Area]]&\" \"&Table_BPU[[#This Row],[BPU Description]]","v":"Parkland County Eggs (consumption) per dz"},"Parkland County",22,"Eggs (consumption) per dz",0.77,0.78,0.76,0.9,0.96,0.94]
[{"$f":"Table_BPU[[#This Row],[Risk Area]]&\" \"&Table_BPU[[#This Row],[BPU Description]]","v":"Peace Eggs (consumption) per dz"},"Peace",22,"Eggs (consumption) per dz",0.77,0.78,0.76,0.9,0.96,0.94]
[{"$f":"Table_BPU[[#This Row],[Risk Area]]&\" \"&Table_BPU[[#This Row],[BPU Description]]","v":"Pincher Creek Eggs (consumption) per dz"},"Pincher Creek",22,"Eggs (consumption) per dz",0.77,0.78,0.76,0.9,0.96,0.94]
[{"$f":"Table_BPU[[#This Row],[Risk Area]]&\" \"&Table_BPU[[#This Row],[BPU Description]]","v":"Ponoka Eggs (consumption) per dz"},"Ponoka",22,"Eggs (consumption) per dz",0.77,0.78,0.76,0.9,0.96,0.94]
[{"$f":"Table_BPU[[#This Row],[Risk Area]]&\" \"&Table_BPU[[#This Row],[BPU Description]]","v":"Provost Eggs (consumption) per dz"},"Provost",22,"Eggs (consumption) per dz",0.77,0.78,0.76,0.9,0.96,0.94]
[{"$f":"Table_BPU[[#This Row],[Risk Area]]&\" \"&Table_BPU[[#This Row],[BPU Description]]","v":"Ranchland Eggs (consumption) per dz"},"Ranchland",22,"Eggs (consumption) per dz",0.77,0.78,0.76,0.9,0.96,0.94]
[{"$f":"Table_BPU[[#This Row],[Risk Area]]&\" \"&Table_BPU[[#This Row],[BPU Description]]","v":"Red Deer Eggs (consumption) per dz"},"Red Deer",22,"Eggs (consumption) per dz",0.77,0.78,0.76,0.9,0.96,0.94]
[{"$f":"Table_BPU[[#This Row],[Risk Area]]&\" \"&Table_BPU[[#This Row],[BPU Description]]","v":"Rocky View Eggs (consumption) per dz"},"Rocky View",22,"Eggs (consumption) per dz",0.77,0.78,0.76,0.9,0.96,0.94]
[{"$f":"Table_BPU[[#This Row],[Risk Area]]&\" \"&Table_BPU[[#This Row],[BPU Description]]","v":"Saddle Hills Eggs (consumption) per dz"},"Saddle Hills",22,"Eggs (consumption) per dz",0.77,0.78,0.76,0.9,0.96,0.94]
[{"$f":"Table_BPU[[#This Row],[Risk Area]]&\" \"&Table_BPU[[#This Row],[BPU Description]]","v":"Smoky Lake Eggs (consumption) per dz"},"Smoky Lake",22,"Eggs (consumption) per dz",0.77,0.78,0.76,0.9,0.96,0.94]
[{"$f":"Table_BPU[[#This Row],[Risk Area]]&\" \"&Table_BPU[[#This Row],[BPU Description]]","v":"Smoky River Eggs (consumption) per dz"},"Smoky River",22,"Eggs (consumption) per dz",0.77,0.78,0.76,0.9,0.96,0.94]
[{"$f":"Table_BPU[[#This Row],[Risk Area]]&\" \"&Table_BPU[[#This Row],[BPU Description]]","v":"Special Area 02 Eggs (consumption) per dz"},"Special Area 02",22,"Eggs (consumption) per dz",0.77,0.78,0.76,0.9,0.96,0.94]
[{"$f":"Table_BPU[[#This Row],[Risk Area]]&\" \"&Table_BPU[[#This Row],[BPU Description]]","v":"Special Area 03 Eggs (consumption) per dz"},"Special Area 03",22,"Eggs (consumption) per dz",0.77,0.78,0.76,0.9,0.96,0.94]
[{"$f":"Table_BPU[[#This Row],[Risk Area]]&\" \"&Table_BPU[[#This Row],[BPU Description]]","v":"Special Area 04 Eggs (consumption) per dz"},"Special Area 04",22,"Eggs (consumption) per dz",0.77,0.78,0.76,0.9,0.96,0.94]
[{"$f":"Table_BPU[[#This Row],[Risk Area]]&\" \"&Table_BPU[[#This Row],[BPU Description]]","v":"Spirit River Eggs (consumption) per dz"},"Spirit River",22,"Eggs (consumption) per dz",0.77,0.78,0.76,0.9,0.96,0.94]
[{"$f":"Table_BPU[[#This Row],[Risk Area]]&\" \"&Table_BPU[[#This Row],[BPU Description]]","v":"St. Paul Eggs (consumption) per dz"},"St. Paul",22,"Eggs (consumption) per dz",0.77,0.78,0.76,0.9,0.96,0.94]
[{"$f":"Table_BPU[[#This Row],[Risk Area]]&\" \"&Table_BPU[[#This Row],[BPU Description]]","v":"Starland Eggs (consumption) per dz"},"Starland",22,"Eggs (consumption) per dz",0.77,0.78,0.76,0.9,0.96,0.94]
[{"$f":"Table_BPU[[#This Row],[Risk Area]]&\" \"&Table_BPU[[#This Row],[BPU Description]]","v":"Stettler Eggs (consumption) per dz"},"Stettler",22,"Eggs (consumption) per dz",0.77,0.78,0.76,0.9,0.96,0.94]
[{"$f":"Table_BPU[[#This Row],[Risk Area]]&\" \"&Table_BPU[[#This Row],[BPU Description]]","v":"Strathcona County Eggs (consumption) per dz"},"Strathcona County",22,"Eggs (consumption) per dz",0.77,0.78,0.76,0.9,0.96,0.94]
[{"$f":"Table_BPU[[#This Row],[Risk Area]]&\" \"&Table_BPU[[#This Row],[BPU Description]]","v":"Sturgeon Eggs (consumption) per dz"},"Sturgeon",22,"Eggs (consumption) per dz",0.77,0.78,0.76,0.9,0.96,0.94]
[{"$f":"Table_BPU[[#This Row],[Risk Area]]&\" \"&Table_BPU[[#This Row],[BPU Description]]","v":"Taber Eggs (consumption) per dz"},"Taber",22,"Eggs (consumption) per dz",0.77,0.78,0.76,0.9,0.96,0.94]
[{"$f":"Table_BPU[[#This Row],[Risk Area]]&\" \"&Table_BPU[[#This Row],[BPU Description]]","v":"Thorhild Eggs (consumption) per dz"},"Thorhild",22,"Eggs (consumption) per dz",0.77,0.78,0.76,0.9,0.96,0.94]
[{"$f":"Table_BPU[[#This Row],[Risk Area]]&\" \"&Table_BPU[[#This Row],[BPU Description]]","v":"Two Hills Eggs (consumption) per dz"},"Two Hills",22,"Eggs (consumption) per dz",0.77,0.78,0.76,0.9,0.96,0.94]
[{"$f":"Table_BPU[[#This Row],[Risk Area]]&\" \"&Table_BPU[[#This Row],[BPU Description]]","v":"Vermilion River Eggs (consumption) per dz"},"Vermilion River",22,"Eggs (consumption) per dz",0.77,0.78,0.76,0.9,0.96,0.94]
[{"$f":"Table_BPU[[#This Row],[Risk Area]]&\" \"&Table_BPU[[#This Row],[BPU Description]]","v":"Vulcan Eggs (consumption) per dz"},"Vulcan",22,"Eggs (consumption) per dz",0.77,0.78,0.76,0.9,0.96,0.94]
[{"$f":"Table_BPU[[#This Row],[Risk Area]]&\" \"&Table_BPU[[#This Row],[BPU Description]]","v":"Wainwright Eggs (consumption) per dz"},"Wainwright",22,"Eggs (consumption) per dz",0.77,0.78,0.76,0.9,0.96,0.94]
[{"$f":"Table_BPU[[#This Row],[Risk Area]]&\" \"&Table_BPU[[#This Row],[BPU Description]]","v":"Warner Eggs (consumption) per dz"},"Warner",22,"Eggs (consumption) per dz",0.77,0.78,0.76,0.9,0.96,0.94]
[{"$f":"Table_BPU[[#This Row],[Risk Area]]&\" \"&Table_BPU[[#This Row],[BPU Description]]","v":"Westlock Eggs (consumption) per dz"},"Westlock",22,"Eggs (consumption) per dz",0.77,0.78,0.76,0.9,0.96,0.94]
[{"$f":"Table_BPU[[#This Row],[Risk Area]]&\" \"&Table_BPU[[#This Row],[BPU Description]]","v":"Wetaskiwin Eggs (consumption) per dz"},"Wetaskiwin",22,"Eggs (consumption) per dz",0.77,0.78,0.76,0.9,0.96,0.94]
[{"$f":"Table_BPU[[#This Row],[Risk Area]]&\" \"&Table_BPU[[#This Row],[BPU Description]]","v":"Wheatland Eggs (consumption) per dz"},"Wheatland",22,"Eggs (consumption) per dz",0.77,0.78,0.76,0.9,0.96,0.94]
[{"$f":"Table_BPU[[#This Row],[Risk Area]]&\" \"&Table_BPU[[#This Row],[BPU Description]]","v":"Willow Creek Eggs (consumption) per dz"},"Willow Creek",22,"Eggs (consumption) per dz",0.77,0.78,0.76,0.9,0.96,0.94]
[{"$f":"Table_BPU[[#This Row],[Risk Area]]&\" \"&Table_BPU[[#This Row],[BPU Description]]","v":"Wood Buffalo Eggs (consumption) per dz"},"Wood Buffalo",22,"Eggs (consumption) per dz",0.77,0.78,0.76,0.9,0.96,0.94]
[{"$f":"Table_BPU[[#This Row],[Risk Area]]&\" \"&Table_BPU[[#This Row],[BPU Description]]","v":"Woodlands Eggs (consumption) per dz"},"Woodlands",22,"Eggs (consumption) per dz",0.77,0.78,0.76,0.9,0.96,0.94]
[{"$f":"Table_BPU[[#This Row],[Risk Area]]&\" \"&Table_BPU[[#This Row],[BPU Description]]","v":"Yellowhead Eggs (consumption) per dz"},"Yellowhead",22,"Eggs (consumption) per dz",0.77,0.78,0.76,0.9,0.96,0.94]
[{"$f":"Table_BPU[[#This Row],[Risk Area]]&\" \"&Table_BPU[[#This Row],[BPU Description]]","v":"Acadia Eggs (consumption) per layer"},"Acadia",21,"Eggs (consumption) per layer",19.21,19.5,18.940000000000001,22.47,24.03,23.53]
[{"$f":"Table_BPU[[#This Row],[Risk Area]]&\" \"&Table_BPU[[#This Row],[BPU Description]]","v":"Athabasca Eggs (consumption) per layer"},"Athabasca",21,"Eggs (consumption) per layer",19.21,19.5,18.940000000000001,22.47,24.03,23.53]
[{"$f":"Table_BPU[[#This Row],[Risk Area]]&\" \"&Table_BPU[[#This Row],[BPU Description]]","v":"Barrhead Eggs (consumption) per layer"},"Barrhead",21,"Eggs (consumption) per layer",19.21,19.5,18.940000000000001,22.47,24.03,23.53]
[{"$f":"Table_BPU[[#This Row],[Risk Area]]&\" \"&Table_BPU[[#This Row],[BPU Description]]","v":"Beaver Eggs (consumption) per layer"},"Beaver",21,"Eggs (consumption) per layer",19.21,19.5,18.940000000000001,22.47,24.03,23.53]
[{"$f":"Table_BPU[[#This Row],[Risk Area]]&\" \"&Table_BPU[[#This Row],[BPU Description]]","v":"Big Lakes Eggs (consumption) per layer"},"Big Lakes",21,"Eggs (consumption) per layer",19.21,19.5,18.940000000000001,22.47,24.03,23.53]
[{"$f":"Table_BPU[[#This Row],[Risk Area]]&\" \"&Table_BPU[[#This Row],[BPU Description]]","v":"Bighorn Eggs (consumption) per layer"},"Bighorn",21,"Eggs (consumption) per layer",19.21,19.5,18.940000000000001,22.47,24.03,23.53]
[{"$f":"Table_BPU[[#This Row],[Risk Area]]&\" \"&Table_BPU[[#This Row],[BPU Description]]","v":"Birch Hills Eggs (consumption) per layer"},"Birch Hills",21,"Eggs (consumption) per layer",19.21,19.5,18.940000000000001,22.47,24.03,23.53]
[{"$f":"Table_BPU[[#This Row],[Risk Area]]&\" \"&Table_BPU[[#This Row],[BPU Description]]","v":"Bonnyville Eggs (consumption) per layer"},"Bonnyville",21,"Eggs (consumption) per layer",19.21,19.5,18.940000000000001,22.47,24.03,23.53]
[{"$f":"Table_BPU[[#This Row],[Risk Area]]&\" \"&Table_BPU[[#This Row],[BPU Description]]","v":"Brazeau Eggs (consumption) per layer"},"Brazeau",21,"Eggs (consumption) per layer",19.21,19.5,18.940000000000001,22.47,24.03,23.53]
[{"$f":"Table_BPU[[#This Row],[Risk Area]]&\" \"&Table_BPU[[#This Row],[BPU Description]]","v":"Camrose Eggs (consumption) per layer"},"Camrose",21,"Eggs (consumption) per layer",19.21,19.5,18.940000000000001,22.47,24.03,23.53]
[{"$f":"Table_BPU[[#This Row],[Risk Area]]&\" \"&Table_BPU[[#This Row],[BPU Description]]","v":"Cardston Eggs (consumption) per layer"},"Cardston",21,"Eggs (consumption) per layer",19.21,19.5,18.940000000000001,22.47,24.03,23.53]
[{"$f":"Table_BPU[[#This Row],[Risk Area]]&\" \"&Table_BPU[[#This Row],[BPU Description]]","v":"Clear Hills Eggs (consumption) per layer"},"Clear Hills",21,"Eggs (consumption) per layer",19.21,19.5,18.940000000000001,22.47,24.03,23.53]
[{"$f":"Table_BPU[[#This Row],[Risk Area]]&\" \"&Table_BPU[[#This Row],[BPU Description]]","v":"Clearwater Eggs (consumption) per layer"},"Clearwater",21,"Eggs (consumption) per layer",19.21,19.5,18.940000000000001,22.47,24.03,23.53]
[{"$f":"Table_BPU[[#This Row],[Risk Area]]&\" \"&Table_BPU[[#This Row],[BPU Description]]","v":"Cypress Eggs (consumption) per layer"},"Cypress",21,"Eggs (consumption) per layer",19.21,19.5,18.940000000000001,22.47,24.03,23.53]
[{"$f":"Table_BPU[[#This Row],[Risk Area]]&\" \"&Table_BPU[[#This Row],[BPU Description]]","v":"Edmonton Eggs (consumption) per layer"},"Edmonton",21,"Eggs (consumption) per layer",19.21,19.5,18.940000000000001,22.47,24.03,23.53]
[{"$f":"Table_BPU[[#This Row],[Risk Area]]&\" \"&Table_BPU[[#This Row],[BPU Description]]","v":"Fairview Eggs (consumption) per layer"},"Fairview",21,"Eggs (consumption) per layer",19.21,19.5,18.940000000000001,22.47,24.03,23.53]
[{"$f":"Table_BPU[[#This Row],[Risk Area]]&\" \"&Table_BPU[[#This Row],[BPU Description]]","v":"Flagstaff Eggs (consumption) per layer"},"Flagstaff",21,"Eggs (consumption) per layer",19.21,19.5,18.940000000000001,22.47,24.03,23.53]
[{"$f":"Table_BPU[[#This Row],[Risk Area]]&\" \"&Table_BPU[[#This Row],[BPU Description]]","v":"Foothills Eggs (consumption) per layer"},"Foothills",21,"Eggs (consumption) per layer",19.21,19.5,18.940000000000001,22.47,24.03,23.53]
[{"$f":"Table_BPU[[#This Row],[Risk Area]]&\" \"&Table_BPU[[#This Row],[BPU Description]]","v":"Forty Mile Eggs (consumption) per layer"},"Forty Mile",21,"Eggs (consumption) per layer",19.21,19.5,18.940000000000001,22.47,24.03,23.53]
[{"$f":"Table_BPU[[#This Row],[Risk Area]]&\" \"&Table_BPU[[#This Row],[BPU Description]]","v":"Grande Prairie Eggs (consumption) per layer"},"Grande Prairie",21,"Eggs (consumption) per layer",19.21,19.5,18.940000000000001,22.47,24.03,23.53]
[{"$f":"Table_BPU[[#This Row],[Risk Area]]&\" \"&Table_BPU[[#This Row],[BPU Description]]","v":"Greenview Eggs (consumption) per layer"},"Greenview",21,"Eggs (consumption) per layer",19.21,19.5,18.940000000000001,22.47,24.03,23.53]
[{"$f":"Table_BPU[[#This Row],[Risk Area]]&\" \"&Table_BPU[[#This Row],[BPU Description]]","v":"Kneehill Eggs (consumption) per layer"},"Kneehill",21,"Eggs (consumption) per layer",19.21,19.5,18.940000000000001,22.47,24.03,23.53]
[{"$f":"Table_BPU[[#This Row],[Risk Area]]&\" \"&Table_BPU[[#This Row],[BPU Description]]","v":"Lac La Biche Eggs (consumption) per layer"},"Lac La Biche",21,"Eggs (consumption) per layer",19.21,19.5,18.940000000000001,22.47,24.03,23.53]
[{"$f":"Table_BPU[[#This Row],[Risk Area]]&\" \"&Table_BPU[[#This Row],[BPU Description]]","v":"Lac Ste. Anne County Eggs (consumption) per layer"},"Lac Ste. Anne County",21,"Eggs (consumption) per layer",19.21,19.5,18.940000000000001,22.47,24.03,23.53]
[{"$f":"Table_BPU[[#This Row],[Risk Area]]&\" \"&Table_BPU[[#This Row],[BPU Description]]","v":"Lacombe Eggs (consumption) per layer"},"Lacombe",21,"Eggs (consumption) per layer",19.21,19.5,18.940000000000001,22.47,24.03,23.53]
[{"$f":"Table_BPU[[#This Row],[Risk Area]]&\" \"&Table_BPU[[#This Row],[BPU Description]]","v":"Lamont Eggs (consumption) per layer"},"Lamont",21,"Eggs (consumption) per layer",19.21,19.5,18.940000000000001,22.47,24.03,23.53]
[{"$f":"Table_BPU[[#This Row],[Risk Area]]&\" \"&Table_BPU[[#This Row],[BPU Description]]","v":"Leduc Eggs (consumption) per layer"},"Leduc",21,"Eggs (consumption) per layer",19.21,19.5,18.940000000000001,22.47,24.03,23.53]
[{"$f":"Table_BPU[[#This Row],[Risk Area]]&\" \"&Table_BPU[[#This Row],[BPU Description]]","v":"Lesser Slave River Eggs (consumption) per layer"},"Lesser Slave River",21,"Eggs (consumption) per layer",19.21,19.5,18.940000000000001,22.47,24.03,23.53]
[{"$f":"Table_BPU[[#This Row],[Risk Area]]&\" \"&Table_BPU[[#This Row],[BPU Description]]","v":"Lethbridge Eggs (consumption) per layer"},"Lethbridge",21,"Eggs (consumption) per layer",19.21,19.5,18.940000000000001,22.47,24.03,23.53]
[{"$f":"Table_BPU[[#This Row],[Risk Area]]&\" \"&Table_BPU[[#This Row],[BPU Description]]","v":"Mackenzie Eggs (consumption) per layer"},"Mackenzie",21,"Eggs (consumption) per layer",19.21,19.5,18.940000000000001,22.47,24.03,23.53]
[{"$f":"Table_BPU[[#This Row],[Risk Area]]&\" \"&Table_BPU[[#This Row],[BPU Description]]","v":"Minburn Eggs (consumption) per layer"},"Minburn",21,"Eggs (consumption) per layer",19.21,19.5,18.940000000000001,22.47,24.03,23.53]
[{"$f":"Table_BPU[[#This Row],[Risk Area]]&\" \"&Table_BPU[[#This Row],[BPU Description]]","v":"Mountain View Eggs (consumption) per layer"},"Mountain View",21,"Eggs (consumption) per layer",19.21,19.5,18.940000000000001,22.47,24.03,23.53]
[{"$f":"Table_BPU[[#This Row],[Risk Area]]&\" \"&Table_BPU[[#This Row],[BPU Description]]","v":"Newell Eggs (consumption) per layer"},"Newell",21,"Eggs (consumption) per layer",19.21,19.5,18.940000000000001,22.47,24.03,23.53]
[{"$f":"Table_BPU[[#This Row],[Risk Area]]&\" \"&Table_BPU[[#This Row],[BPU Description]]","v":"Northern Lights Eggs (consumption) per layer"},"Northern Lights",21,"Eggs (consumption) per layer",19.21,19.5,18.940000000000001,22.47,24.03,23.53]
[{"$f":"Table_BPU[[#This Row],[Risk Area]]&\" \"&Table_BPU[[#This Row],[BPU Description]]","v":"Northern Sunrise Eggs (consumption) per layer"},"Northern Sunrise",21,"Eggs (consumption) per layer",19.21,19.5,18.940000000000001,22.47,24.03,23.53]
[{"$f":"Table_BPU[[#This Row],[Risk Area]]&\" \"&Table_BPU[[#This Row],[BPU Description]]","v":"Opportunity Eggs (consumption) per layer"},"Opportunity",21,"Eggs (consumption) per layer",19.21,19.5,18.940000000000001,22.47,24.03,23.53]
[{"$f":"Table_BPU[[#This Row],[Risk Area]]&\" \"&Table_BPU[[#This Row],[BPU Description]]","v":"Paintearth Eggs (consumption) per layer"},"Paintearth",21,"Eggs (consumption) per layer",19.21,19.5,18.940000000000001,22.47,24.03,23.53]
[{"$f":"Table_BPU[[#This Row],[Risk Area]]&\" \"&Table_BPU[[#This Row],[BPU Description]]","v":"Parkland County Eggs (consumption) per layer"},"Parkland County",21,"Eggs (consumption) per layer",19.21,19.5,18.940000000000001,22.47,24.03,23.53]
[{"$f":"Table_BPU[[#This Row],[Risk Area]]&\" \"&Table_BPU[[#This Row],[BPU Description]]","v":"Peace Eggs (consumption) per layer"},"Peace",21,"Eggs (consumption) per layer",19.21,19.5,18.940000000000001,22.47,24.03,23.53]
[{"$f":"Table_BPU[[#This Row],[Risk Area]]&\" \"&Table_BPU[[#This Row],[BPU Description]]","v":"Pincher Creek Eggs (consumption) per layer"},"Pincher Creek",21,"Eggs (consumption) per layer",19.21,19.5,18.940000000000001,22.47,24.03,23.53]
[{"$f":"Table_BPU[[#This Row],[Risk Area]]&\" \"&Table_BPU[[#This Row],[BPU Description]]","v":"Ponoka Eggs (consumption) per layer"},"Ponoka",21,"Eggs (consumption) per layer",19.21,19.5,18.940000000000001,22.47,24.03,23.53]
[{"$f":"Table_BPU[[#This Row],[Risk Area]]&\" \"&Table_BPU[[#This Row],[BPU Description]]","v":"Provost Eggs (consumption) per layer"},"Provost",21,"Eggs (consumption) per layer",19.21,19.5,18.940000000000001,22.47,24.03,23.53]
[{"$f":"Table_BPU[[#This Row],[Risk Area]]&\" \"&Table_BPU[[#This Row],[BPU Description]]","v":"Ranchland Eggs (consumption) per layer"},"Ranchland",21,"Eggs (consumption) per layer",19.21,19.5,18.940000000000001,22.47,24.03,23.53]
[{"$f":"Table_BPU[[#This Row],[Risk Area]]&\" \"&Table_BPU[[#This Row],[BPU Description]]","v":"Red Deer Eggs (consumption) per layer"},"Red Deer",21,"Eggs (consumption) per layer",19.21,19.5,18.940000000000001,22.47,24.03,23.53]
[{"$f":"Table_BPU[[#This Row],[Risk Area]]&\" \"&Table_BPU[[#This Row],[BPU Description]]","v":"Rocky View Eggs (consumption) per layer"},"Rocky View",21,"Eggs (consumption) per layer",19.21,19.5,18.940000000000001,22.47,24.03,23.53]
[{"$f":"Table_BPU[[#This Row],[Risk Area]]&\" \"&Table_BPU[[#This Row],[BPU Description]]","v":"Saddle Hills Eggs (consumption) per layer"},"Saddle Hills",21,"Eggs (consumption) per layer",19.21,19.5,18.940000000000001,22.47,24.03,23.53]
[{"$f":"Table_BPU[[#This Row],[Risk Area]]&\" \"&Table_BPU[[#This Row],[BPU Description]]","v":"Smoky Lake Eggs (consumption) per layer"},"Smoky Lake",21,"Eggs (consumption) per layer",19.21,19.5,18.940000000000001,22.47,24.03,23.53]
[{"$f":"Table_BPU[[#This Row],[Risk Area]]&\" \"&Table_BPU[[#This Row],[BPU Description]]","v":"Smoky River Eggs (consumption) per layer"},"Smoky River",21,"Eggs (consumption) per layer",19.21,19.5,18.940000000000001,22.47,24.03,23.53]
[{"$f":"Table_BPU[[#This Row],[Risk Area]]&\" \"&Table_BPU[[#This Row],[BPU Description]]","v":"Special Area 02 Eggs (consumption) per layer"},"Special Area 02",21,"Eggs (consumption) per layer",19.21,19.5,18.940000000000001,22.47,24.03,23.53]
[{"$f":"Table_BPU[[#This Row],[Risk Area]]&\" \"&Table_BPU[[#This Row],[BPU Description]]","v":"Special Area 03 Eggs (consumption) per layer"},"Special Area 03",21,"Eggs (consumption) per layer",19.21,19.5,18.940000000000001,22.47,24.03,23.53]
[{"$f":"Table_BPU[[#This Row],[Risk Area]]&\" \"&Table_BPU[[#This Row],[BPU Description]]","v":"Special Area 04 Eggs (consumption) per layer"},"Special Area 04",21,"Eggs (consumption) per layer",19.21,19.5,18.940000000000001,22.47,24.03,23.53]
[{"$f":"Table_BPU[[#This Row],[Risk Area]]&\" \"&Table_BPU[[#This Row],[BPU Description]]","v":"Spirit River Eggs (consumption) per layer"},"Spirit River",21,"Eggs (consumption) per layer",19.21,19.5,18.940000000000001,22.47,24.03,23.53]
[{"$f":"Table_BPU[[#This Row],[Risk Area]]&\" \"&Table_BPU[[#This Row],[BPU Description]]","v":"St. Paul Eggs (consumption) per layer"},"St. Paul",21,"Eggs (consumption) per layer",19.21,19.5,18.940000000000001,22.47,24.03,23.53]
[{"$f":"Table_BPU[[#This Row],[Risk Area]]&\" \"&Table_BPU[[#This Row],[BPU Description]]","v":"Starland Eggs (consumption) per layer"},"Starland",21,"Eggs (consumption) per layer",19.21,19.5,18.940000000000001,22.47,24.03,23.53]
[{"$f":"Table_BPU[[#This Row],[Risk Area]]&\" \"&Table_BPU[[#This Row],[BPU Description]]","v":"Stettler Eggs (consumption) per layer"},"Stettler",21,"Eggs (consumption) per layer",19.21,19.5,18.940000000000001,22.47,24.03,23.53]
[{"$f":"Table_BPU[[#This Row],[Risk Area]]&\" \"&Table_BPU[[#This Row],[BPU Description]]","v":"Strathcona County Eggs (consumption) per layer"},"Strathcona County",21,"Eggs (consumption) per layer",19.21,19.5,18.940000000000001,22.47,24.03,23.53]
[{"$f":"Table_BPU[[#This Row],[Risk Area]]&\" \"&Table_BPU[[#This Row],[BPU Description]]","v":"Sturgeon Eggs (consumption) per layer"},"Sturgeon",21,"Eggs (consumption) per layer",19.21,19.5,18.940000000000001,22.47,24.03,23.53]
[{"$f":"Table_BPU[[#This Row],[Risk Area]]&\" \"&Table_BPU[[#This Row],[BPU Description]]","v":"Taber Eggs (consumption) per layer"},"Taber",21,"Eggs (consumption) per layer",19.21,19.5,18.940000000000001,22.47,24.03,23.53]
[{"$f":"Table_BPU[[#This Row],[Risk Area]]&\" \"&Table_BPU[[#This Row],[BPU Description]]","v":"Thorhild Eggs (consumption) per layer"},"Thorhild",21,"Eggs (consumption) per layer",19.21,19.5,18.940000000000001,22.47,24.03,23.53]
[{"$f":"Table_BPU[[#This Row],[Risk Area]]&\" \"&Table_BPU[[#This Row],[BPU Description]]","v":"Two Hills Eggs (consumption) per layer"},"Two Hills",21,"Eggs (consumption) per layer",19.21,19.5,18.940000000000001,22.47,24.03,23.53]
[{"$f":"Table_BPU[[#This Row],[Risk Area]]&\" \"&Table_BPU[[#This Row],[BPU Description]]","v":"Vermilion River Eggs (consumption) per layer"},"Vermilion River",21,"Eggs (consumption) per layer",19.21,19.5,18.940000000000001,22.47,24.03,23.53]
[{"$f":"Table_BPU[[#This Row],[Risk Area]]&\" \"&Table_BPU[[#This Row],[BPU Description]]","v":"Vulcan Eggs (consumption) per layer"},"Vulcan",21,"Eggs (consumption) per layer",19.21,19.5,18.940000000000001,22.47,24.03,23.53]
[{"$f":"Table_BPU[[#This Row],[Risk Area]]&\" \"&Table_BPU[[#This Row],[BPU Description]]","v":"Wainwright Eggs (consumption) per layer"},"Wainwright",21,"Eggs (consumption) per layer",19.21,19.5,18.940000000000001,22.47,24.03,23.53]
[{"$f":"Table_BPU[[#This Row],[Risk Area]]&\" \"&Table_BPU[[#This Row],[BPU Description]]","v":"Warner Eggs (consumption) per layer"},"Warner",21,"Eggs (consumption) per layer",19.21,19.5,18.940000000000001,22.47,24.03,23.53]
[{"$f":"Table_BPU[[#This Row],[Risk Area]]&\" \"&Table_BPU[[#This Row],[BPU Description]]","v":"Westlock Eggs (consumption) per layer"},"Westlock",21,"Eggs (consumption) per layer",19.21,19.5,18.940000000000001,22.47,24.03,23.53]
[{"$f":"Table_BPU[[#This Row],[Risk Area]]&\" \"&Table_BPU[[#This Row],[BPU Description]]","v":"Wetaskiwin Eggs (consumption) per layer"},"Wetaskiwin",21,"Eggs (consumption) per layer",19.21,19.5,18.940000000000001,22.47,24.03,23.53]
[{"$f":"Table_BPU[[#This Row],[Risk Area]]&\" \"&Table_BPU[[#This Row],[BPU Description]]","v":"Wheatland Eggs (consumption) per layer"},"Wheatland",21,"Eggs (consumption) per layer",19.21,19.5,18.940000000000001,22.47,24.03,23.53]
[{"$f":"Table_BPU[[#This Row],[Risk Area]]&\" \"&Table_BPU[[#This Row],[BPU Description]]","v":"Willow Creek Eggs (consumption) per layer"},"Willow Creek",21,"Eggs (consumption) per layer",19.21,19.5,18.940000000000001,22.47,24.03,23.53]
[{"$f":"Table_BPU[[#This Row],[Risk Area]]&\" \"&Table_BPU[[#This Row],[BPU Description]]","v":"Wood Buffalo Eggs (consumption) per layer"},"Wood Buffalo",21,"Eggs (consumption) per layer",19.21,19.5,18.940000000000001,22.47,24.03,23.53]
[{"$f":"Table_BPU[[#This Row],[Risk Area]]&\" \"&Table_BPU[[#This Row],[BPU Description]]","v":"Woodlands Eggs (consumption) per layer"},"Woodlands",21,"Eggs (consumption) per layer",19.21,19.5,18.940000000000001,22.47,24.03,23.53]
[{"$f":"Table_BPU[[#This Row],[Risk Area]]&\" \"&Table_BPU[[#This Row],[BPU Description]]","v":"Yellowhead Eggs (consumption) per layer"},"Yellowhead",21,"Eggs (consumption) per layer",19.21,19.5,18.940000000000001,22.47,24.03,23.53]
[{"$f":"Table_BPU[[#This Row],[Risk Area]]&\" \"&Table_BPU[[#This Row],[BPU Description]]","v":"Acadia Eggs (hatchery) per dz sold"},"Acadia",672,"Eggs (hatchery) per dz sold",3.07,3.11,3.48,3.26,3.68,3.32]
[{"$f":"Table_BPU[[#This Row],[Risk Area]]&\" \"&Table_BPU[[#This Row],[BPU Description]]","v":"Athabasca Eggs (hatchery) per dz sold"},"Athabasca",672,"Eggs (hatchery) per dz sold",3.07,3.11,3.48,3.26,3.68,3.32]
[{"$f":"Table_BPU[[#This Row],[Risk Area]]&\" \"&Table_BPU[[#This Row],[BPU Description]]","v":"Barrhead Eggs (hatchery) per dz sold"},"Barrhead",672,"Eggs (hatchery) per dz sold",3.07,3.11,3.48,3.26,3.68,3.32]
[{"$f":"Table_BPU[[#This Row],[Risk Area]]&\" \"&Table_BPU[[#This Row],[BPU Description]]","v":"Beaver Eggs (hatchery) per dz sold"},"Beaver",672,"Eggs (hatchery) per dz sold",3.07,3.11,3.48,3.26,3.68,3.32]
[{"$f":"Table_BPU[[#This Row],[Risk Area]]&\" \"&Table_BPU[[#This Row],[BPU Description]]","v":"Big Lakes Eggs (hatchery) per dz sold"},"Big Lakes",672,"Eggs (hatchery) per dz sold",3.07,3.11,3.48,3.26,3.68,3.32]
[{"$f":"Table_BPU[[#This Row],[Risk Area]]&\" \"&Table_BPU[[#This Row],[BPU Description]]","v":"Bighorn Eggs (hatchery) per dz sold"},"Bighorn",672,"Eggs (hatchery) per dz sold",3.07,3.11,3.48,3.26,3.68,3.32]
[{"$f":"Table_BPU[[#This Row],[Risk Area]]&\" \"&Table_BPU[[#This Row],[BPU Description]]","v":"Birch Hills Eggs (hatchery) per dz sold"},"Birch Hills",672,"Eggs (hatchery) per dz sold",3.07,3.11,3.48,3.26,3.68,3.32]
[{"$f":"Table_BPU[[#This Row],[Risk Area]]&\" \"&Table_BPU[[#This Row],[BPU Description]]","v":"Bonnyville Eggs (hatchery) per dz sold"},"Bonnyville",672,"Eggs (hatchery) per dz sold",3.07,3.11,3.48,3.26,3.68,3.32]
[{"$f":"Table_BPU[[#This Row],[Risk Area]]&\" \"&Table_BPU[[#This Row],[BPU Description]]","v":"Brazeau Eggs (hatchery) per dz sold"},"Brazeau",672,"Eggs (hatchery) per dz sold",3.07,3.11,3.48,3.26,3.68,3.32]
[{"$f":"Table_BPU[[#This Row],[Risk Area]]&\" \"&Table_BPU[[#This Row],[BPU Description]]","v":"Camrose Eggs (hatchery) per dz sold"},"Camrose",672,"Eggs (hatchery) per dz sold",3.07,3.11,3.48,3.26,3.68,3.32]
[{"$f":"Table_BPU[[#This Row],[Risk Area]]&\" \"&Table_BPU[[#This Row],[BPU Description]]","v":"Cardston Eggs (hatchery) per dz sold"},"Cardston",672,"Eggs (hatchery) per dz sold",3.07,3.11,3.48,3.26,3.68,3.32]
[{"$f":"Table_BPU[[#This Row],[Risk Area]]&\" \"&Table_BPU[[#This Row],[BPU Description]]","v":"Clear Hills Eggs (hatchery) per dz sold"},"Clear Hills",672,"Eggs (hatchery) per dz sold",3.07,3.11,3.48,3.26,3.68,3.32]
[{"$f":"Table_BPU[[#This Row],[Risk Area]]&\" \"&Table_BPU[[#This Row],[BPU Description]]","v":"Clearwater Eggs (hatchery) per dz sold"},"Clearwater",672,"Eggs (hatchery) per dz sold",3.07,3.11,3.48,3.26,3.68,3.32]
[{"$f":"Table_BPU[[#This Row],[Risk Area]]&\" \"&Table_BPU[[#This Row],[BPU Description]]","v":"Cypress Eggs (hatchery) per dz sold"},"Cypress",672,"Eggs (hatchery) per dz sold",3.07,3.11,3.48,3.26,3.68,3.32]
[{"$f":"Table_BPU[[#This Row],[Risk Area]]&\" \"&Table_BPU[[#This Row],[BPU Description]]","v":"Edmonton Eggs (hatchery) per dz sold"},"Edmonton",672,"Eggs (hatchery) per dz sold",3.07,3.11,3.48,3.26,3.68,3.32]
[{"$f":"Table_BPU[[#This Row],[Risk Area]]&\" \"&Table_BPU[[#This Row],[BPU Description]]","v":"Fairview Eggs (hatchery) per dz sold"},"Fairview",672,"Eggs (hatchery) per dz sold",3.07,3.11,3.48,3.26,3.68,3.32]
[{"$f":"Table_BPU[[#This Row],[Risk Area]]&\" \"&Table_BPU[[#This Row],[BPU Description]]","v":"Flagstaff Eggs (hatchery) per dz sold"},"Flagstaff",672,"Eggs (hatchery) per dz sold",3.07,3.11,3.48,3.26,3.68,3.32]
[{"$f":"Table_BPU[[#This Row],[Risk Area]]&\" \"&Table_BPU[[#This Row],[BPU Description]]","v":"Foothills Eggs (hatchery) per dz sold"},"Foothills",672,"Eggs (hatchery) per dz sold",3.07,3.11,3.48,3.26,3.68,3.32]
[{"$f":"Table_BPU[[#This Row],[Risk Area]]&\" \"&Table_BPU[[#This Row],[BPU Description]]","v":"Forty Mile Eggs (hatchery) per dz sold"},"Forty Mile",672,"Eggs (hatchery) per dz sold",3.07,3.11,3.48,3.26,3.68,3.32]
[{"$f":"Table_BPU[[#This Row],[Risk Area]]&\" \"&Table_BPU[[#This Row],[BPU Description]]","v":"Grande Prairie Eggs (hatchery) per dz sold"},"Grande Prairie",672,"Eggs (hatchery) per dz sold",3.07,3.11,3.48,3.26,3.68,3.32]
[{"$f":"Table_BPU[[#This Row],[Risk Area]]&\" \"&Table_BPU[[#This Row],[BPU Description]]","v":"Greenview Eggs (hatchery) per dz sold"},"Greenview",672,"Eggs (hatchery) per dz sold",3.07,3.11,3.48,3.26,3.68,3.32]
[{"$f":"Table_BPU[[#This Row],[Risk Area]]&\" \"&Table_BPU[[#This Row],[BPU Description]]","v":"Kneehill Eggs (hatchery) per dz sold"},"Kneehill",672,"Eggs (hatchery) per dz sold",3.07,3.11,3.48,3.26,3.68,3.32]
[{"$f":"Table_BPU[[#This Row],[Risk Area]]&\" \"&Table_BPU[[#This Row],[BPU Description]]","v":"Lac La Biche Eggs (hatchery) per dz sold"},"Lac La Biche",672,"Eggs (hatchery) per dz sold",3.07,3.11,3.48,3.26,3.68,3.32]
[{"$f":"Table_BPU[[#This Row],[Risk Area]]&\" \"&Table_BPU[[#This Row],[BPU Description]]","v":"Lac Ste. Anne County Eggs (hatchery) per dz sold"},"Lac Ste. Anne County",672,"Eggs (hatchery) per dz sold",3.07,3.11,3.48,3.26,3.68,3.32]
[{"$f":"Table_BPU[[#This Row],[Risk Area]]&\" \"&Table_BPU[[#This Row],[BPU Description]]","v":"Lacombe Eggs (hatchery) per dz sold"},"Lacombe",672,"Eggs (hatchery) per dz sold",3.07,3.11,3.48,3.26,3.68,3.32]
[{"$f":"Table_BPU[[#This Row],[Risk Area]]&\" \"&Table_BPU[[#This Row],[BPU Description]]","v":"Lamont Eggs (hatchery) per dz sold"},"Lamont",672,"Eggs (hatchery) per dz sold",3.07,3.11,3.48,3.26,3.68,3.32]
[{"$f":"Table_BPU[[#This Row],[Risk Area]]&\" \"&Table_BPU[[#This Row],[BPU Description]]","v":"Leduc Eggs (hatchery) per dz sold"},"Leduc",672,"Eggs (hatchery) per dz sold",3.07,3.11,3.48,3.26,3.68,3.32]
[{"$f":"Table_BPU[[#This Row],[Risk Area]]&\" \"&Table_BPU[[#This Row],[BPU Description]]","v":"Lesser Slave River Eggs (hatchery) per dz sold"},"Lesser Slave River",672,"Eggs (hatchery) per dz sold",3.07,3.11,3.48,3.26,3.68,3.32]
[{"$f":"Table_BPU[[#This Row],[Risk Area]]&\" \"&Table_BPU[[#This Row],[BPU Description]]","v":"Lethbridge Eggs (hatchery) per dz sold"},"Lethbridge",672,"Eggs (hatchery) per dz sold",3.07,3.11,3.48,3.26,3.68,3.32]
[{"$f":"Table_BPU[[#This Row],[Risk Area]]&\" \"&Table_BPU[[#This Row],[BPU Description]]","v":"Mackenzie Eggs (hatchery) per dz sold"},"Mackenzie",672,"Eggs (hatchery) per dz sold",3.07,3.11,3.48,3.26,3.68,3.32]
[{"$f":"Table_BPU[[#This Row],[Risk Area]]&\" \"&Table_BPU[[#This Row],[BPU Description]]","v":"Minburn Eggs (hatchery) per dz sold"},"Minburn",672,"Eggs (hatchery) per dz sold",3.07,3.11,3.48,3.26,3.68,3.32]
[{"$f":"Table_BPU[[#This Row],[Risk Area]]&\" \"&Table_BPU[[#This Row],[BPU Description]]","v":"Mountain View Eggs (hatchery) per dz sold"},"Mountain View",672,"Eggs (hatchery) per dz sold",3.07,3.11,3.48,3.26,3.68,3.32]
[{"$f":"Table_BPU[[#This Row],[Risk Area]]&\" \"&Table_BPU[[#This Row],[BPU Description]]","v":"Newell Eggs (hatchery) per dz sold"},"Newell",672,"Eggs (hatchery) per dz sold",3.07,3.11,3.48,3.26,3.68,3.32]
[{"$f":"Table_BPU[[#This Row],[Risk Area]]&\" \"&Table_BPU[[#This Row],[BPU Description]]","v":"Northern Lights Eggs (hatchery) per dz sold"},"Northern Lights",672,"Eggs (hatchery) per dz sold",3.07,3.11,3.48,3.26,3.68,3.32]
[{"$f":"Table_BPU[[#This Row],[Risk Area]]&\" \"&Table_BPU[[#This Row],[BPU Description]]","v":"Northern Sunrise Eggs (hatchery) per dz sold"},"Northern Sunrise",672,"Eggs (hatchery) per dz sold",3.07,3.11,3.48,3.26,3.68,3.32]
[{"$f":"Table_BPU[[#This Row],[Risk Area]]&\" \"&Table_BPU[[#This Row],[BPU Description]]","v":"Opportunity Eggs (hatchery) per dz sold"},"Opportunity",672,"Eggs (hatchery) per dz sold",3.07,3.11,3.48,3.26,3.68,3.32]
[{"$f":"Table_BPU[[#This Row],[Risk Area]]&\" \"&Table_BPU[[#This Row],[BPU Description]]","v":"Paintearth Eggs (hatchery) per dz sold"},"Paintearth",672,"Eggs (hatchery) per dz sold",3.07,3.11,3.48,3.26,3.68,3.32]
[{"$f":"Table_BPU[[#This Row],[Risk Area]]&\" \"&Table_BPU[[#This Row],[BPU Description]]","v":"Parkland County Eggs (hatchery) per dz sold"},"Parkland County",672,"Eggs (hatchery) per dz sold",3.07,3.11,3.48,3.26,3.68,3.32]
[{"$f":"Table_BPU[[#This Row],[Risk Area]]&\" \"&Table_BPU[[#This Row],[BPU Description]]","v":"Peace Eggs (hatchery) per dz sold"},"Peace",672,"Eggs (hatchery) per dz sold",3.07,3.11,3.48,3.26,3.68,3.32]
[{"$f":"Table_BPU[[#This Row],[Risk Area]]&\" \"&Table_BPU[[#This Row],[BPU Description]]","v":"Pincher Creek Eggs (hatchery) per dz sold"},"Pincher Creek",672,"Eggs (hatchery) per dz sold",3.07,3.11,3.48,3.26,3.68,3.32]
[{"$f":"Table_BPU[[#This Row],[Risk Area]]&\" \"&Table_BPU[[#This Row],[BPU Description]]","v":"Ponoka Eggs (hatchery) per dz sold"},"Ponoka",672,"Eggs (hatchery) per dz sold",3.07,3.11,3.48,3.26,3.68,3.32]
[{"$f":"Table_BPU[[#This Row],[Risk Area]]&\" \"&Table_BPU[[#This Row],[BPU Description]]","v":"Provost Eggs (hatchery) per dz sold"},"Provost",672,"Eggs (hatchery) per dz sold",3.07,3.11,3.48,3.26,3.68,3.32]
[{"$f":"Table_BPU[[#This Row],[Risk Area]]&\" \"&Table_BPU[[#This Row],[BPU Description]]","v":"Ranchland Eggs (hatchery) per dz sold"},"Ranchland",672,"Eggs (hatchery) per dz sold",3.07,3.11,3.48,3.26,3.68,3.32]
[{"$f":"Table_BPU[[#This Row],[Risk Area]]&\" \"&Table_BPU[[#This Row],[BPU Description]]","v":"Red Deer Eggs (hatchery) per dz sold"},"Red Deer",672,"Eggs (hatchery) per dz sold",3.07,3.11,3.48,3.26,3.68,3.32]
[{"$f":"Table_BPU[[#This Row],[Risk Area]]&\" \"&Table_BPU[[#This Row],[BPU Description]]","v":"Rocky View Eggs (hatchery) per dz sold"},"Rocky View",672,"Eggs (hatchery) per dz sold",3.07,3.11,3.48,3.26,3.68,3.32]
[{"$f":"Table_BPU[[#This Row],[Risk Area]]&\" \"&Table_BPU[[#This Row],[BPU Description]]","v":"Saddle Hills Eggs (hatchery) per dz sold"},"Saddle Hills",672,"Eggs (hatchery) per dz sold",3.07,3.11,3.48,3.26,3.68,3.32]
[{"$f":"Table_BPU[[#This Row],[Risk Area]]&\" \"&Table_BPU[[#This Row],[BPU Description]]","v":"Smoky Lake Eggs (hatchery) per dz sold"},"Smoky Lake",672,"Eggs (hatchery) per dz sold",3.07,3.11,3.48,3.26,3.68,3.32]
[{"$f":"Table_BPU[[#This Row],[Risk Area]]&\" \"&Table_BPU[[#This Row],[BPU Description]]","v":"Smoky River Eggs (hatchery) per dz sold"},"Smoky River",672,"Eggs (hatchery) per dz sold",3.07,3.11,3.48,3.26,3.68,3.32]
[{"$f":"Table_BPU[[#This Row],[Risk Area]]&\" \"&Table_BPU[[#This Row],[BPU Description]]","v":"Special Area 02 Eggs (hatchery) per dz sold"},"Special Area 02",672,"Eggs (hatchery) per dz sold",3.07,3.11,3.48,3.26,3.68,3.32]
[{"$f":"Table_BPU[[#This Row],[Risk Area]]&\" \"&Table_BPU[[#This Row],[BPU Description]]","v":"Special Area 03 Eggs (hatchery) per dz sold"},"Special Area 03",672,"Eggs (hatchery) per dz sold",3.07,3.11,3.48,3.26,3.68,3.32]
[{"$f":"Table_BPU[[#This Row],[Risk Area]]&\" \"&Table_BPU[[#This Row],[BPU Description]]","v":"Special Area 04 Eggs (hatchery) per dz sold"},"Special Area 04",672,"Eggs (hatchery) per dz sold",3.07,3.11,3.48,3.26,3.68,3.32]
[{"$f":"Table_BPU[[#This Row],[Risk Area]]&\" \"&Table_BPU[[#This Row],[BPU Description]]","v":"Spirit River Eggs (hatchery) per dz sold"},"Spirit River",672,"Eggs (hatchery) per dz sold",3.07,3.11,3.48,3.26,3.68,3.32]
[{"$f":"Table_BPU[[#This Row],[Risk Area]]&\" \"&Table_BPU[[#This Row],[BPU Description]]","v":"St. Paul Eggs (hatchery) per dz sold"},"St. Paul",672,"Eggs (hatchery) per dz sold",3.07,3.11,3.48,3.26,3.68,3.32]
[{"$f":"Table_BPU[[#This Row],[Risk Area]]&\" \"&Table_BPU[[#This Row],[BPU Description]]","v":"Starland Eggs (hatchery) per dz sold"},"Starland",672,"Eggs (hatchery) per dz sold",3.07,3.11,3.48,3.26,3.68,3.32]
[{"$f":"Table_BPU[[#This Row],[Risk Area]]&\" \"&Table_BPU[[#This Row],[BPU Description]]","v":"Stettler Eggs (hatchery) per dz sold"},"Stettler",672,"Eggs (hatchery) per dz sold",3.07,3.11,3.48,3.26,3.68,3.32]
[{"$f":"Table_BPU[[#This Row],[Risk Area]]&\" \"&Table_BPU[[#This Row],[BPU Description]]","v":"Strathcona County Eggs (hatchery) per dz sold"},"Strathcona County",672,"Eggs (hatchery) per dz sold",3.07,3.11,3.48,3.26,3.68,3.32]
[{"$f":"Table_BPU[[#This Row],[Risk Area]]&\" \"&Table_BPU[[#This Row],[BPU Description]]","v":"Sturgeon Eggs (hatchery) per dz sold"},"Sturgeon",672,"Eggs (hatchery) per dz sold",3.07,3.11,3.48,3.26,3.68,3.32]
[{"$f":"Table_BPU[[#This Row],[Risk Area]]&\" \"&Table_BPU[[#This Row],[BPU Description]]","v":"Taber Eggs (hatchery) per dz sold"},"Taber",672,"Eggs (hatchery) per dz sold",3.07,3.11,3.48,3.26,3.68,3.32]
[{"$f":"Table_BPU[[#This Row],[Risk Area]]&\" \"&Table_BPU[[#This Row],[BPU Description]]","v":"Thorhild Eggs (hatchery) per dz sold"},"Thorhild",672,"Eggs (hatchery) per dz sold",3.07,3.11,3.48,3.26,3.68,3.32]
[{"$f":"Table_BPU[[#This Row],[Risk Area]]&\" \"&Table_BPU[[#This Row],[BPU Description]]","v":"Two Hills Eggs (hatchery) per dz sold"},"Two Hills",672,"Eggs (hatchery) per dz sold",3.07,3.11,3.48,3.26,3.68,3.32]
[{"$f":"Table_BPU[[#This Row],[Risk Area]]&\" \"&Table_BPU[[#This Row],[BPU Description]]","v":"Vermilion River Eggs (hatchery) per dz sold"},"Vermilion River",672,"Eggs (hatchery) per dz sold",3.07,3.11,3.48,3.26,3.68,3.32]
[{"$f":"Table_BPU[[#This Row],[Risk Area]]&\" \"&Table_BPU[[#This Row],[BPU Description]]","v":"Vulcan Eggs (hatchery) per dz sold"},"Vulcan",672,"Eggs (hatchery) per dz sold",3.07,3.11,3.48,3.26,3.68,3.32]
[{"$f":"Table_BPU[[#This Row],[Risk Area]]&\" \"&Table_BPU[[#This Row],[BPU Description]]","v":"Wainwright Eggs (hatchery) per dz sold"},"Wainwright",672,"Eggs (hatchery) per dz sold",3.07,3.11,3.48,3.26,3.68,3.32]
[{"$f":"Table_BPU[[#This Row],[Risk Area]]&\" \"&Table_BPU[[#This Row],[BPU Description]]","v":"Warner Eggs (hatchery) per dz sold"},"Warner",672,"Eggs (hatchery) per dz sold",3.07,3.11,3.48,3.26,3.68,3.32]
[{"$f":"Table_BPU[[#This Row],[Risk Area]]&\" \"&Table_BPU[[#This Row],[BPU Description]]","v":"Westlock Eggs (hatchery) per dz sold"},"Westlock",672,"Eggs (hatchery) per dz sold",3.07,3.11,3.48,3.26,3.68,3.32]
[{"$f":"Table_BPU[[#This Row],[Risk Area]]&\" \"&Table_BPU[[#This Row],[BPU Description]]","v":"Wetaskiwin Eggs (hatchery) per dz sold"},"Wetaskiwin",672,"Eggs (hatchery) per dz sold",3.07,3.11,3.48,3.26,3.68,3.32]
[{"$f":"Table_BPU[[#This Row],[Risk Area]]&\" \"&Table_BPU[[#This Row],[BPU Description]]","v":"Wheatland Eggs (hatchery) per dz sold"},"Wheatland",672,"Eggs (hatchery) per dz sold",3.07,3.11,3.48,3.26,3.68,3.32]
[{"$f":"Table_BPU[[#This Row],[Risk Area]]&\" \"&Table_BPU[[#This Row],[BPU Description]]","v":"Willow Creek Eggs (hatchery) per dz sold"},"Willow Creek",672,"Eggs (hatchery) per dz sold",3.07,3.11,3.48,3.26,3.68,3.32]
[{"$f":"Table_BPU[[#This Row],[Risk Area]]&\" \"&Table_BPU[[#This Row],[BPU Description]]","v":"Wood Buffalo Eggs (hatchery) per dz sold"},"Wood Buffalo",672,"Eggs (hatchery) per dz sold",3.07,3.11,3.48,3.26,3.68,3.32]
[{"$f":"Table_BPU[[#This Row],[Risk Area]]&\" \"&Table_BPU[[#This Row],[BPU Description]]","v":"Woodlands Eggs (hatchery) per dz sold"},"Woodlands",672,"Eggs (hatchery) per dz sold",3.07,3.11,3.48,3.26,3.68,3.32]
[{"$f":"Table_BPU[[#This Row],[Risk Area]]&\" \"&Table_BPU[[#This Row],[BPU Description]]","v":"Yellowhead Eggs (hatchery) per dz sold"},"Yellowhead",672,"Eggs (hatchery) per dz sold",3.07,3.11,3.48,3.26,3.68,3.32]
[{"$f":"Table_BPU[[#This Row],[Risk Area]]&\" \"&Table_BPU[[#This Row],[BPU Description]]","v":"Acadia Eggs (hatchery) per layer"},"Acadia",673,"Eggs (hatchery) per layer",32.64,33.43,37.729999999999997,35.07,39.03,35.58]
[{"$f":"Table_BPU[[#This Row],[Risk Area]]&\" \"&Table_BPU[[#This Row],[BPU Description]]","v":"Athabasca Eggs (hatchery) per layer"},"Athabasca",673,"Eggs (hatchery) per layer",32.64,33.43,37.729999999999997,35.07,39.03,35.58]
[{"$f":"Table_BPU[[#This Row],[Risk Area]]&\" \"&Table_BPU[[#This Row],[BPU Description]]","v":"Barrhead Eggs (hatchery) per layer"},"Barrhead",673,"Eggs (hatchery) per layer",32.64,33.43,37.729999999999997,35.07,39.03,35.58]
[{"$f":"Table_BPU[[#This Row],[Risk Area]]&\" \"&Table_BPU[[#This Row],[BPU Description]]","v":"Beaver Eggs (hatchery) per layer"},"Beaver",673,"Eggs (hatchery) per layer",32.64,33.43,37.729999999999997,35.07,39.03,35.58]
[{"$f":"Table_BPU[[#This Row],[Risk Area]]&\" \"&Table_BPU[[#This Row],[BPU Description]]","v":"Big Lakes Eggs (hatchery) per layer"},"Big Lakes",673,"Eggs (hatchery) per layer",32.64,33.43,37.729999999999997,35.07,39.03,35.58]
[{"$f":"Table_BPU[[#This Row],[Risk Area]]&\" \"&Table_BPU[[#This Row],[BPU Description]]","v":"Bighorn Eggs (hatchery) per layer"},"Bighorn",673,"Eggs (hatchery) per layer",32.64,33.43,37.729999999999997,35.07,39.03,35.58]
[{"$f":"Table_BPU[[#This Row],[Risk Area]]&\" \"&Table_BPU[[#This Row],[BPU Description]]","v":"Birch Hills Eggs (hatchery) per layer"},"Birch Hills",673,"Eggs (hatchery) per layer",32.64,33.43,37.729999999999997,35.07,39.03,35.58]
[{"$f":"Table_BPU[[#This Row],[Risk Area]]&\" \"&Table_BPU[[#This Row],[BPU Description]]","v":"Bonnyville Eggs (hatchery) per layer"},"Bonnyville",673,"Eggs (hatchery) per layer",32.64,33.43,37.729999999999997,35.07,39.03,35.58]
[{"$f":"Table_BPU[[#This Row],[Risk Area]]&\" \"&Table_BPU[[#This Row],[BPU Description]]","v":"Brazeau Eggs (hatchery) per layer"},"Brazeau",673,"Eggs (hatchery) per layer",32.64,33.43,37.729999999999997,35.07,39.03,35.58]
[{"$f":"Table_BPU[[#This Row],[Risk Area]]&\" \"&Table_BPU[[#This Row],[BPU Description]]","v":"Camrose Eggs (hatchery) per layer"},"Camrose",673,"Eggs (hatchery) per layer",32.64,33.43,37.729999999999997,35.07,39.03,35.58]
[{"$f":"Table_BPU[[#This Row],[Risk Area]]&\" \"&Table_BPU[[#This Row],[BPU Description]]","v":"Cardston Eggs (hatchery) per layer"},"Cardston",673,"Eggs (hatchery) per layer",32.64,33.43,37.729999999999997,35.07,39.03,35.58]
[{"$f":"Table_BPU[[#This Row],[Risk Area]]&\" \"&Table_BPU[[#This Row],[BPU Description]]","v":"Clear Hills Eggs (hatchery) per layer"},"Clear Hills",673,"Eggs (hatchery) per layer",32.64,33.43,37.729999999999997,35.07,39.03,35.58]
[{"$f":"Table_BPU[[#This Row],[Risk Area]]&\" \"&Table_BPU[[#This Row],[BPU Description]]","v":"Clearwater Eggs (hatchery) per layer"},"Clearwater",673,"Eggs (hatchery) per layer",32.64,33.43,37.729999999999997,35.07,39.03,35.58]
[{"$f":"Table_BPU[[#This Row],[Risk Area]]&\" \"&Table_BPU[[#This Row],[BPU Description]]","v":"Cypress Eggs (hatchery) per layer"},"Cypress",673,"Eggs (hatchery) per layer",32.64,33.43,37.729999999999997,35.07,39.03,35.58]
[{"$f":"Table_BPU[[#This Row],[Risk Area]]&\" \"&Table_BPU[[#This Row],[BPU Description]]","v":"Edmonton Eggs (hatchery) per layer"},"Edmonton",673,"Eggs (hatchery) per layer",32.64,33.43,37.729999999999997,35.07,39.03,35.58]
[{"$f":"Table_BPU[[#This Row],[Risk Area]]&\" \"&Table_BPU[[#This Row],[BPU Description]]","v":"Fairview Eggs (hatchery) per layer"},"Fairview",673,"Eggs (hatchery) per layer",32.64,33.43,37.729999999999997,35.07,39.03,35.58]
[{"$f":"Table_BPU[[#This Row],[Risk Area]]&\" \"&Table_BPU[[#This Row],[BPU Description]]","v":"Flagstaff Eggs (hatchery) per layer"},"Flagstaff",673,"Eggs (hatchery) per layer",32.64,33.43,37.729999999999997,35.07,39.03,35.58]
[{"$f":"Table_BPU[[#This Row],[Risk Area]]&\" \"&Table_BPU[[#This Row],[BPU Description]]","v":"Foothills Eggs (hatchery) per layer"},"Foothills",673,"Eggs (hatchery) per layer",32.64,33.43,37.729999999999997,35.07,39.03,35.58]
[{"$f":"Table_BPU[[#This Row],[Risk Area]]&\" \"&Table_BPU[[#This Row],[BPU Description]]","v":"Forty Mile Eggs (hatchery) per layer"},"Forty Mile",673,"Eggs (hatchery) per layer",32.64,33.43,37.729999999999997,35.07,39.03,35.58]
[{"$f":"Table_BPU[[#This Row],[Risk Area]]&\" \"&Table_BPU[[#This Row],[BPU Description]]","v":"Grande Prairie Eggs (hatchery) per layer"},"Grande Prairie",673,"Eggs (hatchery) per layer",32.64,33.43,37.729999999999997,35.07,39.03,35.58]
[{"$f":"Table_BPU[[#This Row],[Risk Area]]&\" \"&Table_BPU[[#This Row],[BPU Description]]","v":"Greenview Eggs (hatchery) per layer"},"Greenview",673,"Eggs (hatchery) per layer",32.64,33.43,37.729999999999997,35.07,39.03,35.58]
[{"$f":"Table_BPU[[#This Row],[Risk Area]]&\" \"&Table_BPU[[#This Row],[BPU Description]]","v":"Kneehill Eggs (hatchery) per layer"},"Kneehill",673,"Eggs (hatchery) per layer",32.64,33.43,37.729999999999997,35.07,39.03,35.58]
[{"$f":"Table_BPU[[#This Row],[Risk Area]]&\" \"&Table_BPU[[#This Row],[BPU Description]]","v":"Lac La Biche Eggs (hatchery) per layer"},"Lac La Biche",673,"Eggs (hatchery) per layer",32.64,33.43,37.729999999999997,35.07,39.03,35.58]
[{"$f":"Table_BPU[[#This Row],[Risk Area]]&\" \"&Table_BPU[[#This Row],[BPU Description]]","v":"Lac Ste. Anne County Eggs (hatchery) per layer"},"Lac Ste. Anne County",673,"Eggs (hatchery) per layer",32.64,33.43,37.729999999999997,35.07,39.03,35.58]
[{"$f":"Table_BPU[[#This Row],[Risk Area]]&\" \"&Table_BPU[[#This Row],[BPU Description]]","v":"Lacombe Eggs (hatchery) per layer"},"Lacombe",673,"Eggs (hatchery) per layer",32.64,33.43,37.729999999999997,35.07,39.03,35.58]
[{"$f":"Table_BPU[[#This Row],[Risk Area]]&\" \"&Table_BPU[[#This Row],[BPU Description]]","v":"Lamont Eggs (hatchery) per layer"},"Lamont",673,"Eggs (hatchery) per layer",32.64,33.43,37.729999999999997,35.07,39.03,35.58]
[{"$f":"Table_BPU[[#This Row],[Risk Area]]&\" \"&Table_BPU[[#This Row],[BPU Description]]","v":"Leduc Eggs (hatchery) per layer"},"Leduc",673,"Eggs (hatchery) per layer",32.64,33.43,37.729999999999997,35.07,39.03,35.58]
[{"$f":"Table_BPU[[#This Row],[Risk Area]]&\" \"&Table_BPU[[#This Row],[BPU Description]]","v":"Lesser Slave River Eggs (hatchery) per layer"},"Lesser Slave River",673,"Eggs (hatchery) per layer",32.64,33.43,37.729999999999997,35.07,39.03,35.58]
[{"$f":"Table_BPU[[#This Row],[Risk Area]]&\" \"&Table_BPU[[#This Row],[BPU Description]]","v":"Lethbridge Eggs (hatchery) per layer"},"Lethbridge",673,"Eggs (hatchery) per layer",32.64,33.43,37.729999999999997,35.07,39.03,35.58]
[{"$f":"Table_BPU[[#This Row],[Risk Area]]&\" \"&Table_BPU[[#This Row],[BPU Description]]","v":"Mackenzie Eggs (hatchery) per layer"},"Mackenzie",673,"Eggs (hatchery) per layer",32.64,33.43,37.729999999999997,35.07,39.03,35.58]
[{"$f":"Table_BPU[[#This Row],[Risk Area]]&\" \"&Table_BPU[[#This Row],[BPU Description]]","v":"Minburn Eggs (hatchery) per layer"},"Minburn",673,"Eggs (hatchery) per layer",32.64,33.43,37.729999999999997,35.07,39.03,35.58]
[{"$f":"Table_BPU[[#This Row],[Risk Area]]&\" \"&Table_BPU[[#This Row],[BPU Description]]","v":"Mountain View Eggs (hatchery) per layer"},"Mountain View",673,"Eggs (hatchery) per layer",32.64,33.43,37.729999999999997,35.07,39.03,35.58]
[{"$f":"Table_BPU[[#This Row],[Risk Area]]&\" \"&Table_BPU[[#This Row],[BPU Description]]","v":"Newell Eggs (hatchery) per layer"},"Newell",673,"Eggs (hatchery) per layer",32.64,33.43,37.729999999999997,35.07,39.03,35.58]
[{"$f":"Table_BPU[[#This Row],[Risk Area]]&\" \"&Table_BPU[[#This Row],[BPU Description]]","v":"Northern Lights Eggs (hatchery) per layer"},"Northern Lights",673,"Eggs (hatchery) per layer",32.64,33.43,37.729999999999997,35.07,39.03,35.58]
[{"$f":"Table_BPU[[#This Row],[Risk Area]]&\" \"&Table_BPU[[#This Row],[BPU Description]]","v":"Northern Sunrise Eggs (hatchery) per layer"},"Northern Sunrise",673,"Eggs (hatchery) per layer",32.64,33.43,37.729999999999997,35.07,39.03,35.58]
[{"$f":"Table_BPU[[#This Row],[Risk Area]]&\" \"&Table_BPU[[#This Row],[BPU Description]]","v":"Opportunity Eggs (hatchery) per layer"},"Opportunity",673,"Eggs (hatchery) per layer",32.64,33.43,37.729999999999997,35.07,39.03,35.58]
[{"$f":"Table_BPU[[#This Row],[Risk Area]]&\" \"&Table_BPU[[#This Row],[BPU Description]]","v":"Paintearth Eggs (hatchery) per layer"},"Paintearth",673,"Eggs (hatchery) per layer",32.64,33.43,37.729999999999997,35.07,39.03,35.58]
[{"$f":"Table_BPU[[#This Row],[Risk Area]]&\" \"&Table_BPU[[#This Row],[BPU Description]]","v":"Parkland County Eggs (hatchery) per layer"},"Parkland County",673,"Eggs (hatchery) per layer",32.64,33.43,37.729999999999997,35.07,39.03,35.58]
[{"$f":"Table_BPU[[#This Row],[Risk Area]]&\" \"&Table_BPU[[#This Row],[BPU Description]]","v":"Peace Eggs (hatchery) per layer"},"Peace",673,"Eggs (hatchery) per layer",32.64,33.43,37.729999999999997,35.07,39.03,35.58]
[{"$f":"Table_BPU[[#This Row],[Risk Area]]&\" \"&Table_BPU[[#This Row],[BPU Description]]","v":"Pincher Creek Eggs (hatchery) per layer"},"Pincher Creek",673,"Eggs (hatchery) per layer",32.64,33.43,37.729999999999997,35.07,39.03,35.58]
[{"$f":"Table_BPU[[#This Row],[Risk Area]]&\" \"&Table_BPU[[#This Row],[BPU Description]]","v":"Ponoka Eggs (hatchery) per layer"},"Ponoka",673,"Eggs (hatchery) per layer",32.64,33.43,37.729999999999997,35.07,39.03,35.58]
[{"$f":"Table_BPU[[#This Row],[Risk Area]]&\" \"&Table_BPU[[#This Row],[BPU Description]]","v":"Provost Eggs (hatchery) per layer"},"Provost",673,"Eggs (hatchery) per layer",32.64,33.43,37.729999999999997,35.07,39.03,35.58]
[{"$f":"Table_BPU[[#This Row],[Risk Area]]&\" \"&Table_BPU[[#This Row],[BPU Description]]","v":"Ranchland Eggs (hatchery) per layer"},"Ranchland",673,"Eggs (hatchery) per layer",32.64,33.43,37.729999999999997,35.07,39.03,35.58]
[{"$f":"Table_BPU[[#This Row],[Risk Area]]&\" \"&Table_BPU[[#This Row],[BPU Description]]","v":"Red Deer Eggs (hatchery) per layer"},"Red Deer",673,"Eggs (hatchery) per layer",32.64,33.43,37.729999999999997,35.07,39.03,35.58]
[{"$f":"Table_BPU[[#This Row],[Risk Area]]&\" \"&Table_BPU[[#This Row],[BPU Description]]","v":"Rocky View Eggs (hatchery) per layer"},"Rocky View",673,"Eggs (hatchery) per layer",32.64,33.43,37.729999999999997,35.07,39.03,35.58]
[{"$f":"Table_BPU[[#This Row],[Risk Area]]&\" \"&Table_BPU[[#This Row],[BPU Description]]","v":"Saddle Hills Eggs (hatchery) per layer"},"Saddle Hills",673,"Eggs (hatchery) per layer",32.64,33.43,37.729999999999997,35.07,39.03,35.58]
[{"$f":"Table_BPU[[#This Row],[Risk Area]]&\" \"&Table_BPU[[#This Row],[BPU Description]]","v":"Smoky Lake Eggs (hatchery) per layer"},"Smoky Lake",673,"Eggs (hatchery) per layer",32.64,33.43,37.729999999999997,35.07,39.03,35.58]
[{"$f":"Table_BPU[[#This Row],[Risk Area]]&\" \"&Table_BPU[[#This Row],[BPU Description]]","v":"Smoky River Eggs (hatchery) per layer"},"Smoky River",673,"Eggs (hatchery) per layer",32.64,33.43,37.729999999999997,35.07,39.03,35.58]
[{"$f":"Table_BPU[[#This Row],[Risk Area]]&\" \"&Table_BPU[[#This Row],[BPU Description]]","v":"Special Area 02 Eggs (hatchery) per layer"},"Special Area 02",673,"Eggs (hatchery) per layer",32.64,33.43,37.729999999999997,35.07,39.03,35.58]
[{"$f":"Table_BPU[[#This Row],[Risk Area]]&\" \"&Table_BPU[[#This Row],[BPU Description]]","v":"Special Area 03 Eggs (hatchery) per layer"},"Special Area 03",673,"Eggs (hatchery) per layer",32.64,33.43,37.729999999999997,35.07,39.03,35.58]
[{"$f":"Table_BPU[[#This Row],[Risk Area]]&\" \"&Table_BPU[[#This Row],[BPU Description]]","v":"Special Area 04 Eggs (hatchery) per layer"},"Special Area 04",673,"Eggs (hatchery) per layer",32.64,33.43,37.729999999999997,35.07,39.03,35.58]
[{"$f":"Table_BPU[[#This Row],[Risk Area]]&\" \"&Table_BPU[[#This Row],[BPU Description]]","v":"Spirit River Eggs (hatchery) per layer"},"Spirit River",673,"Eggs (hatchery) per layer",32.64,33.43,37.729999999999997,35.07,39.03,35.58]
[{"$f":"Table_BPU[[#This Row],[Risk Area]]&\" \"&Table_BPU[[#This Row],[BPU Description]]","v":"St. Paul Eggs (hatchery) per layer"},"St. Paul",673,"Eggs (hatchery) per layer",32.64,33.43,37.729999999999997,35.07,39.03,35.58]
[{"$f":"Table_BPU[[#This Row],[Risk Area]]&\" \"&Table_BPU[[#This Row],[BPU Description]]","v":"Starland Eggs (hatchery) per layer"},"Starland",673,"Eggs (hatchery) per layer",32.64,33.43,37.729999999999997,35.07,39.03,35.58]
[{"$f":"Table_BPU[[#This Row],[Risk Area]]&\" \"&Table_BPU[[#This Row],[BPU Description]]","v":"Stettler Eggs (hatchery) per layer"},"Stettler",673,"Eggs (hatchery) per layer",32.64,33.43,37.729999999999997,35.07,39.03,35.58]
[{"$f":"Table_BPU[[#This Row],[Risk Area]]&\" \"&Table_BPU[[#This Row],[BPU Description]]","v":"Strathcona County Eggs (hatchery) per layer"},"Strathcona County",673,"Eggs (hatchery) per layer",32.64,33.43,37.729999999999997,35.07,39.03,35.58]
[{"$f":"Table_BPU[[#This Row],[Risk Area]]&\" \"&Table_BPU[[#This Row],[BPU Description]]","v":"Sturgeon Eggs (hatchery) per layer"},"Sturgeon",673,"Eggs (hatchery) per layer",32.64,33.43,37.729999999999997,35.07,39.03,35.58]
[{"$f":"Table_BPU[[#This Row],[Risk Area]]&\" \"&Table_BPU[[#This Row],[BPU Description]]","v":"Taber Eggs (hatchery) per layer"},"Taber",673,"Eggs (hatchery) per layer",32.64,33.43,37.729999999999997,35.07,39.03,35.58]
[{"$f":"Table_BPU[[#This Row],[Risk Area]]&\" \"&Table_BPU[[#This Row],[BPU Description]]","v":"Thorhild Eggs (hatchery) per layer"},"Thorhild",673,"Eggs (hatchery) per layer",32.64,33.43,37.729999999999997,35.07,39.03,35.58]
[{"$f":"Table_BPU[[#This Row],[Risk Area]]&\" \"&Table_BPU[[#This Row],[BPU Description]]","v":"Two Hills Eggs (hatchery) per layer"},"Two Hills",673,"Eggs (hatchery) per layer",32.64,33.43,37.729999999999997,35.07,39.03,35.58]
[{"$f":"Table_BPU[[#This Row],[Risk Area]]&\" \"&Table_BPU[[#This Row],[BPU Description]]","v":"Vermilion River Eggs (hatchery) per layer"},"Vermilion River",673,"Eggs (hatchery) per layer",32.64,33.43,37.729999999999997,35.07,39.03,35.58]
[{"$f":"Table_BPU[[#This Row],[Risk Area]]&\" \"&Table_BPU[[#This Row],[BPU Description]]","v":"Vulcan Eggs (hatchery) per layer"},"Vulcan",673,"Eggs (hatchery) per layer",32.64,33.43,37.729999999999997,35.07,39.03,35.58]
[{"$f":"Table_BPU[[#This Row],[Risk Area]]&\" \"&Table_BPU[[#This Row],[BPU Description]]","v":"Wainwright Eggs (hatchery) per layer"},"Wainwright",673,"Eggs (hatchery) per layer",32.64,33.43,37.729999999999997,35.07,39.03,35.58]
[{"$f":"Table_BPU[[#This Row],[Risk Area]]&\" \"&Table_BPU[[#This Row],[BPU Description]]","v":"Warner Eggs (hatchery) per layer"},"Warner",673,"Eggs (hatchery) per layer",32.64,33.43,37.729999999999997,35.07,39.03,35.58]
[{"$f":"Table_BPU[[#This Row],[Risk Area]]&\" \"&Table_BPU[[#This Row],[BPU Description]]","v":"Westlock Eggs (hatchery) per layer"},"Westlock",673,"Eggs (hatchery) per layer",32.64,33.43,37.729999999999997,35.07,39.03,35.58]
[{"$f":"Table_BPU[[#This Row],[Risk Area]]&\" \"&Table_BPU[[#This Row],[BPU Description]]","v":"Wetaskiwin Eggs (hatchery) per layer"},"Wetaskiwin",673,"Eggs (hatchery) per layer",32.64,33.43,37.729999999999997,35.07,39.03,35.58]
[{"$f":"Table_BPU[[#This Row],[Risk Area]]&\" \"&Table_BPU[[#This Row],[BPU Description]]","v":"Wheatland Eggs (hatchery) per layer"},"Wheatland",673,"Eggs (hatchery) per layer",32.64,33.43,37.729999999999997,35.07,39.03,35.58]
[{"$f":"Table_BPU[[#This Row],[Risk Area]]&\" \"&Table_BPU[[#This Row],[BPU Description]]","v":"Willow Creek Eggs (hatchery) per layer"},"Willow Creek",673,"Eggs (hatchery) per layer",32.64,33.43,37.729999999999997,35.07,39.03,35.58]
[{"$f":"Table_BPU[[#This Row],[Risk Area]]&\" \"&Table_BPU[[#This Row],[BPU Description]]","v":"Wood Buffalo Eggs (hatchery) per layer"},"Wood Buffalo",673,"Eggs (hatchery) per layer",32.64,33.43,37.729999999999997,35.07,39.03,35.58]
[{"$f":"Table_BPU[[#This Row],[Risk Area]]&\" \"&Table_BPU[[#This Row],[BPU Description]]","v":"Woodlands Eggs (hatchery) per layer"},"Woodlands",673,"Eggs (hatchery) per layer",32.64,33.43,37.729999999999997,35.07,39.03,35.58]
[{"$f":"Table_BPU[[#This Row],[Risk Area]]&\" \"&Table_BPU[[#This Row],[BPU Description]]","v":"Yellowhead Eggs (hatchery) per layer"},"Yellowhead",673,"Eggs (hatchery) per layer",32.64,33.43,37.729999999999997,35.07,39.03,35.58]
[{"$f":"Table_BPU[[#This Row],[Risk Area]]&\" \"&Table_BPU[[#This Row],[BPU Description]]","v":"Acadia Elk Births"},"Acadia",25,"Elk Births",460.51,377.95,282.49,367.53,430.76,480.21]
[{"$f":"Table_BPU[[#This Row],[Risk Area]]&\" \"&Table_BPU[[#This Row],[BPU Description]]","v":"Athabasca Elk Births"},"Athabasca",25,"Elk Births",460.51,377.95,282.49,367.53,430.76,480.21]
[{"$f":"Table_BPU[[#This Row],[Risk Area]]&\" \"&Table_BPU[[#This Row],[BPU Description]]","v":"Barrhead Elk Births"},"Barrhead",25,"Elk Births",460.51,377.95,282.49,367.53,430.76,480.21]
[{"$f":"Table_BPU[[#This Row],[Risk Area]]&\" \"&Table_BPU[[#This Row],[BPU Description]]","v":"Beaver Elk Births"},"Beaver",25,"Elk Births",460.51,377.95,282.49,367.53,430.76,480.21]
[{"$f":"Table_BPU[[#This Row],[Risk Area]]&\" \"&Table_BPU[[#This Row],[BPU Description]]","v":"Big Lakes Elk Births"},"Big Lakes",25,"Elk Births",460.51,377.95,282.49,367.53,430.76,480.21]
[{"$f":"Table_BPU[[#This Row],[Risk Area]]&\" \"&Table_BPU[[#This Row],[BPU Description]]","v":"Bighorn Elk Births"},"Bighorn",25,"Elk Births",460.51,377.95,282.49,367.53,430.76,480.21]
[{"$f":"Table_BPU[[#This Row],[Risk Area]]&\" \"&Table_BPU[[#This Row],[BPU Description]]","v":"Birch Hills Elk Births"},"Birch Hills",25,"Elk Births",460.51,377.95,282.49,367.53,430.76,480.21]
[{"$f":"Table_BPU[[#This Row],[Risk Area]]&\" \"&Table_BPU[[#This Row],[BPU Description]]","v":"Bonnyville Elk Births"},"Bonnyville",25,"Elk Births",460.51,377.95,282.49,367.53,430.76,480.21]
[{"$f":"Table_BPU[[#This Row],[Risk Area]]&\" \"&Table_BPU[[#This Row],[BPU Description]]","v":"Brazeau Elk Births"},"Brazeau",25,"Elk Births",460.51,377.95,282.49,367.53,430.76,480.21]
[{"$f":"Table_BPU[[#This Row],[Risk Area]]&\" \"&Table_BPU[[#This Row],[BPU Description]]","v":"Camrose Elk Births"},"Camrose",25,"Elk Births",460.51,377.95,282.49,367.53,430.76,480.21]
[{"$f":"Table_BPU[[#This Row],[Risk Area]]&\" \"&Table_BPU[[#This Row],[BPU Description]]","v":"Cardston Elk Births"},"Cardston",25,"Elk Births",460.51,377.95,282.49,367.53,430.76,480.21]
[{"$f":"Table_BPU[[#This Row],[Risk Area]]&\" \"&Table_BPU[[#This Row],[BPU Description]]","v":"Clear Hills Elk Births"},"Clear Hills",25,"Elk Births",460.51,377.95,282.49,367.53,430.76,480.21]
[{"$f":"Table_BPU[[#This Row],[Risk Area]]&\" \"&Table_BPU[[#This Row],[BPU Description]]","v":"Clearwater Elk Births"},"Clearwater",25,"Elk Births",460.51,377.95,282.49,367.53,430.76,480.21]
[{"$f":"Table_BPU[[#This Row],[Risk Area]]&\" \"&Table_BPU[[#This Row],[BPU Description]]","v":"Cypress Elk Births"},"Cypress",25,"Elk Births",460.51,377.95,282.49,367.53,430.76,480.21]
[{"$f":"Table_BPU[[#This Row],[Risk Area]]&\" \"&Table_BPU[[#This Row],[BPU Description]]","v":"Edmonton Elk Births"},"Edmonton",25,"Elk Births",460.51,377.95,282.49,367.53,430.76,480.21]
[{"$f":"Table_BPU[[#This Row],[Risk Area]]&\" \"&Table_BPU[[#This Row],[BPU Description]]","v":"Fairview Elk Births"},"Fairview",25,"Elk Births",460.51,377.95,282.49,367.53,430.76,480.21]
[{"$f":"Table_BPU[[#This Row],[Risk Area]]&\" \"&Table_BPU[[#This Row],[BPU Description]]","v":"Flagstaff Elk Births"},"Flagstaff",25,"Elk Births",460.51,377.95,282.49,367.53,430.76,480.21]
[{"$f":"Table_BPU[[#This Row],[Risk Area]]&\" \"&Table_BPU[[#This Row],[BPU Description]]","v":"Foothills Elk Births"},"Foothills",25,"Elk Births",460.51,377.95,282.49,367.53,430.76,480.21]
[{"$f":"Table_BPU[[#This Row],[Risk Area]]&\" \"&Table_BPU[[#This Row],[BPU Description]]","v":"Forty Mile Elk Births"},"Forty Mile",25,"Elk Births",460.51,377.95,282.49,367.53,430.76,480.21]
[{"$f":"Table_BPU[[#This Row],[Risk Area]]&\" \"&Table_BPU[[#This Row],[BPU Description]]","v":"Grande Prairie Elk Births"},"Grande Prairie",25,"Elk Births",460.51,377.95,282.49,367.53,430.76,480.21]
[{"$f":"Table_BPU[[#This Row],[Risk Area]]&\" \"&Table_BPU[[#This Row],[BPU Description]]","v":"Greenview Elk Births"},"Greenview",25,"Elk Births",460.51,377.95,282.49,367.53,430.76,480.21]
[{"$f":"Table_BPU[[#This Row],[Risk Area]]&\" \"&Table_BPU[[#This Row],[BPU Description]]","v":"Kneehill Elk Births"},"Kneehill",25,"Elk Births",460.51,377.95,282.49,367.53,430.76,480.21]
[{"$f":"Table_BPU[[#This Row],[Risk Area]]&\" \"&Table_BPU[[#This Row],[BPU Description]]","v":"Lac La Biche Elk Births"},"Lac La Biche",25,"Elk Births",460.51,377.95,282.49,367.53,430.76,480.21]
[{"$f":"Table_BPU[[#This Row],[Risk Area]]&\" \"&Table_BPU[[#This Row],[BPU Description]]","v":"Lac Ste. Anne County Elk Births"},"Lac Ste. Anne County",25,"Elk Births",460.51,377.95,282.49,367.53,430.76,480.21]
[{"$f":"Table_BPU[[#This Row],[Risk Area]]&\" \"&Table_BPU[[#This Row],[BPU Description]]","v":"Lacombe Elk Births"},"Lacombe",25,"Elk Births",460.51,377.95,282.49,367.53,430.76,480.21]
[{"$f":"Table_BPU[[#This Row],[Risk Area]]&\" \"&Table_BPU[[#This Row],[BPU Description]]","v":"Lamont Elk Births"},"Lamont",25,"Elk Births",460.51,377.95,282.49,367.53,430.76,480.21]
[{"$f":"Table_BPU[[#This Row],[Risk Area]]&\" \"&Table_BPU[[#This Row],[BPU Description]]","v":"Leduc Elk Births"},"Leduc",25,"Elk Births",460.51,377.95,282.49,367.53,430.76,480.21]
[{"$f":"Table_BPU[[#This Row],[Risk Area]]&\" \"&Table_BPU[[#This Row],[BPU Description]]","v":"Lesser Slave River Elk Births"},"Lesser Slave River",25,"Elk Births",460.51,377.95,282.49,367.53,430.76,480.21]
[{"$f":"Table_BPU[[#This Row],[Risk Area]]&\" \"&Table_BPU[[#This Row],[BPU Description]]","v":"Lethbridge Elk Births"},"Lethbridge",25,"Elk Births",460.51,377.95,282.49,367.53,430.76,480.21]
[{"$f":"Table_BPU[[#This Row],[Risk Area]]&\" \"&Table_BPU[[#This Row],[BPU Description]]","v":"Mackenzie Elk Births"},"Mackenzie",25,"Elk Births",460.51,377.95,282.49,367.53,430.76,480.21]
[{"$f":"Table_BPU[[#This Row],[Risk Area]]&\" \"&Table_BPU[[#This Row],[BPU Description]]","v":"Minburn Elk Births"},"Minburn",25,"Elk Births",460.51,377.95,282.49,367.53,430.76,480.21]
[{"$f":"Table_BPU[[#This Row],[Risk Area]]&\" \"&Table_BPU[[#This Row],[BPU Description]]","v":"Mountain View Elk Births"},"Mountain View",25,"Elk Births",460.51,377.95,282.49,367.53,430.76,480.21]
[{"$f":"Table_BPU[[#This Row],[Risk Area]]&\" \"&Table_BPU[[#This Row],[BPU Description]]","v":"Newell Elk Births"},"Newell",25,"Elk Births",460.51,377.95,282.49,367.53,430.76,480.21]
[{"$f":"Table_BPU[[#This Row],[Risk Area]]&\" \"&Table_BPU[[#This Row],[BPU Description]]","v":"Northern Lights Elk Births"},"Northern Lights",25,"Elk Births",460.51,377.95,282.49,367.53,430.76,480.21]
[{"$f":"Table_BPU[[#This Row],[Risk Area]]&\" \"&Table_BPU[[#This Row],[BPU Description]]","v":"Northern Sunrise Elk Births"},"Northern Sunrise",25,"Elk Births",460.51,377.95,282.49,367.53,430.76,480.21]
[{"$f":"Table_BPU[[#This Row],[Risk Area]]&\" \"&Table_BPU[[#This Row],[BPU Description]]","v":"Opportunity Elk Births"},"Opportunity",25,"Elk Births",460.51,377.95,282.49,367.53,430.76,480.21]
[{"$f":"Table_BPU[[#This Row],[Risk Area]]&\" \"&Table_BPU[[#This Row],[BPU Description]]","v":"Paintearth Elk Births"},"Paintearth",25,"Elk Births",460.51,377.95,282.49,367.53,430.76,480.21]
[{"$f":"Table_BPU[[#This Row],[Risk Area]]&\" \"&Table_BPU[[#This Row],[BPU Description]]","v":"Parkland County Elk Births"},"Parkland County",25,"Elk Births",460.51,377.95,282.49,367.53,430.76,480.21]
[{"$f":"Table_BPU[[#This Row],[Risk Area]]&\" \"&Table_BPU[[#This Row],[BPU Description]]","v":"Peace Elk Births"},"Peace",25,"Elk Births",460.51,377.95,282.49,367.53,430.76,480.21]
[{"$f":"Table_BPU[[#This Row],[Risk Area]]&\" \"&Table_BPU[[#This Row],[BPU Description]]","v":"Pincher Creek Elk Births"},"Pincher Creek",25,"Elk Births",460.51,377.95,282.49,367.53,430.76,480.21]
[{"$f":"Table_BPU[[#This Row],[Risk Area]]&\" \"&Table_BPU[[#This Row],[BPU Description]]","v":"Ponoka Elk Births"},"Ponoka",25,"Elk Births",460.51,377.95,282.49,367.53,430.76,480.21]
[{"$f":"Table_BPU[[#This Row],[Risk Area]]&\" \"&Table_BPU[[#This Row],[BPU Description]]","v":"Provost Elk Births"},"Provost",25,"Elk Births",460.51,377.95,282.49,367.53,430.76,480.21]
[{"$f":"Table_BPU[[#This Row],[Risk Area]]&\" \"&Table_BPU[[#This Row],[BPU Description]]","v":"Ranchland Elk Births"},"Ranchland",25,"Elk Births",460.51,377.95,282.49,367.53,430.76,480.21]
[{"$f":"Table_BPU[[#This Row],[Risk Area]]&\" \"&Table_BPU[[#This Row],[BPU Description]]","v":"Red Deer Elk Births"},"Red Deer",25,"Elk Births",460.51,377.95,282.49,367.53,430.76,480.21]
[{"$f":"Table_BPU[[#This Row],[Risk Area]]&\" \"&Table_BPU[[#This Row],[BPU Description]]","v":"Rocky View Elk Births"},"Rocky View",25,"Elk Births",460.51,377.95,282.49,367.53,430.76,480.21]
[{"$f":"Table_BPU[[#This Row],[Risk Area]]&\" \"&Table_BPU[[#This Row],[BPU Description]]","v":"Saddle Hills Elk Births"},"Saddle Hills",25,"Elk Births",460.51,377.95,282.49,367.53,430.76,480.21]
[{"$f":"Table_BPU[[#This Row],[Risk Area]]&\" \"&Table_BPU[[#This Row],[BPU Description]]","v":"Smoky Lake Elk Births"},"Smoky Lake",25,"Elk Births",460.51,377.95,282.49,367.53,430.76,480.21]
[{"$f":"Table_BPU[[#This Row],[Risk Area]]&\" \"&Table_BPU[[#This Row],[BPU Description]]","v":"Smoky River Elk Births"},"Smoky River",25,"Elk Births",460.51,377.95,282.49,367.53,430.76,480.21]
[{"$f":"Table_BPU[[#This Row],[Risk Area]]&\" \"&Table_BPU[[#This Row],[BPU Description]]","v":"Special Area 02 Elk Births"},"Special Area 02",25,"Elk Births",460.51,377.95,282.49,367.53,430.76,480.21]
[{"$f":"Table_BPU[[#This Row],[Risk Area]]&\" \"&Table_BPU[[#This Row],[BPU Description]]","v":"Special Area 03 Elk Births"},"Special Area 03",25,"Elk Births",460.51,377.95,282.49,367.53,430.76,480.21]
[{"$f":"Table_BPU[[#This Row],[Risk Area]]&\" \"&Table_BPU[[#This Row],[BPU Description]]","v":"Special Area 04 Elk Births"},"Special Area 04",25,"Elk Births",460.51,377.95,282.49,367.53,430.76,480.21]
[{"$f":"Table_BPU[[#This Row],[Risk Area]]&\" \"&Table_BPU[[#This Row],[BPU Description]]","v":"Spirit River Elk Births"},"Spirit River",25,"Elk Births",460.51,377.95,282.49,367.53,430.76,480.21]
[{"$f":"Table_BPU[[#This Row],[Risk Area]]&\" \"&Table_BPU[[#This Row],[BPU Description]]","v":"St. Paul Elk Births"},"St. Paul",25,"Elk Births",460.51,377.95,282.49,367.53,430.76,480.21]
[{"$f":"Table_BPU[[#This Row],[Risk Area]]&\" \"&Table_BPU[[#This Row],[BPU Description]]","v":"Starland Elk Births"},"Starland",25,"Elk Births",460.51,377.95,282.49,367.53,430.76,480.21]
[{"$f":"Table_BPU[[#This Row],[Risk Area]]&\" \"&Table_BPU[[#This Row],[BPU Description]]","v":"Stettler Elk Births"},"Stettler",25,"Elk Births",460.51,377.95,282.49,367.53,430.76,480.21]
[{"$f":"Table_BPU[[#This Row],[Risk Area]]&\" \"&Table_BPU[[#This Row],[BPU Description]]","v":"Strathcona County Elk Births"},"Strathcona County",25,"Elk Births",460.51,377.95,282.49,367.53,430.76,480.21]
[{"$f":"Table_BPU[[#This Row],[Risk Area]]&\" \"&Table_BPU[[#This Row],[BPU Description]]","v":"Sturgeon Elk Births"},"Sturgeon",25,"Elk Births",460.51,377.95,282.49,367.53,430.76,480.21]
[{"$f":"Table_BPU[[#This Row],[Risk Area]]&\" \"&Table_BPU[[#This Row],[BPU Description]]","v":"Taber Elk Births"},"Taber",25,"Elk Births",460.51,377.95,282.49,367.53,430.76,480.21]
[{"$f":"Table_BPU[[#This Row],[Risk Area]]&\" \"&Table_BPU[[#This Row],[BPU Description]]","v":"Thorhild Elk Births"},"Thorhild",25,"Elk Births",460.51,377.95,282.49,367.53,430.76,480.21]
[{"$f":"Table_BPU[[#This Row],[Risk Area]]&\" \"&Table_BPU[[#This Row],[BPU Description]]","v":"Two Hills Elk Births"},"Two Hills",25,"Elk Births",460.51,377.95,282.49,367.53,430.76,480.21]
[{"$f":"Table_BPU[[#This Row],[Risk Area]]&\" \"&Table_BPU[[#This Row],[BPU Description]]","v":"Vermilion River Elk Births"},"Vermilion River",25,"Elk Births",460.51,377.95,282.49,367.53,430.76,480.21]
[{"$f":"Table_BPU[[#This Row],[Risk Area]]&\" \"&Table_BPU[[#This Row],[BPU Description]]","v":"Vulcan Elk Births"},"Vulcan",25,"Elk Births",460.51,377.95,282.49,367.53,430.76,480.21]
[{"$f":"Table_BPU[[#This Row],[Risk Area]]&\" \"&Table_BPU[[#This Row],[BPU Description]]","v":"Wainwright Elk Births"},"Wainwright",25,"Elk Births",460.51,377.95,282.49,367.53,430.76,480.21]
[{"$f":"Table_BPU[[#This Row],[Risk Area]]&\" \"&Table_BPU[[#This Row],[BPU Description]]","v":"Warner Elk Births"},"Warner",25,"Elk Births",460.51,377.95,282.49,367.53,430.76,480.21]
[{"$f":"Table_BPU[[#This Row],[Risk Area]]&\" \"&Table_BPU[[#This Row],[BPU Description]]","v":"Westlock Elk Births"},"Westlock",25,"Elk Births",460.51,377.95,282.49,367.53,430.76,480.21]
[{"$f":"Table_BPU[[#This Row],[Risk Area]]&\" \"&Table_BPU[[#This Row],[BPU Description]]","v":"Wetaskiwin Elk Births"},"Wetaskiwin",25,"Elk Births",460.51,377.95,282.49,367.53,430.76,480.21]
[{"$f":"Table_BPU[[#This Row],[Risk Area]]&\" \"&Table_BPU[[#This Row],[BPU Description]]","v":"Wheatland Elk Births"},"Wheatland",25,"Elk Births",460.51,377.95,282.49,367.53,430.76,480.21]
[{"$f":"Table_BPU[[#This Row],[Risk Area]]&\" \"&Table_BPU[[#This Row],[BPU Description]]","v":"Willow Creek Elk Births"},"Willow Creek",25,"Elk Births",460.51,377.95,282.49,367.53,430.76,480.21]
[{"$f":"Table_BPU[[#This Row],[Risk Area]]&\" \"&Table_BPU[[#This Row],[BPU Description]]","v":"Wood Buffalo Elk Births"},"Wood Buffalo",25,"Elk Births",460.51,377.95,282.49,367.53,430.76,480.21]
[{"$f":"Table_BPU[[#This Row],[Risk Area]]&\" \"&Table_BPU[[#This Row],[BPU Description]]","v":"Woodlands Elk Births"},"Woodlands",25,"Elk Births",460.51,377.95,282.49,367.53,430.76,480.21]
[{"$f":"Table_BPU[[#This Row],[Risk Area]]&\" \"&Table_BPU[[#This Row],[BPU Description]]","v":"Yellowhead Elk Births"},"Yellowhead",25,"Elk Births",460.51,377.95,282.49,367.53,430.76,480.21]
[{"$f":"Table_BPU[[#This Row],[Risk Area]]&\" \"&Table_BPU[[#This Row],[BPU Description]]","v":"Acadia Elk Velvet Bulls"},"Acadia",26,"Elk Velvet Bulls",0.01,0.01,0.01,0.01,0.01,0.01]
[{"$f":"Table_BPU[[#This Row],[Risk Area]]&\" \"&Table_BPU[[#This Row],[BPU Description]]","v":"Athabasca Elk Velvet Bulls"},"Athabasca",26,"Elk Velvet Bulls",0.01,0.01,0.01,0.01,0.01,0.01]
[{"$f":"Table_BPU[[#This Row],[Risk Area]]&\" \"&Table_BPU[[#This Row],[BPU Description]]","v":"Barrhead Elk Velvet Bulls"},"Barrhead",26,"Elk Velvet Bulls",0.01,0.01,0.01,0.01,0.01,0.01]
[{"$f":"Table_BPU[[#This Row],[Risk Area]]&\" \"&Table_BPU[[#This Row],[BPU Description]]","v":"Beaver Elk Velvet Bulls"},"Beaver",26,"Elk Velvet Bulls",0.01,0.01,0.01,0.01,0.01,0.01]
[{"$f":"Table_BPU[[#This Row],[Risk Area]]&\" \"&Table_BPU[[#This Row],[BPU Description]]","v":"Big Lakes Elk Velvet Bulls"},"Big Lakes",26,"Elk Velvet Bulls",0.01,0.01,0.01,0.01,0.01,0.01]
[{"$f":"Table_BPU[[#This Row],[Risk Area]]&\" \"&Table_BPU[[#This Row],[BPU Description]]","v":"Bighorn Elk Velvet Bulls"},"Bighorn",26,"Elk Velvet Bulls",0.01,0.01,0.01,0.01,0.01,0.01]
[{"$f":"Table_BPU[[#This Row],[Risk Area]]&\" \"&Table_BPU[[#This Row],[BPU Description]]","v":"Birch Hills Elk Velvet Bulls"},"Birch Hills",26,"Elk Velvet Bulls",0.01,0.01,0.01,0.01,0.01,0.01]
[{"$f":"Table_BPU[[#This Row],[Risk Area]]&\" \"&Table_BPU[[#This Row],[BPU Description]]","v":"Bonnyville Elk Velvet Bulls"},"Bonnyville",26,"Elk Velvet Bulls",0.01,0.01,0.01,0.01,0.01,0.01]
[{"$f":"Table_BPU[[#This Row],[Risk Area]]&\" \"&Table_BPU[[#This Row],[BPU Description]]","v":"Brazeau Elk Velvet Bulls"},"Brazeau",26,"Elk Velvet Bulls",0.01,0.01,0.01,0.01,0.01,0.01]
[{"$f":"Table_BPU[[#This Row],[Risk Area]]&\" \"&Table_BPU[[#This Row],[BPU Description]]","v":"Camrose Elk Velvet Bulls"},"Camrose",26,"Elk Velvet Bulls",0.01,0.01,0.01,0.01,0.01,0.01]
[{"$f":"Table_BPU[[#This Row],[Risk Area]]&\" \"&Table_BPU[[#This Row],[BPU Description]]","v":"Cardston Elk Velvet Bulls"},"Cardston",26,"Elk Velvet Bulls",0.01,0.01,0.01,0.01,0.01,0.01]
[{"$f":"Table_BPU[[#This Row],[Risk Area]]&\" \"&Table_BPU[[#This Row],[BPU Description]]","v":"Clear Hills Elk Velvet Bulls"},"Clear Hills",26,"Elk Velvet Bulls",0.01,0.01,0.01,0.01,0.01,0.01]
[{"$f":"Table_BPU[[#This Row],[Risk Area]]&\" \"&Table_BPU[[#This Row],[BPU Description]]","v":"Clearwater Elk Velvet Bulls"},"Clearwater",26,"Elk Velvet Bulls",0.01,0.01,0.01,0.01,0.01,0.01]
[{"$f":"Table_BPU[[#This Row],[Risk Area]]&\" \"&Table_BPU[[#This Row],[BPU Description]]","v":"Cypress Elk Velvet Bulls"},"Cypress",26,"Elk Velvet Bulls",0.01,0.01,0.01,0.01,0.01,0.01]
[{"$f":"Table_BPU[[#This Row],[Risk Area]]&\" \"&Table_BPU[[#This Row],[BPU Description]]","v":"Edmonton Elk Velvet Bulls"},"Edmonton",26,"Elk Velvet Bulls",0.01,0.01,0.01,0.01,0.01,0.01]
[{"$f":"Table_BPU[[#This Row],[Risk Area]]&\" \"&Table_BPU[[#This Row],[BPU Description]]","v":"Fairview Elk Velvet Bulls"},"Fairview",26,"Elk Velvet Bulls",0.01,0.01,0.01,0.01,0.01,0.01]
[{"$f":"Table_BPU[[#This Row],[Risk Area]]&\" \"&Table_BPU[[#This Row],[BPU Description]]","v":"Flagstaff Elk Velvet Bulls"},"Flagstaff",26,"Elk Velvet Bulls",0.01,0.01,0.01,0.01,0.01,0.01]
[{"$f":"Table_BPU[[#This Row],[Risk Area]]&\" \"&Table_BPU[[#This Row],[BPU Description]]","v":"Foothills Elk Velvet Bulls"},"Foothills",26,"Elk Velvet Bulls",0.01,0.01,0.01,0.01,0.01,0.01]
[{"$f":"Table_BPU[[#This Row],[Risk Area]]&\" \"&Table_BPU[[#This Row],[BPU Description]]","v":"Forty Mile Elk Velvet Bulls"},"Forty Mile",26,"Elk Velvet Bulls",0.01,0.01,0.01,0.01,0.01,0.01]
[{"$f":"Table_BPU[[#This Row],[Risk Area]]&\" \"&Table_BPU[[#This Row],[BPU Description]]","v":"Grande Prairie Elk Velvet Bulls"},"Grande Prairie",26,"Elk Velvet Bulls",0.01,0.01,0.01,0.01,0.01,0.01]
[{"$f":"Table_BPU[[#This Row],[Risk Area]]&\" \"&Table_BPU[[#This Row],[BPU Description]]","v":"Greenview Elk Velvet Bulls"},"Greenview",26,"Elk Velvet Bulls",0.01,0.01,0.01,0.01,0.01,0.01]
[{"$f":"Table_BPU[[#This Row],[Risk Area]]&\" \"&Table_BPU[[#This Row],[BPU Description]]","v":"Kneehill Elk Velvet Bulls"},"Kneehill",26,"Elk Velvet Bulls",0.01,0.01,0.01,0.01,0.01,0.01]
[{"$f":"Table_BPU[[#This Row],[Risk Area]]&\" \"&Table_BPU[[#This Row],[BPU Description]]","v":"Lac La Biche Elk Velvet Bulls"},"Lac La Biche",26,"Elk Velvet Bulls",0.01,0.01,0.01,0.01,0.01,0.01]
[{"$f":"Table_BPU[[#This Row],[Risk Area]]&\" \"&Table_BPU[[#This Row],[BPU Description]]","v":"Lac Ste. Anne County Elk Velvet Bulls"},"Lac Ste. Anne County",26,"Elk Velvet Bulls",0.01,0.01,0.01,0.01,0.01,0.01]
[{"$f":"Table_BPU[[#This Row],[Risk Area]]&\" \"&Table_BPU[[#This Row],[BPU Description]]","v":"Lacombe Elk Velvet Bulls"},"Lacombe",26,"Elk Velvet Bulls",0.01,0.01,0.01,0.01,0.01,0.01]
[{"$f":"Table_BPU[[#This Row],[Risk Area]]&\" \"&Table_BPU[[#This Row],[BPU Description]]","v":"Lamont Elk Velvet Bulls"},"Lamont",26,"Elk Velvet Bulls",0.01,0.01,0.01,0.01,0.01,0.01]
[{"$f":"Table_BPU[[#This Row],[Risk Area]]&\" \"&Table_BPU[[#This Row],[BPU Description]]","v":"Leduc Elk Velvet Bulls"},"Leduc",26,"Elk Velvet Bulls",0.01,0.01,0.01,0.01,0.01,0.01]
[{"$f":"Table_BPU[[#This Row],[Risk Area]]&\" \"&Table_BPU[[#This Row],[BPU Description]]","v":"Lesser Slave River Elk Velvet Bulls"},"Lesser Slave River",26,"Elk Velvet Bulls",0.01,0.01,0.01,0.01,0.01,0.01]
[{"$f":"Table_BPU[[#This Row],[Risk Area]]&\" \"&Table_BPU[[#This Row],[BPU Description]]","v":"Lethbridge Elk Velvet Bulls"},"Lethbridge",26,"Elk Velvet Bulls",0.01,0.01,0.01,0.01,0.01,0.01]
[{"$f":"Table_BPU[[#This Row],[Risk Area]]&\" \"&Table_BPU[[#This Row],[BPU Description]]","v":"Mackenzie Elk Velvet Bulls"},"Mackenzie",26,"Elk Velvet Bulls",0.01,0.01,0.01,0.01,0.01,0.01]
[{"$f":"Table_BPU[[#This Row],[Risk Area]]&\" \"&Table_BPU[[#This Row],[BPU Description]]","v":"Minburn Elk Velvet Bulls"},"Minburn",26,"Elk Velvet Bulls",0.01,0.01,0.01,0.01,0.01,0.01]
[{"$f":"Table_BPU[[#This Row],[Risk Area]]&\" \"&Table_BPU[[#This Row],[BPU Description]]","v":"Mountain View Elk Velvet Bulls"},"Mountain View",26,"Elk Velvet Bulls",0.01,0.01,0.01,0.01,0.01,0.01]
[{"$f":"Table_BPU[[#This Row],[Risk Area]]&\" \"&Table_BPU[[#This Row],[BPU Description]]","v":"Newell Elk Velvet Bulls"},"Newell",26,"Elk Velvet Bulls",0.01,0.01,0.01,0.01,0.01,0.01]
[{"$f":"Table_BPU[[#This Row],[Risk Area]]&\" \"&Table_BPU[[#This Row],[BPU Description]]","v":"Northern Lights Elk Velvet Bulls"},"Northern Lights",26,"Elk Velvet Bulls",0.01,0.01,0.01,0.01,0.01,0.01]
[{"$f":"Table_BPU[[#This Row],[Risk Area]]&\" \"&Table_BPU[[#This Row],[BPU Description]]","v":"Northern Sunrise Elk Velvet Bulls"},"Northern Sunrise",26,"Elk Velvet Bulls",0.01,0.01,0.01,0.01,0.01,0.01]
[{"$f":"Table_BPU[[#This Row],[Risk Area]]&\" \"&Table_BPU[[#This Row],[BPU Description]]","v":"Opportunity Elk Velvet Bulls"},"Opportunity",26,"Elk Velvet Bulls",0.01,0.01,0.01,0.01,0.01,0.01]
[{"$f":"Table_BPU[[#This Row],[Risk Area]]&\" \"&Table_BPU[[#This Row],[BPU Description]]","v":"Paintearth Elk Velvet Bulls"},"Paintearth",26,"Elk Velvet Bulls",0.01,0.01,0.01,0.01,0.01,0.01]
[{"$f":"Table_BPU[[#This Row],[Risk Area]]&\" \"&Table_BPU[[#This Row],[BPU Description]]","v":"Parkland County Elk Velvet Bulls"},"Parkland County",26,"Elk Velvet Bulls",0.01,0.01,0.01,0.01,0.01,0.01]
[{"$f":"Table_BPU[[#This Row],[Risk Area]]&\" \"&Table_BPU[[#This Row],[BPU Description]]","v":"Peace Elk Velvet Bulls"},"Peace",26,"Elk Velvet Bulls",0.01,0.01,0.01,0.01,0.01,0.01]
[{"$f":"Table_BPU[[#This Row],[Risk Area]]&\" \"&Table_BPU[[#This Row],[BPU Description]]","v":"Pincher Creek Elk Velvet Bulls"},"Pincher Creek",26,"Elk Velvet Bulls",0.01,0.01,0.01,0.01,0.01,0.01]
[{"$f":"Table_BPU[[#This Row],[Risk Area]]&\" \"&Table_BPU[[#This Row],[BPU Description]]","v":"Ponoka Elk Velvet Bulls"},"Ponoka",26,"Elk Velvet Bulls",0.01,0.01,0.01,0.01,0.01,0.01]
[{"$f":"Table_BPU[[#This Row],[Risk Area]]&\" \"&Table_BPU[[#This Row],[BPU Description]]","v":"Provost Elk Velvet Bulls"},"Provost",26,"Elk Velvet Bulls",0.01,0.01,0.01,0.01,0.01,0.01]
[{"$f":"Table_BPU[[#This Row],[Risk Area]]&\" \"&Table_BPU[[#This Row],[BPU Description]]","v":"Ranchland Elk Velvet Bulls"},"Ranchland",26,"Elk Velvet Bulls",0.01,0.01,0.01,0.01,0.01,0.01]
[{"$f":"Table_BPU[[#This Row],[Risk Area]]&\" \"&Table_BPU[[#This Row],[BPU Description]]","v":"Red Deer Elk Velvet Bulls"},"Red Deer",26,"Elk Velvet Bulls",0.01,0.01,0.01,0.01,0.01,0.01]
[{"$f":"Table_BPU[[#This Row],[Risk Area]]&\" \"&Table_BPU[[#This Row],[BPU Description]]","v":"Rocky View Elk Velvet Bulls"},"Rocky View",26,"Elk Velvet Bulls",0.01,0.01,0.01,0.01,0.01,0.01]
[{"$f":"Table_BPU[[#This Row],[Risk Area]]&\" \"&Table_BPU[[#This Row],[BPU Description]]","v":"Saddle Hills Elk Velvet Bulls"},"Saddle Hills",26,"Elk Velvet Bulls",0.01,0.01,0.01,0.01,0.01,0.01]
[{"$f":"Table_BPU[[#This Row],[Risk Area]]&\" \"&Table_BPU[[#This Row],[BPU Description]]","v":"Smoky Lake Elk Velvet Bulls"},"Smoky Lake",26,"Elk Velvet Bulls",0.01,0.01,0.01,0.01,0.01,0.01]
[{"$f":"Table_BPU[[#This Row],[Risk Area]]&\" \"&Table_BPU[[#This Row],[BPU Description]]","v":"Smoky River Elk Velvet Bulls"},"Smoky River",26,"Elk Velvet Bulls",0.01,0.01,0.01,0.01,0.01,0.01]
[{"$f":"Table_BPU[[#This Row],[Risk Area]]&\" \"&Table_BPU[[#This Row],[BPU Description]]","v":"Special Area 02 Elk Velvet Bulls"},"Special Area 02",26,"Elk Velvet Bulls",0.01,0.01,0.01,0.01,0.01,0.01]
[{"$f":"Table_BPU[[#This Row],[Risk Area]]&\" \"&Table_BPU[[#This Row],[BPU Description]]","v":"Special Area 03 Elk Velvet Bulls"},"Special Area 03",26,"Elk Velvet Bulls",0.01,0.01,0.01,0.01,0.01,0.01]
[{"$f":"Table_BPU[[#This Row],[Risk Area]]&\" \"&Table_BPU[[#This Row],[BPU Description]]","v":"Special Area 04 Elk Velvet Bulls"},"Special Area 04",26,"Elk Velvet Bulls",0.01,0.01,0.01,0.01,0.01,0.01]
[{"$f":"Table_BPU[[#This Row],[Risk Area]]&\" \"&Table_BPU[[#This Row],[BPU Description]]","v":"Spirit River Elk Velvet Bulls"},"Spirit River",26,"Elk Velvet Bulls",0.01,0.01,0.01,0.01,0.01,0.01]
[{"$f":"Table_BPU[[#This Row],[Risk Area]]&\" \"&Table_BPU[[#This Row],[BPU Description]]","v":"St. Paul Elk Velvet Bulls"},"St. Paul",26,"Elk Velvet Bulls",0.01,0.01,0.01,0.01,0.01,0.01]
[{"$f":"Table_BPU[[#This Row],[Risk Area]]&\" \"&Table_BPU[[#This Row],[BPU Description]]","v":"Starland Elk Velvet Bulls"},"Starland",26,"Elk Velvet Bulls",0.01,0.01,0.01,0.01,0.01,0.01]
[{"$f":"Table_BPU[[#This Row],[Risk Area]]&\" \"&Table_BPU[[#This Row],[BPU Description]]","v":"Stettler Elk Velvet Bulls"},"Stettler",26,"Elk Velvet Bulls",0.01,0.01,0.01,0.01,0.01,0.01]
[{"$f":"Table_BPU[[#This Row],[Risk Area]]&\" \"&Table_BPU[[#This Row],[BPU Description]]","v":"Strathcona County Elk Velvet Bulls"},"Strathcona County",26,"Elk Velvet Bulls",0.01,0.01,0.01,0.01,0.01,0.01]
[{"$f":"Table_BPU[[#This Row],[Risk Area]]&\" \"&Table_BPU[[#This Row],[BPU Description]]","v":"Sturgeon Elk Velvet Bulls"},"Sturgeon",26,"Elk Velvet Bulls",0.01,0.01,0.01,0.01,0.01,0.01]
[{"$f":"Table_BPU[[#This Row],[Risk Area]]&\" \"&Table_BPU[[#This Row],[BPU Description]]","v":"Taber Elk Velvet Bulls"},"Taber",26,"Elk Velvet Bulls",0.01,0.01,0.01,0.01,0.01,0.01]
[{"$f":"Table_BPU[[#This Row],[Risk Area]]&\" \"&Table_BPU[[#This Row],[BPU Description]]","v":"Thorhild Elk Velvet Bulls"},"Thorhild",26,"Elk Velvet Bulls",0.01,0.01,0.01,0.01,0.01,0.01]
[{"$f":"Table_BPU[[#This Row],[Risk Area]]&\" \"&Table_BPU[[#This Row],[BPU Description]]","v":"Two Hills Elk Velvet Bulls"},"Two Hills",26,"Elk Velvet Bulls",0.01,0.01,0.01,0.01,0.01,0.01]
[{"$f":"Table_BPU[[#This Row],[Risk Area]]&\" \"&Table_BPU[[#This Row],[BPU Description]]","v":"Vermilion River Elk Velvet Bulls"},"Vermilion River",26,"Elk Velvet Bulls",0.01,0.01,0.01,0.01,0.01,0.01]
[{"$f":"Table_BPU[[#This Row],[Risk Area]]&\" \"&Table_BPU[[#This Row],[BPU Description]]","v":"Vulcan Elk Velvet Bulls"},"Vulcan",26,"Elk Velvet Bulls",0.01,0.01,0.01,0.01,0.01,0.01]
[{"$f":"Table_BPU[[#This Row],[Risk Area]]&\" \"&Table_BPU[[#This Row],[BPU Description]]","v":"Wainwright Elk Velvet Bulls"},"Wainwright",26,"Elk Velvet Bulls",0.01,0.01,0.01,0.01,0.01,0.01]
[{"$f":"Table_BPU[[#This Row],[Risk Area]]&\" \"&Table_BPU[[#This Row],[BPU Description]]","v":"Warner Elk Velvet Bulls"},"Warner",26,"Elk Velvet Bulls",0.01,0.01,0.01,0.01,0.01,0.01]
[{"$f":"Table_BPU[[#This Row],[Risk Area]]&\" \"&Table_BPU[[#This Row],[BPU Description]]","v":"Westlock Elk Velvet Bulls"},"Westlock",26,"Elk Velvet Bulls",0.01,0.01,0.01,0.01,0.01,0.01]
[{"$f":"Table_BPU[[#This Row],[Risk Area]]&\" \"&Table_BPU[[#This Row],[BPU Description]]","v":"Wetaskiwin Elk Velvet Bulls"},"Wetaskiwin",26,"Elk Velvet Bulls",0.01,0.01,0.01,0.01,0.01,0.01]
[{"$f":"Table_BPU[[#This Row],[Risk Area]]&\" \"&Table_BPU[[#This Row],[BPU Description]]","v":"Wheatland Elk Velvet Bulls"},"Wheatland",26,"Elk Velvet Bulls",0.01,0.01,0.01,0.01,0.01,0.01]
[{"$f":"Table_BPU[[#This Row],[Risk Area]]&\" \"&Table_BPU[[#This Row],[BPU Description]]","v":"Willow Creek Elk Velvet Bulls"},"Willow Creek",26,"Elk Velvet Bulls",0.01,0.01,0.01,0.01,0.01,0.01]
[{"$f":"Table_BPU[[#This Row],[Risk Area]]&\" \"&Table_BPU[[#This Row],[BPU Description]]","v":"Wood Buffalo Elk Velvet Bulls"},"Wood Buffalo",26,"Elk Velvet Bulls",0.01,0.01,0.01,0.01,0.01,0.01]
[{"$f":"Table_BPU[[#This Row],[Risk Area]]&\" \"&Table_BPU[[#This Row],[BPU Description]]","v":"Woodlands Elk Velvet Bulls"},"Woodlands",26,"Elk Velvet Bulls",0.01,0.01,0.01,0.01,0.01,0.01]
[{"$f":"Table_BPU[[#This Row],[Risk Area]]&\" \"&Table_BPU[[#This Row],[BPU Description]]","v":"Yellowhead Elk Velvet Bulls"},"Yellowhead",26,"Elk Velvet Bulls",0.01,0.01,0.01,0.01,0.01,0.01]
[{"$f":"Table_BPU[[#This Row],[Risk Area]]&\" \"&Table_BPU[[#This Row],[BPU Description]]","v":"Acadia Forage Basket"},"Acadia",3,"Forage Basket",113.25,147.41999999999999,0.01,110.83,8.58,194.52]
[{"$f":"Table_BPU[[#This Row],[Risk Area]]&\" \"&Table_BPU[[#This Row],[BPU Description]]","v":"Athabasca Forage Basket"},"Athabasca",3,"Forage Basket",267.75,176.33,200.24,451.43,282.14,268.08999999999997]
[{"$f":"Table_BPU[[#This Row],[Risk Area]]&\" \"&Table_BPU[[#This Row],[BPU Description]]","v":"Barrhead Forage Basket"},"Barrhead",3,"Forage Basket",247.11,198.56,154.69999999999999,344.93,280.14,259.06]
[{"$f":"Table_BPU[[#This Row],[Risk Area]]&\" \"&Table_BPU[[#This Row],[BPU Description]]","v":"Beaver Forage Basket"},"Beaver",3,"Forage Basket",210.69,199.82,170.26,414.44,251.44,144.47999999999999]
[{"$f":"Table_BPU[[#This Row],[Risk Area]]&\" \"&Table_BPU[[#This Row],[BPU Description]]","v":"Big Lakes Forage Basket"},"Big Lakes",3,"Forage Basket",152,185.62,247.82,388.47,146.97,109.41]
[{"$f":"Table_BPU[[#This Row],[Risk Area]]&\" \"&Table_BPU[[#This Row],[BPU Description]]","v":"Bighorn Forage Basket"},"Bighorn",3,"Forage Basket",331.58,317.89,222.48,531.04999999999995,304.05,332.83]
[{"$f":"Table_BPU[[#This Row],[Risk Area]]&\" \"&Table_BPU[[#This Row],[BPU Description]]","v":"Birch Hills Forage Basket"},"Birch Hills",3,"Forage Basket",147.77000000000001,248.28,60.93,383.37,109.24,112.59]
[{"$f":"Table_BPU[[#This Row],[Risk Area]]&\" \"&Table_BPU[[#This Row],[BPU Description]]","v":"Bonnyville Forage Basket"},"Bonnyville",3,"Forage Basket",221.66,169.32,179.59,383.49,273.52,141.49]
[{"$f":"Table_BPU[[#This Row],[Risk Area]]&\" \"&Table_BPU[[#This Row],[BPU Description]]","v":"Brazeau Forage Basket"},"Brazeau",3,"Forage Basket",233.79,136.11000000000001,157.74,328.93,239.15,196.38]
[{"$f":"Table_BPU[[#This Row],[Risk Area]]&\" \"&Table_BPU[[#This Row],[BPU Description]]","v":"Camrose Forage Basket"},"Camrose",3,"Forage Basket",222.56,207.7,286.02,475.14,305.8,163.6]
[{"$f":"Table_BPU[[#This Row],[Risk Area]]&\" \"&Table_BPU[[#This Row],[BPU Description]]","v":"Cardston Forage Basket"},"Cardston",3,"Forage Basket",236.97,388.74,126.73,252.58,81.239999999999995,89.11]
[{"$f":"Table_BPU[[#This Row],[Risk Area]]&\" \"&Table_BPU[[#This Row],[BPU Description]]","v":"Clear Hills Forage Basket"},"Clear Hills",3,"Forage Basket",131.56,86.02,33.020000000000003,117.59,4.8,23.62]
[{"$f":"Table_BPU[[#This Row],[Risk Area]]&\" \"&Table_BPU[[#This Row],[BPU Description]]","v":"Clearwater Forage Basket"},"Clearwater",3,"Forage Basket",435.5,268.72000000000003,304.64,574.30999999999995,408.91,365.74]
[{"$f":"Table_BPU[[#This Row],[Risk Area]]&\" \"&Table_BPU[[#This Row],[BPU Description]]","v":"Cypress Forage Basket"},"Cypress",3,"Forage Basket",218.47,184.81,86.27,186.56,17.3,119.4]
[{"$f":"Table_BPU[[#This Row],[Risk Area]]&\" \"&Table_BPU[[#This Row],[BPU Description]]","v":"Edmonton Forage Basket"},"Edmonton",3,"Forage Basket",256.20999999999998,224.22,192.01,413.92,286.39999999999998,313.17]
[{"$f":"Table_BPU[[#This Row],[Risk Area]]&\" \"&Table_BPU[[#This Row],[BPU Description]]","v":"Fairview Forage Basket"},"Fairview",3,"Forage Basket",224.34,196.4,88.92,339.54,238.1,128.02000000000001]
[{"$f":"Table_BPU[[#This Row],[Risk Area]]&\" \"&Table_BPU[[#This Row],[BPU Description]]","v":"Flagstaff Forage Basket"},"Flagstaff",3,"Forage Basket",192.19,199.31,159.83000000000001,372.02,284.41000000000003,104.27]
[{"$f":"Table_BPU[[#This Row],[Risk Area]]&\" \"&Table_BPU[[#This Row],[BPU Description]]","v":"Foothills Forage Basket"},"Foothills",3,"Forage Basket",287.08999999999997,362.27,71.14,300.26,78.05,122.47]
[{"$f":"Table_BPU[[#This Row],[Risk Area]]&\" \"&Table_BPU[[#This Row],[BPU Description]]","v":"Forty Mile Forage Basket"},"Forty Mile",3,"Forage Basket",192.54,214.27,67.53,144.83000000000001,37.299999999999997,59.81]
[{"$f":"Table_BPU[[#This Row],[Risk Area]]&\" \"&Table_BPU[[#This Row],[BPU Description]]","v":"Grande Prairie Forage Basket"},"Grande Prairie",3,"Forage Basket",152.53,199.16,44.12,218.24,50.91,83.68]
[{"$f":"Table_BPU[[#This Row],[Risk Area]]&\" \"&Table_BPU[[#This Row],[BPU Description]]","v":"Greenview Forage Basket"},"Greenview",3,"Forage Basket",215.45,206.98,97.86,261.63,100.5,104.35]
[{"$f":"Table_BPU[[#This Row],[Risk Area]]&\" \"&Table_BPU[[#This Row],[BPU Description]]","v":"Kneehill Forage Basket"},"Kneehill",3,"Forage Basket",320.51,296.57,161.09,486.46,267.44,224.36]
[{"$f":"Table_BPU[[#This Row],[Risk Area]]&\" \"&Table_BPU[[#This Row],[BPU Description]]","v":"Lac La Biche Forage Basket"},"Lac La Biche",3,"Forage Basket",221.66,169.32,179.59,383.49,273.52,141.49]
[{"$f":"Table_BPU[[#This Row],[Risk Area]]&\" \"&Table_BPU[[#This Row],[BPU Description]]","v":"Lac Ste. Anne County Forage Basket"},"Lac Ste. Anne County",3,"Forage Basket",229.33,180.87,109.48,337.57,216,194.14]
[{"$f":"Table_BPU[[#This Row],[Risk Area]]&\" \"&Table_BPU[[#This Row],[BPU Description]]","v":"Lacombe Forage Basket"},"Lacombe",3,"Forage Basket",337.96,329.72,316.83999999999997,589.79,484.66,271.17]
[{"$f":"Table_BPU[[#This Row],[Risk Area]]&\" \"&Table_BPU[[#This Row],[BPU Description]]","v":"Lamont Forage Basket"},"Lamont",3,"Forage Basket",189.19,145.43,231.18,424.64,268.63,151.51]
[{"$f":"Table_BPU[[#This Row],[Risk Area]]&\" \"&Table_BPU[[#This Row],[BPU Description]]","v":"Leduc Forage Basket"},"Leduc",3,"Forage Basket",288.62,223,204.31,411.22,292.42,222.11]
[{"$f":"Table_BPU[[#This Row],[Risk Area]]&\" \"&Table_BPU[[#This Row],[BPU Description]]","v":"Lesser Slave River Forage Basket"},"Lesser Slave River",3,"Forage Basket",128.43,226.68,151.25,284.64,179.02,203.82]
[{"$f":"Table_BPU[[#This Row],[Risk Area]]&\" \"&Table_BPU[[#This Row],[BPU Description]]","v":"Lethbridge Forage Basket"},"Lethbridge",3,"Forage Basket",140.44,340.04,20.68,218.26,30.89,102.79]
[{"$f":"Table_BPU[[#This Row],[Risk Area]]&\" \"&Table_BPU[[#This Row],[BPU Description]]","v":"Mackenzie Forage Basket"},"Mackenzie",3,"Forage Basket",121.37,146.94,250.03,13.07,0.01,88.03]
[{"$f":"Table_BPU[[#This Row],[Risk Area]]&\" \"&Table_BPU[[#This Row],[BPU Description]]","v":"Minburn Forage Basket"},"Minburn",3,"Forage Basket",212.54,220.62,171.79,502.84,263.83999999999997,198.91]
[{"$f":"Table_BPU[[#This Row],[Risk Area]]&\" \"&Table_BPU[[#This Row],[BPU Description]]","v":"Mountain View Forage Basket"},"Mountain View",3,"Forage Basket",372.29,344.12,322.64,627.33000000000004,529.51,370.52]
[{"$f":"Table_BPU[[#This Row],[Risk Area]]&\" \"&Table_BPU[[#This Row],[BPU Description]]","v":"Newell Forage Basket"},"Newell",3,"Forage Basket",189.05,290.14999999999998,0.88,429.71,67.540000000000006,214.86]
[{"$f":"Table_BPU[[#This Row],[Risk Area]]&\" \"&Table_BPU[[#This Row],[BPU Description]]","v":"Northern Lights Forage Basket"},"Northern Lights",3,"Forage Basket",125.44,132.66,55.81,95.23,63.7,158.56]
[{"$f":"Table_BPU[[#This Row],[Risk Area]]&\" \"&Table_BPU[[#This Row],[BPU Description]]","v":"Northern Sunrise Forage Basket"},"Northern Sunrise",3,"Forage Basket",153.97999999999999,195.59,107.72,327.97,88.27,501.68]
[{"$f":"Table_BPU[[#This Row],[Risk Area]]&\" \"&Table_BPU[[#This Row],[BPU Description]]","v":"Opportunity Forage Basket"},"Opportunity",3,"Forage Basket",153.97999999999999,195.59,107.72,327.97,88.27,501.68]
[{"$f":"Table_BPU[[#This Row],[Risk Area]]&\" \"&Table_BPU[[#This Row],[BPU Description]]","v":"Paintearth Forage Basket"},"Paintearth",3,"Forage Basket",161.78,202.61,70.400000000000006,314.77,229.51,160.13]
[{"$f":"Table_BPU[[#This Row],[Risk Area]]&\" \"&Table_BPU[[#This Row],[BPU Description]]","v":"Parkland County Forage Basket"},"Parkland County",3,"Forage Basket",324.23,222.73,213.72,373.91,253.91,200.24]
[{"$f":"Table_BPU[[#This Row],[Risk Area]]&\" \"&Table_BPU[[#This Row],[BPU Description]]","v":"Peace Forage Basket"},"Peace",3,"Forage Basket",130.22999999999999,208.39,53.37,30.59,149.5,63.76]
[{"$f":"Table_BPU[[#This Row],[Risk Area]]&\" \"&Table_BPU[[#This Row],[BPU Description]]","v":"Pincher Creek Forage Basket"},"Pincher Creek",3,"Forage Basket",384.18,499.77,283.93,394.07,101.07,119.79]
[{"$f":"Table_BPU[[#This Row],[Risk Area]]&\" \"&Table_BPU[[#This Row],[BPU Description]]","v":"Ponoka Forage Basket"},"Ponoka",3,"Forage Basket",326.86,320.08999999999997,317.95999999999998,462.26,454.5,290.8]
[{"$f":"Table_BPU[[#This Row],[Risk Area]]&\" \"&Table_BPU[[#This Row],[BPU Description]]","v":"Provost Forage Basket"},"Provost",3,"Forage Basket",156.46,138.05000000000001,89.08,322.36,186.22,134.44]
[{"$f":"Table_BPU[[#This Row],[Risk Area]]&\" \"&Table_BPU[[#This Row],[BPU Description]]","v":"Ranchland Forage Basket"},"Ranchland",3,"Forage Basket",257.62,357.58,67.34,241.39,87.86,113.67]
[{"$f":"Table_BPU[[#This Row],[Risk Area]]&\" \"&Table_BPU[[#This Row],[BPU Description]]","v":"Red Deer Forage Basket"},"Red Deer",3,"Forage Basket",411.45,362.08,382.19,508.88,565.87,379.29]
[{"$f":"Table_BPU[[#This Row],[Risk Area]]&\" \"&Table_BPU[[#This Row],[BPU Description]]","v":"Rocky View Forage Basket"},"Rocky View",3,"Forage Basket",331.58,317.89,222.48,531.04999999999995,304.05,332.83]
[{"$f":"Table_BPU[[#This Row],[Risk Area]]&\" \"&Table_BPU[[#This Row],[BPU Description]]","v":"Saddle Hills Forage Basket"},"Saddle Hills",3,"Forage Basket",150.15,185.75,124.22,286.77,34.39,118.76]
[{"$f":"Table_BPU[[#This Row],[Risk Area]]&\" \"&Table_BPU[[#This Row],[BPU Description]]","v":"Smoky Lake Forage Basket"},"Smoky Lake",3,"Forage Basket",213.29,149.66,238.52,430.6,298,162.24]
[{"$f":"Table_BPU[[#This Row],[Risk Area]]&\" \"&Table_BPU[[#This Row],[BPU Description]]","v":"Smoky River Forage Basket"},"Smoky River",3,"Forage Basket",154.38999999999999,166.44,156.63999999999999,381.95,461.19,597.03]
[{"$f":"Table_BPU[[#This Row],[Risk Area]]&\" \"&Table_BPU[[#This Row],[BPU Description]]","v":"Special Area 02 Forage Basket"},"Special Area 02",3,"Forage Basket",131.84,158.24,39.020000000000003,221.43,44.96,137.86000000000001]
[{"$f":"Table_BPU[[#This Row],[Risk Area]]&\" \"&Table_BPU[[#This Row],[BPU Description]]","v":"Special Area 03 Forage Basket"},"Special Area 03",3,"Forage Basket",105.25,91.72,6.2,84.36,15.94,131.69]
[{"$f":"Table_BPU[[#This Row],[Risk Area]]&\" \"&Table_BPU[[#This Row],[BPU Description]]","v":"Special Area 04 Forage Basket"},"Special Area 04",3,"Forage Basket",121.8,127.93,31.34,232.98,128.57,184.47]
[{"$f":"Table_BPU[[#This Row],[Risk Area]]&\" \"&Table_BPU[[#This Row],[BPU Description]]","v":"Spirit River Forage Basket"},"Spirit River",3,"Forage Basket",172.88,167.83,74.33,238.76,48.75,36.03]
[{"$f":"Table_BPU[[#This Row],[Risk Area]]&\" \"&Table_BPU[[#This Row],[BPU Description]]","v":"St. Paul Forage Basket"},"St. Paul",3,"Forage Basket",173.89,162.57,187.95,368.57,282.12,138.06]
[{"$f":"Table_BPU[[#This Row],[Risk Area]]&\" \"&Table_BPU[[#This Row],[BPU Description]]","v":"Starland Forage Basket"},"Starland",3,"Forage Basket",228.37,229.3,73.150000000000006,407.73,129.5,246.68]
[{"$f":"Table_BPU[[#This Row],[Risk Area]]&\" \"&Table_BPU[[#This Row],[BPU Description]]","v":"Stettler Forage Basket"},"Stettler",3,"Forage Basket",229.46,227.65,145.07,409.62,293.95,159.35]
[{"$f":"Table_BPU[[#This Row],[Risk Area]]&\" \"&Table_BPU[[#This Row],[BPU Description]]","v":"Strathcona County Forage Basket"},"Strathcona County",3,"Forage Basket",256.20999999999998,224.22,192.01,413.92,286.39999999999998,313.17]
[{"$f":"Table_BPU[[#This Row],[Risk Area]]&\" \"&Table_BPU[[#This Row],[BPU Description]]","v":"Sturgeon Forage Basket"},"Sturgeon",3,"Forage Basket",276.13,230.27,136.65,436.71,272.19,304]
[{"$f":"Table_BPU[[#This Row],[Risk Area]]&\" \"&Table_BPU[[#This Row],[BPU Description]]","v":"Taber Forage Basket"},"Taber",3,"Forage Basket",215.21,328.99,59.16,240.3,12.79,112.51]
[{"$f":"Table_BPU[[#This Row],[Risk Area]]&\" \"&Table_BPU[[#This Row],[BPU Description]]","v":"Thorhild Forage Basket"},"Thorhild",3,"Forage Basket",272.52,170.79,213.28,447.24,311.14999999999998,265.61]
[{"$f":"Table_BPU[[#This Row],[Risk Area]]&\" \"&Table_BPU[[#This Row],[BPU Description]]","v":"Two Hills Forage Basket"},"Two Hills",3,"Forage Basket",196.35,176.97,151.74,432.71,260.17,133.06]
[{"$f":"Table_BPU[[#This Row],[Risk Area]]&\" \"&Table_BPU[[#This Row],[BPU Description]]","v":"Vermilion River Forage Basket"},"Vermilion River",3,"Forage Basket",206.52,203.85,205.15,467.55,244.41,156.63]
[{"$f":"Table_BPU[[#This Row],[Risk Area]]&\" \"&Table_BPU[[#This Row],[BPU Description]]","v":"Vulcan Forage Basket"},"Vulcan",3,"Forage Basket",161.77000000000001,288.07,14.96,247.2,26.82,87.47]
[{"$f":"Table_BPU[[#This Row],[Risk Area]]&\" \"&Table_BPU[[#This Row],[BPU Description]]","v":"Wainwright Forage Basket"},"Wainwright",3,"Forage Basket",192.93,164.5,127.11,395.41,204.27,139.19999999999999]
[{"$f":"Table_BPU[[#This Row],[Risk Area]]&\" \"&Table_BPU[[#This Row],[BPU Description]]","v":"Warner Forage Basket"},"Warner",3,"Forage Basket",157.27000000000001,287.10000000000002,82.78,204.81,82.92,79.56]
[{"$f":"Table_BPU[[#This Row],[Risk Area]]&\" \"&Table_BPU[[#This Row],[BPU Description]]","v":"Westlock Forage Basket"},"Westlock",3,"Forage Basket",319.33,234.61,182.24,456.64,300.24,291.36]
[{"$f":"Table_BPU[[#This Row],[Risk Area]]&\" \"&Table_BPU[[#This Row],[BPU Description]]","v":"Wetaskiwin Forage Basket"},"Wetaskiwin",3,"Forage Basket",320.18,231.74,257.48,454.16,302.77999999999997,259.43]
[{"$f":"Table_BPU[[#This Row],[Risk Area]]&\" \"&Table_BPU[[#This Row],[BPU Description]]","v":"Wheatland Forage Basket"},"Wheatland",3,"Forage Basket",306.38,339.12,63.75,312.92,83.29,80.510000000000005]
[{"$f":"Table_BPU[[#This Row],[Risk Area]]&\" \"&Table_BPU[[#This Row],[BPU Description]]","v":"Willow Creek Forage Basket"},"Willow Creek",3,"Forage Basket",257.62,357.58,67.34,241.39,87.86,113.67]
[{"$f":"Table_BPU[[#This Row],[Risk Area]]&\" \"&Table_BPU[[#This Row],[BPU Description]]","v":"Wood Buffalo Forage Basket"},"Wood Buffalo",3,"Forage Basket",221.66,169.32,179.59,383.49,273.52,141.49]
[{"$f":"Table_BPU[[#This Row],[Risk Area]]&\" \"&Table_BPU[[#This Row],[BPU Description]]","v":"Woodlands Forage Basket"},"Woodlands",3,"Forage Basket",233.41,243.6,161.43,345.8,241.59,290.58999999999997]
[{"$f":"Table_BPU[[#This Row],[Risk Area]]&\" \"&Table_BPU[[#This Row],[BPU Description]]","v":"Yellowhead Forage Basket"},"Yellowhead",3,"Forage Basket",218.81,212.78,165.51,426.77,266.14,260.56]
[{"$f":"Table_BPU[[#This Row],[Risk Area]]&\" \"&Table_BPU[[#This Row],[BPU Description]]","v":"Cardston Forage Basket - Irrigated"},"Cardston",68,"Forage Basket - Irrigated",839,343.85,657.92,845.2,1104.6099999999999,876.7]
[{"$f":"Table_BPU[[#This Row],[Risk Area]]&\" \"&Table_BPU[[#This Row],[BPU Description]]","v":"Cypress Forage Basket - Irrigated"},"Cypress",68,"Forage Basket - Irrigated",675.48,720.49,782.02,780.03,847.52,689.38]
[{"$f":"Table_BPU[[#This Row],[Risk Area]]&\" \"&Table_BPU[[#This Row],[BPU Description]]","v":"Forty Mile Forage Basket - Irrigated"},"Forty Mile",68,"Forage Basket - Irrigated",743.73,608.88,742.67,718.83,1203.8699999999999,685.01]
[{"$f":"Table_BPU[[#This Row],[Risk Area]]&\" \"&Table_BPU[[#This Row],[BPU Description]]","v":"Lethbridge Forage Basket - Irrigated"},"Lethbridge",68,"Forage Basket - Irrigated",605.07000000000005,581.52,621.25,553.25,981.74,691.48]
[{"$f":"Table_BPU[[#This Row],[Risk Area]]&\" \"&Table_BPU[[#This Row],[BPU Description]]","v":"Newell Forage Basket - Irrigated"},"Newell",68,"Forage Basket - Irrigated",632.62,705.04,650.59,863.41,814.09,571.24]
[{"$f":"Table_BPU[[#This Row],[Risk Area]]&\" \"&Table_BPU[[#This Row],[BPU Description]]","v":"Taber Forage Basket - Irrigated"},"Taber",68,"Forage Basket - Irrigated",620.82000000000005,640.78,728.19,572.41999999999996,860.53,939.33]
[{"$f":"Table_BPU[[#This Row],[Risk Area]]&\" \"&Table_BPU[[#This Row],[BPU Description]]","v":"Vulcan Forage Basket - Irrigated"},"Vulcan",68,"Forage Basket - Irrigated",682.03,549.16,664.62,571.35,756.08,644.34]
[{"$f":"Table_BPU[[#This Row],[Risk Area]]&\" \"&Table_BPU[[#This Row],[BPU Description]]","v":"Warner Forage Basket - Irrigated"},"Warner",68,"Forage Basket - Irrigated",553.24,522.38,659.43,801.16,1093.26,665.23]
[{"$f":"Table_BPU[[#This Row],[Risk Area]]&\" \"&Table_BPU[[#This Row],[BPU Description]]","v":"Wheatland Forage Basket - Irrigated"},"Wheatland",68,"Forage Basket - Irrigated",641.33000000000004,599.86,551.59,767.71,774.26,578.64]
[{"$f":"Table_BPU[[#This Row],[Risk Area]]&\" \"&Table_BPU[[#This Row],[BPU Description]]","v":"Willow Creek Forage Basket - Irrigated"},"Willow Creek",68,"Forage Basket - Irrigated",657.7,632.91,496.44,754.56,885.77,787.05]
[{"$f":"Table_BPU[[#This Row],[Risk Area]]&\" \"&Table_BPU[[#This Row],[BPU Description]]","v":"Acadia Forage Seed"},"Acadia",69,"Forage Seed",244.47,246.64,185.88,512.99,266.64999999999998,230.23]
[{"$f":"Table_BPU[[#This Row],[Risk Area]]&\" \"&Table_BPU[[#This Row],[BPU Description]]","v":"Athabasca Forage Seed"},"Athabasca",69,"Forage Seed",244.47,246.64,185.88,512.99,266.64999999999998,230.23]
[{"$f":"Table_BPU[[#This Row],[Risk Area]]&\" \"&Table_BPU[[#This Row],[BPU Description]]","v":"Barrhead Forage Seed"},"Barrhead",69,"Forage Seed",244.47,246.64,185.88,512.99,266.64999999999998,230.23]
[{"$f":"Table_BPU[[#This Row],[Risk Area]]&\" \"&Table_BPU[[#This Row],[BPU Description]]","v":"Beaver Forage Seed"},"Beaver",69,"Forage Seed",244.47,246.64,185.88,512.99,266.64999999999998,230.23]
[{"$f":"Table_BPU[[#This Row],[Risk Area]]&\" \"&Table_BPU[[#This Row],[BPU Description]]","v":"Big Lakes Forage Seed"},"Big Lakes",69,"Forage Seed",244.47,246.64,185.88,512.99,266.64999999999998,230.23]
[{"$f":"Table_BPU[[#This Row],[Risk Area]]&\" \"&Table_BPU[[#This Row],[BPU Description]]","v":"Bighorn Forage Seed"},"Bighorn",69,"Forage Seed",244.47,246.64,185.88,512.99,266.64999999999998,230.23]
[{"$f":"Table_BPU[[#This Row],[Risk Area]]&\" \"&Table_BPU[[#This Row],[BPU Description]]","v":"Birch Hills Forage Seed"},"Birch Hills",69,"Forage Seed",244.47,246.64,185.88,512.99,266.64999999999998,230.23]
[{"$f":"Table_BPU[[#This Row],[Risk Area]]&\" \"&Table_BPU[[#This Row],[BPU Description]]","v":"Bonnyville Forage Seed"},"Bonnyville",69,"Forage Seed",244.47,246.64,185.88,512.99,266.64999999999998,230.23]
[{"$f":"Table_BPU[[#This Row],[Risk Area]]&\" \"&Table_BPU[[#This Row],[BPU Description]]","v":"Brazeau Forage Seed"},"Brazeau",69,"Forage Seed",244.47,246.64,185.88,512.99,266.64999999999998,230.23]
[{"$f":"Table_BPU[[#This Row],[Risk Area]]&\" \"&Table_BPU[[#This Row],[BPU Description]]","v":"Camrose Forage Seed"},"Camrose",69,"Forage Seed",244.47,246.64,185.88,512.99,266.64999999999998,230.23]
[{"$f":"Table_BPU[[#This Row],[Risk Area]]&\" \"&Table_BPU[[#This Row],[BPU Description]]","v":"Cardston Forage Seed"},"Cardston",69,"Forage Seed",244.47,246.64,185.88,512.99,266.64999999999998,230.23]
[{"$f":"Table_BPU[[#This Row],[Risk Area]]&\" \"&Table_BPU[[#This Row],[BPU Description]]","v":"Clear Hills Forage Seed"},"Clear Hills",69,"Forage Seed",244.47,246.64,185.88,512.99,266.64999999999998,230.23]
[{"$f":"Table_BPU[[#This Row],[Risk Area]]&\" \"&Table_BPU[[#This Row],[BPU Description]]","v":"Clearwater Forage Seed"},"Clearwater",69,"Forage Seed",244.47,246.64,185.88,512.99,266.64999999999998,230.23]
[{"$f":"Table_BPU[[#This Row],[Risk Area]]&\" \"&Table_BPU[[#This Row],[BPU Description]]","v":"Cypress Forage Seed"},"Cypress",69,"Forage Seed",244.47,246.64,185.88,512.99,266.64999999999998,230.23]
[{"$f":"Table_BPU[[#This Row],[Risk Area]]&\" \"&Table_BPU[[#This Row],[BPU Description]]","v":"Edmonton Forage Seed"},"Edmonton",69,"Forage Seed",244.47,246.64,185.88,512.99,266.64999999999998,230.23]
[{"$f":"Table_BPU[[#This Row],[Risk Area]]&\" \"&Table_BPU[[#This Row],[BPU Description]]","v":"Fairview Forage Seed"},"Fairview",69,"Forage Seed",244.47,246.64,185.88,512.99,266.64999999999998,230.23]
[{"$f":"Table_BPU[[#This Row],[Risk Area]]&\" \"&Table_BPU[[#This Row],[BPU Description]]","v":"Flagstaff Forage Seed"},"Flagstaff",69,"Forage Seed",244.47,246.64,185.88,512.99,266.64999999999998,230.23]
[{"$f":"Table_BPU[[#This Row],[Risk Area]]&\" \"&Table_BPU[[#This Row],[BPU Description]]","v":"Foothills Forage Seed"},"Foothills",69,"Forage Seed",244.47,246.64,185.88,512.99,266.64999999999998,230.23]
[{"$f":"Table_BPU[[#This Row],[Risk Area]]&\" \"&Table_BPU[[#This Row],[BPU Description]]","v":"Forty Mile Forage Seed"},"Forty Mile",69,"Forage Seed",244.47,246.64,185.88,512.99,266.64999999999998,230.23]
[{"$f":"Table_BPU[[#This Row],[Risk Area]]&\" \"&Table_BPU[[#This Row],[BPU Description]]","v":"Grande Prairie Forage Seed"},"Grande Prairie",69,"Forage Seed",244.47,246.64,185.88,512.99,266.64999999999998,230.23]
[{"$f":"Table_BPU[[#This Row],[Risk Area]]&\" \"&Table_BPU[[#This Row],[BPU Description]]","v":"Greenview Forage Seed"},"Greenview",69,"Forage Seed",244.47,246.64,185.88,512.99,266.64999999999998,230.23]
[{"$f":"Table_BPU[[#This Row],[Risk Area]]&\" \"&Table_BPU[[#This Row],[BPU Description]]","v":"Kneehill Forage Seed"},"Kneehill",69,"Forage Seed",244.47,246.64,185.88,512.99,266.64999999999998,230.23]
[{"$f":"Table_BPU[[#This Row],[Risk Area]]&\" \"&Table_BPU[[#This Row],[BPU Description]]","v":"Lac La Biche Forage Seed"},"Lac La Biche",69,"Forage Seed",244.47,246.64,185.88,512.99,266.64999999999998,230.23]
[{"$f":"Table_BPU[[#This Row],[Risk Area]]&\" \"&Table_BPU[[#This Row],[BPU Description]]","v":"Lac Ste. Anne County Forage Seed"},"Lac Ste. Anne County",69,"Forage Seed",244.47,246.64,185.88,512.99,266.64999999999998,230.23]
[{"$f":"Table_BPU[[#This Row],[Risk Area]]&\" \"&Table_BPU[[#This Row],[BPU Description]]","v":"Lacombe Forage Seed"},"Lacombe",69,"Forage Seed",244.47,246.64,185.88,512.99,266.64999999999998,230.23]
[{"$f":"Table_BPU[[#This Row],[Risk Area]]&\" \"&Table_BPU[[#This Row],[BPU Description]]","v":"Lamont Forage Seed"},"Lamont",69,"Forage Seed",244.47,246.64,185.88,512.99,266.64999999999998,230.23]
[{"$f":"Table_BPU[[#This Row],[Risk Area]]&\" \"&Table_BPU[[#This Row],[BPU Description]]","v":"Leduc Forage Seed"},"Leduc",69,"Forage Seed",244.47,246.64,185.88,512.99,266.64999999999998,230.23]
[{"$f":"Table_BPU[[#This Row],[Risk Area]]&\" \"&Table_BPU[[#This Row],[BPU Description]]","v":"Lesser Slave River Forage Seed"},"Lesser Slave River",69,"Forage Seed",244.47,246.64,185.88,512.99,266.64999999999998,230.23]
[{"$f":"Table_BPU[[#This Row],[Risk Area]]&\" \"&Table_BPU[[#This Row],[BPU Description]]","v":"Lethbridge Forage Seed"},"Lethbridge",69,"Forage Seed",244.47,246.64,185.88,512.99,266.64999999999998,230.23]
[{"$f":"Table_BPU[[#This Row],[Risk Area]]&\" \"&Table_BPU[[#This Row],[BPU Description]]","v":"Mackenzie Forage Seed"},"Mackenzie",69,"Forage Seed",244.47,246.64,185.88,512.99,266.64999999999998,230.23]
[{"$f":"Table_BPU[[#This Row],[Risk Area]]&\" \"&Table_BPU[[#This Row],[BPU Description]]","v":"Minburn Forage Seed"},"Minburn",69,"Forage Seed",244.47,246.64,185.88,512.99,266.64999999999998,230.23]
[{"$f":"Table_BPU[[#This Row],[Risk Area]]&\" \"&Table_BPU[[#This Row],[BPU Description]]","v":"Mountain View Forage Seed"},"Mountain View",69,"Forage Seed",244.47,246.64,185.88,512.99,266.64999999999998,230.23]
[{"$f":"Table_BPU[[#This Row],[Risk Area]]&\" \"&Table_BPU[[#This Row],[BPU Description]]","v":"Newell Forage Seed"},"Newell",69,"Forage Seed",244.47,246.64,185.88,512.99,266.64999999999998,230.23]
[{"$f":"Table_BPU[[#This Row],[Risk Area]]&\" \"&Table_BPU[[#This Row],[BPU Description]]","v":"Northern Lights Forage Seed"},"Northern Lights",69,"Forage Seed",244.47,246.64,185.88,512.99,266.64999999999998,230.23]
[{"$f":"Table_BPU[[#This Row],[Risk Area]]&\" \"&Table_BPU[[#This Row],[BPU Description]]","v":"Northern Sunrise Forage Seed"},"Northern Sunrise",69,"Forage Seed",244.47,246.64,185.88,512.99,266.64999999999998,230.23]
[{"$f":"Table_BPU[[#This Row],[Risk Area]]&\" \"&Table_BPU[[#This Row],[BPU Description]]","v":"Opportunity Forage Seed"},"Opportunity",69,"Forage Seed",244.47,246.64,185.88,512.99,266.64999999999998,230.23]
[{"$f":"Table_BPU[[#This Row],[Risk Area]]&\" \"&Table_BPU[[#This Row],[BPU Description]]","v":"Paintearth Forage Seed"},"Paintearth",69,"Forage Seed",244.47,246.64,185.88,512.99,266.64999999999998,230.23]
[{"$f":"Table_BPU[[#This Row],[Risk Area]]&\" \"&Table_BPU[[#This Row],[BPU Description]]","v":"Parkland County Forage Seed"},"Parkland County",69,"Forage Seed",244.47,246.64,185.88,512.99,266.64999999999998,230.23]
[{"$f":"Table_BPU[[#This Row],[Risk Area]]&\" \"&Table_BPU[[#This Row],[BPU Description]]","v":"Peace Forage Seed"},"Peace",69,"Forage Seed",244.47,246.64,185.88,512.99,266.64999999999998,230.23]
[{"$f":"Table_BPU[[#This Row],[Risk Area]]&\" \"&Table_BPU[[#This Row],[BPU Description]]","v":"Pincher Creek Forage Seed"},"Pincher Creek",69,"Forage Seed",244.47,246.64,185.88,512.99,266.64999999999998,230.23]
[{"$f":"Table_BPU[[#This Row],[Risk Area]]&\" \"&Table_BPU[[#This Row],[BPU Description]]","v":"Ponoka Forage Seed"},"Ponoka",69,"Forage Seed",244.47,246.64,185.88,512.99,266.64999999999998,230.23]
[{"$f":"Table_BPU[[#This Row],[Risk Area]]&\" \"&Table_BPU[[#This Row],[BPU Description]]","v":"Provost Forage Seed"},"Provost",69,"Forage Seed",244.47,246.64,185.88,512.99,266.64999999999998,230.23]
[{"$f":"Table_BPU[[#This Row],[Risk Area]]&\" \"&Table_BPU[[#This Row],[BPU Description]]","v":"Ranchland Forage Seed"},"Ranchland",69,"Forage Seed",244.47,246.64,185.88,512.99,266.64999999999998,230.23]
[{"$f":"Table_BPU[[#This Row],[Risk Area]]&\" \"&Table_BPU[[#This Row],[BPU Description]]","v":"Red Deer Forage Seed"},"Red Deer",69,"Forage Seed",244.47,246.64,185.88,512.99,266.64999999999998,230.23]
[{"$f":"Table_BPU[[#This Row],[Risk Area]]&\" \"&Table_BPU[[#This Row],[BPU Description]]","v":"Rocky View Forage Seed"},"Rocky View",69,"Forage Seed",244.47,246.64,185.88,512.99,266.64999999999998,230.23]
[{"$f":"Table_BPU[[#This Row],[Risk Area]]&\" \"&Table_BPU[[#This Row],[BPU Description]]","v":"Saddle Hills Forage Seed"},"Saddle Hills",69,"Forage Seed",244.47,246.64,185.88,512.99,266.64999999999998,230.23]
[{"$f":"Table_BPU[[#This Row],[Risk Area]]&\" \"&Table_BPU[[#This Row],[BPU Description]]","v":"Smoky Lake Forage Seed"},"Smoky Lake",69,"Forage Seed",244.47,246.64,185.88,512.99,266.64999999999998,230.23]
[{"$f":"Table_BPU[[#This Row],[Risk Area]]&\" \"&Table_BPU[[#This Row],[BPU Description]]","v":"Smoky River Forage Seed"},"Smoky River",69,"Forage Seed",244.47,246.64,185.88,512.99,266.64999999999998,230.23]
[{"$f":"Table_BPU[[#This Row],[Risk Area]]&\" \"&Table_BPU[[#This Row],[BPU Description]]","v":"Special Area 02 Forage Seed"},"Special Area 02",69,"Forage Seed",244.47,246.64,185.88,512.99,266.64999999999998,230.23]
[{"$f":"Table_BPU[[#This Row],[Risk Area]]&\" \"&Table_BPU[[#This Row],[BPU Description]]","v":"Special Area 03 Forage Seed"},"Special Area 03",69,"Forage Seed",244.47,246.64,185.88,512.99,266.64999999999998,230.23]
[{"$f":"Table_BPU[[#This Row],[Risk Area]]&\" \"&Table_BPU[[#This Row],[BPU Description]]","v":"Special Area 04 Forage Seed"},"Special Area 04",69,"Forage Seed",244.47,246.64,185.88,512.99,266.64999999999998,230.23]
[{"$f":"Table_BPU[[#This Row],[Risk Area]]&\" \"&Table_BPU[[#This Row],[BPU Description]]","v":"Spirit River Forage Seed"},"Spirit River",69,"Forage Seed",244.47,246.64,185.88,512.99,266.64999999999998,230.23]
[{"$f":"Table_BPU[[#This Row],[Risk Area]]&\" \"&Table_BPU[[#This Row],[BPU Description]]","v":"St. Paul Forage Seed"},"St. Paul",69,"Forage Seed",244.47,246.64,185.88,512.99,266.64999999999998,230.23]
[{"$f":"Table_BPU[[#This Row],[Risk Area]]&\" \"&Table_BPU[[#This Row],[BPU Description]]","v":"Starland Forage Seed"},"Starland",69,"Forage Seed",244.47,246.64,185.88,512.99,266.64999999999998,230.23]
[{"$f":"Table_BPU[[#This Row],[Risk Area]]&\" \"&Table_BPU[[#This Row],[BPU Description]]","v":"Stettler Forage Seed"},"Stettler",69,"Forage Seed",244.47,246.64,185.88,512.99,266.64999999999998,230.23]
[{"$f":"Table_BPU[[#This Row],[Risk Area]]&\" \"&Table_BPU[[#This Row],[BPU Description]]","v":"Strathcona County Forage Seed"},"Strathcona County",69,"Forage Seed",244.47,246.64,185.88,512.99,266.64999999999998,230.23]
[{"$f":"Table_BPU[[#This Row],[Risk Area]]&\" \"&Table_BPU[[#This Row],[BPU Description]]","v":"Sturgeon Forage Seed"},"Sturgeon",69,"Forage Seed",244.47,246.64,185.88,512.99,266.64999999999998,230.23]
[{"$f":"Table_BPU[[#This Row],[Risk Area]]&\" \"&Table_BPU[[#This Row],[BPU Description]]","v":"Taber Forage Seed"},"Taber",69,"Forage Seed",244.47,246.64,185.88,512.99,266.64999999999998,230.23]
[{"$f":"Table_BPU[[#This Row],[Risk Area]]&\" \"&Table_BPU[[#This Row],[BPU Description]]","v":"Thorhild Forage Seed"},"Thorhild",69,"Forage Seed",244.47,246.64,185.88,512.99,266.64999999999998,230.23]
[{"$f":"Table_BPU[[#This Row],[Risk Area]]&\" \"&Table_BPU[[#This Row],[BPU Description]]","v":"Two Hills Forage Seed"},"Two Hills",69,"Forage Seed",244.47,246.64,185.88,512.99,266.64999999999998,230.23]
[{"$f":"Table_BPU[[#This Row],[Risk Area]]&\" \"&Table_BPU[[#This Row],[BPU Description]]","v":"Vermilion River Forage Seed"},"Vermilion River",69,"Forage Seed",244.47,246.64,185.88,512.99,266.64999999999998,230.23]
[{"$f":"Table_BPU[[#This Row],[Risk Area]]&\" \"&Table_BPU[[#This Row],[BPU Description]]","v":"Vulcan Forage Seed"},"Vulcan",69,"Forage Seed",244.47,246.64,185.88,512.99,266.64999999999998,230.23]
[{"$f":"Table_BPU[[#This Row],[Risk Area]]&\" \"&Table_BPU[[#This Row],[BPU Description]]","v":"Wainwright Forage Seed"},"Wainwright",69,"Forage Seed",244.47,246.64,185.88,512.99,266.64999999999998,230.23]
[{"$f":"Table_BPU[[#This Row],[Risk Area]]&\" \"&Table_BPU[[#This Row],[BPU Description]]","v":"Warner Forage Seed"},"Warner",69,"Forage Seed",244.47,246.64,185.88,512.99,266.64999999999998,230.23]
[{"$f":"Table_BPU[[#This Row],[Risk Area]]&\" \"&Table_BPU[[#This Row],[BPU Description]]","v":"Westlock Forage Seed"},"Westlock",69,"Forage Seed",244.47,246.64,185.88,512.99,266.64999999999998,230.23]
[{"$f":"Table_BPU[[#This Row],[Risk Area]]&\" \"&Table_BPU[[#This Row],[BPU Description]]","v":"Wetaskiwin Forage Seed"},"Wetaskiwin",69,"Forage Seed",244.47,246.64,185.88,512.99,266.64999999999998,230.23]
[{"$f":"Table_BPU[[#This Row],[Risk Area]]&\" \"&Table_BPU[[#This Row],[BPU Description]]","v":"Wheatland Forage Seed"},"Wheatland",69,"Forage Seed",244.47,246.64,185.88,512.99,266.64999999999998,230.23]
[{"$f":"Table_BPU[[#This Row],[Risk Area]]&\" \"&Table_BPU[[#This Row],[BPU Description]]","v":"Willow Creek Forage Seed"},"Willow Creek",69,"Forage Seed",244.47,246.64,185.88,512.99,266.64999999999998,230.23]
[{"$f":"Table_BPU[[#This Row],[Risk Area]]&\" \"&Table_BPU[[#This Row],[BPU Description]]","v":"Wood Buffalo Forage Seed"},"Wood Buffalo",69,"Forage Seed",244.47,246.64,185.88,512.99,266.64999999999998,230.23]
[{"$f":"Table_BPU[[#This Row],[Risk Area]]&\" \"&Table_BPU[[#This Row],[BPU Description]]","v":"Woodlands Forage Seed"},"Woodlands",69,"Forage Seed",244.47,246.64,185.88,512.99,266.64999999999998,230.23]
[{"$f":"Table_BPU[[#This Row],[Risk Area]]&\" \"&Table_BPU[[#This Row],[BPU Description]]","v":"Yellowhead Forage Seed"},"Yellowhead",69,"Forage Seed",244.47,246.64,185.88,512.99,266.64999999999998,230.23]
[{"$f":"Table_BPU[[#This Row],[Risk Area]]&\" \"&Table_BPU[[#This Row],[BPU Description]]","v":"Cardston Forage Seed - Irrigated"},"Cardston",79,"Forage Seed - Irrigated",1592.6,507.68,555.39,2528.7800000000002,1071.58,398.31]
[{"$f":"Table_BPU[[#This Row],[Risk Area]]&\" \"&Table_BPU[[#This Row],[BPU Description]]","v":"Cypress Forage Seed - Irrigated"},"Cypress",79,"Forage Seed - Irrigated",1592.6,507.68,555.39,2528.7800000000002,1071.58,398.31]
[{"$f":"Table_BPU[[#This Row],[Risk Area]]&\" \"&Table_BPU[[#This Row],[BPU Description]]","v":"Forty Mile Forage Seed - Irrigated"},"Forty Mile",79,"Forage Seed - Irrigated",1592.6,507.68,555.39,2528.7800000000002,1071.58,398.31]
[{"$f":"Table_BPU[[#This Row],[Risk Area]]&\" \"&Table_BPU[[#This Row],[BPU Description]]","v":"Lethbridge Forage Seed - Irrigated"},"Lethbridge",79,"Forage Seed - Irrigated",1592.6,507.68,555.39,2528.7800000000002,1071.58,398.31]
[{"$f":"Table_BPU[[#This Row],[Risk Area]]&\" \"&Table_BPU[[#This Row],[BPU Description]]","v":"Newell Forage Seed - Irrigated"},"Newell",79,"Forage Seed - Irrigated",1592.6,507.68,555.39,2528.7800000000002,1071.58,398.31]
[{"$f":"Table_BPU[[#This Row],[Risk Area]]&\" \"&Table_BPU[[#This Row],[BPU Description]]","v":"Taber Forage Seed - Irrigated"},"Taber",79,"Forage Seed - Irrigated",1592.6,507.68,555.39,2528.7800000000002,1071.58,398.31]
[{"$f":"Table_BPU[[#This Row],[Risk Area]]&\" \"&Table_BPU[[#This Row],[BPU Description]]","v":"Vulcan Forage Seed - Irrigated"},"Vulcan",79,"Forage Seed - Irrigated",1592.6,507.68,555.39,2528.7800000000002,1071.58,398.31]
[{"$f":"Table_BPU[[#This Row],[Risk Area]]&\" \"&Table_BPU[[#This Row],[BPU Description]]","v":"Warner Forage Seed - Irrigated"},"Warner",79,"Forage Seed - Irrigated",1592.6,507.68,555.39,2528.7800000000002,1071.58,398.31]
[{"$f":"Table_BPU[[#This Row],[Risk Area]]&\" \"&Table_BPU[[#This Row],[BPU Description]]","v":"Wheatland Forage Seed - Irrigated"},"Wheatland",79,"Forage Seed - Irrigated",1592.6,507.68,555.39,2528.7800000000002,1071.58,398.31]
[{"$f":"Table_BPU[[#This Row],[Risk Area]]&\" \"&Table_BPU[[#This Row],[BPU Description]]","v":"Willow Creek Forage Seed - Irrigated"},"Willow Creek",79,"Forage Seed - Irrigated",1592.6,507.68,555.39,2528.7800000000002,1071.58,398.31]
[{"$f":"Table_BPU[[#This Row],[Risk Area]]&\" \"&Table_BPU[[#This Row],[BPU Description]]","v":"Acadia Green peas (processing)"},"Acadia",55,"Green peas (processing)",369.99,734.24,702.47,1236.95,1506.68,1798.98]
[{"$f":"Table_BPU[[#This Row],[Risk Area]]&\" \"&Table_BPU[[#This Row],[BPU Description]]","v":"Athabasca Green peas (processing)"},"Athabasca",55,"Green peas (processing)",369.99,734.24,702.47,1236.95,1506.68,1798.98]
[{"$f":"Table_BPU[[#This Row],[Risk Area]]&\" \"&Table_BPU[[#This Row],[BPU Description]]","v":"Barrhead Green peas (processing)"},"Barrhead",55,"Green peas (processing)",369.99,734.24,702.47,1236.95,1506.68,1798.98]
[{"$f":"Table_BPU[[#This Row],[Risk Area]]&\" \"&Table_BPU[[#This Row],[BPU Description]]","v":"Beaver Green peas (processing)"},"Beaver",55,"Green peas (processing)",369.99,734.24,702.47,1236.95,1506.68,1798.98]
[{"$f":"Table_BPU[[#This Row],[Risk Area]]&\" \"&Table_BPU[[#This Row],[BPU Description]]","v":"Big Lakes Green peas (processing)"},"Big Lakes",55,"Green peas (processing)",369.99,734.24,702.47,1236.95,1506.68,1798.98]
[{"$f":"Table_BPU[[#This Row],[Risk Area]]&\" \"&Table_BPU[[#This Row],[BPU Description]]","v":"Bighorn Green peas (processing)"},"Bighorn",55,"Green peas (processing)",369.99,734.24,702.47,1236.95,1506.68,1798.98]
[{"$f":"Table_BPU[[#This Row],[Risk Area]]&\" \"&Table_BPU[[#This Row],[BPU Description]]","v":"Birch Hills Green peas (processing)"},"Birch Hills",55,"Green peas (processing)",369.99,734.24,702.47,1236.95,1506.68,1798.98]
[{"$f":"Table_BPU[[#This Row],[Risk Area]]&\" \"&Table_BPU[[#This Row],[BPU Description]]","v":"Bonnyville Green peas (processing)"},"Bonnyville",55,"Green peas (processing)",369.99,734.24,702.47,1236.95,1506.68,1798.98]
[{"$f":"Table_BPU[[#This Row],[Risk Area]]&\" \"&Table_BPU[[#This Row],[BPU Description]]","v":"Brazeau Green peas (processing)"},"Brazeau",55,"Green peas (processing)",369.99,734.24,702.47,1236.95,1506.68,1798.98]
[{"$f":"Table_BPU[[#This Row],[Risk Area]]&\" \"&Table_BPU[[#This Row],[BPU Description]]","v":"Camrose Green peas (processing)"},"Camrose",55,"Green peas (processing)",369.99,734.24,702.47,1236.95,1506.68,1798.98]
[{"$f":"Table_BPU[[#This Row],[Risk Area]]&\" \"&Table_BPU[[#This Row],[BPU Description]]","v":"Cardston Green peas (processing)"},"Cardston",55,"Green peas (processing)",369.99,734.24,702.47,1236.95,1506.68,1798.98]
[{"$f":"Table_BPU[[#This Row],[Risk Area]]&\" \"&Table_BPU[[#This Row],[BPU Description]]","v":"Clear Hills Green peas (processing)"},"Clear Hills",55,"Green peas (processing)",369.99,734.24,702.47,1236.95,1506.68,1798.98]
[{"$f":"Table_BPU[[#This Row],[Risk Area]]&\" \"&Table_BPU[[#This Row],[BPU Description]]","v":"Clearwater Green peas (processing)"},"Clearwater",55,"Green peas (processing)",369.99,734.24,702.47,1236.95,1506.68,1798.98]
[{"$f":"Table_BPU[[#This Row],[Risk Area]]&\" \"&Table_BPU[[#This Row],[BPU Description]]","v":"Cypress Green peas (processing)"},"Cypress",55,"Green peas (processing)",369.99,734.24,702.47,1236.95,1506.68,1798.98]
[{"$f":"Table_BPU[[#This Row],[Risk Area]]&\" \"&Table_BPU[[#This Row],[BPU Description]]","v":"Edmonton Green peas (processing)"},"Edmonton",55,"Green peas (processing)",369.99,734.24,702.47,1236.95,1506.68,1798.98]
[{"$f":"Table_BPU[[#This Row],[Risk Area]]&\" \"&Table_BPU[[#This Row],[BPU Description]]","v":"Fairview Green peas (processing)"},"Fairview",55,"Green peas (processing)",369.99,734.24,702.47,1236.95,1506.68,1798.98]
[{"$f":"Table_BPU[[#This Row],[Risk Area]]&\" \"&Table_BPU[[#This Row],[BPU Description]]","v":"Flagstaff Green peas (processing)"},"Flagstaff",55,"Green peas (processing)",369.99,734.24,702.47,1236.95,1506.68,1798.98]
[{"$f":"Table_BPU[[#This Row],[Risk Area]]&\" \"&Table_BPU[[#This Row],[BPU Description]]","v":"Foothills Green peas (processing)"},"Foothills",55,"Green peas (processing)",369.99,734.24,702.47,1236.95,1506.68,1798.98]
[{"$f":"Table_BPU[[#This Row],[Risk Area]]&\" \"&Table_BPU[[#This Row],[BPU Description]]","v":"Forty Mile Green peas (processing)"},"Forty Mile",55,"Green peas (processing)",369.99,734.24,702.47,1236.95,1506.68,1798.98]
[{"$f":"Table_BPU[[#This Row],[Risk Area]]&\" \"&Table_BPU[[#This Row],[BPU Description]]","v":"Grande Prairie Green peas (processing)"},"Grande Prairie",55,"Green peas (processing)",369.99,734.24,702.47,1236.95,1506.68,1798.98]
[{"$f":"Table_BPU[[#This Row],[Risk Area]]&\" \"&Table_BPU[[#This Row],[BPU Description]]","v":"Greenview Green peas (processing)"},"Greenview",55,"Green peas (processing)",369.99,734.24,702.47,1236.95,1506.68,1798.98]
[{"$f":"Table_BPU[[#This Row],[Risk Area]]&\" \"&Table_BPU[[#This Row],[BPU Description]]","v":"Kneehill Green peas (processing)"},"Kneehill",55,"Green peas (processing)",369.99,734.24,702.47,1236.95,1506.68,1798.98]
[{"$f":"Table_BPU[[#This Row],[Risk Area]]&\" \"&Table_BPU[[#This Row],[BPU Description]]","v":"Lac La Biche Green peas (processing)"},"Lac La Biche",55,"Green peas (processing)",369.99,734.24,702.47,1236.95,1506.68,1798.98]
[{"$f":"Table_BPU[[#This Row],[Risk Area]]&\" \"&Table_BPU[[#This Row],[BPU Description]]","v":"Lac Ste. Anne County Green peas (processing)"},"Lac Ste. Anne County",55,"Green peas (processing)",369.99,734.24,702.47,1236.95,1506.68,1798.98]
[{"$f":"Table_BPU[[#This Row],[Risk Area]]&\" \"&Table_BPU[[#This Row],[BPU Description]]","v":"Lacombe Green peas (processing)"},"Lacombe",55,"Green peas (processing)",369.99,734.24,702.47,1236.95,1506.68,1798.98]
[{"$f":"Table_BPU[[#This Row],[Risk Area]]&\" \"&Table_BPU[[#This Row],[BPU Description]]","v":"Lamont Green peas (processing)"},"Lamont",55,"Green peas (processing)",369.99,734.24,702.47,1236.95,1506.68,1798.98]
[{"$f":"Table_BPU[[#This Row],[Risk Area]]&\" \"&Table_BPU[[#This Row],[BPU Description]]","v":"Leduc Green peas (processing)"},"Leduc",55,"Green peas (processing)",369.99,734.24,702.47,1236.95,1506.68,1798.98]
[{"$f":"Table_BPU[[#This Row],[Risk Area]]&\" \"&Table_BPU[[#This Row],[BPU Description]]","v":"Lesser Slave River Green peas (processing)"},"Lesser Slave River",55,"Green peas (processing)",369.99,734.24,702.47,1236.95,1506.68,1798.98]
[{"$f":"Table_BPU[[#This Row],[Risk Area]]&\" \"&Table_BPU[[#This Row],[BPU Description]]","v":"Lethbridge Green peas (processing)"},"Lethbridge",55,"Green peas (processing)",369.99,734.24,702.47,1236.95,1506.68,1798.98]
[{"$f":"Table_BPU[[#This Row],[Risk Area]]&\" \"&Table_BPU[[#This Row],[BPU Description]]","v":"Mackenzie Green peas (processing)"},"Mackenzie",55,"Green peas (processing)",369.99,734.24,702.47,1236.95,1506.68,1798.98]
[{"$f":"Table_BPU[[#This Row],[Risk Area]]&\" \"&Table_BPU[[#This Row],[BPU Description]]","v":"Minburn Green peas (processing)"},"Minburn",55,"Green peas (processing)",369.99,734.24,702.47,1236.95,1506.68,1798.98]
[{"$f":"Table_BPU[[#This Row],[Risk Area]]&\" \"&Table_BPU[[#This Row],[BPU Description]]","v":"Mountain View Green peas (processing)"},"Mountain View",55,"Green peas (processing)",369.99,734.24,702.47,1236.95,1506.68,1798.98]
[{"$f":"Table_BPU[[#This Row],[Risk Area]]&\" \"&Table_BPU[[#This Row],[BPU Description]]","v":"Newell Green peas (processing)"},"Newell",55,"Green peas (processing)",369.99,734.24,702.47,1236.95,1506.68,1798.98]
[{"$f":"Table_BPU[[#This Row],[Risk Area]]&\" \"&Table_BPU[[#This Row],[BPU Description]]","v":"Northern Lights Green peas (processing)"},"Northern Lights",55,"Green peas (processing)",369.99,734.24,702.47,1236.95,1506.68,1798.98]
[{"$f":"Table_BPU[[#This Row],[Risk Area]]&\" \"&Table_BPU[[#This Row],[BPU Description]]","v":"Northern Sunrise Green peas (processing)"},"Northern Sunrise",55,"Green peas (processing)",369.99,734.24,702.47,1236.95,1506.68,1798.98]
[{"$f":"Table_BPU[[#This Row],[Risk Area]]&\" \"&Table_BPU[[#This Row],[BPU Description]]","v":"Opportunity Green peas (processing)"},"Opportunity",55,"Green peas (processing)",369.99,734.24,702.47,1236.95,1506.68,1798.98]
[{"$f":"Table_BPU[[#This Row],[Risk Area]]&\" \"&Table_BPU[[#This Row],[BPU Description]]","v":"Paintearth Green peas (processing)"},"Paintearth",55,"Green peas (processing)",369.99,734.24,702.47,1236.95,1506.68,1798.98]
[{"$f":"Table_BPU[[#This Row],[Risk Area]]&\" \"&Table_BPU[[#This Row],[BPU Description]]","v":"Parkland County Green peas (processing)"},"Parkland County",55,"Green peas (processing)",369.99,734.24,702.47,1236.95,1506.68,1798.98]
[{"$f":"Table_BPU[[#This Row],[Risk Area]]&\" \"&Table_BPU[[#This Row],[BPU Description]]","v":"Peace Green peas (processing)"},"Peace",55,"Green peas (processing)",369.99,734.24,702.47,1236.95,1506.68,1798.98]
[{"$f":"Table_BPU[[#This Row],[Risk Area]]&\" \"&Table_BPU[[#This Row],[BPU Description]]","v":"Pincher Creek Green peas (processing)"},"Pincher Creek",55,"Green peas (processing)",369.99,734.24,702.47,1236.95,1506.68,1798.98]
[{"$f":"Table_BPU[[#This Row],[Risk Area]]&\" \"&Table_BPU[[#This Row],[BPU Description]]","v":"Ponoka Green peas (processing)"},"Ponoka",55,"Green peas (processing)",369.99,734.24,702.47,1236.95,1506.68,1798.98]
[{"$f":"Table_BPU[[#This Row],[Risk Area]]&\" \"&Table_BPU[[#This Row],[BPU Description]]","v":"Provost Green peas (processing)"},"Provost",55,"Green peas (processing)",369.99,734.24,702.47,1236.95,1506.68,1798.98]
[{"$f":"Table_BPU[[#This Row],[Risk Area]]&\" \"&Table_BPU[[#This Row],[BPU Description]]","v":"Ranchland Green peas (processing)"},"Ranchland",55,"Green peas (processing)",369.99,734.24,702.47,1236.95,1506.68,1798.98]
[{"$f":"Table_BPU[[#This Row],[Risk Area]]&\" \"&Table_BPU[[#This Row],[BPU Description]]","v":"Red Deer Green peas (processing)"},"Red Deer",55,"Green peas (processing)",369.99,734.24,702.47,1236.95,1506.68,1798.98]
[{"$f":"Table_BPU[[#This Row],[Risk Area]]&\" \"&Table_BPU[[#This Row],[BPU Description]]","v":"Rocky View Green peas (processing)"},"Rocky View",55,"Green peas (processing)",369.99,734.24,702.47,1236.95,1506.68,1798.98]
[{"$f":"Table_BPU[[#This Row],[Risk Area]]&\" \"&Table_BPU[[#This Row],[BPU Description]]","v":"Saddle Hills Green peas (processing)"},"Saddle Hills",55,"Green peas (processing)",369.99,734.24,702.47,1236.95,1506.68,1798.98]
[{"$f":"Table_BPU[[#This Row],[Risk Area]]&\" \"&Table_BPU[[#This Row],[BPU Description]]","v":"Smoky Lake Green peas (processing)"},"Smoky Lake",55,"Green peas (processing)",369.99,734.24,702.47,1236.95,1506.68,1798.98]
[{"$f":"Table_BPU[[#This Row],[Risk Area]]&\" \"&Table_BPU[[#This Row],[BPU Description]]","v":"Smoky River Green peas (processing)"},"Smoky River",55,"Green peas (processing)",369.99,734.24,702.47,1236.95,1506.68,1798.98]
[{"$f":"Table_BPU[[#This Row],[Risk Area]]&\" \"&Table_BPU[[#This Row],[BPU Description]]","v":"Special Area 02 Green peas (processing)"},"Special Area 02",55,"Green peas (processing)",369.99,734.24,702.47,1236.95,1506.68,1798.98]
[{"$f":"Table_BPU[[#This Row],[Risk Area]]&\" \"&Table_BPU[[#This Row],[BPU Description]]","v":"Special Area 03 Green peas (processing)"},"Special Area 03",55,"Green peas (processing)",369.99,734.24,702.47,1236.95,1506.68,1798.98]
[{"$f":"Table_BPU[[#This Row],[Risk Area]]&\" \"&Table_BPU[[#This Row],[BPU Description]]","v":"Special Area 04 Green peas (processing)"},"Special Area 04",55,"Green peas (processing)",369.99,734.24,702.47,1236.95,1506.68,1798.98]
[{"$f":"Table_BPU[[#This Row],[Risk Area]]&\" \"&Table_BPU[[#This Row],[BPU Description]]","v":"Spirit River Green peas (processing)"},"Spirit River",55,"Green peas (processing)",369.99,734.24,702.47,1236.95,1506.68,1798.98]
[{"$f":"Table_BPU[[#This Row],[Risk Area]]&\" \"&Table_BPU[[#This Row],[BPU Description]]","v":"St. Paul Green peas (processing)"},"St. Paul",55,"Green peas (processing)",369.99,734.24,702.47,1236.95,1506.68,1798.98]
[{"$f":"Table_BPU[[#This Row],[Risk Area]]&\" \"&Table_BPU[[#This Row],[BPU Description]]","v":"Starland Green peas (processing)"},"Starland",55,"Green peas (processing)",369.99,734.24,702.47,1236.95,1506.68,1798.98]
[{"$f":"Table_BPU[[#This Row],[Risk Area]]&\" \"&Table_BPU[[#This Row],[BPU Description]]","v":"Stettler Green peas (processing)"},"Stettler",55,"Green peas (processing)",369.99,734.24,702.47,1236.95,1506.68,1798.98]
[{"$f":"Table_BPU[[#This Row],[Risk Area]]&\" \"&Table_BPU[[#This Row],[BPU Description]]","v":"Strathcona County Green peas (processing)"},"Strathcona County",55,"Green peas (processing)",369.99,734.24,702.47,1236.95,1506.68,1798.98]
[{"$f":"Table_BPU[[#This Row],[Risk Area]]&\" \"&Table_BPU[[#This Row],[BPU Description]]","v":"Sturgeon Green peas (processing)"},"Sturgeon",55,"Green peas (processing)",369.99,734.24,702.47,1236.95,1506.68,1798.98]
[{"$f":"Table_BPU[[#This Row],[Risk Area]]&\" \"&Table_BPU[[#This Row],[BPU Description]]","v":"Taber Green peas (processing)"},"Taber",55,"Green peas (processing)",369.99,734.24,702.47,1236.95,1506.68,1798.98]
[{"$f":"Table_BPU[[#This Row],[Risk Area]]&\" \"&Table_BPU[[#This Row],[BPU Description]]","v":"Thorhild Green peas (processing)"},"Thorhild",55,"Green peas (processing)",369.99,734.24,702.47,1236.95,1506.68,1798.98]
[{"$f":"Table_BPU[[#This Row],[Risk Area]]&\" \"&Table_BPU[[#This Row],[BPU Description]]","v":"Two Hills Green peas (processing)"},"Two Hills",55,"Green peas (processing)",369.99,734.24,702.47,1236.95,1506.68,1798.98]
[{"$f":"Table_BPU[[#This Row],[Risk Area]]&\" \"&Table_BPU[[#This Row],[BPU Description]]","v":"Vermilion River Green peas (processing)"},"Vermilion River",55,"Green peas (processing)",369.99,734.24,702.47,1236.95,1506.68,1798.98]
[{"$f":"Table_BPU[[#This Row],[Risk Area]]&\" \"&Table_BPU[[#This Row],[BPU Description]]","v":"Vulcan Green peas (processing)"},"Vulcan",55,"Green peas (processing)",369.99,734.24,702.47,1236.95,1506.68,1798.98]
[{"$f":"Table_BPU[[#This Row],[Risk Area]]&\" \"&Table_BPU[[#This Row],[BPU Description]]","v":"Wainwright Green peas (processing)"},"Wainwright",55,"Green peas (processing)",369.99,734.24,702.47,1236.95,1506.68,1798.98]
[{"$f":"Table_BPU[[#This Row],[Risk Area]]&\" \"&Table_BPU[[#This Row],[BPU Description]]","v":"Warner Green peas (processing)"},"Warner",55,"Green peas (processing)",369.99,734.24,702.47,1236.95,1506.68,1798.98]
[{"$f":"Table_BPU[[#This Row],[Risk Area]]&\" \"&Table_BPU[[#This Row],[BPU Description]]","v":"Westlock Green peas (processing)"},"Westlock",55,"Green peas (processing)",369.99,734.24,702.47,1236.95,1506.68,1798.98]
[{"$f":"Table_BPU[[#This Row],[Risk Area]]&\" \"&Table_BPU[[#This Row],[BPU Description]]","v":"Wetaskiwin Green peas (processing)"},"Wetaskiwin",55,"Green peas (processing)",369.99,734.24,702.47,1236.95,1506.68,1798.98]
[{"$f":"Table_BPU[[#This Row],[Risk Area]]&\" \"&Table_BPU[[#This Row],[BPU Description]]","v":"Wheatland Green peas (processing)"},"Wheatland",55,"Green peas (processing)",369.99,734.24,702.47,1236.95,1506.68,1798.98]
[{"$f":"Table_BPU[[#This Row],[Risk Area]]&\" \"&Table_BPU[[#This Row],[BPU Description]]","v":"Willow Creek Green peas (processing)"},"Willow Creek",55,"Green peas (processing)",369.99,734.24,702.47,1236.95,1506.68,1798.98]
[{"$f":"Table_BPU[[#This Row],[Risk Area]]&\" \"&Table_BPU[[#This Row],[BPU Description]]","v":"Wood Buffalo Green peas (processing)"},"Wood Buffalo",55,"Green peas (processing)",369.99,734.24,702.47,1236.95,1506.68,1798.98]
[{"$f":"Table_BPU[[#This Row],[Risk Area]]&\" \"&Table_BPU[[#This Row],[BPU Description]]","v":"Woodlands Green peas (processing)"},"Woodlands",55,"Green peas (processing)",369.99,734.24,702.47,1236.95,1506.68,1798.98]
[{"$f":"Table_BPU[[#This Row],[Risk Area]]&\" \"&Table_BPU[[#This Row],[BPU Description]]","v":"Yellowhead Green peas (processing)"},"Yellowhead",55,"Green peas (processing)",369.99,734.24,702.47,1236.95,1506.68,1798.98]
[{"$f":"Table_BPU[[#This Row],[Risk Area]]&\" \"&Table_BPU[[#This Row],[BPU Description]]","v":"Acadia Herb & Spice Basket (acres)"},"Acadia",676,"Herb & Spice Basket (acres)",212.42,232.5,207.78,451.37,306.04000000000002,282.02]
[{"$f":"Table_BPU[[#This Row],[Risk Area]]&\" \"&Table_BPU[[#This Row],[BPU Description]]","v":"Athabasca Herb & Spice Basket (acres)"},"Athabasca",676,"Herb & Spice Basket (acres)",212.42,232.5,207.78,451.37,306.04000000000002,282.02]
[{"$f":"Table_BPU[[#This Row],[Risk Area]]&\" \"&Table_BPU[[#This Row],[BPU Description]]","v":"Barrhead Herb & Spice Basket (acres)"},"Barrhead",676,"Herb & Spice Basket (acres)",212.42,232.5,207.78,451.37,306.04000000000002,282.02]
[{"$f":"Table_BPU[[#This Row],[Risk Area]]&\" \"&Table_BPU[[#This Row],[BPU Description]]","v":"Beaver Herb & Spice Basket (acres)"},"Beaver",676,"Herb & Spice Basket (acres)",212.42,232.5,207.78,451.37,306.04000000000002,282.02]
[{"$f":"Table_BPU[[#This Row],[Risk Area]]&\" \"&Table_BPU[[#This Row],[BPU Description]]","v":"Big Lakes Herb & Spice Basket (acres)"},"Big Lakes",676,"Herb & Spice Basket (acres)",212.42,232.5,207.78,451.37,306.04000000000002,282.02]
[{"$f":"Table_BPU[[#This Row],[Risk Area]]&\" \"&Table_BPU[[#This Row],[BPU Description]]","v":"Bighorn Herb & Spice Basket (acres)"},"Bighorn",676,"Herb & Spice Basket (acres)",212.42,232.5,207.78,451.37,306.04000000000002,282.02]
[{"$f":"Table_BPU[[#This Row],[Risk Area]]&\" \"&Table_BPU[[#This Row],[BPU Description]]","v":"Birch Hills Herb & Spice Basket (acres)"},"Birch Hills",676,"Herb & Spice Basket (acres)",212.42,232.5,207.78,451.37,306.04000000000002,282.02]
[{"$f":"Table_BPU[[#This Row],[Risk Area]]&\" \"&Table_BPU[[#This Row],[BPU Description]]","v":"Bonnyville Herb & Spice Basket (acres)"},"Bonnyville",676,"Herb & Spice Basket (acres)",212.42,232.5,207.78,451.37,306.04000000000002,282.02]
[{"$f":"Table_BPU[[#This Row],[Risk Area]]&\" \"&Table_BPU[[#This Row],[BPU Description]]","v":"Brazeau Herb & Spice Basket (acres)"},"Brazeau",676,"Herb & Spice Basket (acres)",212.42,232.5,207.78,451.37,306.04000000000002,282.02]
[{"$f":"Table_BPU[[#This Row],[Risk Area]]&\" \"&Table_BPU[[#This Row],[BPU Description]]","v":"Camrose Herb & Spice Basket (acres)"},"Camrose",676,"Herb & Spice Basket (acres)",212.42,232.5,207.78,451.37,306.04000000000002,282.02]
[{"$f":"Table_BPU[[#This Row],[Risk Area]]&\" \"&Table_BPU[[#This Row],[BPU Description]]","v":"Cardston Herb & Spice Basket (acres)"},"Cardston",676,"Herb & Spice Basket (acres)",212.42,232.5,207.78,451.37,306.04000000000002,282.02]
[{"$f":"Table_BPU[[#This Row],[Risk Area]]&\" \"&Table_BPU[[#This Row],[BPU Description]]","v":"Clear Hills Herb & Spice Basket (acres)"},"Clear Hills",676,"Herb & Spice Basket (acres)",212.42,232.5,207.78,451.37,306.04000000000002,282.02]
[{"$f":"Table_BPU[[#This Row],[Risk Area]]&\" \"&Table_BPU[[#This Row],[BPU Description]]","v":"Clearwater Herb & Spice Basket (acres)"},"Clearwater",676,"Herb & Spice Basket (acres)",212.42,232.5,207.78,451.37,306.04000000000002,282.02]
[{"$f":"Table_BPU[[#This Row],[Risk Area]]&\" \"&Table_BPU[[#This Row],[BPU Description]]","v":"Cypress Herb & Spice Basket (acres)"},"Cypress",676,"Herb & Spice Basket (acres)",212.42,232.5,207.78,451.37,306.04000000000002,282.02]
[{"$f":"Table_BPU[[#This Row],[Risk Area]]&\" \"&Table_BPU[[#This Row],[BPU Description]]","v":"Edmonton Herb & Spice Basket (acres)"},"Edmonton",676,"Herb & Spice Basket (acres)",212.42,232.5,207.78,451.37,306.04000000000002,282.02]
[{"$f":"Table_BPU[[#This Row],[Risk Area]]&\" \"&Table_BPU[[#This Row],[BPU Description]]","v":"Fairview Herb & Spice Basket (acres)"},"Fairview",676,"Herb & Spice Basket (acres)",212.42,232.5,207.78,451.37,306.04000000000002,282.02]
[{"$f":"Table_BPU[[#This Row],[Risk Area]]&\" \"&Table_BPU[[#This Row],[BPU Description]]","v":"Flagstaff Herb & Spice Basket (acres)"},"Flagstaff",676,"Herb & Spice Basket (acres)",212.42,232.5,207.78,451.37,306.04000000000002,282.02]
[{"$f":"Table_BPU[[#This Row],[Risk Area]]&\" \"&Table_BPU[[#This Row],[BPU Description]]","v":"Foothills Herb & Spice Basket (acres)"},"Foothills",676,"Herb & Spice Basket (acres)",212.42,232.5,207.78,451.37,306.04000000000002,282.02]
[{"$f":"Table_BPU[[#This Row],[Risk Area]]&\" \"&Table_BPU[[#This Row],[BPU Description]]","v":"Forty Mile Herb & Spice Basket (acres)"},"Forty Mile",676,"Herb & Spice Basket (acres)",212.42,232.5,207.78,451.37,306.04000000000002,282.02]
[{"$f":"Table_BPU[[#This Row],[Risk Area]]&\" \"&Table_BPU[[#This Row],[BPU Description]]","v":"Grande Prairie Herb & Spice Basket (acres)"},"Grande Prairie",676,"Herb & Spice Basket (acres)",212.42,232.5,207.78,451.37,306.04000000000002,282.02]
[{"$f":"Table_BPU[[#This Row],[Risk Area]]&\" \"&Table_BPU[[#This Row],[BPU Description]]","v":"Greenview Herb & Spice Basket (acres)"},"Greenview",676,"Herb & Spice Basket (acres)",212.42,232.5,207.78,451.37,306.04000000000002,282.02]
[{"$f":"Table_BPU[[#This Row],[Risk Area]]&\" \"&Table_BPU[[#This Row],[BPU Description]]","v":"Kneehill Herb & Spice Basket (acres)"},"Kneehill",676,"Herb & Spice Basket (acres)",212.42,232.5,207.78,451.37,306.04000000000002,282.02]
[{"$f":"Table_BPU[[#This Row],[Risk Area]]&\" \"&Table_BPU[[#This Row],[BPU Description]]","v":"Lac La Biche Herb & Spice Basket (acres)"},"Lac La Biche",676,"Herb & Spice Basket (acres)",212.42,232.5,207.78,451.37,306.04000000000002,282.02]
[{"$f":"Table_BPU[[#This Row],[Risk Area]]&\" \"&Table_BPU[[#This Row],[BPU Description]]","v":"Lac Ste. Anne County Herb & Spice Basket (acres)"},"Lac Ste. Anne County",676,"Herb & Spice Basket (acres)",212.42,232.5,207.78,451.37,306.04000000000002,282.02]
[{"$f":"Table_BPU[[#This Row],[Risk Area]]&\" \"&Table_BPU[[#This Row],[BPU Description]]","v":"Lacombe Herb & Spice Basket (acres)"},"Lacombe",676,"Herb & Spice Basket (acres)",212.42,232.5,207.78,451.37,306.04000000000002,282.02]
[{"$f":"Table_BPU[[#This Row],[Risk Area]]&\" \"&Table_BPU[[#This Row],[BPU Description]]","v":"Lamont Herb & Spice Basket (acres)"},"Lamont",676,"Herb & Spice Basket (acres)",212.42,232.5,207.78,451.37,306.04000000000002,282.02]
[{"$f":"Table_BPU[[#This Row],[Risk Area]]&\" \"&Table_BPU[[#This Row],[BPU Description]]","v":"Leduc Herb & Spice Basket (acres)"},"Leduc",676,"Herb & Spice Basket (acres)",212.42,232.5,207.78,451.37,306.04000000000002,282.02]
[{"$f":"Table_BPU[[#This Row],[Risk Area]]&\" \"&Table_BPU[[#This Row],[BPU Description]]","v":"Lesser Slave River Herb & Spice Basket (acres)"},"Lesser Slave River",676,"Herb & Spice Basket (acres)",212.42,232.5,207.78,451.37,306.04000000000002,282.02]
[{"$f":"Table_BPU[[#This Row],[Risk Area]]&\" \"&Table_BPU[[#This Row],[BPU Description]]","v":"Lethbridge Herb & Spice Basket (acres)"},"Lethbridge",676,"Herb & Spice Basket (acres)",212.42,232.5,207.78,451.37,306.04000000000002,282.02]
[{"$f":"Table_BPU[[#This Row],[Risk Area]]&\" \"&Table_BPU[[#This Row],[BPU Description]]","v":"Mackenzie Herb & Spice Basket (acres)"},"Mackenzie",676,"Herb & Spice Basket (acres)",212.42,232.5,207.78,451.37,306.04000000000002,282.02]
[{"$f":"Table_BPU[[#This Row],[Risk Area]]&\" \"&Table_BPU[[#This Row],[BPU Description]]","v":"Minburn Herb & Spice Basket (acres)"},"Minburn",676,"Herb & Spice Basket (acres)",212.42,232.5,207.78,451.37,306.04000000000002,282.02]
[{"$f":"Table_BPU[[#This Row],[Risk Area]]&\" \"&Table_BPU[[#This Row],[BPU Description]]","v":"Mountain View Herb & Spice Basket (acres)"},"Mountain View",676,"Herb & Spice Basket (acres)",212.42,232.5,207.78,451.37,306.04000000000002,282.02]
[{"$f":"Table_BPU[[#This Row],[Risk Area]]&\" \"&Table_BPU[[#This Row],[BPU Description]]","v":"Newell Herb & Spice Basket (acres)"},"Newell",676,"Herb & Spice Basket (acres)",212.42,232.5,207.78,451.37,306.04000000000002,282.02]
[{"$f":"Table_BPU[[#This Row],[Risk Area]]&\" \"&Table_BPU[[#This Row],[BPU Description]]","v":"Northern Lights Herb & Spice Basket (acres)"},"Northern Lights",676,"Herb & Spice Basket (acres)",212.42,232.5,207.78,451.37,306.04000000000002,282.02]
[{"$f":"Table_BPU[[#This Row],[Risk Area]]&\" \"&Table_BPU[[#This Row],[BPU Description]]","v":"Northern Sunrise Herb & Spice Basket (acres)"},"Northern Sunrise",676,"Herb & Spice Basket (acres)",212.42,232.5,207.78,451.37,306.04000000000002,282.02]
[{"$f":"Table_BPU[[#This Row],[Risk Area]]&\" \"&Table_BPU[[#This Row],[BPU Description]]","v":"Opportunity Herb & Spice Basket (acres)"},"Opportunity",676,"Herb & Spice Basket (acres)",212.42,232.5,207.78,451.37,306.04000000000002,282.02]
[{"$f":"Table_BPU[[#This Row],[Risk Area]]&\" \"&Table_BPU[[#This Row],[BPU Description]]","v":"Paintearth Herb & Spice Basket (acres)"},"Paintearth",676,"Herb & Spice Basket (acres)",212.42,232.5,207.78,451.37,306.04000000000002,282.02]
[{"$f":"Table_BPU[[#This Row],[Risk Area]]&\" \"&Table_BPU[[#This Row],[BPU Description]]","v":"Parkland County Herb & Spice Basket (acres)"},"Parkland County",676,"Herb & Spice Basket (acres)",212.42,232.5,207.78,451.37,306.04000000000002,282.02]
[{"$f":"Table_BPU[[#This Row],[Risk Area]]&\" \"&Table_BPU[[#This Row],[BPU Description]]","v":"Peace Herb & Spice Basket (acres)"},"Peace",676,"Herb & Spice Basket (acres)",212.42,232.5,207.78,451.37,306.04000000000002,282.02]
[{"$f":"Table_BPU[[#This Row],[Risk Area]]&\" \"&Table_BPU[[#This Row],[BPU Description]]","v":"Pincher Creek Herb & Spice Basket (acres)"},"Pincher Creek",676,"Herb & Spice Basket (acres)",212.42,232.5,207.78,451.37,306.04000000000002,282.02]
[{"$f":"Table_BPU[[#This Row],[Risk Area]]&\" \"&Table_BPU[[#This Row],[BPU Description]]","v":"Ponoka Herb & Spice Basket (acres)"},"Ponoka",676,"Herb & Spice Basket (acres)",212.42,232.5,207.78,451.37,306.04000000000002,282.02]
[{"$f":"Table_BPU[[#This Row],[Risk Area]]&\" \"&Table_BPU[[#This Row],[BPU Description]]","v":"Provost Herb & Spice Basket (acres)"},"Provost",676,"Herb & Spice Basket (acres)",212.42,232.5,207.78,451.37,306.04000000000002,282.02]
[{"$f":"Table_BPU[[#This Row],[Risk Area]]&\" \"&Table_BPU[[#This Row],[BPU Description]]","v":"Ranchland Herb & Spice Basket (acres)"},"Ranchland",676,"Herb & Spice Basket (acres)",212.42,232.5,207.78,451.37,306.04000000000002,282.02]
[{"$f":"Table_BPU[[#This Row],[Risk Area]]&\" \"&Table_BPU[[#This Row],[BPU Description]]","v":"Red Deer Herb & Spice Basket (acres)"},"Red Deer",676,"Herb & Spice Basket (acres)",212.42,232.5,207.78,451.37,306.04000000000002,282.02]
[{"$f":"Table_BPU[[#This Row],[Risk Area]]&\" \"&Table_BPU[[#This Row],[BPU Description]]","v":"Rocky View Herb & Spice Basket (acres)"},"Rocky View",676,"Herb & Spice Basket (acres)",212.42,232.5,207.78,451.37,306.04000000000002,282.02]
[{"$f":"Table_BPU[[#This Row],[Risk Area]]&\" \"&Table_BPU[[#This Row],[BPU Description]]","v":"Saddle Hills Herb & Spice Basket (acres)"},"Saddle Hills",676,"Herb & Spice Basket (acres)",212.42,232.5,207.78,451.37,306.04000000000002,282.02]
[{"$f":"Table_BPU[[#This Row],[Risk Area]]&\" \"&Table_BPU[[#This Row],[BPU Description]]","v":"Smoky Lake Herb & Spice Basket (acres)"},"Smoky Lake",676,"Herb & Spice Basket (acres)",212.42,232.5,207.78,451.37,306.04000000000002,282.02]
[{"$f":"Table_BPU[[#This Row],[Risk Area]]&\" \"&Table_BPU[[#This Row],[BPU Description]]","v":"Smoky River Herb & Spice Basket (acres)"},"Smoky River",676,"Herb & Spice Basket (acres)",212.42,232.5,207.78,451.37,306.04000000000002,282.02]
[{"$f":"Table_BPU[[#This Row],[Risk Area]]&\" \"&Table_BPU[[#This Row],[BPU Description]]","v":"Special Area 02 Herb & Spice Basket (acres)"},"Special Area 02",676,"Herb & Spice Basket (acres)",212.42,232.5,207.78,451.37,306.04000000000002,282.02]
[{"$f":"Table_BPU[[#This Row],[Risk Area]]&\" \"&Table_BPU[[#This Row],[BPU Description]]","v":"Special Area 03 Herb & Spice Basket (acres)"},"Special Area 03",676,"Herb & Spice Basket (acres)",212.42,232.5,207.78,451.37,306.04000000000002,282.02]
[{"$f":"Table_BPU[[#This Row],[Risk Area]]&\" \"&Table_BPU[[#This Row],[BPU Description]]","v":"Special Area 04 Herb & Spice Basket (acres)"},"Special Area 04",676,"Herb & Spice Basket (acres)",212.42,232.5,207.78,451.37,306.04000000000002,282.02]
[{"$f":"Table_BPU[[#This Row],[Risk Area]]&\" \"&Table_BPU[[#This Row],[BPU Description]]","v":"Spirit River Herb & Spice Basket (acres)"},"Spirit River",676,"Herb & Spice Basket (acres)",212.42,232.5,207.78,451.37,306.04000000000002,282.02]
[{"$f":"Table_BPU[[#This Row],[Risk Area]]&\" \"&Table_BPU[[#This Row],[BPU Description]]","v":"St. Paul Herb & Spice Basket (acres)"},"St. Paul",676,"Herb & Spice Basket (acres)",212.42,232.5,207.78,451.37,306.04000000000002,282.02]
[{"$f":"Table_BPU[[#This Row],[Risk Area]]&\" \"&Table_BPU[[#This Row],[BPU Description]]","v":"Starland Herb & Spice Basket (acres)"},"Starland",676,"Herb & Spice Basket (acres)",212.42,232.5,207.78,451.37,306.04000000000002,282.02]
[{"$f":"Table_BPU[[#This Row],[Risk Area]]&\" \"&Table_BPU[[#This Row],[BPU Description]]","v":"Stettler Herb & Spice Basket (acres)"},"Stettler",676,"Herb & Spice Basket (acres)",212.42,232.5,207.78,451.37,306.04000000000002,282.02]
[{"$f":"Table_BPU[[#This Row],[Risk Area]]&\" \"&Table_BPU[[#This Row],[BPU Description]]","v":"Strathcona County Herb & Spice Basket (acres)"},"Strathcona County",676,"Herb & Spice Basket (acres)",212.42,232.5,207.78,451.37,306.04000000000002,282.02]
[{"$f":"Table_BPU[[#This Row],[Risk Area]]&\" \"&Table_BPU[[#This Row],[BPU Description]]","v":"Sturgeon Herb & Spice Basket (acres)"},"Sturgeon",676,"Herb & Spice Basket (acres)",212.42,232.5,207.78,451.37,306.04000000000002,282.02]
[{"$f":"Table_BPU[[#This Row],[Risk Area]]&\" \"&Table_BPU[[#This Row],[BPU Description]]","v":"Taber Herb & Spice Basket (acres)"},"Taber",676,"Herb & Spice Basket (acres)",212.42,232.5,207.78,451.37,306.04000000000002,282.02]
[{"$f":"Table_BPU[[#This Row],[Risk Area]]&\" \"&Table_BPU[[#This Row],[BPU Description]]","v":"Thorhild Herb & Spice Basket (acres)"},"Thorhild",676,"Herb & Spice Basket (acres)",212.42,232.5,207.78,451.37,306.04000000000002,282.02]
[{"$f":"Table_BPU[[#This Row],[Risk Area]]&\" \"&Table_BPU[[#This Row],[BPU Description]]","v":"Two Hills Herb & Spice Basket (acres)"},"Two Hills",676,"Herb & Spice Basket (acres)",212.42,232.5,207.78,451.37,306.04000000000002,282.02]
[{"$f":"Table_BPU[[#This Row],[Risk Area]]&\" \"&Table_BPU[[#This Row],[BPU Description]]","v":"Vermilion River Herb & Spice Basket (acres)"},"Vermilion River",676,"Herb & Spice Basket (acres)",212.42,232.5,207.78,451.37,306.04000000000002,282.02]
[{"$f":"Table_BPU[[#This Row],[Risk Area]]&\" \"&Table_BPU[[#This Row],[BPU Description]]","v":"Vulcan Herb & Spice Basket (acres)"},"Vulcan",676,"Herb & Spice Basket (acres)",212.42,232.5,207.78,451.37,306.04000000000002,282.02]
[{"$f":"Table_BPU[[#This Row],[Risk Area]]&\" \"&Table_BPU[[#This Row],[BPU Description]]","v":"Wainwright Herb & Spice Basket (acres)"},"Wainwright",676,"Herb & Spice Basket (acres)",212.42,232.5,207.78,451.37,306.04000000000002,282.02]
[{"$f":"Table_BPU[[#This Row],[Risk Area]]&\" \"&Table_BPU[[#This Row],[BPU Description]]","v":"Warner Herb & Spice Basket (acres)"},"Warner",676,"Herb & Spice Basket (acres)",212.42,232.5,207.78,451.37,306.04000000000002,282.02]
[{"$f":"Table_BPU[[#This Row],[Risk Area]]&\" \"&Table_BPU[[#This Row],[BPU Description]]","v":"Westlock Herb & Spice Basket (acres)"},"Westlock",676,"Herb & Spice Basket (acres)",212.42,232.5,207.78,451.37,306.04000000000002,282.02]
[{"$f":"Table_BPU[[#This Row],[Risk Area]]&\" \"&Table_BPU[[#This Row],[BPU Description]]","v":"Wetaskiwin Herb & Spice Basket (acres)"},"Wetaskiwin",676,"Herb & Spice Basket (acres)",212.42,232.5,207.78,451.37,306.04000000000002,282.02]
[{"$f":"Table_BPU[[#This Row],[Risk Area]]&\" \"&Table_BPU[[#This Row],[BPU Description]]","v":"Wheatland Herb & Spice Basket (acres)"},"Wheatland",676,"Herb & Spice Basket (acres)",212.42,232.5,207.78,451.37,306.04000000000002,282.02]
[{"$f":"Table_BPU[[#This Row],[Risk Area]]&\" \"&Table_BPU[[#This Row],[BPU Description]]","v":"Willow Creek Herb & Spice Basket (acres)"},"Willow Creek",676,"Herb & Spice Basket (acres)",212.42,232.5,207.78,451.37,306.04000000000002,282.02]
[{"$f":"Table_BPU[[#This Row],[Risk Area]]&\" \"&Table_BPU[[#This Row],[BPU Description]]","v":"Wood Buffalo Herb & Spice Basket (acres)"},"Wood Buffalo",676,"Herb & Spice Basket (acres)",212.42,232.5,207.78,451.37,306.04000000000002,282.02]
[{"$f":"Table_BPU[[#This Row],[Risk Area]]&\" \"&Table_BPU[[#This Row],[BPU Description]]","v":"Woodlands Herb & Spice Basket (acres)"},"Woodlands",676,"Herb & Spice Basket (acres)",212.42,232.5,207.78,451.37,306.04000000000002,282.02]
[{"$f":"Table_BPU[[#This Row],[Risk Area]]&\" \"&Table_BPU[[#This Row],[BPU Description]]","v":"Yellowhead Herb & Spice Basket (acres)"},"Yellowhead",676,"Herb & Spice Basket (acres)",212.42,232.5,207.78,451.37,306.04000000000002,282.02]
[{"$f":"Table_BPU[[#This Row],[Risk Area]]&\" \"&Table_BPU[[#This Row],[BPU Description]]","v":"Acadia Hogs Farrow to Finish"},"Acadia",9,"Hogs Farrow to Finish",5.14,1.96,5.18,7.74,0.01,3.29]
[{"$f":"Table_BPU[[#This Row],[Risk Area]]&\" \"&Table_BPU[[#This Row],[BPU Description]]","v":"Athabasca Hogs Farrow to Finish"},"Athabasca",9,"Hogs Farrow to Finish",5.14,1.96,5.18,7.74,0.01,3.29]
[{"$f":"Table_BPU[[#This Row],[Risk Area]]&\" \"&Table_BPU[[#This Row],[BPU Description]]","v":"Barrhead Hogs Farrow to Finish"},"Barrhead",9,"Hogs Farrow to Finish",5.14,1.96,5.18,7.74,0.01,3.29]
[{"$f":"Table_BPU[[#This Row],[Risk Area]]&\" \"&Table_BPU[[#This Row],[BPU Description]]","v":"Beaver Hogs Farrow to Finish"},"Beaver",9,"Hogs Farrow to Finish",5.14,1.96,5.18,7.74,0.01,3.29]
[{"$f":"Table_BPU[[#This Row],[Risk Area]]&\" \"&Table_BPU[[#This Row],[BPU Description]]","v":"Big Lakes Hogs Farrow to Finish"},"Big Lakes",9,"Hogs Farrow to Finish",5.14,1.96,5.18,7.74,0.01,3.29]
[{"$f":"Table_BPU[[#This Row],[Risk Area]]&\" \"&Table_BPU[[#This Row],[BPU Description]]","v":"Bighorn Hogs Farrow to Finish"},"Bighorn",9,"Hogs Farrow to Finish",5.14,1.96,5.18,7.74,0.01,3.29]
[{"$f":"Table_BPU[[#This Row],[Risk Area]]&\" \"&Table_BPU[[#This Row],[BPU Description]]","v":"Birch Hills Hogs Farrow to Finish"},"Birch Hills",9,"Hogs Farrow to Finish",5.14,1.96,5.18,7.74,0.01,3.29]
[{"$f":"Table_BPU[[#This Row],[Risk Area]]&\" \"&Table_BPU[[#This Row],[BPU Description]]","v":"Bonnyville Hogs Farrow to Finish"},"Bonnyville",9,"Hogs Farrow to Finish",5.14,1.96,5.18,7.74,0.01,3.29]
[{"$f":"Table_BPU[[#This Row],[Risk Area]]&\" \"&Table_BPU[[#This Row],[BPU Description]]","v":"Brazeau Hogs Farrow to Finish"},"Brazeau",9,"Hogs Farrow to Finish",5.14,1.96,5.18,7.74,0.01,3.29]
[{"$f":"Table_BPU[[#This Row],[Risk Area]]&\" \"&Table_BPU[[#This Row],[BPU Description]]","v":"Camrose Hogs Farrow to Finish"},"Camrose",9,"Hogs Farrow to Finish",5.14,1.96,5.18,7.74,0.01,3.29]
[{"$f":"Table_BPU[[#This Row],[Risk Area]]&\" \"&Table_BPU[[#This Row],[BPU Description]]","v":"Cardston Hogs Farrow to Finish"},"Cardston",9,"Hogs Farrow to Finish",5.14,1.96,5.18,7.74,0.01,3.29]
[{"$f":"Table_BPU[[#This Row],[Risk Area]]&\" \"&Table_BPU[[#This Row],[BPU Description]]","v":"Clear Hills Hogs Farrow to Finish"},"Clear Hills",9,"Hogs Farrow to Finish",5.14,1.96,5.18,7.74,0.01,3.29]
[{"$f":"Table_BPU[[#This Row],[Risk Area]]&\" \"&Table_BPU[[#This Row],[BPU Description]]","v":"Clearwater Hogs Farrow to Finish"},"Clearwater",9,"Hogs Farrow to Finish",5.14,1.96,5.18,7.74,0.01,3.29]
[{"$f":"Table_BPU[[#This Row],[Risk Area]]&\" \"&Table_BPU[[#This Row],[BPU Description]]","v":"Cypress Hogs Farrow to Finish"},"Cypress",9,"Hogs Farrow to Finish",5.14,1.96,5.18,7.74,0.01,3.29]
[{"$f":"Table_BPU[[#This Row],[Risk Area]]&\" \"&Table_BPU[[#This Row],[BPU Description]]","v":"Edmonton Hogs Farrow to Finish"},"Edmonton",9,"Hogs Farrow to Finish",5.14,1.96,5.18,7.74,0.01,3.29]
[{"$f":"Table_BPU[[#This Row],[Risk Area]]&\" \"&Table_BPU[[#This Row],[BPU Description]]","v":"Fairview Hogs Farrow to Finish"},"Fairview",9,"Hogs Farrow to Finish",5.14,1.96,5.18,7.74,0.01,3.29]
[{"$f":"Table_BPU[[#This Row],[Risk Area]]&\" \"&Table_BPU[[#This Row],[BPU Description]]","v":"Flagstaff Hogs Farrow to Finish"},"Flagstaff",9,"Hogs Farrow to Finish",5.14,1.96,5.18,7.74,0.01,3.29]
[{"$f":"Table_BPU[[#This Row],[Risk Area]]&\" \"&Table_BPU[[#This Row],[BPU Description]]","v":"Foothills Hogs Farrow to Finish"},"Foothills",9,"Hogs Farrow to Finish",5.14,1.96,5.18,7.74,0.01,3.29]
[{"$f":"Table_BPU[[#This Row],[Risk Area]]&\" \"&Table_BPU[[#This Row],[BPU Description]]","v":"Forty Mile Hogs Farrow to Finish"},"Forty Mile",9,"Hogs Farrow to Finish",5.14,1.96,5.18,7.74,0.01,3.29]
[{"$f":"Table_BPU[[#This Row],[Risk Area]]&\" \"&Table_BPU[[#This Row],[BPU Description]]","v":"Grande Prairie Hogs Farrow to Finish"},"Grande Prairie",9,"Hogs Farrow to Finish",5.14,1.96,5.18,7.74,0.01,3.29]
[{"$f":"Table_BPU[[#This Row],[Risk Area]]&\" \"&Table_BPU[[#This Row],[BPU Description]]","v":"Greenview Hogs Farrow to Finish"},"Greenview",9,"Hogs Farrow to Finish",5.14,1.96,5.18,7.74,0.01,3.29]
[{"$f":"Table_BPU[[#This Row],[Risk Area]]&\" \"&Table_BPU[[#This Row],[BPU Description]]","v":"Kneehill Hogs Farrow to Finish"},"Kneehill",9,"Hogs Farrow to Finish",5.14,1.96,5.18,7.74,0.01,3.29]
[{"$f":"Table_BPU[[#This Row],[Risk Area]]&\" \"&Table_BPU[[#This Row],[BPU Description]]","v":"Lac La Biche Hogs Farrow to Finish"},"Lac La Biche",9,"Hogs Farrow to Finish",5.14,1.96,5.18,7.74,0.01,3.29]
[{"$f":"Table_BPU[[#This Row],[Risk Area]]&\" \"&Table_BPU[[#This Row],[BPU Description]]","v":"Lac Ste. Anne County Hogs Farrow to Finish"},"Lac Ste. Anne County",9,"Hogs Farrow to Finish",5.14,1.96,5.18,7.74,0.01,3.29]
[{"$f":"Table_BPU[[#This Row],[Risk Area]]&\" \"&Table_BPU[[#This Row],[BPU Description]]","v":"Lacombe Hogs Farrow to Finish"},"Lacombe",9,"Hogs Farrow to Finish",5.14,1.96,5.18,7.74,0.01,3.29]
[{"$f":"Table_BPU[[#This Row],[Risk Area]]&\" \"&Table_BPU[[#This Row],[BPU Description]]","v":"Lamont Hogs Farrow to Finish"},"Lamont",9,"Hogs Farrow to Finish",5.14,1.96,5.18,7.74,0.01,3.29]
[{"$f":"Table_BPU[[#This Row],[Risk Area]]&\" \"&Table_BPU[[#This Row],[BPU Description]]","v":"Leduc Hogs Farrow to Finish"},"Leduc",9,"Hogs Farrow to Finish",5.14,1.96,5.18,7.74,0.01,3.29]
[{"$f":"Table_BPU[[#This Row],[Risk Area]]&\" \"&Table_BPU[[#This Row],[BPU Description]]","v":"Lesser Slave River Hogs Farrow to Finish"},"Lesser Slave River",9,"Hogs Farrow to Finish",5.14,1.96,5.18,7.74,0.01,3.29]
[{"$f":"Table_BPU[[#This Row],[Risk Area]]&\" \"&Table_BPU[[#This Row],[BPU Description]]","v":"Lethbridge Hogs Farrow to Finish"},"Lethbridge",9,"Hogs Farrow to Finish",5.14,1.96,5.18,7.74,0.01,3.29]
[{"$f":"Table_BPU[[#This Row],[Risk Area]]&\" \"&Table_BPU[[#This Row],[BPU Description]]","v":"Mackenzie Hogs Farrow to Finish"},"Mackenzie",9,"Hogs Farrow to Finish",5.14,1.96,5.18,7.74,0.01,3.29]
[{"$f":"Table_BPU[[#This Row],[Risk Area]]&\" \"&Table_BPU[[#This Row],[BPU Description]]","v":"Minburn Hogs Farrow to Finish"},"Minburn",9,"Hogs Farrow to Finish",5.14,1.96,5.18,7.74,0.01,3.29]
[{"$f":"Table_BPU[[#This Row],[Risk Area]]&\" \"&Table_BPU[[#This Row],[BPU Description]]","v":"Mountain View Hogs Farrow to Finish"},"Mountain View",9,"Hogs Farrow to Finish",5.14,1.96,5.18,7.74,0.01,3.29]
[{"$f":"Table_BPU[[#This Row],[Risk Area]]&\" \"&Table_BPU[[#This Row],[BPU Description]]","v":"Newell Hogs Farrow to Finish"},"Newell",9,"Hogs Farrow to Finish",5.14,1.96,5.18,7.74,0.01,3.29]
[{"$f":"Table_BPU[[#This Row],[Risk Area]]&\" \"&Table_BPU[[#This Row],[BPU Description]]","v":"Northern Lights Hogs Farrow to Finish"},"Northern Lights",9,"Hogs Farrow to Finish",5.14,1.96,5.18,7.74,0.01,3.29]
[{"$f":"Table_BPU[[#This Row],[Risk Area]]&\" \"&Table_BPU[[#This Row],[BPU Description]]","v":"Northern Sunrise Hogs Farrow to Finish"},"Northern Sunrise",9,"Hogs Farrow to Finish",5.14,1.96,5.18,7.74,0.01,3.29]
[{"$f":"Table_BPU[[#This Row],[Risk Area]]&\" \"&Table_BPU[[#This Row],[BPU Description]]","v":"Opportunity Hogs Farrow to Finish"},"Opportunity",9,"Hogs Farrow to Finish",5.14,1.96,5.18,7.74,0.01,3.29]
[{"$f":"Table_BPU[[#This Row],[Risk Area]]&\" \"&Table_BPU[[#This Row],[BPU Description]]","v":"Paintearth Hogs Farrow to Finish"},"Paintearth",9,"Hogs Farrow to Finish",5.14,1.96,5.18,7.74,0.01,3.29]
[{"$f":"Table_BPU[[#This Row],[Risk Area]]&\" \"&Table_BPU[[#This Row],[BPU Description]]","v":"Parkland County Hogs Farrow to Finish"},"Parkland County",9,"Hogs Farrow to Finish",5.14,1.96,5.18,7.74,0.01,3.29]
[{"$f":"Table_BPU[[#This Row],[Risk Area]]&\" \"&Table_BPU[[#This Row],[BPU Description]]","v":"Peace Hogs Farrow to Finish"},"Peace",9,"Hogs Farrow to Finish",5.14,1.96,5.18,7.74,0.01,3.29]
[{"$f":"Table_BPU[[#This Row],[Risk Area]]&\" \"&Table_BPU[[#This Row],[BPU Description]]","v":"Pincher Creek Hogs Farrow to Finish"},"Pincher Creek",9,"Hogs Farrow to Finish",5.14,1.96,5.18,7.74,0.01,3.29]
[{"$f":"Table_BPU[[#This Row],[Risk Area]]&\" \"&Table_BPU[[#This Row],[BPU Description]]","v":"Ponoka Hogs Farrow to Finish"},"Ponoka",9,"Hogs Farrow to Finish",5.14,1.96,5.18,7.74,0.01,3.29]
[{"$f":"Table_BPU[[#This Row],[Risk Area]]&\" \"&Table_BPU[[#This Row],[BPU Description]]","v":"Provost Hogs Farrow to Finish"},"Provost",9,"Hogs Farrow to Finish",5.14,1.96,5.18,7.74,0.01,3.29]
[{"$f":"Table_BPU[[#This Row],[Risk Area]]&\" \"&Table_BPU[[#This Row],[BPU Description]]","v":"Ranchland Hogs Farrow to Finish"},"Ranchland",9,"Hogs Farrow to Finish",5.14,1.96,5.18,7.74,0.01,3.29]
[{"$f":"Table_BPU[[#This Row],[Risk Area]]&\" \"&Table_BPU[[#This Row],[BPU Description]]","v":"Red Deer Hogs Farrow to Finish"},"Red Deer",9,"Hogs Farrow to Finish",5.14,1.96,5.18,7.74,0.01,3.29]
[{"$f":"Table_BPU[[#This Row],[Risk Area]]&\" \"&Table_BPU[[#This Row],[BPU Description]]","v":"Rocky View Hogs Farrow to Finish"},"Rocky View",9,"Hogs Farrow to Finish",5.14,1.96,5.18,7.74,0.01,3.29]
[{"$f":"Table_BPU[[#This Row],[Risk Area]]&\" \"&Table_BPU[[#This Row],[BPU Description]]","v":"Saddle Hills Hogs Farrow to Finish"},"Saddle Hills",9,"Hogs Farrow to Finish",5.14,1.96,5.18,7.74,0.01,3.29]
[{"$f":"Table_BPU[[#This Row],[Risk Area]]&\" \"&Table_BPU[[#This Row],[BPU Description]]","v":"Smoky Lake Hogs Farrow to Finish"},"Smoky Lake",9,"Hogs Farrow to Finish",5.14,1.96,5.18,7.74,0.01,3.29]
[{"$f":"Table_BPU[[#This Row],[Risk Area]]&\" \"&Table_BPU[[#This Row],[BPU Description]]","v":"Smoky River Hogs Farrow to Finish"},"Smoky River",9,"Hogs Farrow to Finish",5.14,1.96,5.18,7.74,0.01,3.29]
[{"$f":"Table_BPU[[#This Row],[Risk Area]]&\" \"&Table_BPU[[#This Row],[BPU Description]]","v":"Special Area 02 Hogs Farrow to Finish"},"Special Area 02",9,"Hogs Farrow to Finish",5.14,1.96,5.18,7.74,0.01,3.29]
[{"$f":"Table_BPU[[#This Row],[Risk Area]]&\" \"&Table_BPU[[#This Row],[BPU Description]]","v":"Special Area 03 Hogs Farrow to Finish"},"Special Area 03",9,"Hogs Farrow to Finish",5.14,1.96,5.18,7.74,0.01,3.29]
[{"$f":"Table_BPU[[#This Row],[Risk Area]]&\" \"&Table_BPU[[#This Row],[BPU Description]]","v":"Special Area 04 Hogs Farrow to Finish"},"Special Area 04",9,"Hogs Farrow to Finish",5.14,1.96,5.18,7.74,0.01,3.29]
[{"$f":"Table_BPU[[#This Row],[Risk Area]]&\" \"&Table_BPU[[#This Row],[BPU Description]]","v":"Spirit River Hogs Farrow to Finish"},"Spirit River",9,"Hogs Farrow to Finish",5.14,1.96,5.18,7.74,0.01,3.29]
[{"$f":"Table_BPU[[#This Row],[Risk Area]]&\" \"&Table_BPU[[#This Row],[BPU Description]]","v":"St. Paul Hogs Farrow to Finish"},"St. Paul",9,"Hogs Farrow to Finish",5.14,1.96,5.18,7.74,0.01,3.29]
[{"$f":"Table_BPU[[#This Row],[Risk Area]]&\" \"&Table_BPU[[#This Row],[BPU Description]]","v":"Starland Hogs Farrow to Finish"},"Starland",9,"Hogs Farrow to Finish",5.14,1.96,5.18,7.74,0.01,3.29]
[{"$f":"Table_BPU[[#This Row],[Risk Area]]&\" \"&Table_BPU[[#This Row],[BPU Description]]","v":"Stettler Hogs Farrow to Finish"},"Stettler",9,"Hogs Farrow to Finish",5.14,1.96,5.18,7.74,0.01,3.29]
[{"$f":"Table_BPU[[#This Row],[Risk Area]]&\" \"&Table_BPU[[#This Row],[BPU Description]]","v":"Strathcona County Hogs Farrow to Finish"},"Strathcona County",9,"Hogs Farrow to Finish",5.14,1.96,5.18,7.74,0.01,3.29]
[{"$f":"Table_BPU[[#This Row],[Risk Area]]&\" \"&Table_BPU[[#This Row],[BPU Description]]","v":"Sturgeon Hogs Farrow to Finish"},"Sturgeon",9,"Hogs Farrow to Finish",5.14,1.96,5.18,7.74,0.01,3.29]
[{"$f":"Table_BPU[[#This Row],[Risk Area]]&\" \"&Table_BPU[[#This Row],[BPU Description]]","v":"Taber Hogs Farrow to Finish"},"Taber",9,"Hogs Farrow to Finish",5.14,1.96,5.18,7.74,0.01,3.29]
[{"$f":"Table_BPU[[#This Row],[Risk Area]]&\" \"&Table_BPU[[#This Row],[BPU Description]]","v":"Thorhild Hogs Farrow to Finish"},"Thorhild",9,"Hogs Farrow to Finish",5.14,1.96,5.18,7.74,0.01,3.29]
[{"$f":"Table_BPU[[#This Row],[Risk Area]]&\" \"&Table_BPU[[#This Row],[BPU Description]]","v":"Two Hills Hogs Farrow to Finish"},"Two Hills",9,"Hogs Farrow to Finish",5.14,1.96,5.18,7.74,0.01,3.29]
[{"$f":"Table_BPU[[#This Row],[Risk Area]]&\" \"&Table_BPU[[#This Row],[BPU Description]]","v":"Vermilion River Hogs Farrow to Finish"},"Vermilion River",9,"Hogs Farrow to Finish",5.14,1.96,5.18,7.74,0.01,3.29]
[{"$f":"Table_BPU[[#This Row],[Risk Area]]&\" \"&Table_BPU[[#This Row],[BPU Description]]","v":"Vulcan Hogs Farrow to Finish"},"Vulcan",9,"Hogs Farrow to Finish",5.14,1.96,5.18,7.74,0.01,3.29]
[{"$f":"Table_BPU[[#This Row],[Risk Area]]&\" \"&Table_BPU[[#This Row],[BPU Description]]","v":"Wainwright Hogs Farrow to Finish"},"Wainwright",9,"Hogs Farrow to Finish",5.14,1.96,5.18,7.74,0.01,3.29]
[{"$f":"Table_BPU[[#This Row],[Risk Area]]&\" \"&Table_BPU[[#This Row],[BPU Description]]","v":"Warner Hogs Farrow to Finish"},"Warner",9,"Hogs Farrow to Finish",5.14,1.96,5.18,7.74,0.01,3.29]
[{"$f":"Table_BPU[[#This Row],[Risk Area]]&\" \"&Table_BPU[[#This Row],[BPU Description]]","v":"Westlock Hogs Farrow to Finish"},"Westlock",9,"Hogs Farrow to Finish",5.14,1.96,5.18,7.74,0.01,3.29]
[{"$f":"Table_BPU[[#This Row],[Risk Area]]&\" \"&Table_BPU[[#This Row],[BPU Description]]","v":"Wetaskiwin Hogs Farrow to Finish"},"Wetaskiwin",9,"Hogs Farrow to Finish",5.14,1.96,5.18,7.74,0.01,3.29]
[{"$f":"Table_BPU[[#This Row],[Risk Area]]&\" \"&Table_BPU[[#This Row],[BPU Description]]","v":"Wheatland Hogs Farrow to Finish"},"Wheatland",9,"Hogs Farrow to Finish",5.14,1.96,5.18,7.74,0.01,3.29]
[{"$f":"Table_BPU[[#This Row],[Risk Area]]&\" \"&Table_BPU[[#This Row],[BPU Description]]","v":"Willow Creek Hogs Farrow to Finish"},"Willow Creek",9,"Hogs Farrow to Finish",5.14,1.96,5.18,7.74,0.01,3.29]
[{"$f":"Table_BPU[[#This Row],[Risk Area]]&\" \"&Table_BPU[[#This Row],[BPU Description]]","v":"Wood Buffalo Hogs Farrow to Finish"},"Wood Buffalo",9,"Hogs Farrow to Finish",5.14,1.96,5.18,7.74,0.01,3.29]
[{"$f":"Table_BPU[[#This Row],[Risk Area]]&\" \"&Table_BPU[[#This Row],[BPU Description]]","v":"Woodlands Hogs Farrow to Finish"},"Woodlands",9,"Hogs Farrow to Finish",5.14,1.96,5.18,7.74,0.01,3.29]
[{"$f":"Table_BPU[[#This Row],[Risk Area]]&\" \"&Table_BPU[[#This Row],[BPU Description]]","v":"Yellowhead Hogs Farrow to Finish"},"Yellowhead",9,"Hogs Farrow to Finish",5.14,1.96,5.18,7.74,0.01,3.29]
[{"$f":"Table_BPU[[#This Row],[Risk Area]]&\" \"&Table_BPU[[#This Row],[BPU Description]]","v":"Acadia Hogs Farrow to Wean"},"Acadia",11,"Hogs Farrow to Wean",7.04,6.11,9.3699999999999992,11.18,0.01,5.85]
[{"$f":"Table_BPU[[#This Row],[Risk Area]]&\" \"&Table_BPU[[#This Row],[BPU Description]]","v":"Athabasca Hogs Farrow to Wean"},"Athabasca",11,"Hogs Farrow to Wean",7.04,6.11,9.3699999999999992,11.18,0.01,5.85]
[{"$f":"Table_BPU[[#This Row],[Risk Area]]&\" \"&Table_BPU[[#This Row],[BPU Description]]","v":"Barrhead Hogs Farrow to Wean"},"Barrhead",11,"Hogs Farrow to Wean",7.04,6.11,9.3699999999999992,11.18,0.01,5.85]
[{"$f":"Table_BPU[[#This Row],[Risk Area]]&\" \"&Table_BPU[[#This Row],[BPU Description]]","v":"Beaver Hogs Farrow to Wean"},"Beaver",11,"Hogs Farrow to Wean",7.04,6.11,9.3699999999999992,11.18,0.01,5.85]
[{"$f":"Table_BPU[[#This Row],[Risk Area]]&\" \"&Table_BPU[[#This Row],[BPU Description]]","v":"Big Lakes Hogs Farrow to Wean"},"Big Lakes",11,"Hogs Farrow to Wean",7.04,6.11,9.3699999999999992,11.18,0.01,5.85]
[{"$f":"Table_BPU[[#This Row],[Risk Area]]&\" \"&Table_BPU[[#This Row],[BPU Description]]","v":"Bighorn Hogs Farrow to Wean"},"Bighorn",11,"Hogs Farrow to Wean",7.04,6.11,9.3699999999999992,11.18,0.01,5.85]
[{"$f":"Table_BPU[[#This Row],[Risk Area]]&\" \"&Table_BPU[[#This Row],[BPU Description]]","v":"Birch Hills Hogs Farrow to Wean"},"Birch Hills",11,"Hogs Farrow to Wean",7.04,6.11,9.3699999999999992,11.18,0.01,5.85]
[{"$f":"Table_BPU[[#This Row],[Risk Area]]&\" \"&Table_BPU[[#This Row],[BPU Description]]","v":"Bonnyville Hogs Farrow to Wean"},"Bonnyville",11,"Hogs Farrow to Wean",7.04,6.11,9.3699999999999992,11.18,0.01,5.85]
[{"$f":"Table_BPU[[#This Row],[Risk Area]]&\" \"&Table_BPU[[#This Row],[BPU Description]]","v":"Brazeau Hogs Farrow to Wean"},"Brazeau",11,"Hogs Farrow to Wean",7.04,6.11,9.3699999999999992,11.18,0.01,5.85]
[{"$f":"Table_BPU[[#This Row],[Risk Area]]&\" \"&Table_BPU[[#This Row],[BPU Description]]","v":"Camrose Hogs Farrow to Wean"},"Camrose",11,"Hogs Farrow to Wean",7.04,6.11,9.3699999999999992,11.18,0.01,5.85]
[{"$f":"Table_BPU[[#This Row],[Risk Area]]&\" \"&Table_BPU[[#This Row],[BPU Description]]","v":"Cardston Hogs Farrow to Wean"},"Cardston",11,"Hogs Farrow to Wean",7.04,6.11,9.3699999999999992,11.18,0.01,5.85]
[{"$f":"Table_BPU[[#This Row],[Risk Area]]&\" \"&Table_BPU[[#This Row],[BPU Description]]","v":"Clear Hills Hogs Farrow to Wean"},"Clear Hills",11,"Hogs Farrow to Wean",7.04,6.11,9.3699999999999992,11.18,0.01,5.85]
[{"$f":"Table_BPU[[#This Row],[Risk Area]]&\" \"&Table_BPU[[#This Row],[BPU Description]]","v":"Clearwater Hogs Farrow to Wean"},"Clearwater",11,"Hogs Farrow to Wean",7.04,6.11,9.3699999999999992,11.18,0.01,5.85]
[{"$f":"Table_BPU[[#This Row],[Risk Area]]&\" \"&Table_BPU[[#This Row],[BPU Description]]","v":"Cypress Hogs Farrow to Wean"},"Cypress",11,"Hogs Farrow to Wean",7.04,6.11,9.3699999999999992,11.18,0.01,5.85]
[{"$f":"Table_BPU[[#This Row],[Risk Area]]&\" \"&Table_BPU[[#This Row],[BPU Description]]","v":"Edmonton Hogs Farrow to Wean"},"Edmonton",11,"Hogs Farrow to Wean",7.04,6.11,9.3699999999999992,11.18,0.01,5.85]
[{"$f":"Table_BPU[[#This Row],[Risk Area]]&\" \"&Table_BPU[[#This Row],[BPU Description]]","v":"Fairview Hogs Farrow to Wean"},"Fairview",11,"Hogs Farrow to Wean",7.04,6.11,9.3699999999999992,11.18,0.01,5.85]
[{"$f":"Table_BPU[[#This Row],[Risk Area]]&\" \"&Table_BPU[[#This Row],[BPU Description]]","v":"Flagstaff Hogs Farrow to Wean"},"Flagstaff",11,"Hogs Farrow to Wean",7.04,6.11,9.3699999999999992,11.18,0.01,5.85]
[{"$f":"Table_BPU[[#This Row],[Risk Area]]&\" \"&Table_BPU[[#This Row],[BPU Description]]","v":"Foothills Hogs Farrow to Wean"},"Foothills",11,"Hogs Farrow to Wean",7.04,6.11,9.3699999999999992,11.18,0.01,5.85]
[{"$f":"Table_BPU[[#This Row],[Risk Area]]&\" \"&Table_BPU[[#This Row],[BPU Description]]","v":"Forty Mile Hogs Farrow to Wean"},"Forty Mile",11,"Hogs Farrow to Wean",7.04,6.11,9.3699999999999992,11.18,0.01,5.85]
[{"$f":"Table_BPU[[#This Row],[Risk Area]]&\" \"&Table_BPU[[#This Row],[BPU Description]]","v":"Grande Prairie Hogs Farrow to Wean"},"Grande Prairie",11,"Hogs Farrow to Wean",7.04,6.11,9.3699999999999992,11.18,0.01,5.85]
[{"$f":"Table_BPU[[#This Row],[Risk Area]]&\" \"&Table_BPU[[#This Row],[BPU Description]]","v":"Greenview Hogs Farrow to Wean"},"Greenview",11,"Hogs Farrow to Wean",7.04,6.11,9.3699999999999992,11.18,0.01,5.85]
[{"$f":"Table_BPU[[#This Row],[Risk Area]]&\" \"&Table_BPU[[#This Row],[BPU Description]]","v":"Kneehill Hogs Farrow to Wean"},"Kneehill",11,"Hogs Farrow to Wean",7.04,6.11,9.3699999999999992,11.18,0.01,5.85]
[{"$f":"Table_BPU[[#This Row],[Risk Area]]&\" \"&Table_BPU[[#This Row],[BPU Description]]","v":"Lac La Biche Hogs Farrow to Wean"},"Lac La Biche",11,"Hogs Farrow to Wean",7.04,6.11,9.3699999999999992,11.18,0.01,5.85]
[{"$f":"Table_BPU[[#This Row],[Risk Area]]&\" \"&Table_BPU[[#This Row],[BPU Description]]","v":"Lac Ste. Anne County Hogs Farrow to Wean"},"Lac Ste. Anne County",11,"Hogs Farrow to Wean",7.04,6.11,9.3699999999999992,11.18,0.01,5.85]
[{"$f":"Table_BPU[[#This Row],[Risk Area]]&\" \"&Table_BPU[[#This Row],[BPU Description]]","v":"Lacombe Hogs Farrow to Wean"},"Lacombe",11,"Hogs Farrow to Wean",7.04,6.11,9.3699999999999992,11.18,0.01,5.85]
[{"$f":"Table_BPU[[#This Row],[Risk Area]]&\" \"&Table_BPU[[#This Row],[BPU Description]]","v":"Lamont Hogs Farrow to Wean"},"Lamont",11,"Hogs Farrow to Wean",7.04,6.11,9.3699999999999992,11.18,0.01,5.85]
[{"$f":"Table_BPU[[#This Row],[Risk Area]]&\" \"&Table_BPU[[#This Row],[BPU Description]]","v":"Leduc Hogs Farrow to Wean"},"Leduc",11,"Hogs Farrow to Wean",7.04,6.11,9.3699999999999992,11.18,0.01,5.85]
[{"$f":"Table_BPU[[#This Row],[Risk Area]]&\" \"&Table_BPU[[#This Row],[BPU Description]]","v":"Lesser Slave River Hogs Farrow to Wean"},"Lesser Slave River",11,"Hogs Farrow to Wean",7.04,6.11,9.3699999999999992,11.18,0.01,5.85]
[{"$f":"Table_BPU[[#This Row],[Risk Area]]&\" \"&Table_BPU[[#This Row],[BPU Description]]","v":"Lethbridge Hogs Farrow to Wean"},"Lethbridge",11,"Hogs Farrow to Wean",7.04,6.11,9.3699999999999992,11.18,0.01,5.85]
[{"$f":"Table_BPU[[#This Row],[Risk Area]]&\" \"&Table_BPU[[#This Row],[BPU Description]]","v":"Mackenzie Hogs Farrow to Wean"},"Mackenzie",11,"Hogs Farrow to Wean",7.04,6.11,9.3699999999999992,11.18,0.01,5.85]
[{"$f":"Table_BPU[[#This Row],[Risk Area]]&\" \"&Table_BPU[[#This Row],[BPU Description]]","v":"Minburn Hogs Farrow to Wean"},"Minburn",11,"Hogs Farrow to Wean",7.04,6.11,9.3699999999999992,11.18,0.01,5.85]
[{"$f":"Table_BPU[[#This Row],[Risk Area]]&\" \"&Table_BPU[[#This Row],[BPU Description]]","v":"Mountain View Hogs Farrow to Wean"},"Mountain View",11,"Hogs Farrow to Wean",7.04,6.11,9.3699999999999992,11.18,0.01,5.85]
[{"$f":"Table_BPU[[#This Row],[Risk Area]]&\" \"&Table_BPU[[#This Row],[BPU Description]]","v":"Newell Hogs Farrow to Wean"},"Newell",11,"Hogs Farrow to Wean",7.04,6.11,9.3699999999999992,11.18,0.01,5.85]
[{"$f":"Table_BPU[[#This Row],[Risk Area]]&\" \"&Table_BPU[[#This Row],[BPU Description]]","v":"Northern Lights Hogs Farrow to Wean"},"Northern Lights",11,"Hogs Farrow to Wean",7.04,6.11,9.3699999999999992,11.18,0.01,5.85]
[{"$f":"Table_BPU[[#This Row],[Risk Area]]&\" \"&Table_BPU[[#This Row],[BPU Description]]","v":"Northern Sunrise Hogs Farrow to Wean"},"Northern Sunrise",11,"Hogs Farrow to Wean",7.04,6.11,9.3699999999999992,11.18,0.01,5.85]
[{"$f":"Table_BPU[[#This Row],[Risk Area]]&\" \"&Table_BPU[[#This Row],[BPU Description]]","v":"Opportunity Hogs Farrow to Wean"},"Opportunity",11,"Hogs Farrow to Wean",7.04,6.11,9.3699999999999992,11.18,0.01,5.85]
[{"$f":"Table_BPU[[#This Row],[Risk Area]]&\" \"&Table_BPU[[#This Row],[BPU Description]]","v":"Paintearth Hogs Farrow to Wean"},"Paintearth",11,"Hogs Farrow to Wean",7.04,6.11,9.3699999999999992,11.18,0.01,5.85]
[{"$f":"Table_BPU[[#This Row],[Risk Area]]&\" \"&Table_BPU[[#This Row],[BPU Description]]","v":"Parkland County Hogs Farrow to Wean"},"Parkland County",11,"Hogs Farrow to Wean",7.04,6.11,9.3699999999999992,11.18,0.01,5.85]
[{"$f":"Table_BPU[[#This Row],[Risk Area]]&\" \"&Table_BPU[[#This Row],[BPU Description]]","v":"Peace Hogs Farrow to Wean"},"Peace",11,"Hogs Farrow to Wean",7.04,6.11,9.3699999999999992,11.18,0.01,5.85]
[{"$f":"Table_BPU[[#This Row],[Risk Area]]&\" \"&Table_BPU[[#This Row],[BPU Description]]","v":"Pincher Creek Hogs Farrow to Wean"},"Pincher Creek",11,"Hogs Farrow to Wean",7.04,6.11,9.3699999999999992,11.18,0.01,5.85]
[{"$f":"Table_BPU[[#This Row],[Risk Area]]&\" \"&Table_BPU[[#This Row],[BPU Description]]","v":"Ponoka Hogs Farrow to Wean"},"Ponoka",11,"Hogs Farrow to Wean",7.04,6.11,9.3699999999999992,11.18,0.01,5.85]
[{"$f":"Table_BPU[[#This Row],[Risk Area]]&\" \"&Table_BPU[[#This Row],[BPU Description]]","v":"Provost Hogs Farrow to Wean"},"Provost",11,"Hogs Farrow to Wean",7.04,6.11,9.3699999999999992,11.18,0.01,5.85]
[{"$f":"Table_BPU[[#This Row],[Risk Area]]&\" \"&Table_BPU[[#This Row],[BPU Description]]","v":"Ranchland Hogs Farrow to Wean"},"Ranchland",11,"Hogs Farrow to Wean",7.04,6.11,9.3699999999999992,11.18,0.01,5.85]
[{"$f":"Table_BPU[[#This Row],[Risk Area]]&\" \"&Table_BPU[[#This Row],[BPU Description]]","v":"Red Deer Hogs Farrow to Wean"},"Red Deer",11,"Hogs Farrow to Wean",7.04,6.11,9.3699999999999992,11.18,0.01,5.85]
[{"$f":"Table_BPU[[#This Row],[Risk Area]]&\" \"&Table_BPU[[#This Row],[BPU Description]]","v":"Rocky View Hogs Farrow to Wean"},"Rocky View",11,"Hogs Farrow to Wean",7.04,6.11,9.3699999999999992,11.18,0.01,5.85]
[{"$f":"Table_BPU[[#This Row],[Risk Area]]&\" \"&Table_BPU[[#This Row],[BPU Description]]","v":"Saddle Hills Hogs Farrow to Wean"},"Saddle Hills",11,"Hogs Farrow to Wean",7.04,6.11,9.3699999999999992,11.18,0.01,5.85]
[{"$f":"Table_BPU[[#This Row],[Risk Area]]&\" \"&Table_BPU[[#This Row],[BPU Description]]","v":"Smoky Lake Hogs Farrow to Wean"},"Smoky Lake",11,"Hogs Farrow to Wean",7.04,6.11,9.3699999999999992,11.18,0.01,5.85]
[{"$f":"Table_BPU[[#This Row],[Risk Area]]&\" \"&Table_BPU[[#This Row],[BPU Description]]","v":"Smoky River Hogs Farrow to Wean"},"Smoky River",11,"Hogs Farrow to Wean",7.04,6.11,9.3699999999999992,11.18,0.01,5.85]
[{"$f":"Table_BPU[[#This Row],[Risk Area]]&\" \"&Table_BPU[[#This Row],[BPU Description]]","v":"Special Area 02 Hogs Farrow to Wean"},"Special Area 02",11,"Hogs Farrow to Wean",7.04,6.11,9.3699999999999992,11.18,0.01,5.85]
[{"$f":"Table_BPU[[#This Row],[Risk Area]]&\" \"&Table_BPU[[#This Row],[BPU Description]]","v":"Special Area 03 Hogs Farrow to Wean"},"Special Area 03",11,"Hogs Farrow to Wean",7.04,6.11,9.3699999999999992,11.18,0.01,5.85]
[{"$f":"Table_BPU[[#This Row],[Risk Area]]&\" \"&Table_BPU[[#This Row],[BPU Description]]","v":"Special Area 04 Hogs Farrow to Wean"},"Special Area 04",11,"Hogs Farrow to Wean",7.04,6.11,9.3699999999999992,11.18,0.01,5.85]
[{"$f":"Table_BPU[[#This Row],[Risk Area]]&\" \"&Table_BPU[[#This Row],[BPU Description]]","v":"Spirit River Hogs Farrow to Wean"},"Spirit River",11,"Hogs Farrow to Wean",7.04,6.11,9.3699999999999992,11.18,0.01,5.85]
[{"$f":"Table_BPU[[#This Row],[Risk Area]]&\" \"&Table_BPU[[#This Row],[BPU Description]]","v":"St. Paul Hogs Farrow to Wean"},"St. Paul",11,"Hogs Farrow to Wean",7.04,6.11,9.3699999999999992,11.18,0.01,5.85]
[{"$f":"Table_BPU[[#This Row],[Risk Area]]&\" \"&Table_BPU[[#This Row],[BPU Description]]","v":"Starland Hogs Farrow to Wean"},"Starland",11,"Hogs Farrow to Wean",7.04,6.11,9.3699999999999992,11.18,0.01,5.85]
[{"$f":"Table_BPU[[#This Row],[Risk Area]]&\" \"&Table_BPU[[#This Row],[BPU Description]]","v":"Stettler Hogs Farrow to Wean"},"Stettler",11,"Hogs Farrow to Wean",7.04,6.11,9.3699999999999992,11.18,0.01,5.85]
[{"$f":"Table_BPU[[#This Row],[Risk Area]]&\" \"&Table_BPU[[#This Row],[BPU Description]]","v":"Strathcona County Hogs Farrow to Wean"},"Strathcona County",11,"Hogs Farrow to Wean",7.04,6.11,9.3699999999999992,11.18,0.01,5.85]
[{"$f":"Table_BPU[[#This Row],[Risk Area]]&\" \"&Table_BPU[[#This Row],[BPU Description]]","v":"Sturgeon Hogs Farrow to Wean"},"Sturgeon",11,"Hogs Farrow to Wean",7.04,6.11,9.3699999999999992,11.18,0.01,5.85]
[{"$f":"Table_BPU[[#This Row],[Risk Area]]&\" \"&Table_BPU[[#This Row],[BPU Description]]","v":"Taber Hogs Farrow to Wean"},"Taber",11,"Hogs Farrow to Wean",7.04,6.11,9.3699999999999992,11.18,0.01,5.85]
[{"$f":"Table_BPU[[#This Row],[Risk Area]]&\" \"&Table_BPU[[#This Row],[BPU Description]]","v":"Thorhild Hogs Farrow to Wean"},"Thorhild",11,"Hogs Farrow to Wean",7.04,6.11,9.3699999999999992,11.18,0.01,5.85]
[{"$f":"Table_BPU[[#This Row],[Risk Area]]&\" \"&Table_BPU[[#This Row],[BPU Description]]","v":"Two Hills Hogs Farrow to Wean"},"Two Hills",11,"Hogs Farrow to Wean",7.04,6.11,9.3699999999999992,11.18,0.01,5.85]
[{"$f":"Table_BPU[[#This Row],[Risk Area]]&\" \"&Table_BPU[[#This Row],[BPU Description]]","v":"Vermilion River Hogs Farrow to Wean"},"Vermilion River",11,"Hogs Farrow to Wean",7.04,6.11,9.3699999999999992,11.18,0.01,5.85]
[{"$f":"Table_BPU[[#This Row],[Risk Area]]&\" \"&Table_BPU[[#This Row],[BPU Description]]","v":"Vulcan Hogs Farrow to Wean"},"Vulcan",11,"Hogs Farrow to Wean",7.04,6.11,9.3699999999999992,11.18,0.01,5.85]
[{"$f":"Table_BPU[[#This Row],[Risk Area]]&\" \"&Table_BPU[[#This Row],[BPU Description]]","v":"Wainwright Hogs Farrow to Wean"},"Wainwright",11,"Hogs Farrow to Wean",7.04,6.11,9.3699999999999992,11.18,0.01,5.85]
[{"$f":"Table_BPU[[#This Row],[Risk Area]]&\" \"&Table_BPU[[#This Row],[BPU Description]]","v":"Warner Hogs Farrow to Wean"},"Warner",11,"Hogs Farrow to Wean",7.04,6.11,9.3699999999999992,11.18,0.01,5.85]
[{"$f":"Table_BPU[[#This Row],[Risk Area]]&\" \"&Table_BPU[[#This Row],[BPU Description]]","v":"Westlock Hogs Farrow to Wean"},"Westlock",11,"Hogs Farrow to Wean",7.04,6.11,9.3699999999999992,11.18,0.01,5.85]
[{"$f":"Table_BPU[[#This Row],[Risk Area]]&\" \"&Table_BPU[[#This Row],[BPU Description]]","v":"Wetaskiwin Hogs Farrow to Wean"},"Wetaskiwin",11,"Hogs Farrow to Wean",7.04,6.11,9.3699999999999992,11.18,0.01,5.85]
[{"$f":"Table_BPU[[#This Row],[Risk Area]]&\" \"&Table_BPU[[#This Row],[BPU Description]]","v":"Wheatland Hogs Farrow to Wean"},"Wheatland",11,"Hogs Farrow to Wean",7.04,6.11,9.3699999999999992,11.18,0.01,5.85]
[{"$f":"Table_BPU[[#This Row],[Risk Area]]&\" \"&Table_BPU[[#This Row],[BPU Description]]","v":"Willow Creek Hogs Farrow to Wean"},"Willow Creek",11,"Hogs Farrow to Wean",7.04,6.11,9.3699999999999992,11.18,0.01,5.85]
[{"$f":"Table_BPU[[#This Row],[Risk Area]]&\" \"&Table_BPU[[#This Row],[BPU Description]]","v":"Wood Buffalo Hogs Farrow to Wean"},"Wood Buffalo",11,"Hogs Farrow to Wean",7.04,6.11,9.3699999999999992,11.18,0.01,5.85]
[{"$f":"Table_BPU[[#This Row],[Risk Area]]&\" \"&Table_BPU[[#This Row],[BPU Description]]","v":"Woodlands Hogs Farrow to Wean"},"Woodlands",11,"Hogs Farrow to Wean",7.04,6.11,9.3699999999999992,11.18,0.01,5.85]
[{"$f":"Table_BPU[[#This Row],[Risk Area]]&\" \"&Table_BPU[[#This Row],[BPU Description]]","v":"Yellowhead Hogs Farrow to Wean"},"Yellowhead",11,"Hogs Farrow to Wean",7.04,6.11,9.3699999999999992,11.18,0.01,5.85]
[{"$f":"Table_BPU[[#This Row],[Risk Area]]&\" \"&Table_BPU[[#This Row],[BPU Description]]","v":"Acadia Hogs Wean to Finish"},"Acadia",10,"Hogs Wean to Finish",0.01,0.01,0.79,1.75,0.35,0.01]
[{"$f":"Table_BPU[[#This Row],[Risk Area]]&\" \"&Table_BPU[[#This Row],[BPU Description]]","v":"Athabasca Hogs Wean to Finish"},"Athabasca",10,"Hogs Wean to Finish",0.01,0.01,0.79,1.75,0.35,0.01]
[{"$f":"Table_BPU[[#This Row],[Risk Area]]&\" \"&Table_BPU[[#This Row],[BPU Description]]","v":"Barrhead Hogs Wean to Finish"},"Barrhead",10,"Hogs Wean to Finish",0.01,0.01,0.79,1.75,0.35,0.01]
[{"$f":"Table_BPU[[#This Row],[Risk Area]]&\" \"&Table_BPU[[#This Row],[BPU Description]]","v":"Beaver Hogs Wean to Finish"},"Beaver",10,"Hogs Wean to Finish",0.01,0.01,0.79,1.75,0.35,0.01]
[{"$f":"Table_BPU[[#This Row],[Risk Area]]&\" \"&Table_BPU[[#This Row],[BPU Description]]","v":"Big Lakes Hogs Wean to Finish"},"Big Lakes",10,"Hogs Wean to Finish",0.01,0.01,0.79,1.75,0.35,0.01]
[{"$f":"Table_BPU[[#This Row],[Risk Area]]&\" \"&Table_BPU[[#This Row],[BPU Description]]","v":"Bighorn Hogs Wean to Finish"},"Bighorn",10,"Hogs Wean to Finish",0.01,0.01,0.79,1.75,0.35,0.01]
[{"$f":"Table_BPU[[#This Row],[Risk Area]]&\" \"&Table_BPU[[#This Row],[BPU Description]]","v":"Birch Hills Hogs Wean to Finish"},"Birch Hills",10,"Hogs Wean to Finish",0.01,0.01,0.79,1.75,0.35,0.01]
[{"$f":"Table_BPU[[#This Row],[Risk Area]]&\" \"&Table_BPU[[#This Row],[BPU Description]]","v":"Bonnyville Hogs Wean to Finish"},"Bonnyville",10,"Hogs Wean to Finish",0.01,0.01,0.79,1.75,0.35,0.01]
[{"$f":"Table_BPU[[#This Row],[Risk Area]]&\" \"&Table_BPU[[#This Row],[BPU Description]]","v":"Brazeau Hogs Wean to Finish"},"Brazeau",10,"Hogs Wean to Finish",0.01,0.01,0.79,1.75,0.35,0.01]
[{"$f":"Table_BPU[[#This Row],[Risk Area]]&\" \"&Table_BPU[[#This Row],[BPU Description]]","v":"Camrose Hogs Wean to Finish"},"Camrose",10,"Hogs Wean to Finish",0.01,0.01,0.79,1.75,0.35,0.01]
[{"$f":"Table_BPU[[#This Row],[Risk Area]]&\" \"&Table_BPU[[#This Row],[BPU Description]]","v":"Cardston Hogs Wean to Finish"},"Cardston",10,"Hogs Wean to Finish",0.01,0.01,0.79,1.75,0.35,0.01]
[{"$f":"Table_BPU[[#This Row],[Risk Area]]&\" \"&Table_BPU[[#This Row],[BPU Description]]","v":"Clear Hills Hogs Wean to Finish"},"Clear Hills",10,"Hogs Wean to Finish",0.01,0.01,0.79,1.75,0.35,0.01]
[{"$f":"Table_BPU[[#This Row],[Risk Area]]&\" \"&Table_BPU[[#This Row],[BPU Description]]","v":"Clearwater Hogs Wean to Finish"},"Clearwater",10,"Hogs Wean to Finish",0.01,0.01,0.79,1.75,0.35,0.01]
[{"$f":"Table_BPU[[#This Row],[Risk Area]]&\" \"&Table_BPU[[#This Row],[BPU Description]]","v":"Cypress Hogs Wean to Finish"},"Cypress",10,"Hogs Wean to Finish",0.01,0.01,0.79,1.75,0.35,0.01]
[{"$f":"Table_BPU[[#This Row],[Risk Area]]&\" \"&Table_BPU[[#This Row],[BPU Description]]","v":"Edmonton Hogs Wean to Finish"},"Edmonton",10,"Hogs Wean to Finish",0.01,0.01,0.79,1.75,0.35,0.01]
[{"$f":"Table_BPU[[#This Row],[Risk Area]]&\" \"&Table_BPU[[#This Row],[BPU Description]]","v":"Fairview Hogs Wean to Finish"},"Fairview",10,"Hogs Wean to Finish",0.01,0.01,0.79,1.75,0.35,0.01]
[{"$f":"Table_BPU[[#This Row],[Risk Area]]&\" \"&Table_BPU[[#This Row],[BPU Description]]","v":"Flagstaff Hogs Wean to Finish"},"Flagstaff",10,"Hogs Wean to Finish",0.01,0.01,0.79,1.75,0.35,0.01]
[{"$f":"Table_BPU[[#This Row],[Risk Area]]&\" \"&Table_BPU[[#This Row],[BPU Description]]","v":"Foothills Hogs Wean to Finish"},"Foothills",10,"Hogs Wean to Finish",0.01,0.01,0.79,1.75,0.35,0.01]
[{"$f":"Table_BPU[[#This Row],[Risk Area]]&\" \"&Table_BPU[[#This Row],[BPU Description]]","v":"Forty Mile Hogs Wean to Finish"},"Forty Mile",10,"Hogs Wean to Finish",0.01,0.01,0.79,1.75,0.35,0.01]
[{"$f":"Table_BPU[[#This Row],[Risk Area]]&\" \"&Table_BPU[[#This Row],[BPU Description]]","v":"Grande Prairie Hogs Wean to Finish"},"Grande Prairie",10,"Hogs Wean to Finish",0.01,0.01,0.79,1.75,0.35,0.01]
[{"$f":"Table_BPU[[#This Row],[Risk Area]]&\" \"&Table_BPU[[#This Row],[BPU Description]]","v":"Greenview Hogs Wean to Finish"},"Greenview",10,"Hogs Wean to Finish",0.01,0.01,0.79,1.75,0.35,0.01]
[{"$f":"Table_BPU[[#This Row],[Risk Area]]&\" \"&Table_BPU[[#This Row],[BPU Description]]","v":"Kneehill Hogs Wean to Finish"},"Kneehill",10,"Hogs Wean to Finish",0.01,0.01,0.79,1.75,0.35,0.01]
[{"$f":"Table_BPU[[#This Row],[Risk Area]]&\" \"&Table_BPU[[#This Row],[BPU Description]]","v":"Lac La Biche Hogs Wean to Finish"},"Lac La Biche",10,"Hogs Wean to Finish",0.01,0.01,0.79,1.75,0.35,0.01]
[{"$f":"Table_BPU[[#This Row],[Risk Area]]&\" \"&Table_BPU[[#This Row],[BPU Description]]","v":"Lac Ste. Anne County Hogs Wean to Finish"},"Lac Ste. Anne County",10,"Hogs Wean to Finish",0.01,0.01,0.79,1.75,0.35,0.01]
[{"$f":"Table_BPU[[#This Row],[Risk Area]]&\" \"&Table_BPU[[#This Row],[BPU Description]]","v":"Lacombe Hogs Wean to Finish"},"Lacombe",10,"Hogs Wean to Finish",0.01,0.01,0.79,1.75,0.35,0.01]
[{"$f":"Table_BPU[[#This Row],[Risk Area]]&\" \"&Table_BPU[[#This Row],[BPU Description]]","v":"Lamont Hogs Wean to Finish"},"Lamont",10,"Hogs Wean to Finish",0.01,0.01,0.79,1.75,0.35,0.01]
[{"$f":"Table_BPU[[#This Row],[Risk Area]]&\" \"&Table_BPU[[#This Row],[BPU Description]]","v":"Leduc Hogs Wean to Finish"},"Leduc",10,"Hogs Wean to Finish",0.01,0.01,0.79,1.75,0.35,0.01]
[{"$f":"Table_BPU[[#This Row],[Risk Area]]&\" \"&Table_BPU[[#This Row],[BPU Description]]","v":"Lesser Slave River Hogs Wean to Finish"},"Lesser Slave River",10,"Hogs Wean to Finish",0.01,0.01,0.79,1.75,0.35,0.01]
[{"$f":"Table_BPU[[#This Row],[Risk Area]]&\" \"&Table_BPU[[#This Row],[BPU Description]]","v":"Lethbridge Hogs Wean to Finish"},"Lethbridge",10,"Hogs Wean to Finish",0.01,0.01,0.79,1.75,0.35,0.01]
[{"$f":"Table_BPU[[#This Row],[Risk Area]]&\" \"&Table_BPU[[#This Row],[BPU Description]]","v":"Mackenzie Hogs Wean to Finish"},"Mackenzie",10,"Hogs Wean to Finish",0.01,0.01,0.79,1.75,0.35,0.01]
[{"$f":"Table_BPU[[#This Row],[Risk Area]]&\" \"&Table_BPU[[#This Row],[BPU Description]]","v":"Minburn Hogs Wean to Finish"},"Minburn",10,"Hogs Wean to Finish",0.01,0.01,0.79,1.75,0.35,0.01]
[{"$f":"Table_BPU[[#This Row],[Risk Area]]&\" \"&Table_BPU[[#This Row],[BPU Description]]","v":"Mountain View Hogs Wean to Finish"},"Mountain View",10,"Hogs Wean to Finish",0.01,0.01,0.79,1.75,0.35,0.01]
[{"$f":"Table_BPU[[#This Row],[Risk Area]]&\" \"&Table_BPU[[#This Row],[BPU Description]]","v":"Newell Hogs Wean to Finish"},"Newell",10,"Hogs Wean to Finish",0.01,0.01,0.79,1.75,0.35,0.01]
[{"$f":"Table_BPU[[#This Row],[Risk Area]]&\" \"&Table_BPU[[#This Row],[BPU Description]]","v":"Northern Lights Hogs Wean to Finish"},"Northern Lights",10,"Hogs Wean to Finish",0.01,0.01,0.79,1.75,0.35,0.01]
[{"$f":"Table_BPU[[#This Row],[Risk Area]]&\" \"&Table_BPU[[#This Row],[BPU Description]]","v":"Northern Sunrise Hogs Wean to Finish"},"Northern Sunrise",10,"Hogs Wean to Finish",0.01,0.01,0.79,1.75,0.35,0.01]
[{"$f":"Table_BPU[[#This Row],[Risk Area]]&\" \"&Table_BPU[[#This Row],[BPU Description]]","v":"Opportunity Hogs Wean to Finish"},"Opportunity",10,"Hogs Wean to Finish",0.01,0.01,0.79,1.75,0.35,0.01]
[{"$f":"Table_BPU[[#This Row],[Risk Area]]&\" \"&Table_BPU[[#This Row],[BPU Description]]","v":"Paintearth Hogs Wean to Finish"},"Paintearth",10,"Hogs Wean to Finish",0.01,0.01,0.79,1.75,0.35,0.01]
[{"$f":"Table_BPU[[#This Row],[Risk Area]]&\" \"&Table_BPU[[#This Row],[BPU Description]]","v":"Parkland County Hogs Wean to Finish"},"Parkland County",10,"Hogs Wean to Finish",0.01,0.01,0.79,1.75,0.35,0.01]
[{"$f":"Table_BPU[[#This Row],[Risk Area]]&\" \"&Table_BPU[[#This Row],[BPU Description]]","v":"Peace Hogs Wean to Finish"},"Peace",10,"Hogs Wean to Finish",0.01,0.01,0.79,1.75,0.35,0.01]
[{"$f":"Table_BPU[[#This Row],[Risk Area]]&\" \"&Table_BPU[[#This Row],[BPU Description]]","v":"Pincher Creek Hogs Wean to Finish"},"Pincher Creek",10,"Hogs Wean to Finish",0.01,0.01,0.79,1.75,0.35,0.01]
[{"$f":"Table_BPU[[#This Row],[Risk Area]]&\" \"&Table_BPU[[#This Row],[BPU Description]]","v":"Ponoka Hogs Wean to Finish"},"Ponoka",10,"Hogs Wean to Finish",0.01,0.01,0.79,1.75,0.35,0.01]
[{"$f":"Table_BPU[[#This Row],[Risk Area]]&\" \"&Table_BPU[[#This Row],[BPU Description]]","v":"Provost Hogs Wean to Finish"},"Provost",10,"Hogs Wean to Finish",0.01,0.01,0.79,1.75,0.35,0.01]
[{"$f":"Table_BPU[[#This Row],[Risk Area]]&\" \"&Table_BPU[[#This Row],[BPU Description]]","v":"Ranchland Hogs Wean to Finish"},"Ranchland",10,"Hogs Wean to Finish",0.01,0.01,0.79,1.75,0.35,0.01]
[{"$f":"Table_BPU[[#This Row],[Risk Area]]&\" \"&Table_BPU[[#This Row],[BPU Description]]","v":"Red Deer Hogs Wean to Finish"},"Red Deer",10,"Hogs Wean to Finish",0.01,0.01,0.79,1.75,0.35,0.01]
[{"$f":"Table_BPU[[#This Row],[Risk Area]]&\" \"&Table_BPU[[#This Row],[BPU Description]]","v":"Rocky View Hogs Wean to Finish"},"Rocky View",10,"Hogs Wean to Finish",0.01,0.01,0.79,1.75,0.35,0.01]
[{"$f":"Table_BPU[[#This Row],[Risk Area]]&\" \"&Table_BPU[[#This Row],[BPU Description]]","v":"Saddle Hills Hogs Wean to Finish"},"Saddle Hills",10,"Hogs Wean to Finish",0.01,0.01,0.79,1.75,0.35,0.01]
[{"$f":"Table_BPU[[#This Row],[Risk Area]]&\" \"&Table_BPU[[#This Row],[BPU Description]]","v":"Smoky Lake Hogs Wean to Finish"},"Smoky Lake",10,"Hogs Wean to Finish",0.01,0.01,0.79,1.75,0.35,0.01]
[{"$f":"Table_BPU[[#This Row],[Risk Area]]&\" \"&Table_BPU[[#This Row],[BPU Description]]","v":"Smoky River Hogs Wean to Finish"},"Smoky River",10,"Hogs Wean to Finish",0.01,0.01,0.79,1.75,0.35,0.01]
[{"$f":"Table_BPU[[#This Row],[Risk Area]]&\" \"&Table_BPU[[#This Row],[BPU Description]]","v":"Special Area 02 Hogs Wean to Finish"},"Special Area 02",10,"Hogs Wean to Finish",0.01,0.01,0.79,1.75,0.35,0.01]
[{"$f":"Table_BPU[[#This Row],[Risk Area]]&\" \"&Table_BPU[[#This Row],[BPU Description]]","v":"Special Area 03 Hogs Wean to Finish"},"Special Area 03",10,"Hogs Wean to Finish",0.01,0.01,0.79,1.75,0.35,0.01]
[{"$f":"Table_BPU[[#This Row],[Risk Area]]&\" \"&Table_BPU[[#This Row],[BPU Description]]","v":"Special Area 04 Hogs Wean to Finish"},"Special Area 04",10,"Hogs Wean to Finish",0.01,0.01,0.79,1.75,0.35,0.01]
[{"$f":"Table_BPU[[#This Row],[Risk Area]]&\" \"&Table_BPU[[#This Row],[BPU Description]]","v":"Spirit River Hogs Wean to Finish"},"Spirit River",10,"Hogs Wean to Finish",0.01,0.01,0.79,1.75,0.35,0.01]
[{"$f":"Table_BPU[[#This Row],[Risk Area]]&\" \"&Table_BPU[[#This Row],[BPU Description]]","v":"St. Paul Hogs Wean to Finish"},"St. Paul",10,"Hogs Wean to Finish",0.01,0.01,0.79,1.75,0.35,0.01]
[{"$f":"Table_BPU[[#This Row],[Risk Area]]&\" \"&Table_BPU[[#This Row],[BPU Description]]","v":"Starland Hogs Wean to Finish"},"Starland",10,"Hogs Wean to Finish",0.01,0.01,0.79,1.75,0.35,0.01]
[{"$f":"Table_BPU[[#This Row],[Risk Area]]&\" \"&Table_BPU[[#This Row],[BPU Description]]","v":"Stettler Hogs Wean to Finish"},"Stettler",10,"Hogs Wean to Finish",0.01,0.01,0.79,1.75,0.35,0.01]
[{"$f":"Table_BPU[[#This Row],[Risk Area]]&\" \"&Table_BPU[[#This Row],[BPU Description]]","v":"Strathcona County Hogs Wean to Finish"},"Strathcona County",10,"Hogs Wean to Finish",0.01,0.01,0.79,1.75,0.35,0.01]
[{"$f":"Table_BPU[[#This Row],[Risk Area]]&\" \"&Table_BPU[[#This Row],[BPU Description]]","v":"Sturgeon Hogs Wean to Finish"},"Sturgeon",10,"Hogs Wean to Finish",0.01,0.01,0.79,1.75,0.35,0.01]
[{"$f":"Table_BPU[[#This Row],[Risk Area]]&\" \"&Table_BPU[[#This Row],[BPU Description]]","v":"Taber Hogs Wean to Finish"},"Taber",10,"Hogs Wean to Finish",0.01,0.01,0.79,1.75,0.35,0.01]
[{"$f":"Table_BPU[[#This Row],[Risk Area]]&\" \"&Table_BPU[[#This Row],[BPU Description]]","v":"Thorhild Hogs Wean to Finish"},"Thorhild",10,"Hogs Wean to Finish",0.01,0.01,0.79,1.75,0.35,0.01]
[{"$f":"Table_BPU[[#This Row],[Risk Area]]&\" \"&Table_BPU[[#This Row],[BPU Description]]","v":"Two Hills Hogs Wean to Finish"},"Two Hills",10,"Hogs Wean to Finish",0.01,0.01,0.79,1.75,0.35,0.01]
[{"$f":"Table_BPU[[#This Row],[Risk Area]]&\" \"&Table_BPU[[#This Row],[BPU Description]]","v":"Vermilion River Hogs Wean to Finish"},"Vermilion River",10,"Hogs Wean to Finish",0.01,0.01,0.79,1.75,0.35,0.01]
[{"$f":"Table_BPU[[#This Row],[Risk Area]]&\" \"&Table_BPU[[#This Row],[BPU Description]]","v":"Vulcan Hogs Wean to Finish"},"Vulcan",10,"Hogs Wean to Finish",0.01,0.01,0.79,1.75,0.35,0.01]
[{"$f":"Table_BPU[[#This Row],[Risk Area]]&\" \"&Table_BPU[[#This Row],[BPU Description]]","v":"Wainwright Hogs Wean to Finish"},"Wainwright",10,"Hogs Wean to Finish",0.01,0.01,0.79,1.75,0.35,0.01]
[{"$f":"Table_BPU[[#This Row],[Risk Area]]&\" \"&Table_BPU[[#This Row],[BPU Description]]","v":"Warner Hogs Wean to Finish"},"Warner",10,"Hogs Wean to Finish",0.01,0.01,0.79,1.75,0.35,0.01]
[{"$f":"Table_BPU[[#This Row],[Risk Area]]&\" \"&Table_BPU[[#This Row],[BPU Description]]","v":"Westlock Hogs Wean to Finish"},"Westlock",10,"Hogs Wean to Finish",0.01,0.01,0.79,1.75,0.35,0.01]
[{"$f":"Table_BPU[[#This Row],[Risk Area]]&\" \"&Table_BPU[[#This Row],[BPU Description]]","v":"Wetaskiwin Hogs Wean to Finish"},"Wetaskiwin",10,"Hogs Wean to Finish",0.01,0.01,0.79,1.75,0.35,0.01]
[{"$f":"Table_BPU[[#This Row],[Risk Area]]&\" \"&Table_BPU[[#This Row],[BPU Description]]","v":"Wheatland Hogs Wean to Finish"},"Wheatland",10,"Hogs Wean to Finish",0.01,0.01,0.79,1.75,0.35,0.01]
[{"$f":"Table_BPU[[#This Row],[Risk Area]]&\" \"&Table_BPU[[#This Row],[BPU Description]]","v":"Willow Creek Hogs Wean to Finish"},"Willow Creek",10,"Hogs Wean to Finish",0.01,0.01,0.79,1.75,0.35,0.01]
[{"$f":"Table_BPU[[#This Row],[Risk Area]]&\" \"&Table_BPU[[#This Row],[BPU Description]]","v":"Wood Buffalo Hogs Wean to Finish"},"Wood Buffalo",10,"Hogs Wean to Finish",0.01,0.01,0.79,1.75,0.35,0.01]
[{"$f":"Table_BPU[[#This Row],[Risk Area]]&\" \"&Table_BPU[[#This Row],[BPU Description]]","v":"Woodlands Hogs Wean to Finish"},"Woodlands",10,"Hogs Wean to Finish",0.01,0.01,0.79,1.75,0.35,0.01]
[{"$f":"Table_BPU[[#This Row],[Risk Area]]&\" \"&Table_BPU[[#This Row],[BPU Description]]","v":"Yellowhead Hogs Wean to Finish"},"Yellowhead",10,"Hogs Wean to Finish",0.01,0.01,0.79,1.75,0.35,0.01]
[{"$f":"Table_BPU[[#This Row],[Risk Area]]&\" \"&Table_BPU[[#This Row],[BPU Description]]","v":"Acadia Honey (per Hive)"},"Acadia",78,"Honey (per Hive)",59.44,109.22,154.28,152.38999999999999,175.04,130.08000000000001]
[{"$f":"Table_BPU[[#This Row],[Risk Area]]&\" \"&Table_BPU[[#This Row],[BPU Description]]","v":"Athabasca Honey (per Hive)"},"Athabasca",78,"Honey (per Hive)",59.44,109.22,154.28,152.38999999999999,175.04,130.08000000000001]
[{"$f":"Table_BPU[[#This Row],[Risk Area]]&\" \"&Table_BPU[[#This Row],[BPU Description]]","v":"Barrhead Honey (per Hive)"},"Barrhead",78,"Honey (per Hive)",59.44,109.22,154.28,152.38999999999999,175.04,130.08000000000001]
[{"$f":"Table_BPU[[#This Row],[Risk Area]]&\" \"&Table_BPU[[#This Row],[BPU Description]]","v":"Beaver Honey (per Hive)"},"Beaver",78,"Honey (per Hive)",59.44,109.22,154.28,152.38999999999999,175.04,130.08000000000001]
[{"$f":"Table_BPU[[#This Row],[Risk Area]]&\" \"&Table_BPU[[#This Row],[BPU Description]]","v":"Big Lakes Honey (per Hive)"},"Big Lakes",78,"Honey (per Hive)",59.44,109.22,154.28,152.38999999999999,175.04,130.08000000000001]
[{"$f":"Table_BPU[[#This Row],[Risk Area]]&\" \"&Table_BPU[[#This Row],[BPU Description]]","v":"Bighorn Honey (per Hive)"},"Bighorn",78,"Honey (per Hive)",59.44,109.22,154.28,152.38999999999999,175.04,130.08000000000001]
[{"$f":"Table_BPU[[#This Row],[Risk Area]]&\" \"&Table_BPU[[#This Row],[BPU Description]]","v":"Birch Hills Honey (per Hive)"},"Birch Hills",78,"Honey (per Hive)",59.44,109.22,154.28,152.38999999999999,175.04,130.08000000000001]
[{"$f":"Table_BPU[[#This Row],[Risk Area]]&\" \"&Table_BPU[[#This Row],[BPU Description]]","v":"Bonnyville Honey (per Hive)"},"Bonnyville",78,"Honey (per Hive)",59.44,109.22,154.28,152.38999999999999,175.04,130.08000000000001]
[{"$f":"Table_BPU[[#This Row],[Risk Area]]&\" \"&Table_BPU[[#This Row],[BPU Description]]","v":"Brazeau Honey (per Hive)"},"Brazeau",78,"Honey (per Hive)",59.44,109.22,154.28,152.38999999999999,175.04,130.08000000000001]
[{"$f":"Table_BPU[[#This Row],[Risk Area]]&\" \"&Table_BPU[[#This Row],[BPU Description]]","v":"Camrose Honey (per Hive)"},"Camrose",78,"Honey (per Hive)",59.44,109.22,154.28,152.38999999999999,175.04,130.08000000000001]
[{"$f":"Table_BPU[[#This Row],[Risk Area]]&\" \"&Table_BPU[[#This Row],[BPU Description]]","v":"Cardston Honey (per Hive)"},"Cardston",78,"Honey (per Hive)",59.44,109.22,154.28,152.38999999999999,175.04,130.08000000000001]
[{"$f":"Table_BPU[[#This Row],[Risk Area]]&\" \"&Table_BPU[[#This Row],[BPU Description]]","v":"Clear Hills Honey (per Hive)"},"Clear Hills",78,"Honey (per Hive)",59.44,109.22,154.28,152.38999999999999,175.04,130.08000000000001]
[{"$f":"Table_BPU[[#This Row],[Risk Area]]&\" \"&Table_BPU[[#This Row],[BPU Description]]","v":"Clearwater Honey (per Hive)"},"Clearwater",78,"Honey (per Hive)",59.44,109.22,154.28,152.38999999999999,175.04,130.08000000000001]
[{"$f":"Table_BPU[[#This Row],[Risk Area]]&\" \"&Table_BPU[[#This Row],[BPU Description]]","v":"Cypress Honey (per Hive)"},"Cypress",78,"Honey (per Hive)",59.44,109.22,154.28,152.38999999999999,175.04,130.08000000000001]
[{"$f":"Table_BPU[[#This Row],[Risk Area]]&\" \"&Table_BPU[[#This Row],[BPU Description]]","v":"Edmonton Honey (per Hive)"},"Edmonton",78,"Honey (per Hive)",59.44,109.22,154.28,152.38999999999999,175.04,130.08000000000001]
[{"$f":"Table_BPU[[#This Row],[Risk Area]]&\" \"&Table_BPU[[#This Row],[BPU Description]]","v":"Fairview Honey (per Hive)"},"Fairview",78,"Honey (per Hive)",59.44,109.22,154.28,152.38999999999999,175.04,130.08000000000001]
[{"$f":"Table_BPU[[#This Row],[Risk Area]]&\" \"&Table_BPU[[#This Row],[BPU Description]]","v":"Flagstaff Honey (per Hive)"},"Flagstaff",78,"Honey (per Hive)",59.44,109.22,154.28,152.38999999999999,175.04,130.08000000000001]
[{"$f":"Table_BPU[[#This Row],[Risk Area]]&\" \"&Table_BPU[[#This Row],[BPU Description]]","v":"Foothills Honey (per Hive)"},"Foothills",78,"Honey (per Hive)",59.44,109.22,154.28,152.38999999999999,175.04,130.08000000000001]
[{"$f":"Table_BPU[[#This Row],[Risk Area]]&\" \"&Table_BPU[[#This Row],[BPU Description]]","v":"Forty Mile Honey (per Hive)"},"Forty Mile",78,"Honey (per Hive)",59.44,109.22,154.28,152.38999999999999,175.04,130.08000000000001]
[{"$f":"Table_BPU[[#This Row],[Risk Area]]&\" \"&Table_BPU[[#This Row],[BPU Description]]","v":"Grande Prairie Honey (per Hive)"},"Grande Prairie",78,"Honey (per Hive)",59.44,109.22,154.28,152.38999999999999,175.04,130.08000000000001]
[{"$f":"Table_BPU[[#This Row],[Risk Area]]&\" \"&Table_BPU[[#This Row],[BPU Description]]","v":"Greenview Honey (per Hive)"},"Greenview",78,"Honey (per Hive)",59.44,109.22,154.28,152.38999999999999,175.04,130.08000000000001]
[{"$f":"Table_BPU[[#This Row],[Risk Area]]&\" \"&Table_BPU[[#This Row],[BPU Description]]","v":"Kneehill Honey (per Hive)"},"Kneehill",78,"Honey (per Hive)",59.44,109.22,154.28,152.38999999999999,175.04,130.08000000000001]
[{"$f":"Table_BPU[[#This Row],[Risk Area]]&\" \"&Table_BPU[[#This Row],[BPU Description]]","v":"Lac La Biche Honey (per Hive)"},"Lac La Biche",78,"Honey (per Hive)",59.44,109.22,154.28,152.38999999999999,175.04,130.08000000000001]
[{"$f":"Table_BPU[[#This Row],[Risk Area]]&\" \"&Table_BPU[[#This Row],[BPU Description]]","v":"Lac Ste. Anne County Honey (per Hive)"},"Lac Ste. Anne County",78,"Honey (per Hive)",59.44,109.22,154.28,152.38999999999999,175.04,130.08000000000001]
[{"$f":"Table_BPU[[#This Row],[Risk Area]]&\" \"&Table_BPU[[#This Row],[BPU Description]]","v":"Lacombe Honey (per Hive)"},"Lacombe",78,"Honey (per Hive)",59.44,109.22,154.28,152.38999999999999,175.04,130.08000000000001]
[{"$f":"Table_BPU[[#This Row],[Risk Area]]&\" \"&Table_BPU[[#This Row],[BPU Description]]","v":"Lamont Honey (per Hive)"},"Lamont",78,"Honey (per Hive)",59.44,109.22,154.28,152.38999999999999,175.04,130.08000000000001]
[{"$f":"Table_BPU[[#This Row],[Risk Area]]&\" \"&Table_BPU[[#This Row],[BPU Description]]","v":"Leduc Honey (per Hive)"},"Leduc",78,"Honey (per Hive)",59.44,109.22,154.28,152.38999999999999,175.04,130.08000000000001]
[{"$f":"Table_BPU[[#This Row],[Risk Area]]&\" \"&Table_BPU[[#This Row],[BPU Description]]","v":"Lesser Slave River Honey (per Hive)"},"Lesser Slave River",78,"Honey (per Hive)",59.44,109.22,154.28,152.38999999999999,175.04,130.08000000000001]
[{"$f":"Table_BPU[[#This Row],[Risk Area]]&\" \"&Table_BPU[[#This Row],[BPU Description]]","v":"Lethbridge Honey (per Hive)"},"Lethbridge",78,"Honey (per Hive)",59.44,109.22,154.28,152.38999999999999,175.04,130.08000000000001]
[{"$f":"Table_BPU[[#This Row],[Risk Area]]&\" \"&Table_BPU[[#This Row],[BPU Description]]","v":"Mackenzie Honey (per Hive)"},"Mackenzie",78,"Honey (per Hive)",59.44,109.22,154.28,152.38999999999999,175.04,130.08000000000001]
[{"$f":"Table_BPU[[#This Row],[Risk Area]]&\" \"&Table_BPU[[#This Row],[BPU Description]]","v":"Minburn Honey (per Hive)"},"Minburn",78,"Honey (per Hive)",59.44,109.22,154.28,152.38999999999999,175.04,130.08000000000001]
[{"$f":"Table_BPU[[#This Row],[Risk Area]]&\" \"&Table_BPU[[#This Row],[BPU Description]]","v":"Mountain View Honey (per Hive)"},"Mountain View",78,"Honey (per Hive)",59.44,109.22,154.28,152.38999999999999,175.04,130.08000000000001]
[{"$f":"Table_BPU[[#This Row],[Risk Area]]&\" \"&Table_BPU[[#This Row],[BPU Description]]","v":"Newell Honey (per Hive)"},"Newell",78,"Honey (per Hive)",59.44,109.22,154.28,152.38999999999999,175.04,130.08000000000001]
[{"$f":"Table_BPU[[#This Row],[Risk Area]]&\" \"&Table_BPU[[#This Row],[BPU Description]]","v":"Northern Lights Honey (per Hive)"},"Northern Lights",78,"Honey (per Hive)",59.44,109.22,154.28,152.38999999999999,175.04,130.08000000000001]
[{"$f":"Table_BPU[[#This Row],[Risk Area]]&\" \"&Table_BPU[[#This Row],[BPU Description]]","v":"Northern Sunrise Honey (per Hive)"},"Northern Sunrise",78,"Honey (per Hive)",59.44,109.22,154.28,152.38999999999999,175.04,130.08000000000001]
[{"$f":"Table_BPU[[#This Row],[Risk Area]]&\" \"&Table_BPU[[#This Row],[BPU Description]]","v":"Opportunity Honey (per Hive)"},"Opportunity",78,"Honey (per Hive)",59.44,109.22,154.28,152.38999999999999,175.04,130.08000000000001]
[{"$f":"Table_BPU[[#This Row],[Risk Area]]&\" \"&Table_BPU[[#This Row],[BPU Description]]","v":"Paintearth Honey (per Hive)"},"Paintearth",78,"Honey (per Hive)",59.44,109.22,154.28,152.38999999999999,175.04,130.08000000000001]
[{"$f":"Table_BPU[[#This Row],[Risk Area]]&\" \"&Table_BPU[[#This Row],[BPU Description]]","v":"Parkland County Honey (per Hive)"},"Parkland County",78,"Honey (per Hive)",59.44,109.22,154.28,152.38999999999999,175.04,130.08000000000001]
[{"$f":"Table_BPU[[#This Row],[Risk Area]]&\" \"&Table_BPU[[#This Row],[BPU Description]]","v":"Peace Honey (per Hive)"},"Peace",78,"Honey (per Hive)",59.44,109.22,154.28,152.38999999999999,175.04,130.08000000000001]
[{"$f":"Table_BPU[[#This Row],[Risk Area]]&\" \"&Table_BPU[[#This Row],[BPU Description]]","v":"Pincher Creek Honey (per Hive)"},"Pincher Creek",78,"Honey (per Hive)",59.44,109.22,154.28,152.38999999999999,175.04,130.08000000000001]
[{"$f":"Table_BPU[[#This Row],[Risk Area]]&\" \"&Table_BPU[[#This Row],[BPU Description]]","v":"Ponoka Honey (per Hive)"},"Ponoka",78,"Honey (per Hive)",59.44,109.22,154.28,152.38999999999999,175.04,130.08000000000001]
[{"$f":"Table_BPU[[#This Row],[Risk Area]]&\" \"&Table_BPU[[#This Row],[BPU Description]]","v":"Provost Honey (per Hive)"},"Provost",78,"Honey (per Hive)",59.44,109.22,154.28,152.38999999999999,175.04,130.08000000000001]
[{"$f":"Table_BPU[[#This Row],[Risk Area]]&\" \"&Table_BPU[[#This Row],[BPU Description]]","v":"Ranchland Honey (per Hive)"},"Ranchland",78,"Honey (per Hive)",59.44,109.22,154.28,152.38999999999999,175.04,130.08000000000001]
[{"$f":"Table_BPU[[#This Row],[Risk Area]]&\" \"&Table_BPU[[#This Row],[BPU Description]]","v":"Red Deer Honey (per Hive)"},"Red Deer",78,"Honey (per Hive)",59.44,109.22,154.28,152.38999999999999,175.04,130.08000000000001]
[{"$f":"Table_BPU[[#This Row],[Risk Area]]&\" \"&Table_BPU[[#This Row],[BPU Description]]","v":"Rocky View Honey (per Hive)"},"Rocky View",78,"Honey (per Hive)",59.44,109.22,154.28,152.38999999999999,175.04,130.08000000000001]
[{"$f":"Table_BPU[[#This Row],[Risk Area]]&\" \"&Table_BPU[[#This Row],[BPU Description]]","v":"Saddle Hills Honey (per Hive)"},"Saddle Hills",78,"Honey (per Hive)",59.44,109.22,154.28,152.38999999999999,175.04,130.08000000000001]
[{"$f":"Table_BPU[[#This Row],[Risk Area]]&\" \"&Table_BPU[[#This Row],[BPU Description]]","v":"Smoky Lake Honey (per Hive)"},"Smoky Lake",78,"Honey (per Hive)",59.44,109.22,154.28,152.38999999999999,175.04,130.08000000000001]
[{"$f":"Table_BPU[[#This Row],[Risk Area]]&\" \"&Table_BPU[[#This Row],[BPU Description]]","v":"Smoky River Honey (per Hive)"},"Smoky River",78,"Honey (per Hive)",59.44,109.22,154.28,152.38999999999999,175.04,130.08000000000001]
[{"$f":"Table_BPU[[#This Row],[Risk Area]]&\" \"&Table_BPU[[#This Row],[BPU Description]]","v":"Special Area 02 Honey (per Hive)"},"Special Area 02",78,"Honey (per Hive)",59.44,109.22,154.28,152.38999999999999,175.04,130.08000000000001]
[{"$f":"Table_BPU[[#This Row],[Risk Area]]&\" \"&Table_BPU[[#This Row],[BPU Description]]","v":"Special Area 03 Honey (per Hive)"},"Special Area 03",78,"Honey (per Hive)",59.44,109.22,154.28,152.38999999999999,175.04,130.08000000000001]
[{"$f":"Table_BPU[[#This Row],[Risk Area]]&\" \"&Table_BPU[[#This Row],[BPU Description]]","v":"Special Area 04 Honey (per Hive)"},"Special Area 04",78,"Honey (per Hive)",59.44,109.22,154.28,152.38999999999999,175.04,130.08000000000001]
[{"$f":"Table_BPU[[#This Row],[Risk Area]]&\" \"&Table_BPU[[#This Row],[BPU Description]]","v":"Spirit River Honey (per Hive)"},"Spirit River",78,"Honey (per Hive)",59.44,109.22,154.28,152.38999999999999,175.04,130.08000000000001]
[{"$f":"Table_BPU[[#This Row],[Risk Area]]&\" \"&Table_BPU[[#This Row],[BPU Description]]","v":"St. Paul Honey (per Hive)"},"St. Paul",78,"Honey (per Hive)",59.44,109.22,154.28,152.38999999999999,175.04,130.08000000000001]
[{"$f":"Table_BPU[[#This Row],[Risk Area]]&\" \"&Table_BPU[[#This Row],[BPU Description]]","v":"Starland Honey (per Hive)"},"Starland",78,"Honey (per Hive)",59.44,109.22,154.28,152.38999999999999,175.04,130.08000000000001]
[{"$f":"Table_BPU[[#This Row],[Risk Area]]&\" \"&Table_BPU[[#This Row],[BPU Description]]","v":"Stettler Honey (per Hive)"},"Stettler",78,"Honey (per Hive)",59.44,109.22,154.28,152.38999999999999,175.04,130.08000000000001]
[{"$f":"Table_BPU[[#This Row],[Risk Area]]&\" \"&Table_BPU[[#This Row],[BPU Description]]","v":"Strathcona County Honey (per Hive)"},"Strathcona County",78,"Honey (per Hive)",59.44,109.22,154.28,152.38999999999999,175.04,130.08000000000001]
[{"$f":"Table_BPU[[#This Row],[Risk Area]]&\" \"&Table_BPU[[#This Row],[BPU Description]]","v":"Sturgeon Honey (per Hive)"},"Sturgeon",78,"Honey (per Hive)",59.44,109.22,154.28,152.38999999999999,175.04,130.08000000000001]
[{"$f":"Table_BPU[[#This Row],[Risk Area]]&\" \"&Table_BPU[[#This Row],[BPU Description]]","v":"Taber Honey (per Hive)"},"Taber",78,"Honey (per Hive)",59.44,109.22,154.28,152.38999999999999,175.04,130.08000000000001]
[{"$f":"Table_BPU[[#This Row],[Risk Area]]&\" \"&Table_BPU[[#This Row],[BPU Description]]","v":"Thorhild Honey (per Hive)"},"Thorhild",78,"Honey (per Hive)",59.44,109.22,154.28,152.38999999999999,175.04,130.08000000000001]
[{"$f":"Table_BPU[[#This Row],[Risk Area]]&\" \"&Table_BPU[[#This Row],[BPU Description]]","v":"Two Hills Honey (per Hive)"},"Two Hills",78,"Honey (per Hive)",59.44,109.22,154.28,152.38999999999999,175.04,130.08000000000001]
[{"$f":"Table_BPU[[#This Row],[Risk Area]]&\" \"&Table_BPU[[#This Row],[BPU Description]]","v":"Vermilion River Honey (per Hive)"},"Vermilion River",78,"Honey (per Hive)",59.44,109.22,154.28,152.38999999999999,175.04,130.08000000000001]
[{"$f":"Table_BPU[[#This Row],[Risk Area]]&\" \"&Table_BPU[[#This Row],[BPU Description]]","v":"Vulcan Honey (per Hive)"},"Vulcan",78,"Honey (per Hive)",59.44,109.22,154.28,152.38999999999999,175.04,130.08000000000001]
[{"$f":"Table_BPU[[#This Row],[Risk Area]]&\" \"&Table_BPU[[#This Row],[BPU Description]]","v":"Wainwright Honey (per Hive)"},"Wainwright",78,"Honey (per Hive)",59.44,109.22,154.28,152.38999999999999,175.04,130.08000000000001]
[{"$f":"Table_BPU[[#This Row],[Risk Area]]&\" \"&Table_BPU[[#This Row],[BPU Description]]","v":"Warner Honey (per Hive)"},"Warner",78,"Honey (per Hive)",59.44,109.22,154.28,152.38999999999999,175.04,130.08000000000001]
[{"$f":"Table_BPU[[#This Row],[Risk Area]]&\" \"&Table_BPU[[#This Row],[BPU Description]]","v":"Westlock Honey (per Hive)"},"Westlock",78,"Honey (per Hive)",59.44,109.22,154.28,152.38999999999999,175.04,130.08000000000001]
[{"$f":"Table_BPU[[#This Row],[Risk Area]]&\" \"&Table_BPU[[#This Row],[BPU Description]]","v":"Wetaskiwin Honey (per Hive)"},"Wetaskiwin",78,"Honey (per Hive)",59.44,109.22,154.28,152.38999999999999,175.04,130.08000000000001]
[{"$f":"Table_BPU[[#This Row],[Risk Area]]&\" \"&Table_BPU[[#This Row],[BPU Description]]","v":"Wheatland Honey (per Hive)"},"Wheatland",78,"Honey (per Hive)",59.44,109.22,154.28,152.38999999999999,175.04,130.08000000000001]
[{"$f":"Table_BPU[[#This Row],[Risk Area]]&\" \"&Table_BPU[[#This Row],[BPU Description]]","v":"Willow Creek Honey (per Hive)"},"Willow Creek",78,"Honey (per Hive)",59.44,109.22,154.28,152.38999999999999,175.04,130.08000000000001]
[{"$f":"Table_BPU[[#This Row],[Risk Area]]&\" \"&Table_BPU[[#This Row],[BPU Description]]","v":"Wood Buffalo Honey (per Hive)"},"Wood Buffalo",78,"Honey (per Hive)",59.44,109.22,154.28,152.38999999999999,175.04,130.08000000000001]
[{"$f":"Table_BPU[[#This Row],[Risk Area]]&\" \"&Table_BPU[[#This Row],[BPU Description]]","v":"Woodlands Honey (per Hive)"},"Woodlands",78,"Honey (per Hive)",59.44,109.22,154.28,152.38999999999999,175.04,130.08000000000001]
[{"$f":"Table_BPU[[#This Row],[Risk Area]]&\" \"&Table_BPU[[#This Row],[BPU Description]]","v":"Yellowhead Honey (per Hive)"},"Yellowhead",78,"Honey (per Hive)",59.44,109.22,154.28,152.38999999999999,175.04,130.08000000000001]
[{"$f":"Table_BPU[[#This Row],[Risk Area]]&\" \"&Table_BPU[[#This Row],[BPU Description]]","v":"Cardston Hybrid Canola"},"Cardston",1554,"Hybrid Canola",945.43,1002.24,1020.43,1155.07,1550.54,1442.77]
[{"$f":"Table_BPU[[#This Row],[Risk Area]]&\" \"&Table_BPU[[#This Row],[BPU Description]]","v":"Cypress Hybrid Canola"},"Cypress",1554,"Hybrid Canola",945.43,1002.24,1020.43,1155.07,1550.54,1442.77]
[{"$f":"Table_BPU[[#This Row],[Risk Area]]&\" \"&Table_BPU[[#This Row],[BPU Description]]","v":"Forty Mile Hybrid Canola"},"Forty Mile",1554,"Hybrid Canola",945.43,1002.24,1020.43,1155.07,1550.54,1442.77]
[{"$f":"Table_BPU[[#This Row],[Risk Area]]&\" \"&Table_BPU[[#This Row],[BPU Description]]","v":"Lethbridge Hybrid Canola"},"Lethbridge",1554,"Hybrid Canola",945.43,1002.24,1020.43,1155.07,1550.54,1442.77]
[{"$f":"Table_BPU[[#This Row],[Risk Area]]&\" \"&Table_BPU[[#This Row],[BPU Description]]","v":"Newell Hybrid Canola"},"Newell",1554,"Hybrid Canola",945.43,1002.24,1020.43,1155.07,1550.54,1442.77]
[{"$f":"Table_BPU[[#This Row],[Risk Area]]&\" \"&Table_BPU[[#This Row],[BPU Description]]","v":"Taber Hybrid Canola"},"Taber",1554,"Hybrid Canola",945.43,1002.24,1020.43,1155.07,1550.54,1442.77]
[{"$f":"Table_BPU[[#This Row],[Risk Area]]&\" \"&Table_BPU[[#This Row],[BPU Description]]","v":"Vulcan Hybrid Canola"},"Vulcan",1554,"Hybrid Canola",945.43,1002.24,1020.43,1155.07,1550.54,1442.77]
[{"$f":"Table_BPU[[#This Row],[Risk Area]]&\" \"&Table_BPU[[#This Row],[BPU Description]]","v":"Warner Hybrid Canola"},"Warner",1554,"Hybrid Canola",945.43,1002.24,1020.43,1155.07,1550.54,1442.77]
[{"$f":"Table_BPU[[#This Row],[Risk Area]]&\" \"&Table_BPU[[#This Row],[BPU Description]]","v":"Wheatland Hybrid Canola"},"Wheatland",1554,"Hybrid Canola",945.43,1002.24,1020.43,1155.07,1550.54,1442.77]
[{"$f":"Table_BPU[[#This Row],[Risk Area]]&\" \"&Table_BPU[[#This Row],[BPU Description]]","v":"Willow Creek Hybrid Canola"},"Willow Creek",1554,"Hybrid Canola",945.43,1002.24,1020.43,1155.07,1550.54,1442.77]
[{"$f":"Table_BPU[[#This Row],[Risk Area]]&\" \"&Table_BPU[[#This Row],[BPU Description]]","v":"Acadia Leafcutter Bees"},"Acadia",77,"Leafcutter Bees",33.119999999999997,46.54,83.89,124.73,107.85,79.23]
[{"$f":"Table_BPU[[#This Row],[Risk Area]]&\" \"&Table_BPU[[#This Row],[BPU Description]]","v":"Athabasca Leafcutter Bees"},"Athabasca",77,"Leafcutter Bees",33.119999999999997,46.54,83.89,124.73,107.85,79.23]
[{"$f":"Table_BPU[[#This Row],[Risk Area]]&\" \"&Table_BPU[[#This Row],[BPU Description]]","v":"Barrhead Leafcutter Bees"},"Barrhead",77,"Leafcutter Bees",33.119999999999997,46.54,83.89,124.73,107.85,79.23]
[{"$f":"Table_BPU[[#This Row],[Risk Area]]&\" \"&Table_BPU[[#This Row],[BPU Description]]","v":"Beaver Leafcutter Bees"},"Beaver",77,"Leafcutter Bees",33.119999999999997,46.54,83.89,124.73,107.85,79.23]
[{"$f":"Table_BPU[[#This Row],[Risk Area]]&\" \"&Table_BPU[[#This Row],[BPU Description]]","v":"Big Lakes Leafcutter Bees"},"Big Lakes",77,"Leafcutter Bees",33.119999999999997,46.54,83.89,124.73,107.85,79.23]
[{"$f":"Table_BPU[[#This Row],[Risk Area]]&\" \"&Table_BPU[[#This Row],[BPU Description]]","v":"Bighorn Leafcutter Bees"},"Bighorn",77,"Leafcutter Bees",33.119999999999997,46.54,83.89,124.73,107.85,79.23]
[{"$f":"Table_BPU[[#This Row],[Risk Area]]&\" \"&Table_BPU[[#This Row],[BPU Description]]","v":"Birch Hills Leafcutter Bees"},"Birch Hills",77,"Leafcutter Bees",33.119999999999997,46.54,83.89,124.73,107.85,79.23]
[{"$f":"Table_BPU[[#This Row],[Risk Area]]&\" \"&Table_BPU[[#This Row],[BPU Description]]","v":"Bonnyville Leafcutter Bees"},"Bonnyville",77,"Leafcutter Bees",33.119999999999997,46.54,83.89,124.73,107.85,79.23]
[{"$f":"Table_BPU[[#This Row],[Risk Area]]&\" \"&Table_BPU[[#This Row],[BPU Description]]","v":"Brazeau Leafcutter Bees"},"Brazeau",77,"Leafcutter Bees",33.119999999999997,46.54,83.89,124.73,107.85,79.23]
[{"$f":"Table_BPU[[#This Row],[Risk Area]]&\" \"&Table_BPU[[#This Row],[BPU Description]]","v":"Camrose Leafcutter Bees"},"Camrose",77,"Leafcutter Bees",33.119999999999997,46.54,83.89,124.73,107.85,79.23]
[{"$f":"Table_BPU[[#This Row],[Risk Area]]&\" \"&Table_BPU[[#This Row],[BPU Description]]","v":"Cardston Leafcutter Bees"},"Cardston",77,"Leafcutter Bees",33.119999999999997,46.54,83.89,124.73,107.85,79.23]
[{"$f":"Table_BPU[[#This Row],[Risk Area]]&\" \"&Table_BPU[[#This Row],[BPU Description]]","v":"Clear Hills Leafcutter Bees"},"Clear Hills",77,"Leafcutter Bees",33.119999999999997,46.54,83.89,124.73,107.85,79.23]
[{"$f":"Table_BPU[[#This Row],[Risk Area]]&\" \"&Table_BPU[[#This Row],[BPU Description]]","v":"Clearwater Leafcutter Bees"},"Clearwater",77,"Leafcutter Bees",33.119999999999997,46.54,83.89,124.73,107.85,79.23]
[{"$f":"Table_BPU[[#This Row],[Risk Area]]&\" \"&Table_BPU[[#This Row],[BPU Description]]","v":"Cypress Leafcutter Bees"},"Cypress",77,"Leafcutter Bees",33.119999999999997,46.54,83.89,124.73,107.85,79.23]
[{"$f":"Table_BPU[[#This Row],[Risk Area]]&\" \"&Table_BPU[[#This Row],[BPU Description]]","v":"Edmonton Leafcutter Bees"},"Edmonton",77,"Leafcutter Bees",33.119999999999997,46.54,83.89,124.73,107.85,79.23]
[{"$f":"Table_BPU[[#This Row],[Risk Area]]&\" \"&Table_BPU[[#This Row],[BPU Description]]","v":"Fairview Leafcutter Bees"},"Fairview",77,"Leafcutter Bees",33.119999999999997,46.54,83.89,124.73,107.85,79.23]
[{"$f":"Table_BPU[[#This Row],[Risk Area]]&\" \"&Table_BPU[[#This Row],[BPU Description]]","v":"Flagstaff Leafcutter Bees"},"Flagstaff",77,"Leafcutter Bees",33.119999999999997,46.54,83.89,124.73,107.85,79.23]
[{"$f":"Table_BPU[[#This Row],[Risk Area]]&\" \"&Table_BPU[[#This Row],[BPU Description]]","v":"Foothills Leafcutter Bees"},"Foothills",77,"Leafcutter Bees",33.119999999999997,46.54,83.89,124.73,107.85,79.23]
[{"$f":"Table_BPU[[#This Row],[Risk Area]]&\" \"&Table_BPU[[#This Row],[BPU Description]]","v":"Forty Mile Leafcutter Bees"},"Forty Mile",77,"Leafcutter Bees",33.119999999999997,46.54,83.89,124.73,107.85,79.23]
[{"$f":"Table_BPU[[#This Row],[Risk Area]]&\" \"&Table_BPU[[#This Row],[BPU Description]]","v":"Grande Prairie Leafcutter Bees"},"Grande Prairie",77,"Leafcutter Bees",33.119999999999997,46.54,83.89,124.73,107.85,79.23]
[{"$f":"Table_BPU[[#This Row],[Risk Area]]&\" \"&Table_BPU[[#This Row],[BPU Description]]","v":"Greenview Leafcutter Bees"},"Greenview",77,"Leafcutter Bees",33.119999999999997,46.54,83.89,124.73,107.85,79.23]
[{"$f":"Table_BPU[[#This Row],[Risk Area]]&\" \"&Table_BPU[[#This Row],[BPU Description]]","v":"Kneehill Leafcutter Bees"},"Kneehill",77,"Leafcutter Bees",33.119999999999997,46.54,83.89,124.73,107.85,79.23]
[{"$f":"Table_BPU[[#This Row],[Risk Area]]&\" \"&Table_BPU[[#This Row],[BPU Description]]","v":"Lac La Biche Leafcutter Bees"},"Lac La Biche",77,"Leafcutter Bees",33.119999999999997,46.54,83.89,124.73,107.85,79.23]
[{"$f":"Table_BPU[[#This Row],[Risk Area]]&\" \"&Table_BPU[[#This Row],[BPU Description]]","v":"Lac Ste. Anne County Leafcutter Bees"},"Lac Ste. Anne County",77,"Leafcutter Bees",33.119999999999997,46.54,83.89,124.73,107.85,79.23]
[{"$f":"Table_BPU[[#This Row],[Risk Area]]&\" \"&Table_BPU[[#This Row],[BPU Description]]","v":"Lacombe Leafcutter Bees"},"Lacombe",77,"Leafcutter Bees",33.119999999999997,46.54,83.89,124.73,107.85,79.23]
[{"$f":"Table_BPU[[#This Row],[Risk Area]]&\" \"&Table_BPU[[#This Row],[BPU Description]]","v":"Lamont Leafcutter Bees"},"Lamont",77,"Leafcutter Bees",33.119999999999997,46.54,83.89,124.73,107.85,79.23]
[{"$f":"Table_BPU[[#This Row],[Risk Area]]&\" \"&Table_BPU[[#This Row],[BPU Description]]","v":"Leduc Leafcutter Bees"},"Leduc",77,"Leafcutter Bees",33.119999999999997,46.54,83.89,124.73,107.85,79.23]
[{"$f":"Table_BPU[[#This Row],[Risk Area]]&\" \"&Table_BPU[[#This Row],[BPU Description]]","v":"Lesser Slave River Leafcutter Bees"},"Lesser Slave River",77,"Leafcutter Bees",33.119999999999997,46.54,83.89,124.73,107.85,79.23]
[{"$f":"Table_BPU[[#This Row],[Risk Area]]&\" \"&Table_BPU[[#This Row],[BPU Description]]","v":"Lethbridge Leafcutter Bees"},"Lethbridge",77,"Leafcutter Bees",33.119999999999997,46.54,83.89,124.73,107.85,79.23]
[{"$f":"Table_BPU[[#This Row],[Risk Area]]&\" \"&Table_BPU[[#This Row],[BPU Description]]","v":"Mackenzie Leafcutter Bees"},"Mackenzie",77,"Leafcutter Bees",33.119999999999997,46.54,83.89,124.73,107.85,79.23]
[{"$f":"Table_BPU[[#This Row],[Risk Area]]&\" \"&Table_BPU[[#This Row],[BPU Description]]","v":"Minburn Leafcutter Bees"},"Minburn",77,"Leafcutter Bees",33.119999999999997,46.54,83.89,124.73,107.85,79.23]
[{"$f":"Table_BPU[[#This Row],[Risk Area]]&\" \"&Table_BPU[[#This Row],[BPU Description]]","v":"Mountain View Leafcutter Bees"},"Mountain View",77,"Leafcutter Bees",33.119999999999997,46.54,83.89,124.73,107.85,79.23]
[{"$f":"Table_BPU[[#This Row],[Risk Area]]&\" \"&Table_BPU[[#This Row],[BPU Description]]","v":"Newell Leafcutter Bees"},"Newell",77,"Leafcutter Bees",33.119999999999997,46.54,83.89,124.73,107.85,79.23]
[{"$f":"Table_BPU[[#This Row],[Risk Area]]&\" \"&Table_BPU[[#This Row],[BPU Description]]","v":"Northern Lights Leafcutter Bees"},"Northern Lights",77,"Leafcutter Bees",33.119999999999997,46.54,83.89,124.73,107.85,79.23]
[{"$f":"Table_BPU[[#This Row],[Risk Area]]&\" \"&Table_BPU[[#This Row],[BPU Description]]","v":"Northern Sunrise Leafcutter Bees"},"Northern Sunrise",77,"Leafcutter Bees",33.119999999999997,46.54,83.89,124.73,107.85,79.23]
[{"$f":"Table_BPU[[#This Row],[Risk Area]]&\" \"&Table_BPU[[#This Row],[BPU Description]]","v":"Opportunity Leafcutter Bees"},"Opportunity",77,"Leafcutter Bees",33.119999999999997,46.54,83.89,124.73,107.85,79.23]
[{"$f":"Table_BPU[[#This Row],[Risk Area]]&\" \"&Table_BPU[[#This Row],[BPU Description]]","v":"Paintearth Leafcutter Bees"},"Paintearth",77,"Leafcutter Bees",33.119999999999997,46.54,83.89,124.73,107.85,79.23]
[{"$f":"Table_BPU[[#This Row],[Risk Area]]&\" \"&Table_BPU[[#This Row],[BPU Description]]","v":"Parkland County Leafcutter Bees"},"Parkland County",77,"Leafcutter Bees",33.119999999999997,46.54,83.89,124.73,107.85,79.23]
[{"$f":"Table_BPU[[#This Row],[Risk Area]]&\" \"&Table_BPU[[#This Row],[BPU Description]]","v":"Peace Leafcutter Bees"},"Peace",77,"Leafcutter Bees",33.119999999999997,46.54,83.89,124.73,107.85,79.23]
[{"$f":"Table_BPU[[#This Row],[Risk Area]]&\" \"&Table_BPU[[#This Row],[BPU Description]]","v":"Pincher Creek Leafcutter Bees"},"Pincher Creek",77,"Leafcutter Bees",33.119999999999997,46.54,83.89,124.73,107.85,79.23]
[{"$f":"Table_BPU[[#This Row],[Risk Area]]&\" \"&Table_BPU[[#This Row],[BPU Description]]","v":"Ponoka Leafcutter Bees"},"Ponoka",77,"Leafcutter Bees",33.119999999999997,46.54,83.89,124.73,107.85,79.23]
[{"$f":"Table_BPU[[#This Row],[Risk Area]]&\" \"&Table_BPU[[#This Row],[BPU Description]]","v":"Provost Leafcutter Bees"},"Provost",77,"Leafcutter Bees",33.119999999999997,46.54,83.89,124.73,107.85,79.23]
[{"$f":"Table_BPU[[#This Row],[Risk Area]]&\" \"&Table_BPU[[#This Row],[BPU Description]]","v":"Ranchland Leafcutter Bees"},"Ranchland",77,"Leafcutter Bees",33.119999999999997,46.54,83.89,124.73,107.85,79.23]
[{"$f":"Table_BPU[[#This Row],[Risk Area]]&\" \"&Table_BPU[[#This Row],[BPU Description]]","v":"Red Deer Leafcutter Bees"},"Red Deer",77,"Leafcutter Bees",33.119999999999997,46.54,83.89,124.73,107.85,79.23]
[{"$f":"Table_BPU[[#This Row],[Risk Area]]&\" \"&Table_BPU[[#This Row],[BPU Description]]","v":"Rocky View Leafcutter Bees"},"Rocky View",77,"Leafcutter Bees",33.119999999999997,46.54,83.89,124.73,107.85,79.23]
[{"$f":"Table_BPU[[#This Row],[Risk Area]]&\" \"&Table_BPU[[#This Row],[BPU Description]]","v":"Saddle Hills Leafcutter Bees"},"Saddle Hills",77,"Leafcutter Bees",33.119999999999997,46.54,83.89,124.73,107.85,79.23]
[{"$f":"Table_BPU[[#This Row],[Risk Area]]&\" \"&Table_BPU[[#This Row],[BPU Description]]","v":"Smoky Lake Leafcutter Bees"},"Smoky Lake",77,"Leafcutter Bees",33.119999999999997,46.54,83.89,124.73,107.85,79.23]
[{"$f":"Table_BPU[[#This Row],[Risk Area]]&\" \"&Table_BPU[[#This Row],[BPU Description]]","v":"Smoky River Leafcutter Bees"},"Smoky River",77,"Leafcutter Bees",33.119999999999997,46.54,83.89,124.73,107.85,79.23]
[{"$f":"Table_BPU[[#This Row],[Risk Area]]&\" \"&Table_BPU[[#This Row],[BPU Description]]","v":"Special Area 02 Leafcutter Bees"},"Special Area 02",77,"Leafcutter Bees",33.119999999999997,46.54,83.89,124.73,107.85,79.23]
[{"$f":"Table_BPU[[#This Row],[Risk Area]]&\" \"&Table_BPU[[#This Row],[BPU Description]]","v":"Special Area 03 Leafcutter Bees"},"Special Area 03",77,"Leafcutter Bees",33.119999999999997,46.54,83.89,124.73,107.85,79.23]
[{"$f":"Table_BPU[[#This Row],[Risk Area]]&\" \"&Table_BPU[[#This Row],[BPU Description]]","v":"Special Area 04 Leafcutter Bees"},"Special Area 04",77,"Leafcutter Bees",33.119999999999997,46.54,83.89,124.73,107.85,79.23]
[{"$f":"Table_BPU[[#This Row],[Risk Area]]&\" \"&Table_BPU[[#This Row],[BPU Description]]","v":"Spirit River Leafcutter Bees"},"Spirit River",77,"Leafcutter Bees",33.119999999999997,46.54,83.89,124.73,107.85,79.23]
[{"$f":"Table_BPU[[#This Row],[Risk Area]]&\" \"&Table_BPU[[#This Row],[BPU Description]]","v":"St. Paul Leafcutter Bees"},"St. Paul",77,"Leafcutter Bees",33.119999999999997,46.54,83.89,124.73,107.85,79.23]
[{"$f":"Table_BPU[[#This Row],[Risk Area]]&\" \"&Table_BPU[[#This Row],[BPU Description]]","v":"Starland Leafcutter Bees"},"Starland",77,"Leafcutter Bees",33.119999999999997,46.54,83.89,124.73,107.85,79.23]
[{"$f":"Table_BPU[[#This Row],[Risk Area]]&\" \"&Table_BPU[[#This Row],[BPU Description]]","v":"Stettler Leafcutter Bees"},"Stettler",77,"Leafcutter Bees",33.119999999999997,46.54,83.89,124.73,107.85,79.23]
[{"$f":"Table_BPU[[#This Row],[Risk Area]]&\" \"&Table_BPU[[#This Row],[BPU Description]]","v":"Strathcona County Leafcutter Bees"},"Strathcona County",77,"Leafcutter Bees",33.119999999999997,46.54,83.89,124.73,107.85,79.23]
[{"$f":"Table_BPU[[#This Row],[Risk Area]]&\" \"&Table_BPU[[#This Row],[BPU Description]]","v":"Sturgeon Leafcutter Bees"},"Sturgeon",77,"Leafcutter Bees",33.119999999999997,46.54,83.89,124.73,107.85,79.23]
[{"$f":"Table_BPU[[#This Row],[Risk Area]]&\" \"&Table_BPU[[#This Row],[BPU Description]]","v":"Taber Leafcutter Bees"},"Taber",77,"Leafcutter Bees",33.119999999999997,46.54,83.89,124.73,107.85,79.23]
[{"$f":"Table_BPU[[#This Row],[Risk Area]]&\" \"&Table_BPU[[#This Row],[BPU Description]]","v":"Thorhild Leafcutter Bees"},"Thorhild",77,"Leafcutter Bees",33.119999999999997,46.54,83.89,124.73,107.85,79.23]
[{"$f":"Table_BPU[[#This Row],[Risk Area]]&\" \"&Table_BPU[[#This Row],[BPU Description]]","v":"Two Hills Leafcutter Bees"},"Two Hills",77,"Leafcutter Bees",33.119999999999997,46.54,83.89,124.73,107.85,79.23]
[{"$f":"Table_BPU[[#This Row],[Risk Area]]&\" \"&Table_BPU[[#This Row],[BPU Description]]","v":"Vermilion River Leafcutter Bees"},"Vermilion River",77,"Leafcutter Bees",33.119999999999997,46.54,83.89,124.73,107.85,79.23]
[{"$f":"Table_BPU[[#This Row],[Risk Area]]&\" \"&Table_BPU[[#This Row],[BPU Description]]","v":"Vulcan Leafcutter Bees"},"Vulcan",77,"Leafcutter Bees",33.119999999999997,46.54,83.89,124.73,107.85,79.23]
[{"$f":"Table_BPU[[#This Row],[Risk Area]]&\" \"&Table_BPU[[#This Row],[BPU Description]]","v":"Wainwright Leafcutter Bees"},"Wainwright",77,"Leafcutter Bees",33.119999999999997,46.54,83.89,124.73,107.85,79.23]
[{"$f":"Table_BPU[[#This Row],[Risk Area]]&\" \"&Table_BPU[[#This Row],[BPU Description]]","v":"Warner Leafcutter Bees"},"Warner",77,"Leafcutter Bees",33.119999999999997,46.54,83.89,124.73,107.85,79.23]
[{"$f":"Table_BPU[[#This Row],[Risk Area]]&\" \"&Table_BPU[[#This Row],[BPU Description]]","v":"Westlock Leafcutter Bees"},"Westlock",77,"Leafcutter Bees",33.119999999999997,46.54,83.89,124.73,107.85,79.23]
[{"$f":"Table_BPU[[#This Row],[Risk Area]]&\" \"&Table_BPU[[#This Row],[BPU Description]]","v":"Wetaskiwin Leafcutter Bees"},"Wetaskiwin",77,"Leafcutter Bees",33.119999999999997,46.54,83.89,124.73,107.85,79.23]
[{"$f":"Table_BPU[[#This Row],[Risk Area]]&\" \"&Table_BPU[[#This Row],[BPU Description]]","v":"Wheatland Leafcutter Bees"},"Wheatland",77,"Leafcutter Bees",33.119999999999997,46.54,83.89,124.73,107.85,79.23]
[{"$f":"Table_BPU[[#This Row],[Risk Area]]&\" \"&Table_BPU[[#This Row],[BPU Description]]","v":"Willow Creek Leafcutter Bees"},"Willow Creek",77,"Leafcutter Bees",33.119999999999997,46.54,83.89,124.73,107.85,79.23]
[{"$f":"Table_BPU[[#This Row],[Risk Area]]&\" \"&Table_BPU[[#This Row],[BPU Description]]","v":"Wood Buffalo Leafcutter Bees"},"Wood Buffalo",77,"Leafcutter Bees",33.119999999999997,46.54,83.89,124.73,107.85,79.23]
[{"$f":"Table_BPU[[#This Row],[Risk Area]]&\" \"&Table_BPU[[#This Row],[BPU Description]]","v":"Woodlands Leafcutter Bees"},"Woodlands",77,"Leafcutter Bees",33.119999999999997,46.54,83.89,124.73,107.85,79.23]
[{"$f":"Table_BPU[[#This Row],[Risk Area]]&\" \"&Table_BPU[[#This Row],[BPU Description]]","v":"Yellowhead Leafcutter Bees"},"Yellowhead",77,"Leafcutter Bees",33.119999999999997,46.54,83.89,124.73,107.85,79.23]
[{"$f":"Table_BPU[[#This Row],[Risk Area]]&\" \"&Table_BPU[[#This Row],[BPU Description]]","v":"Acadia Lentils - Dryland"},"Acadia",42,"Lentils - Dryland",87.21,410.03,94.5,343.51,67.3,248.52]
[{"$f":"Table_BPU[[#This Row],[Risk Area]]&\" \"&Table_BPU[[#This Row],[BPU Description]]","v":"Athabasca Lentils - Dryland"},"Athabasca",42,"Lentils - Dryland",87.21,410.03,94.5,343.51,67.3,248.52]
[{"$f":"Table_BPU[[#This Row],[Risk Area]]&\" \"&Table_BPU[[#This Row],[BPU Description]]","v":"Barrhead Lentils - Dryland"},"Barrhead",42,"Lentils - Dryland",87.21,410.03,94.5,343.51,67.3,248.52]
[{"$f":"Table_BPU[[#This Row],[Risk Area]]&\" \"&Table_BPU[[#This Row],[BPU Description]]","v":"Beaver Lentils - Dryland"},"Beaver",42,"Lentils - Dryland",87.21,410.03,94.5,343.51,67.3,248.52]
[{"$f":"Table_BPU[[#This Row],[Risk Area]]&\" \"&Table_BPU[[#This Row],[BPU Description]]","v":"Big Lakes Lentils - Dryland"},"Big Lakes",42,"Lentils - Dryland",87.21,410.03,94.5,343.51,67.3,248.52]
[{"$f":"Table_BPU[[#This Row],[Risk Area]]&\" \"&Table_BPU[[#This Row],[BPU Description]]","v":"Bighorn Lentils - Dryland"},"Bighorn",42,"Lentils - Dryland",87.21,410.03,94.5,343.51,67.3,248.52]
[{"$f":"Table_BPU[[#This Row],[Risk Area]]&\" \"&Table_BPU[[#This Row],[BPU Description]]","v":"Birch Hills Lentils - Dryland"},"Birch Hills",42,"Lentils - Dryland",87.21,410.03,94.5,343.51,67.3,248.52]
[{"$f":"Table_BPU[[#This Row],[Risk Area]]&\" \"&Table_BPU[[#This Row],[BPU Description]]","v":"Bonnyville Lentils - Dryland"},"Bonnyville",42,"Lentils - Dryland",87.21,410.03,94.5,343.51,67.3,248.52]
[{"$f":"Table_BPU[[#This Row],[Risk Area]]&\" \"&Table_BPU[[#This Row],[BPU Description]]","v":"Brazeau Lentils - Dryland"},"Brazeau",42,"Lentils - Dryland",87.21,410.03,94.5,343.51,67.3,248.52]
[{"$f":"Table_BPU[[#This Row],[Risk Area]]&\" \"&Table_BPU[[#This Row],[BPU Description]]","v":"Camrose Lentils - Dryland"},"Camrose",42,"Lentils - Dryland",87.21,410.03,94.5,343.51,67.3,248.52]
[{"$f":"Table_BPU[[#This Row],[Risk Area]]&\" \"&Table_BPU[[#This Row],[BPU Description]]","v":"Cardston Lentils - Dryland"},"Cardston",42,"Lentils - Dryland",87.21,410.03,94.5,343.51,67.3,248.52]
[{"$f":"Table_BPU[[#This Row],[Risk Area]]&\" \"&Table_BPU[[#This Row],[BPU Description]]","v":"Clear Hills Lentils - Dryland"},"Clear Hills",42,"Lentils - Dryland",87.21,410.03,94.5,343.51,67.3,248.52]
[{"$f":"Table_BPU[[#This Row],[Risk Area]]&\" \"&Table_BPU[[#This Row],[BPU Description]]","v":"Clearwater Lentils - Dryland"},"Clearwater",42,"Lentils - Dryland",87.21,410.03,94.5,343.51,67.3,248.52]
[{"$f":"Table_BPU[[#This Row],[Risk Area]]&\" \"&Table_BPU[[#This Row],[BPU Description]]","v":"Cypress Lentils - Dryland"},"Cypress",42,"Lentils - Dryland",87.21,410.03,94.5,343.51,67.3,248.52]
[{"$f":"Table_BPU[[#This Row],[Risk Area]]&\" \"&Table_BPU[[#This Row],[BPU Description]]","v":"Edmonton Lentils - Dryland"},"Edmonton",42,"Lentils - Dryland",87.21,410.03,94.5,343.51,67.3,248.52]
[{"$f":"Table_BPU[[#This Row],[Risk Area]]&\" \"&Table_BPU[[#This Row],[BPU Description]]","v":"Fairview Lentils - Dryland"},"Fairview",42,"Lentils - Dryland",87.21,410.03,94.5,343.51,67.3,248.52]
[{"$f":"Table_BPU[[#This Row],[Risk Area]]&\" \"&Table_BPU[[#This Row],[BPU Description]]","v":"Flagstaff Lentils - Dryland"},"Flagstaff",42,"Lentils - Dryland",87.21,410.03,94.5,343.51,67.3,248.52]
[{"$f":"Table_BPU[[#This Row],[Risk Area]]&\" \"&Table_BPU[[#This Row],[BPU Description]]","v":"Foothills Lentils - Dryland"},"Foothills",42,"Lentils - Dryland",87.21,410.03,94.5,343.51,67.3,248.52]
[{"$f":"Table_BPU[[#This Row],[Risk Area]]&\" \"&Table_BPU[[#This Row],[BPU Description]]","v":"Forty Mile Lentils - Dryland"},"Forty Mile",42,"Lentils - Dryland",87.21,410.03,94.5,343.51,67.3,248.52]
[{"$f":"Table_BPU[[#This Row],[Risk Area]]&\" \"&Table_BPU[[#This Row],[BPU Description]]","v":"Grande Prairie Lentils - Dryland"},"Grande Prairie",42,"Lentils - Dryland",87.21,410.03,94.5,343.51,67.3,248.52]
[{"$f":"Table_BPU[[#This Row],[Risk Area]]&\" \"&Table_BPU[[#This Row],[BPU Description]]","v":"Greenview Lentils - Dryland"},"Greenview",42,"Lentils - Dryland",87.21,410.03,94.5,343.51,67.3,248.52]
[{"$f":"Table_BPU[[#This Row],[Risk Area]]&\" \"&Table_BPU[[#This Row],[BPU Description]]","v":"Kneehill Lentils - Dryland"},"Kneehill",42,"Lentils - Dryland",87.21,410.03,94.5,343.51,67.3,248.52]
[{"$f":"Table_BPU[[#This Row],[Risk Area]]&\" \"&Table_BPU[[#This Row],[BPU Description]]","v":"Lac La Biche Lentils - Dryland"},"Lac La Biche",42,"Lentils - Dryland",87.21,410.03,94.5,343.51,67.3,248.52]
[{"$f":"Table_BPU[[#This Row],[Risk Area]]&\" \"&Table_BPU[[#This Row],[BPU Description]]","v":"Lac Ste. Anne County Lentils - Dryland"},"Lac Ste. Anne County",42,"Lentils - Dryland",87.21,410.03,94.5,343.51,67.3,248.52]
[{"$f":"Table_BPU[[#This Row],[Risk Area]]&\" \"&Table_BPU[[#This Row],[BPU Description]]","v":"Lacombe Lentils - Dryland"},"Lacombe",42,"Lentils - Dryland",87.21,410.03,94.5,343.51,67.3,248.52]
[{"$f":"Table_BPU[[#This Row],[Risk Area]]&\" \"&Table_BPU[[#This Row],[BPU Description]]","v":"Lamont Lentils - Dryland"},"Lamont",42,"Lentils - Dryland",87.21,410.03,94.5,343.51,67.3,248.52]
[{"$f":"Table_BPU[[#This Row],[Risk Area]]&\" \"&Table_BPU[[#This Row],[BPU Description]]","v":"Leduc Lentils - Dryland"},"Leduc",42,"Lentils - Dryland",87.21,410.03,94.5,343.51,67.3,248.52]
[{"$f":"Table_BPU[[#This Row],[Risk Area]]&\" \"&Table_BPU[[#This Row],[BPU Description]]","v":"Lesser Slave River Lentils - Dryland"},"Lesser Slave River",42,"Lentils - Dryland",87.21,410.03,94.5,343.51,67.3,248.52]
[{"$f":"Table_BPU[[#This Row],[Risk Area]]&\" \"&Table_BPU[[#This Row],[BPU Description]]","v":"Lethbridge Lentils - Dryland"},"Lethbridge",42,"Lentils - Dryland",87.21,410.03,94.5,343.51,67.3,248.52]
[{"$f":"Table_BPU[[#This Row],[Risk Area]]&\" \"&Table_BPU[[#This Row],[BPU Description]]","v":"Mackenzie Lentils - Dryland"},"Mackenzie",42,"Lentils - Dryland",87.21,410.03,94.5,343.51,67.3,248.52]
[{"$f":"Table_BPU[[#This Row],[Risk Area]]&\" \"&Table_BPU[[#This Row],[BPU Description]]","v":"Minburn Lentils - Dryland"},"Minburn",42,"Lentils - Dryland",87.21,410.03,94.5,343.51,67.3,248.52]
[{"$f":"Table_BPU[[#This Row],[Risk Area]]&\" \"&Table_BPU[[#This Row],[BPU Description]]","v":"Mountain View Lentils - Dryland"},"Mountain View",42,"Lentils - Dryland",87.21,410.03,94.5,343.51,67.3,248.52]
[{"$f":"Table_BPU[[#This Row],[Risk Area]]&\" \"&Table_BPU[[#This Row],[BPU Description]]","v":"Newell Lentils - Dryland"},"Newell",42,"Lentils - Dryland",87.21,410.03,94.5,343.51,67.3,248.52]
[{"$f":"Table_BPU[[#This Row],[Risk Area]]&\" \"&Table_BPU[[#This Row],[BPU Description]]","v":"Northern Lights Lentils - Dryland"},"Northern Lights",42,"Lentils - Dryland",87.21,410.03,94.5,343.51,67.3,248.52]
[{"$f":"Table_BPU[[#This Row],[Risk Area]]&\" \"&Table_BPU[[#This Row],[BPU Description]]","v":"Northern Sunrise Lentils - Dryland"},"Northern Sunrise",42,"Lentils - Dryland",87.21,410.03,94.5,343.51,67.3,248.52]
[{"$f":"Table_BPU[[#This Row],[Risk Area]]&\" \"&Table_BPU[[#This Row],[BPU Description]]","v":"Opportunity Lentils - Dryland"},"Opportunity",42,"Lentils - Dryland",87.21,410.03,94.5,343.51,67.3,248.52]
[{"$f":"Table_BPU[[#This Row],[Risk Area]]&\" \"&Table_BPU[[#This Row],[BPU Description]]","v":"Paintearth Lentils - Dryland"},"Paintearth",42,"Lentils - Dryland",87.21,410.03,94.5,343.51,67.3,248.52]
[{"$f":"Table_BPU[[#This Row],[Risk Area]]&\" \"&Table_BPU[[#This Row],[BPU Description]]","v":"Parkland County Lentils - Dryland"},"Parkland County",42,"Lentils - Dryland",87.21,410.03,94.5,343.51,67.3,248.52]
[{"$f":"Table_BPU[[#This Row],[Risk Area]]&\" \"&Table_BPU[[#This Row],[BPU Description]]","v":"Peace Lentils - Dryland"},"Peace",42,"Lentils - Dryland",87.21,410.03,94.5,343.51,67.3,248.52]
[{"$f":"Table_BPU[[#This Row],[Risk Area]]&\" \"&Table_BPU[[#This Row],[BPU Description]]","v":"Pincher Creek Lentils - Dryland"},"Pincher Creek",42,"Lentils - Dryland",87.21,410.03,94.5,343.51,67.3,248.52]
[{"$f":"Table_BPU[[#This Row],[Risk Area]]&\" \"&Table_BPU[[#This Row],[BPU Description]]","v":"Ponoka Lentils - Dryland"},"Ponoka",42,"Lentils - Dryland",87.21,410.03,94.5,343.51,67.3,248.52]
[{"$f":"Table_BPU[[#This Row],[Risk Area]]&\" \"&Table_BPU[[#This Row],[BPU Description]]","v":"Provost Lentils - Dryland"},"Provost",42,"Lentils - Dryland",87.21,410.03,94.5,343.51,67.3,248.52]
[{"$f":"Table_BPU[[#This Row],[Risk Area]]&\" \"&Table_BPU[[#This Row],[BPU Description]]","v":"Ranchland Lentils - Dryland"},"Ranchland",42,"Lentils - Dryland",87.21,410.03,94.5,343.51,67.3,248.52]
[{"$f":"Table_BPU[[#This Row],[Risk Area]]&\" \"&Table_BPU[[#This Row],[BPU Description]]","v":"Red Deer Lentils - Dryland"},"Red Deer",42,"Lentils - Dryland",87.21,410.03,94.5,343.51,67.3,248.52]
[{"$f":"Table_BPU[[#This Row],[Risk Area]]&\" \"&Table_BPU[[#This Row],[BPU Description]]","v":"Rocky View Lentils - Dryland"},"Rocky View",42,"Lentils - Dryland",87.21,410.03,94.5,343.51,67.3,248.52]
[{"$f":"Table_BPU[[#This Row],[Risk Area]]&\" \"&Table_BPU[[#This Row],[BPU Description]]","v":"Saddle Hills Lentils - Dryland"},"Saddle Hills",42,"Lentils - Dryland",87.21,410.03,94.5,343.51,67.3,248.52]
[{"$f":"Table_BPU[[#This Row],[Risk Area]]&\" \"&Table_BPU[[#This Row],[BPU Description]]","v":"Smoky Lake Lentils - Dryland"},"Smoky Lake",42,"Lentils - Dryland",87.21,410.03,94.5,343.51,67.3,248.52]
[{"$f":"Table_BPU[[#This Row],[Risk Area]]&\" \"&Table_BPU[[#This Row],[BPU Description]]","v":"Smoky River Lentils - Dryland"},"Smoky River",42,"Lentils - Dryland",87.21,410.03,94.5,343.51,67.3,248.52]
[{"$f":"Table_BPU[[#This Row],[Risk Area]]&\" \"&Table_BPU[[#This Row],[BPU Description]]","v":"Special Area 02 Lentils - Dryland"},"Special Area 02",42,"Lentils - Dryland",103.45,178.09,134.22999999999999,306.64,50.08,49.08]
[{"$f":"Table_BPU[[#This Row],[Risk Area]]&\" \"&Table_BPU[[#This Row],[BPU Description]]","v":"Special Area 03 Lentils - Dryland"},"Special Area 03",42,"Lentils - Dryland",91.06,115.74,105.66,174.26,46.32,19.53]
[{"$f":"Table_BPU[[#This Row],[Risk Area]]&\" \"&Table_BPU[[#This Row],[BPU Description]]","v":"Special Area 04 Lentils - Dryland"},"Special Area 04",42,"Lentils - Dryland",103.34,151.56,135.99,344.31,82.22,27.14]
[{"$f":"Table_BPU[[#This Row],[Risk Area]]&\" \"&Table_BPU[[#This Row],[BPU Description]]","v":"Spirit River Lentils - Dryland"},"Spirit River",42,"Lentils - Dryland",87.21,410.03,94.5,343.51,67.3,248.52]
[{"$f":"Table_BPU[[#This Row],[Risk Area]]&\" \"&Table_BPU[[#This Row],[BPU Description]]","v":"St. Paul Lentils - Dryland"},"St. Paul",42,"Lentils - Dryland",87.21,410.03,94.5,343.51,67.3,248.52]
[{"$f":"Table_BPU[[#This Row],[Risk Area]]&\" \"&Table_BPU[[#This Row],[BPU Description]]","v":"Starland Lentils - Dryland"},"Starland",42,"Lentils - Dryland",87.21,410.03,94.5,343.51,67.3,248.52]
[{"$f":"Table_BPU[[#This Row],[Risk Area]]&\" \"&Table_BPU[[#This Row],[BPU Description]]","v":"Stettler Lentils - Dryland"},"Stettler",42,"Lentils - Dryland",87.21,410.03,94.5,343.51,67.3,248.52]
[{"$f":"Table_BPU[[#This Row],[Risk Area]]&\" \"&Table_BPU[[#This Row],[BPU Description]]","v":"Strathcona County Lentils - Dryland"},"Strathcona County",42,"Lentils - Dryland",87.21,410.03,94.5,343.51,67.3,248.52]
[{"$f":"Table_BPU[[#This Row],[Risk Area]]&\" \"&Table_BPU[[#This Row],[BPU Description]]","v":"Sturgeon Lentils - Dryland"},"Sturgeon",42,"Lentils - Dryland",87.21,410.03,94.5,343.51,67.3,248.52]
[{"$f":"Table_BPU[[#This Row],[Risk Area]]&\" \"&Table_BPU[[#This Row],[BPU Description]]","v":"Taber Lentils - Dryland"},"Taber",42,"Lentils - Dryland",87.21,410.03,94.5,343.51,67.3,248.52]
[{"$f":"Table_BPU[[#This Row],[Risk Area]]&\" \"&Table_BPU[[#This Row],[BPU Description]]","v":"Thorhild Lentils - Dryland"},"Thorhild",42,"Lentils - Dryland",87.21,410.03,94.5,343.51,67.3,248.52]
[{"$f":"Table_BPU[[#This Row],[Risk Area]]&\" \"&Table_BPU[[#This Row],[BPU Description]]","v":"Two Hills Lentils - Dryland"},"Two Hills",42,"Lentils - Dryland",87.21,410.03,94.5,343.51,67.3,248.52]
[{"$f":"Table_BPU[[#This Row],[Risk Area]]&\" \"&Table_BPU[[#This Row],[BPU Description]]","v":"Vermilion River Lentils - Dryland"},"Vermilion River",42,"Lentils - Dryland",87.21,410.03,94.5,343.51,67.3,248.52]
[{"$f":"Table_BPU[[#This Row],[Risk Area]]&\" \"&Table_BPU[[#This Row],[BPU Description]]","v":"Vulcan Lentils - Dryland"},"Vulcan",42,"Lentils - Dryland",87.21,410.03,94.5,343.51,67.3,248.52]
[{"$f":"Table_BPU[[#This Row],[Risk Area]]&\" \"&Table_BPU[[#This Row],[BPU Description]]","v":"Wainwright Lentils - Dryland"},"Wainwright",42,"Lentils - Dryland",87.21,410.03,94.5,343.51,67.3,248.52]
[{"$f":"Table_BPU[[#This Row],[Risk Area]]&\" \"&Table_BPU[[#This Row],[BPU Description]]","v":"Warner Lentils - Dryland"},"Warner",42,"Lentils - Dryland",87.21,410.03,94.5,343.51,67.3,248.52]
[{"$f":"Table_BPU[[#This Row],[Risk Area]]&\" \"&Table_BPU[[#This Row],[BPU Description]]","v":"Westlock Lentils - Dryland"},"Westlock",42,"Lentils - Dryland",87.21,410.03,94.5,343.51,67.3,248.52]
[{"$f":"Table_BPU[[#This Row],[Risk Area]]&\" \"&Table_BPU[[#This Row],[BPU Description]]","v":"Wetaskiwin Lentils - Dryland"},"Wetaskiwin",42,"Lentils - Dryland",87.21,410.03,94.5,343.51,67.3,248.52]
[{"$f":"Table_BPU[[#This Row],[Risk Area]]&\" \"&Table_BPU[[#This Row],[BPU Description]]","v":"Wheatland Lentils - Dryland"},"Wheatland",42,"Lentils - Dryland",87.21,410.03,94.5,343.51,67.3,248.52]
[{"$f":"Table_BPU[[#This Row],[Risk Area]]&\" \"&Table_BPU[[#This Row],[BPU Description]]","v":"Willow Creek Lentils - Dryland"},"Willow Creek",42,"Lentils - Dryland",87.21,410.03,94.5,343.51,67.3,248.52]
[{"$f":"Table_BPU[[#This Row],[Risk Area]]&\" \"&Table_BPU[[#This Row],[BPU Description]]","v":"Wood Buffalo Lentils - Dryland"},"Wood Buffalo",42,"Lentils - Dryland",87.21,410.03,94.5,343.51,67.3,248.52]
[{"$f":"Table_BPU[[#This Row],[Risk Area]]&\" \"&Table_BPU[[#This Row],[BPU Description]]","v":"Woodlands Lentils - Dryland"},"Woodlands",42,"Lentils - Dryland",87.21,410.03,94.5,343.51,67.3,248.52]
[{"$f":"Table_BPU[[#This Row],[Risk Area]]&\" \"&Table_BPU[[#This Row],[BPU Description]]","v":"Yellowhead Lentils - Dryland"},"Yellowhead",42,"Lentils - Dryland",87.21,410.03,94.5,343.51,67.3,248.52]
[{"$f":"Table_BPU[[#This Row],[Risk Area]]&\" \"&Table_BPU[[#This Row],[BPU Description]]","v":"Cardston Lentils - Irrigated"},"Cardston",43,"Lentils - Irrigated",297.43,493.14,683.94,710.03,577.30999999999995,501.06]
[{"$f":"Table_BPU[[#This Row],[Risk Area]]&\" \"&Table_BPU[[#This Row],[BPU Description]]","v":"Cypress Lentils - Irrigated"},"Cypress",43,"Lentils - Irrigated",297.43,493.14,683.94,710.03,577.30999999999995,501.06]
[{"$f":"Table_BPU[[#This Row],[Risk Area]]&\" \"&Table_BPU[[#This Row],[BPU Description]]","v":"Forty Mile Lentils - Irrigated"},"Forty Mile",43,"Lentils - Irrigated",297.43,493.14,683.94,710.03,577.30999999999995,501.06]
[{"$f":"Table_BPU[[#This Row],[Risk Area]]&\" \"&Table_BPU[[#This Row],[BPU Description]]","v":"Lethbridge Lentils - Irrigated"},"Lethbridge",43,"Lentils - Irrigated",297.43,493.14,683.94,710.03,577.30999999999995,501.06]
[{"$f":"Table_BPU[[#This Row],[Risk Area]]&\" \"&Table_BPU[[#This Row],[BPU Description]]","v":"Newell Lentils - Irrigated"},"Newell",43,"Lentils - Irrigated",297.43,493.14,683.94,710.03,577.30999999999995,501.06]
[{"$f":"Table_BPU[[#This Row],[Risk Area]]&\" \"&Table_BPU[[#This Row],[BPU Description]]","v":"Taber Lentils - Irrigated"},"Taber",43,"Lentils - Irrigated",297.43,493.14,683.94,710.03,577.30999999999995,501.06]
[{"$f":"Table_BPU[[#This Row],[Risk Area]]&\" \"&Table_BPU[[#This Row],[BPU Description]]","v":"Vulcan Lentils - Irrigated"},"Vulcan",43,"Lentils - Irrigated",297.43,493.14,683.94,710.03,577.30999999999995,501.06]
[{"$f":"Table_BPU[[#This Row],[Risk Area]]&\" \"&Table_BPU[[#This Row],[BPU Description]]","v":"Warner Lentils - Irrigated"},"Warner",43,"Lentils - Irrigated",297.43,493.14,683.94,710.03,577.30999999999995,501.06]
[{"$f":"Table_BPU[[#This Row],[Risk Area]]&\" \"&Table_BPU[[#This Row],[BPU Description]]","v":"Wheatland Lentils - Irrigated"},"Wheatland",43,"Lentils - Irrigated",297.43,493.14,683.94,710.03,577.30999999999995,501.06]
[{"$f":"Table_BPU[[#This Row],[Risk Area]]&\" \"&Table_BPU[[#This Row],[BPU Description]]","v":"Willow Creek Lentils - Irrigated"},"Willow Creek",43,"Lentils - Irrigated",297.43,493.14,683.94,710.03,577.30999999999995,501.06]
[{"$f":"Table_BPU[[#This Row],[Risk Area]]&\" \"&Table_BPU[[#This Row],[BPU Description]]","v":"Acadia Mustard - Brown"},"Acadia",44,"Mustard - Brown",43.33,311.35000000000002,92.91,709.31,232.45,161.04]
[{"$f":"Table_BPU[[#This Row],[Risk Area]]&\" \"&Table_BPU[[#This Row],[BPU Description]]","v":"Athabasca Mustard - Brown"},"Athabasca",44,"Mustard - Brown",43.33,311.35000000000002,92.91,709.31,232.45,161.04]
[{"$f":"Table_BPU[[#This Row],[Risk Area]]&\" \"&Table_BPU[[#This Row],[BPU Description]]","v":"Barrhead Mustard - Brown"},"Barrhead",44,"Mustard - Brown",43.33,311.35000000000002,92.91,709.31,232.45,161.04]
[{"$f":"Table_BPU[[#This Row],[Risk Area]]&\" \"&Table_BPU[[#This Row],[BPU Description]]","v":"Beaver Mustard - Brown"},"Beaver",44,"Mustard - Brown",43.33,311.35000000000002,92.91,709.31,232.45,161.04]
[{"$f":"Table_BPU[[#This Row],[Risk Area]]&\" \"&Table_BPU[[#This Row],[BPU Description]]","v":"Big Lakes Mustard - Brown"},"Big Lakes",44,"Mustard - Brown",43.33,311.35000000000002,92.91,709.31,232.45,161.04]
[{"$f":"Table_BPU[[#This Row],[Risk Area]]&\" \"&Table_BPU[[#This Row],[BPU Description]]","v":"Bighorn Mustard - Brown"},"Bighorn",44,"Mustard - Brown",43.33,311.35000000000002,92.91,709.31,232.45,161.04]
[{"$f":"Table_BPU[[#This Row],[Risk Area]]&\" \"&Table_BPU[[#This Row],[BPU Description]]","v":"Birch Hills Mustard - Brown"},"Birch Hills",44,"Mustard - Brown",43.33,311.35000000000002,92.91,709.31,232.45,161.04]
[{"$f":"Table_BPU[[#This Row],[Risk Area]]&\" \"&Table_BPU[[#This Row],[BPU Description]]","v":"Bonnyville Mustard - Brown"},"Bonnyville",44,"Mustard - Brown",43.33,311.35000000000002,92.91,709.31,232.45,161.04]
[{"$f":"Table_BPU[[#This Row],[Risk Area]]&\" \"&Table_BPU[[#This Row],[BPU Description]]","v":"Brazeau Mustard - Brown"},"Brazeau",44,"Mustard - Brown",43.33,311.35000000000002,92.91,709.31,232.45,161.04]
[{"$f":"Table_BPU[[#This Row],[Risk Area]]&\" \"&Table_BPU[[#This Row],[BPU Description]]","v":"Camrose Mustard - Brown"},"Camrose",44,"Mustard - Brown",43.33,311.35000000000002,92.91,709.31,232.45,161.04]
[{"$f":"Table_BPU[[#This Row],[Risk Area]]&\" \"&Table_BPU[[#This Row],[BPU Description]]","v":"Cardston Mustard - Brown"},"Cardston",44,"Mustard - Brown",43.33,311.35000000000002,92.91,709.31,232.45,161.04]
[{"$f":"Table_BPU[[#This Row],[Risk Area]]&\" \"&Table_BPU[[#This Row],[BPU Description]]","v":"Clear Hills Mustard - Brown"},"Clear Hills",44,"Mustard - Brown",43.33,311.35000000000002,92.91,709.31,232.45,161.04]
[{"$f":"Table_BPU[[#This Row],[Risk Area]]&\" \"&Table_BPU[[#This Row],[BPU Description]]","v":"Clearwater Mustard - Brown"},"Clearwater",44,"Mustard - Brown",43.33,311.35000000000002,92.91,709.31,232.45,161.04]
[{"$f":"Table_BPU[[#This Row],[Risk Area]]&\" \"&Table_BPU[[#This Row],[BPU Description]]","v":"Cypress Mustard - Brown"},"Cypress",44,"Mustard - Brown",43.33,311.35000000000002,92.91,709.31,232.45,161.04]
[{"$f":"Table_BPU[[#This Row],[Risk Area]]&\" \"&Table_BPU[[#This Row],[BPU Description]]","v":"Edmonton Mustard - Brown"},"Edmonton",44,"Mustard - Brown",43.33,311.35000000000002,92.91,709.31,232.45,161.04]
[{"$f":"Table_BPU[[#This Row],[Risk Area]]&\" \"&Table_BPU[[#This Row],[BPU Description]]","v":"Fairview Mustard - Brown"},"Fairview",44,"Mustard - Brown",43.33,311.35000000000002,92.91,709.31,232.45,161.04]
[{"$f":"Table_BPU[[#This Row],[Risk Area]]&\" \"&Table_BPU[[#This Row],[BPU Description]]","v":"Flagstaff Mustard - Brown"},"Flagstaff",44,"Mustard - Brown",43.33,311.35000000000002,92.91,709.31,232.45,161.04]
[{"$f":"Table_BPU[[#This Row],[Risk Area]]&\" \"&Table_BPU[[#This Row],[BPU Description]]","v":"Foothills Mustard - Brown"},"Foothills",44,"Mustard - Brown",43.33,311.35000000000002,92.91,709.31,232.45,161.04]
[{"$f":"Table_BPU[[#This Row],[Risk Area]]&\" \"&Table_BPU[[#This Row],[BPU Description]]","v":"Forty Mile Mustard - Brown"},"Forty Mile",44,"Mustard - Brown",43.33,311.35000000000002,92.91,709.31,232.45,161.04]
[{"$f":"Table_BPU[[#This Row],[Risk Area]]&\" \"&Table_BPU[[#This Row],[BPU Description]]","v":"Grande Prairie Mustard - Brown"},"Grande Prairie",44,"Mustard - Brown",43.33,311.35000000000002,92.91,709.31,232.45,161.04]
[{"$f":"Table_BPU[[#This Row],[Risk Area]]&\" \"&Table_BPU[[#This Row],[BPU Description]]","v":"Greenview Mustard - Brown"},"Greenview",44,"Mustard - Brown",43.33,311.35000000000002,92.91,709.31,232.45,161.04]
[{"$f":"Table_BPU[[#This Row],[Risk Area]]&\" \"&Table_BPU[[#This Row],[BPU Description]]","v":"Kneehill Mustard - Brown"},"Kneehill",44,"Mustard - Brown",43.33,311.35000000000002,92.91,709.31,232.45,161.04]
[{"$f":"Table_BPU[[#This Row],[Risk Area]]&\" \"&Table_BPU[[#This Row],[BPU Description]]","v":"Lac La Biche Mustard - Brown"},"Lac La Biche",44,"Mustard - Brown",43.33,311.35000000000002,92.91,709.31,232.45,161.04]
[{"$f":"Table_BPU[[#This Row],[Risk Area]]&\" \"&Table_BPU[[#This Row],[BPU Description]]","v":"Lac Ste. Anne County Mustard - Brown"},"Lac Ste. Anne County",44,"Mustard - Brown",43.33,311.35000000000002,92.91,709.31,232.45,161.04]
[{"$f":"Table_BPU[[#This Row],[Risk Area]]&\" \"&Table_BPU[[#This Row],[BPU Description]]","v":"Lacombe Mustard - Brown"},"Lacombe",44,"Mustard - Brown",43.33,311.35000000000002,92.91,709.31,232.45,161.04]
[{"$f":"Table_BPU[[#This Row],[Risk Area]]&\" \"&Table_BPU[[#This Row],[BPU Description]]","v":"Lamont Mustard - Brown"},"Lamont",44,"Mustard - Brown",43.33,311.35000000000002,92.91,709.31,232.45,161.04]
[{"$f":"Table_BPU[[#This Row],[Risk Area]]&\" \"&Table_BPU[[#This Row],[BPU Description]]","v":"Leduc Mustard - Brown"},"Leduc",44,"Mustard - Brown",43.33,311.35000000000002,92.91,709.31,232.45,161.04]
[{"$f":"Table_BPU[[#This Row],[Risk Area]]&\" \"&Table_BPU[[#This Row],[BPU Description]]","v":"Lesser Slave River Mustard - Brown"},"Lesser Slave River",44,"Mustard - Brown",43.33,311.35000000000002,92.91,709.31,232.45,161.04]
[{"$f":"Table_BPU[[#This Row],[Risk Area]]&\" \"&Table_BPU[[#This Row],[BPU Description]]","v":"Lethbridge Mustard - Brown"},"Lethbridge",44,"Mustard - Brown",43.33,311.35000000000002,92.91,709.31,232.45,161.04]
[{"$f":"Table_BPU[[#This Row],[Risk Area]]&\" \"&Table_BPU[[#This Row],[BPU Description]]","v":"Mackenzie Mustard - Brown"},"Mackenzie",44,"Mustard - Brown",43.33,311.35000000000002,92.91,709.31,232.45,161.04]
[{"$f":"Table_BPU[[#This Row],[Risk Area]]&\" \"&Table_BPU[[#This Row],[BPU Description]]","v":"Minburn Mustard - Brown"},"Minburn",44,"Mustard - Brown",43.33,311.35000000000002,92.91,709.31,232.45,161.04]
[{"$f":"Table_BPU[[#This Row],[Risk Area]]&\" \"&Table_BPU[[#This Row],[BPU Description]]","v":"Mountain View Mustard - Brown"},"Mountain View",44,"Mustard - Brown",43.33,311.35000000000002,92.91,709.31,232.45,161.04]
[{"$f":"Table_BPU[[#This Row],[Risk Area]]&\" \"&Table_BPU[[#This Row],[BPU Description]]","v":"Newell Mustard - Brown"},"Newell",44,"Mustard - Brown",43.33,311.35000000000002,92.91,709.31,232.45,161.04]
[{"$f":"Table_BPU[[#This Row],[Risk Area]]&\" \"&Table_BPU[[#This Row],[BPU Description]]","v":"Northern Lights Mustard - Brown"},"Northern Lights",44,"Mustard - Brown",43.33,311.35000000000002,92.91,709.31,232.45,161.04]
[{"$f":"Table_BPU[[#This Row],[Risk Area]]&\" \"&Table_BPU[[#This Row],[BPU Description]]","v":"Northern Sunrise Mustard - Brown"},"Northern Sunrise",44,"Mustard - Brown",43.33,311.35000000000002,92.91,709.31,232.45,161.04]
[{"$f":"Table_BPU[[#This Row],[Risk Area]]&\" \"&Table_BPU[[#This Row],[BPU Description]]","v":"Opportunity Mustard - Brown"},"Opportunity",44,"Mustard - Brown",43.33,311.35000000000002,92.91,709.31,232.45,161.04]
[{"$f":"Table_BPU[[#This Row],[Risk Area]]&\" \"&Table_BPU[[#This Row],[BPU Description]]","v":"Paintearth Mustard - Brown"},"Paintearth",44,"Mustard - Brown",43.33,311.35000000000002,92.91,709.31,232.45,161.04]
[{"$f":"Table_BPU[[#This Row],[Risk Area]]&\" \"&Table_BPU[[#This Row],[BPU Description]]","v":"Parkland County Mustard - Brown"},"Parkland County",44,"Mustard - Brown",43.33,311.35000000000002,92.91,709.31,232.45,161.04]
[{"$f":"Table_BPU[[#This Row],[Risk Area]]&\" \"&Table_BPU[[#This Row],[BPU Description]]","v":"Peace Mustard - Brown"},"Peace",44,"Mustard - Brown",43.33,311.35000000000002,92.91,709.31,232.45,161.04]
[{"$f":"Table_BPU[[#This Row],[Risk Area]]&\" \"&Table_BPU[[#This Row],[BPU Description]]","v":"Pincher Creek Mustard - Brown"},"Pincher Creek",44,"Mustard - Brown",43.33,311.35000000000002,92.91,709.31,232.45,161.04]
[{"$f":"Table_BPU[[#This Row],[Risk Area]]&\" \"&Table_BPU[[#This Row],[BPU Description]]","v":"Ponoka Mustard - Brown"},"Ponoka",44,"Mustard - Brown",43.33,311.35000000000002,92.91,709.31,232.45,161.04]
[{"$f":"Table_BPU[[#This Row],[Risk Area]]&\" \"&Table_BPU[[#This Row],[BPU Description]]","v":"Provost Mustard - Brown"},"Provost",44,"Mustard - Brown",43.33,311.35000000000002,92.91,709.31,232.45,161.04]
[{"$f":"Table_BPU[[#This Row],[Risk Area]]&\" \"&Table_BPU[[#This Row],[BPU Description]]","v":"Ranchland Mustard - Brown"},"Ranchland",44,"Mustard - Brown",43.33,311.35000000000002,92.91,709.31,232.45,161.04]
[{"$f":"Table_BPU[[#This Row],[Risk Area]]&\" \"&Table_BPU[[#This Row],[BPU Description]]","v":"Red Deer Mustard - Brown"},"Red Deer",44,"Mustard - Brown",43.33,311.35000000000002,92.91,709.31,232.45,161.04]
[{"$f":"Table_BPU[[#This Row],[Risk Area]]&\" \"&Table_BPU[[#This Row],[BPU Description]]","v":"Rocky View Mustard - Brown"},"Rocky View",44,"Mustard - Brown",43.33,311.35000000000002,92.91,709.31,232.45,161.04]
[{"$f":"Table_BPU[[#This Row],[Risk Area]]&\" \"&Table_BPU[[#This Row],[BPU Description]]","v":"Saddle Hills Mustard - Brown"},"Saddle Hills",44,"Mustard - Brown",43.33,311.35000000000002,92.91,709.31,232.45,161.04]
[{"$f":"Table_BPU[[#This Row],[Risk Area]]&\" \"&Table_BPU[[#This Row],[BPU Description]]","v":"Smoky Lake Mustard - Brown"},"Smoky Lake",44,"Mustard - Brown",43.33,311.35000000000002,92.91,709.31,232.45,161.04]
[{"$f":"Table_BPU[[#This Row],[Risk Area]]&\" \"&Table_BPU[[#This Row],[BPU Description]]","v":"Smoky River Mustard - Brown"},"Smoky River",44,"Mustard - Brown",43.33,311.35000000000002,92.91,709.31,232.45,161.04]
[{"$f":"Table_BPU[[#This Row],[Risk Area]]&\" \"&Table_BPU[[#This Row],[BPU Description]]","v":"Special Area 02 Mustard - Brown"},"Special Area 02",44,"Mustard - Brown",103.45,178.09,134.22999999999999,306.64,50.08,49.08]
[{"$f":"Table_BPU[[#This Row],[Risk Area]]&\" \"&Table_BPU[[#This Row],[BPU Description]]","v":"Special Area 03 Mustard - Brown"},"Special Area 03",44,"Mustard - Brown",91.06,115.74,105.66,174.26,46.32,19.53]
[{"$f":"Table_BPU[[#This Row],[Risk Area]]&\" \"&Table_BPU[[#This Row],[BPU Description]]","v":"Special Area 04 Mustard - Brown"},"Special Area 04",44,"Mustard - Brown",103.34,151.56,135.99,344.31,82.22,27.14]
[{"$f":"Table_BPU[[#This Row],[Risk Area]]&\" \"&Table_BPU[[#This Row],[BPU Description]]","v":"Spirit River Mustard - Brown"},"Spirit River",44,"Mustard - Brown",43.33,311.35000000000002,92.91,709.31,232.45,161.04]
[{"$f":"Table_BPU[[#This Row],[Risk Area]]&\" \"&Table_BPU[[#This Row],[BPU Description]]","v":"St. Paul Mustard - Brown"},"St. Paul",44,"Mustard - Brown",43.33,311.35000000000002,92.91,709.31,232.45,161.04]
[{"$f":"Table_BPU[[#This Row],[Risk Area]]&\" \"&Table_BPU[[#This Row],[BPU Description]]","v":"Starland Mustard - Brown"},"Starland",44,"Mustard - Brown",43.33,311.35000000000002,92.91,709.31,232.45,161.04]
[{"$f":"Table_BPU[[#This Row],[Risk Area]]&\" \"&Table_BPU[[#This Row],[BPU Description]]","v":"Stettler Mustard - Brown"},"Stettler",44,"Mustard - Brown",43.33,311.35000000000002,92.91,709.31,232.45,161.04]
[{"$f":"Table_BPU[[#This Row],[Risk Area]]&\" \"&Table_BPU[[#This Row],[BPU Description]]","v":"Strathcona County Mustard - Brown"},"Strathcona County",44,"Mustard - Brown",43.33,311.35000000000002,92.91,709.31,232.45,161.04]
[{"$f":"Table_BPU[[#This Row],[Risk Area]]&\" \"&Table_BPU[[#This Row],[BPU Description]]","v":"Sturgeon Mustard - Brown"},"Sturgeon",44,"Mustard - Brown",43.33,311.35000000000002,92.91,709.31,232.45,161.04]
[{"$f":"Table_BPU[[#This Row],[Risk Area]]&\" \"&Table_BPU[[#This Row],[BPU Description]]","v":"Taber Mustard - Brown"},"Taber",44,"Mustard - Brown",43.33,311.35000000000002,92.91,709.31,232.45,161.04]
[{"$f":"Table_BPU[[#This Row],[Risk Area]]&\" \"&Table_BPU[[#This Row],[BPU Description]]","v":"Thorhild Mustard - Brown"},"Thorhild",44,"Mustard - Brown",43.33,311.35000000000002,92.91,709.31,232.45,161.04]
[{"$f":"Table_BPU[[#This Row],[Risk Area]]&\" \"&Table_BPU[[#This Row],[BPU Description]]","v":"Two Hills Mustard - Brown"},"Two Hills",44,"Mustard - Brown",43.33,311.35000000000002,92.91,709.31,232.45,161.04]
[{"$f":"Table_BPU[[#This Row],[Risk Area]]&\" \"&Table_BPU[[#This Row],[BPU Description]]","v":"Vermilion River Mustard - Brown"},"Vermilion River",44,"Mustard - Brown",43.33,311.35000000000002,92.91,709.31,232.45,161.04]
[{"$f":"Table_BPU[[#This Row],[Risk Area]]&\" \"&Table_BPU[[#This Row],[BPU Description]]","v":"Vulcan Mustard - Brown"},"Vulcan",44,"Mustard - Brown",43.33,311.35000000000002,92.91,709.31,232.45,161.04]
[{"$f":"Table_BPU[[#This Row],[Risk Area]]&\" \"&Table_BPU[[#This Row],[BPU Description]]","v":"Wainwright Mustard - Brown"},"Wainwright",44,"Mustard - Brown",43.33,311.35000000000002,92.91,709.31,232.45,161.04]
[{"$f":"Table_BPU[[#This Row],[Risk Area]]&\" \"&Table_BPU[[#This Row],[BPU Description]]","v":"Warner Mustard - Brown"},"Warner",44,"Mustard - Brown",43.33,311.35000000000002,92.91,709.31,232.45,161.04]
[{"$f":"Table_BPU[[#This Row],[Risk Area]]&\" \"&Table_BPU[[#This Row],[BPU Description]]","v":"Westlock Mustard - Brown"},"Westlock",44,"Mustard - Brown",43.33,311.35000000000002,92.91,709.31,232.45,161.04]
[{"$f":"Table_BPU[[#This Row],[Risk Area]]&\" \"&Table_BPU[[#This Row],[BPU Description]]","v":"Wetaskiwin Mustard - Brown"},"Wetaskiwin",44,"Mustard - Brown",43.33,311.35000000000002,92.91,709.31,232.45,161.04]
[{"$f":"Table_BPU[[#This Row],[Risk Area]]&\" \"&Table_BPU[[#This Row],[BPU Description]]","v":"Wheatland Mustard - Brown"},"Wheatland",44,"Mustard - Brown",43.33,311.35000000000002,92.91,709.31,232.45,161.04]
[{"$f":"Table_BPU[[#This Row],[Risk Area]]&\" \"&Table_BPU[[#This Row],[BPU Description]]","v":"Willow Creek Mustard - Brown"},"Willow Creek",44,"Mustard - Brown",43.33,311.35000000000002,92.91,709.31,232.45,161.04]
[{"$f":"Table_BPU[[#This Row],[Risk Area]]&\" \"&Table_BPU[[#This Row],[BPU Description]]","v":"Wood Buffalo Mustard - Brown"},"Wood Buffalo",44,"Mustard - Brown",43.33,311.35000000000002,92.91,709.31,232.45,161.04]
[{"$f":"Table_BPU[[#This Row],[Risk Area]]&\" \"&Table_BPU[[#This Row],[BPU Description]]","v":"Woodlands Mustard - Brown"},"Woodlands",44,"Mustard - Brown",43.33,311.35000000000002,92.91,709.31,232.45,161.04]
[{"$f":"Table_BPU[[#This Row],[Risk Area]]&\" \"&Table_BPU[[#This Row],[BPU Description]]","v":"Yellowhead Mustard - Brown"},"Yellowhead",44,"Mustard - Brown",43.33,311.35000000000002,92.91,709.31,232.45,161.04]
[{"$f":"Table_BPU[[#This Row],[Risk Area]]&\" \"&Table_BPU[[#This Row],[BPU Description]]","v":"Acadia Mustard - Oriental"},"Acadia",45,"Mustard - Oriental",52.07,85.16,13.19,306.58999999999997,219.95,226.27]
[{"$f":"Table_BPU[[#This Row],[Risk Area]]&\" \"&Table_BPU[[#This Row],[BPU Description]]","v":"Athabasca Mustard - Oriental"},"Athabasca",45,"Mustard - Oriental",52.07,85.16,13.19,306.58999999999997,219.95,226.27]
[{"$f":"Table_BPU[[#This Row],[Risk Area]]&\" \"&Table_BPU[[#This Row],[BPU Description]]","v":"Barrhead Mustard - Oriental"},"Barrhead",45,"Mustard - Oriental",52.07,85.16,13.19,306.58999999999997,219.95,226.27]
[{"$f":"Table_BPU[[#This Row],[Risk Area]]&\" \"&Table_BPU[[#This Row],[BPU Description]]","v":"Beaver Mustard - Oriental"},"Beaver",45,"Mustard - Oriental",52.07,85.16,13.19,306.58999999999997,219.95,226.27]
[{"$f":"Table_BPU[[#This Row],[Risk Area]]&\" \"&Table_BPU[[#This Row],[BPU Description]]","v":"Big Lakes Mustard - Oriental"},"Big Lakes",45,"Mustard - Oriental",52.07,85.16,13.19,306.58999999999997,219.95,226.27]
[{"$f":"Table_BPU[[#This Row],[Risk Area]]&\" \"&Table_BPU[[#This Row],[BPU Description]]","v":"Bighorn Mustard - Oriental"},"Bighorn",45,"Mustard - Oriental",52.07,85.16,13.19,306.58999999999997,219.95,226.27]
[{"$f":"Table_BPU[[#This Row],[Risk Area]]&\" \"&Table_BPU[[#This Row],[BPU Description]]","v":"Birch Hills Mustard - Oriental"},"Birch Hills",45,"Mustard - Oriental",52.07,85.16,13.19,306.58999999999997,219.95,226.27]
[{"$f":"Table_BPU[[#This Row],[Risk Area]]&\" \"&Table_BPU[[#This Row],[BPU Description]]","v":"Bonnyville Mustard - Oriental"},"Bonnyville",45,"Mustard - Oriental",52.07,85.16,13.19,306.58999999999997,219.95,226.27]
[{"$f":"Table_BPU[[#This Row],[Risk Area]]&\" \"&Table_BPU[[#This Row],[BPU Description]]","v":"Brazeau Mustard - Oriental"},"Brazeau",45,"Mustard - Oriental",52.07,85.16,13.19,306.58999999999997,219.95,226.27]
[{"$f":"Table_BPU[[#This Row],[Risk Area]]&\" \"&Table_BPU[[#This Row],[BPU Description]]","v":"Camrose Mustard - Oriental"},"Camrose",45,"Mustard - Oriental",52.07,85.16,13.19,306.58999999999997,219.95,226.27]
[{"$f":"Table_BPU[[#This Row],[Risk Area]]&\" \"&Table_BPU[[#This Row],[BPU Description]]","v":"Cardston Mustard - Oriental"},"Cardston",45,"Mustard - Oriental",52.07,85.16,13.19,306.58999999999997,219.95,226.27]
[{"$f":"Table_BPU[[#This Row],[Risk Area]]&\" \"&Table_BPU[[#This Row],[BPU Description]]","v":"Clear Hills Mustard - Oriental"},"Clear Hills",45,"Mustard - Oriental",52.07,85.16,13.19,306.58999999999997,219.95,226.27]
[{"$f":"Table_BPU[[#This Row],[Risk Area]]&\" \"&Table_BPU[[#This Row],[BPU Description]]","v":"Clearwater Mustard - Oriental"},"Clearwater",45,"Mustard - Oriental",52.07,85.16,13.19,306.58999999999997,219.95,226.27]
[{"$f":"Table_BPU[[#This Row],[Risk Area]]&\" \"&Table_BPU[[#This Row],[BPU Description]]","v":"Cypress Mustard - Oriental"},"Cypress",45,"Mustard - Oriental",52.07,85.16,13.19,306.58999999999997,219.95,226.27]
[{"$f":"Table_BPU[[#This Row],[Risk Area]]&\" \"&Table_BPU[[#This Row],[BPU Description]]","v":"Edmonton Mustard - Oriental"},"Edmonton",45,"Mustard - Oriental",52.07,85.16,13.19,306.58999999999997,219.95,226.27]
[{"$f":"Table_BPU[[#This Row],[Risk Area]]&\" \"&Table_BPU[[#This Row],[BPU Description]]","v":"Fairview Mustard - Oriental"},"Fairview",45,"Mustard - Oriental",52.07,85.16,13.19,306.58999999999997,219.95,226.27]
[{"$f":"Table_BPU[[#This Row],[Risk Area]]&\" \"&Table_BPU[[#This Row],[BPU Description]]","v":"Flagstaff Mustard - Oriental"},"Flagstaff",45,"Mustard - Oriental",52.07,85.16,13.19,306.58999999999997,219.95,226.27]
[{"$f":"Table_BPU[[#This Row],[Risk Area]]&\" \"&Table_BPU[[#This Row],[BPU Description]]","v":"Foothills Mustard - Oriental"},"Foothills",45,"Mustard - Oriental",52.07,85.16,13.19,306.58999999999997,219.95,226.27]
[{"$f":"Table_BPU[[#This Row],[Risk Area]]&\" \"&Table_BPU[[#This Row],[BPU Description]]","v":"Forty Mile Mustard - Oriental"},"Forty Mile",45,"Mustard - Oriental",52.07,85.16,13.19,306.58999999999997,219.95,226.27]
[{"$f":"Table_BPU[[#This Row],[Risk Area]]&\" \"&Table_BPU[[#This Row],[BPU Description]]","v":"Grande Prairie Mustard - Oriental"},"Grande Prairie",45,"Mustard - Oriental",52.07,85.16,13.19,306.58999999999997,219.95,226.27]
[{"$f":"Table_BPU[[#This Row],[Risk Area]]&\" \"&Table_BPU[[#This Row],[BPU Description]]","v":"Greenview Mustard - Oriental"},"Greenview",45,"Mustard - Oriental",52.07,85.16,13.19,306.58999999999997,219.95,226.27]
[{"$f":"Table_BPU[[#This Row],[Risk Area]]&\" \"&Table_BPU[[#This Row],[BPU Description]]","v":"Kneehill Mustard - Oriental"},"Kneehill",45,"Mustard - Oriental",52.07,85.16,13.19,306.58999999999997,219.95,226.27]
[{"$f":"Table_BPU[[#This Row],[Risk Area]]&\" \"&Table_BPU[[#This Row],[BPU Description]]","v":"Lac La Biche Mustard - Oriental"},"Lac La Biche",45,"Mustard - Oriental",52.07,85.16,13.19,306.58999999999997,219.95,226.27]
[{"$f":"Table_BPU[[#This Row],[Risk Area]]&\" \"&Table_BPU[[#This Row],[BPU Description]]","v":"Lac Ste. Anne County Mustard - Oriental"},"Lac Ste. Anne County",45,"Mustard - Oriental",52.07,85.16,13.19,306.58999999999997,219.95,226.27]
[{"$f":"Table_BPU[[#This Row],[Risk Area]]&\" \"&Table_BPU[[#This Row],[BPU Description]]","v":"Lacombe Mustard - Oriental"},"Lacombe",45,"Mustard - Oriental",52.07,85.16,13.19,306.58999999999997,219.95,226.27]
[{"$f":"Table_BPU[[#This Row],[Risk Area]]&\" \"&Table_BPU[[#This Row],[BPU Description]]","v":"Lamont Mustard - Oriental"},"Lamont",45,"Mustard - Oriental",52.07,85.16,13.19,306.58999999999997,219.95,226.27]
[{"$f":"Table_BPU[[#This Row],[Risk Area]]&\" \"&Table_BPU[[#This Row],[BPU Description]]","v":"Leduc Mustard - Oriental"},"Leduc",45,"Mustard - Oriental",52.07,85.16,13.19,306.58999999999997,219.95,226.27]
[{"$f":"Table_BPU[[#This Row],[Risk Area]]&\" \"&Table_BPU[[#This Row],[BPU Description]]","v":"Lesser Slave River Mustard - Oriental"},"Lesser Slave River",45,"Mustard - Oriental",52.07,85.16,13.19,306.58999999999997,219.95,226.27]
[{"$f":"Table_BPU[[#This Row],[Risk Area]]&\" \"&Table_BPU[[#This Row],[BPU Description]]","v":"Lethbridge Mustard - Oriental"},"Lethbridge",45,"Mustard - Oriental",52.07,85.16,13.19,306.58999999999997,219.95,226.27]
[{"$f":"Table_BPU[[#This Row],[Risk Area]]&\" \"&Table_BPU[[#This Row],[BPU Description]]","v":"Mackenzie Mustard - Oriental"},"Mackenzie",45,"Mustard - Oriental",52.07,85.16,13.19,306.58999999999997,219.95,226.27]
[{"$f":"Table_BPU[[#This Row],[Risk Area]]&\" \"&Table_BPU[[#This Row],[BPU Description]]","v":"Minburn Mustard - Oriental"},"Minburn",45,"Mustard - Oriental",52.07,85.16,13.19,306.58999999999997,219.95,226.27]
[{"$f":"Table_BPU[[#This Row],[Risk Area]]&\" \"&Table_BPU[[#This Row],[BPU Description]]","v":"Mountain View Mustard - Oriental"},"Mountain View",45,"Mustard - Oriental",52.07,85.16,13.19,306.58999999999997,219.95,226.27]
[{"$f":"Table_BPU[[#This Row],[Risk Area]]&\" \"&Table_BPU[[#This Row],[BPU Description]]","v":"Newell Mustard - Oriental"},"Newell",45,"Mustard - Oriental",52.07,85.16,13.19,306.58999999999997,219.95,226.27]
[{"$f":"Table_BPU[[#This Row],[Risk Area]]&\" \"&Table_BPU[[#This Row],[BPU Description]]","v":"Northern Lights Mustard - Oriental"},"Northern Lights",45,"Mustard - Oriental",52.07,85.16,13.19,306.58999999999997,219.95,226.27]
[{"$f":"Table_BPU[[#This Row],[Risk Area]]&\" \"&Table_BPU[[#This Row],[BPU Description]]","v":"Northern Sunrise Mustard - Oriental"},"Northern Sunrise",45,"Mustard - Oriental",52.07,85.16,13.19,306.58999999999997,219.95,226.27]
[{"$f":"Table_BPU[[#This Row],[Risk Area]]&\" \"&Table_BPU[[#This Row],[BPU Description]]","v":"Opportunity Mustard - Oriental"},"Opportunity",45,"Mustard - Oriental",52.07,85.16,13.19,306.58999999999997,219.95,226.27]
[{"$f":"Table_BPU[[#This Row],[Risk Area]]&\" \"&Table_BPU[[#This Row],[BPU Description]]","v":"Paintearth Mustard - Oriental"},"Paintearth",45,"Mustard - Oriental",52.07,85.16,13.19,306.58999999999997,219.95,226.27]
[{"$f":"Table_BPU[[#This Row],[Risk Area]]&\" \"&Table_BPU[[#This Row],[BPU Description]]","v":"Parkland County Mustard - Oriental"},"Parkland County",45,"Mustard - Oriental",52.07,85.16,13.19,306.58999999999997,219.95,226.27]
[{"$f":"Table_BPU[[#This Row],[Risk Area]]&\" \"&Table_BPU[[#This Row],[BPU Description]]","v":"Peace Mustard - Oriental"},"Peace",45,"Mustard - Oriental",52.07,85.16,13.19,306.58999999999997,219.95,226.27]
[{"$f":"Table_BPU[[#This Row],[Risk Area]]&\" \"&Table_BPU[[#This Row],[BPU Description]]","v":"Pincher Creek Mustard - Oriental"},"Pincher Creek",45,"Mustard - Oriental",52.07,85.16,13.19,306.58999999999997,219.95,226.27]
[{"$f":"Table_BPU[[#This Row],[Risk Area]]&\" \"&Table_BPU[[#This Row],[BPU Description]]","v":"Ponoka Mustard - Oriental"},"Ponoka",45,"Mustard - Oriental",52.07,85.16,13.19,306.58999999999997,219.95,226.27]
[{"$f":"Table_BPU[[#This Row],[Risk Area]]&\" \"&Table_BPU[[#This Row],[BPU Description]]","v":"Provost Mustard - Oriental"},"Provost",45,"Mustard - Oriental",52.07,85.16,13.19,306.58999999999997,219.95,226.27]
[{"$f":"Table_BPU[[#This Row],[Risk Area]]&\" \"&Table_BPU[[#This Row],[BPU Description]]","v":"Ranchland Mustard - Oriental"},"Ranchland",45,"Mustard - Oriental",52.07,85.16,13.19,306.58999999999997,219.95,226.27]
[{"$f":"Table_BPU[[#This Row],[Risk Area]]&\" \"&Table_BPU[[#This Row],[BPU Description]]","v":"Red Deer Mustard - Oriental"},"Red Deer",45,"Mustard - Oriental",52.07,85.16,13.19,306.58999999999997,219.95,226.27]
[{"$f":"Table_BPU[[#This Row],[Risk Area]]&\" \"&Table_BPU[[#This Row],[BPU Description]]","v":"Rocky View Mustard - Oriental"},"Rocky View",45,"Mustard - Oriental",52.07,85.16,13.19,306.58999999999997,219.95,226.27]
[{"$f":"Table_BPU[[#This Row],[Risk Area]]&\" \"&Table_BPU[[#This Row],[BPU Description]]","v":"Saddle Hills Mustard - Oriental"},"Saddle Hills",45,"Mustard - Oriental",52.07,85.16,13.19,306.58999999999997,219.95,226.27]
[{"$f":"Table_BPU[[#This Row],[Risk Area]]&\" \"&Table_BPU[[#This Row],[BPU Description]]","v":"Smoky Lake Mustard - Oriental"},"Smoky Lake",45,"Mustard - Oriental",52.07,85.16,13.19,306.58999999999997,219.95,226.27]
[{"$f":"Table_BPU[[#This Row],[Risk Area]]&\" \"&Table_BPU[[#This Row],[BPU Description]]","v":"Smoky River Mustard - Oriental"},"Smoky River",45,"Mustard - Oriental",52.07,85.16,13.19,306.58999999999997,219.95,226.27]
[{"$f":"Table_BPU[[#This Row],[Risk Area]]&\" \"&Table_BPU[[#This Row],[BPU Description]]","v":"Special Area 02 Mustard - Oriental"},"Special Area 02",45,"Mustard - Oriental",103.45,178.09,134.22999999999999,306.64,50.08,49.08]
[{"$f":"Table_BPU[[#This Row],[Risk Area]]&\" \"&Table_BPU[[#This Row],[BPU Description]]","v":"Special Area 03 Mustard - Oriental"},"Special Area 03",45,"Mustard - Oriental",91.06,115.74,105.66,174.26,46.32,19.53]
[{"$f":"Table_BPU[[#This Row],[Risk Area]]&\" \"&Table_BPU[[#This Row],[BPU Description]]","v":"Special Area 04 Mustard - Oriental"},"Special Area 04",45,"Mustard - Oriental",103.34,151.56,135.99,344.31,82.22,27.14]
[{"$f":"Table_BPU[[#This Row],[Risk Area]]&\" \"&Table_BPU[[#This Row],[BPU Description]]","v":"Spirit River Mustard - Oriental"},"Spirit River",45,"Mustard - Oriental",52.07,85.16,13.19,306.58999999999997,219.95,226.27]
[{"$f":"Table_BPU[[#This Row],[Risk Area]]&\" \"&Table_BPU[[#This Row],[BPU Description]]","v":"St. Paul Mustard - Oriental"},"St. Paul",45,"Mustard - Oriental",52.07,85.16,13.19,306.58999999999997,219.95,226.27]
[{"$f":"Table_BPU[[#This Row],[Risk Area]]&\" \"&Table_BPU[[#This Row],[BPU Description]]","v":"Starland Mustard - Oriental"},"Starland",45,"Mustard - Oriental",52.07,85.16,13.19,306.58999999999997,219.95,226.27]
[{"$f":"Table_BPU[[#This Row],[Risk Area]]&\" \"&Table_BPU[[#This Row],[BPU Description]]","v":"Stettler Mustard - Oriental"},"Stettler",45,"Mustard - Oriental",52.07,85.16,13.19,306.58999999999997,219.95,226.27]
[{"$f":"Table_BPU[[#This Row],[Risk Area]]&\" \"&Table_BPU[[#This Row],[BPU Description]]","v":"Strathcona County Mustard - Oriental"},"Strathcona County",45,"Mustard - Oriental",52.07,85.16,13.19,306.58999999999997,219.95,226.27]
[{"$f":"Table_BPU[[#This Row],[Risk Area]]&\" \"&Table_BPU[[#This Row],[BPU Description]]","v":"Sturgeon Mustard - Oriental"},"Sturgeon",45,"Mustard - Oriental",52.07,85.16,13.19,306.58999999999997,219.95,226.27]
[{"$f":"Table_BPU[[#This Row],[Risk Area]]&\" \"&Table_BPU[[#This Row],[BPU Description]]","v":"Taber Mustard - Oriental"},"Taber",45,"Mustard - Oriental",52.07,85.16,13.19,306.58999999999997,219.95,226.27]
[{"$f":"Table_BPU[[#This Row],[Risk Area]]&\" \"&Table_BPU[[#This Row],[BPU Description]]","v":"Thorhild Mustard - Oriental"},"Thorhild",45,"Mustard - Oriental",52.07,85.16,13.19,306.58999999999997,219.95,226.27]
[{"$f":"Table_BPU[[#This Row],[Risk Area]]&\" \"&Table_BPU[[#This Row],[BPU Description]]","v":"Two Hills Mustard - Oriental"},"Two Hills",45,"Mustard - Oriental",52.07,85.16,13.19,306.58999999999997,219.95,226.27]
[{"$f":"Table_BPU[[#This Row],[Risk Area]]&\" \"&Table_BPU[[#This Row],[BPU Description]]","v":"Vermilion River Mustard - Oriental"},"Vermilion River",45,"Mustard - Oriental",52.07,85.16,13.19,306.58999999999997,219.95,226.27]
[{"$f":"Table_BPU[[#This Row],[Risk Area]]&\" \"&Table_BPU[[#This Row],[BPU Description]]","v":"Vulcan Mustard - Oriental"},"Vulcan",45,"Mustard - Oriental",52.07,85.16,13.19,306.58999999999997,219.95,226.27]
[{"$f":"Table_BPU[[#This Row],[Risk Area]]&\" \"&Table_BPU[[#This Row],[BPU Description]]","v":"Wainwright Mustard - Oriental"},"Wainwright",45,"Mustard - Oriental",52.07,85.16,13.19,306.58999999999997,219.95,226.27]
[{"$f":"Table_BPU[[#This Row],[Risk Area]]&\" \"&Table_BPU[[#This Row],[BPU Description]]","v":"Warner Mustard - Oriental"},"Warner",45,"Mustard - Oriental",52.07,85.16,13.19,306.58999999999997,219.95,226.27]
[{"$f":"Table_BPU[[#This Row],[Risk Area]]&\" \"&Table_BPU[[#This Row],[BPU Description]]","v":"Westlock Mustard - Oriental"},"Westlock",45,"Mustard - Oriental",52.07,85.16,13.19,306.58999999999997,219.95,226.27]
[{"$f":"Table_BPU[[#This Row],[Risk Area]]&\" \"&Table_BPU[[#This Row],[BPU Description]]","v":"Wetaskiwin Mustard - Oriental"},"Wetaskiwin",45,"Mustard - Oriental",52.07,85.16,13.19,306.58999999999997,219.95,226.27]
[{"$f":"Table_BPU[[#This Row],[Risk Area]]&\" \"&Table_BPU[[#This Row],[BPU Description]]","v":"Wheatland Mustard - Oriental"},"Wheatland",45,"Mustard - Oriental",52.07,85.16,13.19,306.58999999999997,219.95,226.27]
[{"$f":"Table_BPU[[#This Row],[Risk Area]]&\" \"&Table_BPU[[#This Row],[BPU Description]]","v":"Willow Creek Mustard - Oriental"},"Willow Creek",45,"Mustard - Oriental",52.07,85.16,13.19,306.58999999999997,219.95,226.27]
[{"$f":"Table_BPU[[#This Row],[Risk Area]]&\" \"&Table_BPU[[#This Row],[BPU Description]]","v":"Wood Buffalo Mustard - Oriental"},"Wood Buffalo",45,"Mustard - Oriental",52.07,85.16,13.19,306.58999999999997,219.95,226.27]
[{"$f":"Table_BPU[[#This Row],[Risk Area]]&\" \"&Table_BPU[[#This Row],[BPU Description]]","v":"Woodlands Mustard - Oriental"},"Woodlands",45,"Mustard - Oriental",52.07,85.16,13.19,306.58999999999997,219.95,226.27]
[{"$f":"Table_BPU[[#This Row],[Risk Area]]&\" \"&Table_BPU[[#This Row],[BPU Description]]","v":"Yellowhead Mustard - Oriental"},"Yellowhead",45,"Mustard - Oriental",52.07,85.16,13.19,306.58999999999997,219.95,226.27]
[{"$f":"Table_BPU[[#This Row],[Risk Area]]&\" \"&Table_BPU[[#This Row],[BPU Description]]","v":"Acadia Mustard - Yellow"},"Acadia",46,"Mustard - Yellow",82.67,268.63,146.24,669.61,227.48,166.58]
[{"$f":"Table_BPU[[#This Row],[Risk Area]]&\" \"&Table_BPU[[#This Row],[BPU Description]]","v":"Athabasca Mustard - Yellow"},"Athabasca",46,"Mustard - Yellow",82.67,268.63,146.24,669.61,227.48,166.58]
[{"$f":"Table_BPU[[#This Row],[Risk Area]]&\" \"&Table_BPU[[#This Row],[BPU Description]]","v":"Barrhead Mustard - Yellow"},"Barrhead",46,"Mustard - Yellow",82.67,268.63,146.24,669.61,227.48,166.58]
[{"$f":"Table_BPU[[#This Row],[Risk Area]]&\" \"&Table_BPU[[#This Row],[BPU Description]]","v":"Beaver Mustard - Yellow"},"Beaver",46,"Mustard - Yellow",82.67,268.63,146.24,669.61,227.48,166.58]
[{"$f":"Table_BPU[[#This Row],[Risk Area]]&\" \"&Table_BPU[[#This Row],[BPU Description]]","v":"Big Lakes Mustard - Yellow"},"Big Lakes",46,"Mustard - Yellow",82.67,268.63,146.24,669.61,227.48,166.58]
[{"$f":"Table_BPU[[#This Row],[Risk Area]]&\" \"&Table_BPU[[#This Row],[BPU Description]]","v":"Bighorn Mustard - Yellow"},"Bighorn",46,"Mustard - Yellow",82.67,268.63,146.24,669.61,227.48,166.58]
[{"$f":"Table_BPU[[#This Row],[Risk Area]]&\" \"&Table_BPU[[#This Row],[BPU Description]]","v":"Birch Hills Mustard - Yellow"},"Birch Hills",46,"Mustard - Yellow",82.67,268.63,146.24,669.61,227.48,166.58]
[{"$f":"Table_BPU[[#This Row],[Risk Area]]&\" \"&Table_BPU[[#This Row],[BPU Description]]","v":"Bonnyville Mustard - Yellow"},"Bonnyville",46,"Mustard - Yellow",82.67,268.63,146.24,669.61,227.48,166.58]
[{"$f":"Table_BPU[[#This Row],[Risk Area]]&\" \"&Table_BPU[[#This Row],[BPU Description]]","v":"Brazeau Mustard - Yellow"},"Brazeau",46,"Mustard - Yellow",82.67,268.63,146.24,669.61,227.48,166.58]
[{"$f":"Table_BPU[[#This Row],[Risk Area]]&\" \"&Table_BPU[[#This Row],[BPU Description]]","v":"Camrose Mustard - Yellow"},"Camrose",46,"Mustard - Yellow",82.67,268.63,146.24,669.61,227.48,166.58]
[{"$f":"Table_BPU[[#This Row],[Risk Area]]&\" \"&Table_BPU[[#This Row],[BPU Description]]","v":"Cardston Mustard - Yellow"},"Cardston",46,"Mustard - Yellow",82.67,268.63,146.24,669.61,227.48,166.58]
[{"$f":"Table_BPU[[#This Row],[Risk Area]]&\" \"&Table_BPU[[#This Row],[BPU Description]]","v":"Clear Hills Mustard - Yellow"},"Clear Hills",46,"Mustard - Yellow",82.67,268.63,146.24,669.61,227.48,166.58]
[{"$f":"Table_BPU[[#This Row],[Risk Area]]&\" \"&Table_BPU[[#This Row],[BPU Description]]","v":"Clearwater Mustard - Yellow"},"Clearwater",46,"Mustard - Yellow",82.67,268.63,146.24,669.61,227.48,166.58]
[{"$f":"Table_BPU[[#This Row],[Risk Area]]&\" \"&Table_BPU[[#This Row],[BPU Description]]","v":"Cypress Mustard - Yellow"},"Cypress",46,"Mustard - Yellow",82.67,268.63,146.24,669.61,227.48,166.58]
[{"$f":"Table_BPU[[#This Row],[Risk Area]]&\" \"&Table_BPU[[#This Row],[BPU Description]]","v":"Edmonton Mustard - Yellow"},"Edmonton",46,"Mustard - Yellow",82.67,268.63,146.24,669.61,227.48,166.58]
[{"$f":"Table_BPU[[#This Row],[Risk Area]]&\" \"&Table_BPU[[#This Row],[BPU Description]]","v":"Fairview Mustard - Yellow"},"Fairview",46,"Mustard - Yellow",82.67,268.63,146.24,669.61,227.48,166.58]
[{"$f":"Table_BPU[[#This Row],[Risk Area]]&\" \"&Table_BPU[[#This Row],[BPU Description]]","v":"Flagstaff Mustard - Yellow"},"Flagstaff",46,"Mustard - Yellow",82.67,268.63,146.24,669.61,227.48,166.58]
[{"$f":"Table_BPU[[#This Row],[Risk Area]]&\" \"&Table_BPU[[#This Row],[BPU Description]]","v":"Foothills Mustard - Yellow"},"Foothills",46,"Mustard - Yellow",82.67,268.63,146.24,669.61,227.48,166.58]
[{"$f":"Table_BPU[[#This Row],[Risk Area]]&\" \"&Table_BPU[[#This Row],[BPU Description]]","v":"Forty Mile Mustard - Yellow"},"Forty Mile",46,"Mustard - Yellow",82.67,268.63,146.24,669.61,227.48,166.58]
[{"$f":"Table_BPU[[#This Row],[Risk Area]]&\" \"&Table_BPU[[#This Row],[BPU Description]]","v":"Grande Prairie Mustard - Yellow"},"Grande Prairie",46,"Mustard - Yellow",82.67,268.63,146.24,669.61,227.48,166.58]
[{"$f":"Table_BPU[[#This Row],[Risk Area]]&\" \"&Table_BPU[[#This Row],[BPU Description]]","v":"Greenview Mustard - Yellow"},"Greenview",46,"Mustard - Yellow",82.67,268.63,146.24,669.61,227.48,166.58]
[{"$f":"Table_BPU[[#This Row],[Risk Area]]&\" \"&Table_BPU[[#This Row],[BPU Description]]","v":"Kneehill Mustard - Yellow"},"Kneehill",46,"Mustard - Yellow",82.67,268.63,146.24,669.61,227.48,166.58]
[{"$f":"Table_BPU[[#This Row],[Risk Area]]&\" \"&Table_BPU[[#This Row],[BPU Description]]","v":"Lac La Biche Mustard - Yellow"},"Lac La Biche",46,"Mustard - Yellow",82.67,268.63,146.24,669.61,227.48,166.58]
[{"$f":"Table_BPU[[#This Row],[Risk Area]]&\" \"&Table_BPU[[#This Row],[BPU Description]]","v":"Lac Ste. Anne County Mustard - Yellow"},"Lac Ste. Anne County",46,"Mustard - Yellow",82.67,268.63,146.24,669.61,227.48,166.58]
[{"$f":"Table_BPU[[#This Row],[Risk Area]]&\" \"&Table_BPU[[#This Row],[BPU Description]]","v":"Lacombe Mustard - Yellow"},"Lacombe",46,"Mustard - Yellow",82.67,268.63,146.24,669.61,227.48,166.58]
[{"$f":"Table_BPU[[#This Row],[Risk Area]]&\" \"&Table_BPU[[#This Row],[BPU Description]]","v":"Lamont Mustard - Yellow"},"Lamont",46,"Mustard - Yellow",82.67,268.63,146.24,669.61,227.48,166.58]
[{"$f":"Table_BPU[[#This Row],[Risk Area]]&\" \"&Table_BPU[[#This Row],[BPU Description]]","v":"Leduc Mustard - Yellow"},"Leduc",46,"Mustard - Yellow",82.67,268.63,146.24,669.61,227.48,166.58]
[{"$f":"Table_BPU[[#This Row],[Risk Area]]&\" \"&Table_BPU[[#This Row],[BPU Description]]","v":"Lesser Slave River Mustard - Yellow"},"Lesser Slave River",46,"Mustard - Yellow",82.67,268.63,146.24,669.61,227.48,166.58]
[{"$f":"Table_BPU[[#This Row],[Risk Area]]&\" \"&Table_BPU[[#This Row],[BPU Description]]","v":"Lethbridge Mustard - Yellow"},"Lethbridge",46,"Mustard - Yellow",82.67,268.63,146.24,669.61,227.48,166.58]
[{"$f":"Table_BPU[[#This Row],[Risk Area]]&\" \"&Table_BPU[[#This Row],[BPU Description]]","v":"Mackenzie Mustard - Yellow"},"Mackenzie",46,"Mustard - Yellow",82.67,268.63,146.24,669.61,227.48,166.58]
[{"$f":"Table_BPU[[#This Row],[Risk Area]]&\" \"&Table_BPU[[#This Row],[BPU Description]]","v":"Minburn Mustard - Yellow"},"Minburn",46,"Mustard - Yellow",82.67,268.63,146.24,669.61,227.48,166.58]
[{"$f":"Table_BPU[[#This Row],[Risk Area]]&\" \"&Table_BPU[[#This Row],[BPU Description]]","v":"Mountain View Mustard - Yellow"},"Mountain View",46,"Mustard - Yellow",82.67,268.63,146.24,669.61,227.48,166.58]
[{"$f":"Table_BPU[[#This Row],[Risk Area]]&\" \"&Table_BPU[[#This Row],[BPU Description]]","v":"Newell Mustard - Yellow"},"Newell",46,"Mustard - Yellow",82.67,268.63,146.24,669.61,227.48,166.58]
[{"$f":"Table_BPU[[#This Row],[Risk Area]]&\" \"&Table_BPU[[#This Row],[BPU Description]]","v":"Northern Lights Mustard - Yellow"},"Northern Lights",46,"Mustard - Yellow",82.67,268.63,146.24,669.61,227.48,166.58]
[{"$f":"Table_BPU[[#This Row],[Risk Area]]&\" \"&Table_BPU[[#This Row],[BPU Description]]","v":"Northern Sunrise Mustard - Yellow"},"Northern Sunrise",46,"Mustard - Yellow",82.67,268.63,146.24,669.61,227.48,166.58]
[{"$f":"Table_BPU[[#This Row],[Risk Area]]&\" \"&Table_BPU[[#This Row],[BPU Description]]","v":"Opportunity Mustard - Yellow"},"Opportunity",46,"Mustard - Yellow",82.67,268.63,146.24,669.61,227.48,166.58]
[{"$f":"Table_BPU[[#This Row],[Risk Area]]&\" \"&Table_BPU[[#This Row],[BPU Description]]","v":"Paintearth Mustard - Yellow"},"Paintearth",46,"Mustard - Yellow",82.67,268.63,146.24,669.61,227.48,166.58]
[{"$f":"Table_BPU[[#This Row],[Risk Area]]&\" \"&Table_BPU[[#This Row],[BPU Description]]","v":"Parkland County Mustard - Yellow"},"Parkland County",46,"Mustard - Yellow",82.67,268.63,146.24,669.61,227.48,166.58]
[{"$f":"Table_BPU[[#This Row],[Risk Area]]&\" \"&Table_BPU[[#This Row],[BPU Description]]","v":"Peace Mustard - Yellow"},"Peace",46,"Mustard - Yellow",82.67,268.63,146.24,669.61,227.48,166.58]
[{"$f":"Table_BPU[[#This Row],[Risk Area]]&\" \"&Table_BPU[[#This Row],[BPU Description]]","v":"Pincher Creek Mustard - Yellow"},"Pincher Creek",46,"Mustard - Yellow",82.67,268.63,146.24,669.61,227.48,166.58]
[{"$f":"Table_BPU[[#This Row],[Risk Area]]&\" \"&Table_BPU[[#This Row],[BPU Description]]","v":"Ponoka Mustard - Yellow"},"Ponoka",46,"Mustard - Yellow",82.67,268.63,146.24,669.61,227.48,166.58]
[{"$f":"Table_BPU[[#This Row],[Risk Area]]&\" \"&Table_BPU[[#This Row],[BPU Description]]","v":"Provost Mustard - Yellow"},"Provost",46,"Mustard - Yellow",82.67,268.63,146.24,669.61,227.48,166.58]
[{"$f":"Table_BPU[[#This Row],[Risk Area]]&\" \"&Table_BPU[[#This Row],[BPU Description]]","v":"Ranchland Mustard - Yellow"},"Ranchland",46,"Mustard - Yellow",82.67,268.63,146.24,669.61,227.48,166.58]
[{"$f":"Table_BPU[[#This Row],[Risk Area]]&\" \"&Table_BPU[[#This Row],[BPU Description]]","v":"Red Deer Mustard - Yellow"},"Red Deer",46,"Mustard - Yellow",82.67,268.63,146.24,669.61,227.48,166.58]
[{"$f":"Table_BPU[[#This Row],[Risk Area]]&\" \"&Table_BPU[[#This Row],[BPU Description]]","v":"Rocky View Mustard - Yellow"},"Rocky View",46,"Mustard - Yellow",82.67,268.63,146.24,669.61,227.48,166.58]
[{"$f":"Table_BPU[[#This Row],[Risk Area]]&\" \"&Table_BPU[[#This Row],[BPU Description]]","v":"Saddle Hills Mustard - Yellow"},"Saddle Hills",46,"Mustard - Yellow",82.67,268.63,146.24,669.61,227.48,166.58]
[{"$f":"Table_BPU[[#This Row],[Risk Area]]&\" \"&Table_BPU[[#This Row],[BPU Description]]","v":"Smoky Lake Mustard - Yellow"},"Smoky Lake",46,"Mustard - Yellow",82.67,268.63,146.24,669.61,227.48,166.58]
[{"$f":"Table_BPU[[#This Row],[Risk Area]]&\" \"&Table_BPU[[#This Row],[BPU Description]]","v":"Smoky River Mustard - Yellow"},"Smoky River",46,"Mustard - Yellow",82.67,268.63,146.24,669.61,227.48,166.58]
[{"$f":"Table_BPU[[#This Row],[Risk Area]]&\" \"&Table_BPU[[#This Row],[BPU Description]]","v":"Special Area 02 Mustard - Yellow"},"Special Area 02",46,"Mustard - Yellow",103.45,178.09,134.22999999999999,306.64,50.08,49.08]
[{"$f":"Table_BPU[[#This Row],[Risk Area]]&\" \"&Table_BPU[[#This Row],[BPU Description]]","v":"Special Area 03 Mustard - Yellow"},"Special Area 03",46,"Mustard - Yellow",91.06,115.74,105.66,174.26,46.32,19.53]
[{"$f":"Table_BPU[[#This Row],[Risk Area]]&\" \"&Table_BPU[[#This Row],[BPU Description]]","v":"Special Area 04 Mustard - Yellow"},"Special Area 04",46,"Mustard - Yellow",103.34,151.56,135.99,344.31,82.22,27.14]
[{"$f":"Table_BPU[[#This Row],[Risk Area]]&\" \"&Table_BPU[[#This Row],[BPU Description]]","v":"Spirit River Mustard - Yellow"},"Spirit River",46,"Mustard - Yellow",82.67,268.63,146.24,669.61,227.48,166.58]
[{"$f":"Table_BPU[[#This Row],[Risk Area]]&\" \"&Table_BPU[[#This Row],[BPU Description]]","v":"St. Paul Mustard - Yellow"},"St. Paul",46,"Mustard - Yellow",82.67,268.63,146.24,669.61,227.48,166.58]
[{"$f":"Table_BPU[[#This Row],[Risk Area]]&\" \"&Table_BPU[[#This Row],[BPU Description]]","v":"Starland Mustard - Yellow"},"Starland",46,"Mustard - Yellow",82.67,268.63,146.24,669.61,227.48,166.58]
[{"$f":"Table_BPU[[#This Row],[Risk Area]]&\" \"&Table_BPU[[#This Row],[BPU Description]]","v":"Stettler Mustard - Yellow"},"Stettler",46,"Mustard - Yellow",82.67,268.63,146.24,669.61,227.48,166.58]
[{"$f":"Table_BPU[[#This Row],[Risk Area]]&\" \"&Table_BPU[[#This Row],[BPU Description]]","v":"Strathcona County Mustard - Yellow"},"Strathcona County",46,"Mustard - Yellow",82.67,268.63,146.24,669.61,227.48,166.58]
[{"$f":"Table_BPU[[#This Row],[Risk Area]]&\" \"&Table_BPU[[#This Row],[BPU Description]]","v":"Sturgeon Mustard - Yellow"},"Sturgeon",46,"Mustard - Yellow",82.67,268.63,146.24,669.61,227.48,166.58]
[{"$f":"Table_BPU[[#This Row],[Risk Area]]&\" \"&Table_BPU[[#This Row],[BPU Description]]","v":"Taber Mustard - Yellow"},"Taber",46,"Mustard - Yellow",82.67,268.63,146.24,669.61,227.48,166.58]
[{"$f":"Table_BPU[[#This Row],[Risk Area]]&\" \"&Table_BPU[[#This Row],[BPU Description]]","v":"Thorhild Mustard - Yellow"},"Thorhild",46,"Mustard - Yellow",82.67,268.63,146.24,669.61,227.48,166.58]
[{"$f":"Table_BPU[[#This Row],[Risk Area]]&\" \"&Table_BPU[[#This Row],[BPU Description]]","v":"Two Hills Mustard - Yellow"},"Two Hills",46,"Mustard - Yellow",82.67,268.63,146.24,669.61,227.48,166.58]
[{"$f":"Table_BPU[[#This Row],[Risk Area]]&\" \"&Table_BPU[[#This Row],[BPU Description]]","v":"Vermilion River Mustard - Yellow"},"Vermilion River",46,"Mustard - Yellow",82.67,268.63,146.24,669.61,227.48,166.58]
[{"$f":"Table_BPU[[#This Row],[Risk Area]]&\" \"&Table_BPU[[#This Row],[BPU Description]]","v":"Vulcan Mustard - Yellow"},"Vulcan",46,"Mustard - Yellow",82.67,268.63,146.24,669.61,227.48,166.58]
[{"$f":"Table_BPU[[#This Row],[Risk Area]]&\" \"&Table_BPU[[#This Row],[BPU Description]]","v":"Wainwright Mustard - Yellow"},"Wainwright",46,"Mustard - Yellow",82.67,268.63,146.24,669.61,227.48,166.58]
[{"$f":"Table_BPU[[#This Row],[Risk Area]]&\" \"&Table_BPU[[#This Row],[BPU Description]]","v":"Warner Mustard - Yellow"},"Warner",46,"Mustard - Yellow",82.67,268.63,146.24,669.61,227.48,166.58]
[{"$f":"Table_BPU[[#This Row],[Risk Area]]&\" \"&Table_BPU[[#This Row],[BPU Description]]","v":"Westlock Mustard - Yellow"},"Westlock",46,"Mustard - Yellow",82.67,268.63,146.24,669.61,227.48,166.58]
[{"$f":"Table_BPU[[#This Row],[Risk Area]]&\" \"&Table_BPU[[#This Row],[BPU Description]]","v":"Wetaskiwin Mustard - Yellow"},"Wetaskiwin",46,"Mustard - Yellow",82.67,268.63,146.24,669.61,227.48,166.58]
[{"$f":"Table_BPU[[#This Row],[Risk Area]]&\" \"&Table_BPU[[#This Row],[BPU Description]]","v":"Wheatland Mustard - Yellow"},"Wheatland",46,"Mustard - Yellow",82.67,268.63,146.24,669.61,227.48,166.58]
[{"$f":"Table_BPU[[#This Row],[Risk Area]]&\" \"&Table_BPU[[#This Row],[BPU Description]]","v":"Willow Creek Mustard - Yellow"},"Willow Creek",46,"Mustard - Yellow",82.67,268.63,146.24,669.61,227.48,166.58]
[{"$f":"Table_BPU[[#This Row],[Risk Area]]&\" \"&Table_BPU[[#This Row],[BPU Description]]","v":"Wood Buffalo Mustard - Yellow"},"Wood Buffalo",46,"Mustard - Yellow",82.67,268.63,146.24,669.61,227.48,166.58]
[{"$f":"Table_BPU[[#This Row],[Risk Area]]&\" \"&Table_BPU[[#This Row],[BPU Description]]","v":"Woodlands Mustard - Yellow"},"Woodlands",46,"Mustard - Yellow",82.67,268.63,146.24,669.61,227.48,166.58]
[{"$f":"Table_BPU[[#This Row],[Risk Area]]&\" \"&Table_BPU[[#This Row],[BPU Description]]","v":"Yellowhead Mustard - Yellow"},"Yellowhead",46,"Mustard - Yellow",82.67,268.63,146.24,669.61,227.48,166.58]
[{"$f":"Table_BPU[[#This Row],[Risk Area]]&\" \"&Table_BPU[[#This Row],[BPU Description]]","v":"Acadia Peppers (sq. ft.)"},"Acadia",859,"Peppers (sq. ft.)",1.25,2.91,0.52,0.01,2.59,3.08]
[{"$f":"Table_BPU[[#This Row],[Risk Area]]&\" \"&Table_BPU[[#This Row],[BPU Description]]","v":"Athabasca Peppers (sq. ft.)"},"Athabasca",859,"Peppers (sq. ft.)",1.25,2.91,0.52,0.01,2.59,3.08]
[{"$f":"Table_BPU[[#This Row],[Risk Area]]&\" \"&Table_BPU[[#This Row],[BPU Description]]","v":"Barrhead Peppers (sq. ft.)"},"Barrhead",859,"Peppers (sq. ft.)",1.25,2.91,0.52,0.01,2.59,3.08]
[{"$f":"Table_BPU[[#This Row],[Risk Area]]&\" \"&Table_BPU[[#This Row],[BPU Description]]","v":"Beaver Peppers (sq. ft.)"},"Beaver",859,"Peppers (sq. ft.)",1.25,2.91,0.52,0.01,2.59,3.08]
[{"$f":"Table_BPU[[#This Row],[Risk Area]]&\" \"&Table_BPU[[#This Row],[BPU Description]]","v":"Big Lakes Peppers (sq. ft.)"},"Big Lakes",859,"Peppers (sq. ft.)",1.25,2.91,0.52,0.01,2.59,3.08]
[{"$f":"Table_BPU[[#This Row],[Risk Area]]&\" \"&Table_BPU[[#This Row],[BPU Description]]","v":"Bighorn Peppers (sq. ft.)"},"Bighorn",859,"Peppers (sq. ft.)",1.25,2.91,0.52,0.01,2.59,3.08]
[{"$f":"Table_BPU[[#This Row],[Risk Area]]&\" \"&Table_BPU[[#This Row],[BPU Description]]","v":"Birch Hills Peppers (sq. ft.)"},"Birch Hills",859,"Peppers (sq. ft.)",1.25,2.91,0.52,0.01,2.59,3.08]
[{"$f":"Table_BPU[[#This Row],[Risk Area]]&\" \"&Table_BPU[[#This Row],[BPU Description]]","v":"Bonnyville Peppers (sq. ft.)"},"Bonnyville",859,"Peppers (sq. ft.)",1.25,2.91,0.52,0.01,2.59,3.08]
[{"$f":"Table_BPU[[#This Row],[Risk Area]]&\" \"&Table_BPU[[#This Row],[BPU Description]]","v":"Brazeau Peppers (sq. ft.)"},"Brazeau",859,"Peppers (sq. ft.)",1.25,2.91,0.52,0.01,2.59,3.08]
[{"$f":"Table_BPU[[#This Row],[Risk Area]]&\" \"&Table_BPU[[#This Row],[BPU Description]]","v":"Camrose Peppers (sq. ft.)"},"Camrose",859,"Peppers (sq. ft.)",1.25,2.91,0.52,0.01,2.59,3.08]
[{"$f":"Table_BPU[[#This Row],[Risk Area]]&\" \"&Table_BPU[[#This Row],[BPU Description]]","v":"Cardston Peppers (sq. ft.)"},"Cardston",859,"Peppers (sq. ft.)",1.25,2.91,0.52,0.01,2.59,3.08]
[{"$f":"Table_BPU[[#This Row],[Risk Area]]&\" \"&Table_BPU[[#This Row],[BPU Description]]","v":"Clear Hills Peppers (sq. ft.)"},"Clear Hills",859,"Peppers (sq. ft.)",1.25,2.91,0.52,0.01,2.59,3.08]
[{"$f":"Table_BPU[[#This Row],[Risk Area]]&\" \"&Table_BPU[[#This Row],[BPU Description]]","v":"Clearwater Peppers (sq. ft.)"},"Clearwater",859,"Peppers (sq. ft.)",1.25,2.91,0.52,0.01,2.59,3.08]
[{"$f":"Table_BPU[[#This Row],[Risk Area]]&\" \"&Table_BPU[[#This Row],[BPU Description]]","v":"Cypress Peppers (sq. ft.)"},"Cypress",859,"Peppers (sq. ft.)",1.25,2.91,0.52,0.01,2.59,3.08]
[{"$f":"Table_BPU[[#This Row],[Risk Area]]&\" \"&Table_BPU[[#This Row],[BPU Description]]","v":"Edmonton Peppers (sq. ft.)"},"Edmonton",859,"Peppers (sq. ft.)",1.25,2.91,0.52,0.01,2.59,3.08]
[{"$f":"Table_BPU[[#This Row],[Risk Area]]&\" \"&Table_BPU[[#This Row],[BPU Description]]","v":"Fairview Peppers (sq. ft.)"},"Fairview",859,"Peppers (sq. ft.)",1.25,2.91,0.52,0.01,2.59,3.08]
[{"$f":"Table_BPU[[#This Row],[Risk Area]]&\" \"&Table_BPU[[#This Row],[BPU Description]]","v":"Flagstaff Peppers (sq. ft.)"},"Flagstaff",859,"Peppers (sq. ft.)",1.25,2.91,0.52,0.01,2.59,3.08]
[{"$f":"Table_BPU[[#This Row],[Risk Area]]&\" \"&Table_BPU[[#This Row],[BPU Description]]","v":"Foothills Peppers (sq. ft.)"},"Foothills",859,"Peppers (sq. ft.)",1.25,2.91,0.52,0.01,2.59,3.08]
[{"$f":"Table_BPU[[#This Row],[Risk Area]]&\" \"&Table_BPU[[#This Row],[BPU Description]]","v":"Forty Mile Peppers (sq. ft.)"},"Forty Mile",859,"Peppers (sq. ft.)",1.25,2.91,0.52,0.01,2.59,3.08]
[{"$f":"Table_BPU[[#This Row],[Risk Area]]&\" \"&Table_BPU[[#This Row],[BPU Description]]","v":"Grande Prairie Peppers (sq. ft.)"},"Grande Prairie",859,"Peppers (sq. ft.)",1.25,2.91,0.52,0.01,2.59,3.08]
[{"$f":"Table_BPU[[#This Row],[Risk Area]]&\" \"&Table_BPU[[#This Row],[BPU Description]]","v":"Greenview Peppers (sq. ft.)"},"Greenview",859,"Peppers (sq. ft.)",1.25,2.91,0.52,0.01,2.59,3.08]
[{"$f":"Table_BPU[[#This Row],[Risk Area]]&\" \"&Table_BPU[[#This Row],[BPU Description]]","v":"Kneehill Peppers (sq. ft.)"},"Kneehill",859,"Peppers (sq. ft.)",1.25,2.91,0.52,0.01,2.59,3.08]
[{"$f":"Table_BPU[[#This Row],[Risk Area]]&\" \"&Table_BPU[[#This Row],[BPU Description]]","v":"Lac La Biche Peppers (sq. ft.)"},"Lac La Biche",859,"Peppers (sq. ft.)",1.25,2.91,0.52,0.01,2.59,3.08]
[{"$f":"Table_BPU[[#This Row],[Risk Area]]&\" \"&Table_BPU[[#This Row],[BPU Description]]","v":"Lac Ste. Anne County Peppers (sq. ft.)"},"Lac Ste. Anne County",859,"Peppers (sq. ft.)",1.25,2.91,0.52,0.01,2.59,3.08]
[{"$f":"Table_BPU[[#This Row],[Risk Area]]&\" \"&Table_BPU[[#This Row],[BPU Description]]","v":"Lacombe Peppers (sq. ft.)"},"Lacombe",859,"Peppers (sq. ft.)",1.25,2.91,0.52,0.01,2.59,3.08]
[{"$f":"Table_BPU[[#This Row],[Risk Area]]&\" \"&Table_BPU[[#This Row],[BPU Description]]","v":"Lamont Peppers (sq. ft.)"},"Lamont",859,"Peppers (sq. ft.)",1.25,2.91,0.52,0.01,2.59,3.08]
[{"$f":"Table_BPU[[#This Row],[Risk Area]]&\" \"&Table_BPU[[#This Row],[BPU Description]]","v":"Leduc Peppers (sq. ft.)"},"Leduc",859,"Peppers (sq. ft.)",1.25,2.91,0.52,0.01,2.59,3.08]
[{"$f":"Table_BPU[[#This Row],[Risk Area]]&\" \"&Table_BPU[[#This Row],[BPU Description]]","v":"Lesser Slave River Peppers (sq. ft.)"},"Lesser Slave River",859,"Peppers (sq. ft.)",1.25,2.91,0.52,0.01,2.59,3.08]
[{"$f":"Table_BPU[[#This Row],[Risk Area]]&\" \"&Table_BPU[[#This Row],[BPU Description]]","v":"Lethbridge Peppers (sq. ft.)"},"Lethbridge",859,"Peppers (sq. ft.)",1.25,2.91,0.52,0.01,2.59,3.08]
[{"$f":"Table_BPU[[#This Row],[Risk Area]]&\" \"&Table_BPU[[#This Row],[BPU Description]]","v":"Mackenzie Peppers (sq. ft.)"},"Mackenzie",859,"Peppers (sq. ft.)",1.25,2.91,0.52,0.01,2.59,3.08]
[{"$f":"Table_BPU[[#This Row],[Risk Area]]&\" \"&Table_BPU[[#This Row],[BPU Description]]","v":"Minburn Peppers (sq. ft.)"},"Minburn",859,"Peppers (sq. ft.)",1.25,2.91,0.52,0.01,2.59,3.08]
[{"$f":"Table_BPU[[#This Row],[Risk Area]]&\" \"&Table_BPU[[#This Row],[BPU Description]]","v":"Mountain View Peppers (sq. ft.)"},"Mountain View",859,"Peppers (sq. ft.)",1.25,2.91,0.52,0.01,2.59,3.08]
[{"$f":"Table_BPU[[#This Row],[Risk Area]]&\" \"&Table_BPU[[#This Row],[BPU Description]]","v":"Newell Peppers (sq. ft.)"},"Newell",859,"Peppers (sq. ft.)",1.25,2.91,0.52,0.01,2.59,3.08]
[{"$f":"Table_BPU[[#This Row],[Risk Area]]&\" \"&Table_BPU[[#This Row],[BPU Description]]","v":"Northern Lights Peppers (sq. ft.)"},"Northern Lights",859,"Peppers (sq. ft.)",1.25,2.91,0.52,0.01,2.59,3.08]
[{"$f":"Table_BPU[[#This Row],[Risk Area]]&\" \"&Table_BPU[[#This Row],[BPU Description]]","v":"Northern Sunrise Peppers (sq. ft.)"},"Northern Sunrise",859,"Peppers (sq. ft.)",1.25,2.91,0.52,0.01,2.59,3.08]
[{"$f":"Table_BPU[[#This Row],[Risk Area]]&\" \"&Table_BPU[[#This Row],[BPU Description]]","v":"Opportunity Peppers (sq. ft.)"},"Opportunity",859,"Peppers (sq. ft.)",1.25,2.91,0.52,0.01,2.59,3.08]
[{"$f":"Table_BPU[[#This Row],[Risk Area]]&\" \"&Table_BPU[[#This Row],[BPU Description]]","v":"Paintearth Peppers (sq. ft.)"},"Paintearth",859,"Peppers (sq. ft.)",1.25,2.91,0.52,0.01,2.59,3.08]
[{"$f":"Table_BPU[[#This Row],[Risk Area]]&\" \"&Table_BPU[[#This Row],[BPU Description]]","v":"Parkland County Peppers (sq. ft.)"},"Parkland County",859,"Peppers (sq. ft.)",1.25,2.91,0.52,0.01,2.59,3.08]
[{"$f":"Table_BPU[[#This Row],[Risk Area]]&\" \"&Table_BPU[[#This Row],[BPU Description]]","v":"Peace Peppers (sq. ft.)"},"Peace",859,"Peppers (sq. ft.)",1.25,2.91,0.52,0.01,2.59,3.08]
[{"$f":"Table_BPU[[#This Row],[Risk Area]]&\" \"&Table_BPU[[#This Row],[BPU Description]]","v":"Pincher Creek Peppers (sq. ft.)"},"Pincher Creek",859,"Peppers (sq. ft.)",1.25,2.91,0.52,0.01,2.59,3.08]
[{"$f":"Table_BPU[[#This Row],[Risk Area]]&\" \"&Table_BPU[[#This Row],[BPU Description]]","v":"Ponoka Peppers (sq. ft.)"},"Ponoka",859,"Peppers (sq. ft.)",1.25,2.91,0.52,0.01,2.59,3.08]
[{"$f":"Table_BPU[[#This Row],[Risk Area]]&\" \"&Table_BPU[[#This Row],[BPU Description]]","v":"Provost Peppers (sq. ft.)"},"Provost",859,"Peppers (sq. ft.)",1.25,2.91,0.52,0.01,2.59,3.08]
[{"$f":"Table_BPU[[#This Row],[Risk Area]]&\" \"&Table_BPU[[#This Row],[BPU Description]]","v":"Ranchland Peppers (sq. ft.)"},"Ranchland",859,"Peppers (sq. ft.)",1.25,2.91,0.52,0.01,2.59,3.08]
[{"$f":"Table_BPU[[#This Row],[Risk Area]]&\" \"&Table_BPU[[#This Row],[BPU Description]]","v":"Red Deer Peppers (sq. ft.)"},"Red Deer",859,"Peppers (sq. ft.)",1.25,2.91,0.52,0.01,2.59,3.08]
[{"$f":"Table_BPU[[#This Row],[Risk Area]]&\" \"&Table_BPU[[#This Row],[BPU Description]]","v":"Rocky View Peppers (sq. ft.)"},"Rocky View",859,"Peppers (sq. ft.)",1.25,2.91,0.52,0.01,2.59,3.08]
[{"$f":"Table_BPU[[#This Row],[Risk Area]]&\" \"&Table_BPU[[#This Row],[BPU Description]]","v":"Saddle Hills Peppers (sq. ft.)"},"Saddle Hills",859,"Peppers (sq. ft.)",1.25,2.91,0.52,0.01,2.59,3.08]
[{"$f":"Table_BPU[[#This Row],[Risk Area]]&\" \"&Table_BPU[[#This Row],[BPU Description]]","v":"Smoky Lake Peppers (sq. ft.)"},"Smoky Lake",859,"Peppers (sq. ft.)",1.25,2.91,0.52,0.01,2.59,3.08]
[{"$f":"Table_BPU[[#This Row],[Risk Area]]&\" \"&Table_BPU[[#This Row],[BPU Description]]","v":"Smoky River Peppers (sq. ft.)"},"Smoky River",859,"Peppers (sq. ft.)",1.25,2.91,0.52,0.01,2.59,3.08]
[{"$f":"Table_BPU[[#This Row],[Risk Area]]&\" \"&Table_BPU[[#This Row],[BPU Description]]","v":"Special Area 02 Peppers (sq. ft.)"},"Special Area 02",859,"Peppers (sq. ft.)",1.25,2.91,0.52,0.01,2.59,3.08]
[{"$f":"Table_BPU[[#This Row],[Risk Area]]&\" \"&Table_BPU[[#This Row],[BPU Description]]","v":"Special Area 03 Peppers (sq. ft.)"},"Special Area 03",859,"Peppers (sq. ft.)",1.25,2.91,0.52,0.01,2.59,3.08]
[{"$f":"Table_BPU[[#This Row],[Risk Area]]&\" \"&Table_BPU[[#This Row],[BPU Description]]","v":"Special Area 04 Peppers (sq. ft.)"},"Special Area 04",859,"Peppers (sq. ft.)",1.25,2.91,0.52,0.01,2.59,3.08]
[{"$f":"Table_BPU[[#This Row],[Risk Area]]&\" \"&Table_BPU[[#This Row],[BPU Description]]","v":"Spirit River Peppers (sq. ft.)"},"Spirit River",859,"Peppers (sq. ft.)",1.25,2.91,0.52,0.01,2.59,3.08]
[{"$f":"Table_BPU[[#This Row],[Risk Area]]&\" \"&Table_BPU[[#This Row],[BPU Description]]","v":"St. Paul Peppers (sq. ft.)"},"St. Paul",859,"Peppers (sq. ft.)",1.25,2.91,0.52,0.01,2.59,3.08]
[{"$f":"Table_BPU[[#This Row],[Risk Area]]&\" \"&Table_BPU[[#This Row],[BPU Description]]","v":"Starland Peppers (sq. ft.)"},"Starland",859,"Peppers (sq. ft.)",1.25,2.91,0.52,0.01,2.59,3.08]
[{"$f":"Table_BPU[[#This Row],[Risk Area]]&\" \"&Table_BPU[[#This Row],[BPU Description]]","v":"Stettler Peppers (sq. ft.)"},"Stettler",859,"Peppers (sq. ft.)",1.25,2.91,0.52,0.01,2.59,3.08]
[{"$f":"Table_BPU[[#This Row],[Risk Area]]&\" \"&Table_BPU[[#This Row],[BPU Description]]","v":"Strathcona County Peppers (sq. ft.)"},"Strathcona County",859,"Peppers (sq. ft.)",1.25,2.91,0.52,0.01,2.59,3.08]
[{"$f":"Table_BPU[[#This Row],[Risk Area]]&\" \"&Table_BPU[[#This Row],[BPU Description]]","v":"Sturgeon Peppers (sq. ft.)"},"Sturgeon",859,"Peppers (sq. ft.)",1.25,2.91,0.52,0.01,2.59,3.08]
[{"$f":"Table_BPU[[#This Row],[Risk Area]]&\" \"&Table_BPU[[#This Row],[BPU Description]]","v":"Taber Peppers (sq. ft.)"},"Taber",859,"Peppers (sq. ft.)",1.25,2.91,0.52,0.01,2.59,3.08]
[{"$f":"Table_BPU[[#This Row],[Risk Area]]&\" \"&Table_BPU[[#This Row],[BPU Description]]","v":"Thorhild Peppers (sq. ft.)"},"Thorhild",859,"Peppers (sq. ft.)",1.25,2.91,0.52,0.01,2.59,3.08]
[{"$f":"Table_BPU[[#This Row],[Risk Area]]&\" \"&Table_BPU[[#This Row],[BPU Description]]","v":"Two Hills Peppers (sq. ft.)"},"Two Hills",859,"Peppers (sq. ft.)",1.25,2.91,0.52,0.01,2.59,3.08]
[{"$f":"Table_BPU[[#This Row],[Risk Area]]&\" \"&Table_BPU[[#This Row],[BPU Description]]","v":"Vermilion River Peppers (sq. ft.)"},"Vermilion River",859,"Peppers (sq. ft.)",1.25,2.91,0.52,0.01,2.59,3.08]
[{"$f":"Table_BPU[[#This Row],[Risk Area]]&\" \"&Table_BPU[[#This Row],[BPU Description]]","v":"Vulcan Peppers (sq. ft.)"},"Vulcan",859,"Peppers (sq. ft.)",1.25,2.91,0.52,0.01,2.59,3.08]
[{"$f":"Table_BPU[[#This Row],[Risk Area]]&\" \"&Table_BPU[[#This Row],[BPU Description]]","v":"Wainwright Peppers (sq. ft.)"},"Wainwright",859,"Peppers (sq. ft.)",1.25,2.91,0.52,0.01,2.59,3.08]
[{"$f":"Table_BPU[[#This Row],[Risk Area]]&\" \"&Table_BPU[[#This Row],[BPU Description]]","v":"Warner Peppers (sq. ft.)"},"Warner",859,"Peppers (sq. ft.)",1.25,2.91,0.52,0.01,2.59,3.08]
[{"$f":"Table_BPU[[#This Row],[Risk Area]]&\" \"&Table_BPU[[#This Row],[BPU Description]]","v":"Westlock Peppers (sq. ft.)"},"Westlock",859,"Peppers (sq. ft.)",1.25,2.91,0.52,0.01,2.59,3.08]
[{"$f":"Table_BPU[[#This Row],[Risk Area]]&\" \"&Table_BPU[[#This Row],[BPU Description]]","v":"Wetaskiwin Peppers (sq. ft.)"},"Wetaskiwin",859,"Peppers (sq. ft.)",1.25,2.91,0.52,0.01,2.59,3.08]
[{"$f":"Table_BPU[[#This Row],[Risk Area]]&\" \"&Table_BPU[[#This Row],[BPU Description]]","v":"Wheatland Peppers (sq. ft.)"},"Wheatland",859,"Peppers (sq. ft.)",1.25,2.91,0.52,0.01,2.59,3.08]
[{"$f":"Table_BPU[[#This Row],[Risk Area]]&\" \"&Table_BPU[[#This Row],[BPU Description]]","v":"Willow Creek Peppers (sq. ft.)"},"Willow Creek",859,"Peppers (sq. ft.)",1.25,2.91,0.52,0.01,2.59,3.08]
[{"$f":"Table_BPU[[#This Row],[Risk Area]]&\" \"&Table_BPU[[#This Row],[BPU Description]]","v":"Wood Buffalo Peppers (sq. ft.)"},"Wood Buffalo",859,"Peppers (sq. ft.)",1.25,2.91,0.52,0.01,2.59,3.08]
[{"$f":"Table_BPU[[#This Row],[Risk Area]]&\" \"&Table_BPU[[#This Row],[BPU Description]]","v":"Woodlands Peppers (sq. ft.)"},"Woodlands",859,"Peppers (sq. ft.)",1.25,2.91,0.52,0.01,2.59,3.08]
[{"$f":"Table_BPU[[#This Row],[Risk Area]]&\" \"&Table_BPU[[#This Row],[BPU Description]]","v":"Yellowhead Peppers (sq. ft.)"},"Yellowhead",859,"Peppers (sq. ft.)",1.25,2.91,0.52,0.01,2.59,3.08]
[{"$f":"Table_BPU[[#This Row],[Risk Area]]&\" \"&Table_BPU[[#This Row],[BPU Description]]","v":"Acadia Processing potatoes"},"Acadia",60,"Processing potatoes",3116.69,3295.06,3377.3,3929,5480.51,5787.24]
[{"$f":"Table_BPU[[#This Row],[Risk Area]]&\" \"&Table_BPU[[#This Row],[BPU Description]]","v":"Athabasca Processing potatoes"},"Athabasca",60,"Processing potatoes",3116.69,3295.06,3377.3,3929,5480.51,5787.24]
[{"$f":"Table_BPU[[#This Row],[Risk Area]]&\" \"&Table_BPU[[#This Row],[BPU Description]]","v":"Barrhead Processing potatoes"},"Barrhead",60,"Processing potatoes",3116.69,3295.06,3377.3,3929,5480.51,5787.24]
[{"$f":"Table_BPU[[#This Row],[Risk Area]]&\" \"&Table_BPU[[#This Row],[BPU Description]]","v":"Beaver Processing potatoes"},"Beaver",60,"Processing potatoes",3116.69,3295.06,3377.3,3929,5480.51,5787.24]
[{"$f":"Table_BPU[[#This Row],[Risk Area]]&\" \"&Table_BPU[[#This Row],[BPU Description]]","v":"Big Lakes Processing potatoes"},"Big Lakes",60,"Processing potatoes",3116.69,3295.06,3377.3,3929,5480.51,5787.24]
[{"$f":"Table_BPU[[#This Row],[Risk Area]]&\" \"&Table_BPU[[#This Row],[BPU Description]]","v":"Bighorn Processing potatoes"},"Bighorn",60,"Processing potatoes",3116.69,3295.06,3377.3,3929,5480.51,5787.24]
[{"$f":"Table_BPU[[#This Row],[Risk Area]]&\" \"&Table_BPU[[#This Row],[BPU Description]]","v":"Birch Hills Processing potatoes"},"Birch Hills",60,"Processing potatoes",3116.69,3295.06,3377.3,3929,5480.51,5787.24]
[{"$f":"Table_BPU[[#This Row],[Risk Area]]&\" \"&Table_BPU[[#This Row],[BPU Description]]","v":"Bonnyville Processing potatoes"},"Bonnyville",60,"Processing potatoes",3116.69,3295.06,3377.3,3929,5480.51,5787.24]
[{"$f":"Table_BPU[[#This Row],[Risk Area]]&\" \"&Table_BPU[[#This Row],[BPU Description]]","v":"Brazeau Processing potatoes"},"Brazeau",60,"Processing potatoes",3116.69,3295.06,3377.3,3929,5480.51,5787.24]
[{"$f":"Table_BPU[[#This Row],[Risk Area]]&\" \"&Table_BPU[[#This Row],[BPU Description]]","v":"Camrose Processing potatoes"},"Camrose",60,"Processing potatoes",3116.69,3295.06,3377.3,3929,5480.51,5787.24]
[{"$f":"Table_BPU[[#This Row],[Risk Area]]&\" \"&Table_BPU[[#This Row],[BPU Description]]","v":"Cardston Processing potatoes"},"Cardston",60,"Processing potatoes",3116.69,3295.06,3377.3,3929,5480.51,5787.24]
[{"$f":"Table_BPU[[#This Row],[Risk Area]]&\" \"&Table_BPU[[#This Row],[BPU Description]]","v":"Clear Hills Processing potatoes"},"Clear Hills",60,"Processing potatoes",3116.69,3295.06,3377.3,3929,5480.51,5787.24]
[{"$f":"Table_BPU[[#This Row],[Risk Area]]&\" \"&Table_BPU[[#This Row],[BPU Description]]","v":"Clearwater Processing potatoes"},"Clearwater",60,"Processing potatoes",3116.69,3295.06,3377.3,3929,5480.51,5787.24]
[{"$f":"Table_BPU[[#This Row],[Risk Area]]&\" \"&Table_BPU[[#This Row],[BPU Description]]","v":"Cypress Processing potatoes"},"Cypress",60,"Processing potatoes",3116.69,3295.06,3377.3,3929,5480.51,5787.24]
[{"$f":"Table_BPU[[#This Row],[Risk Area]]&\" \"&Table_BPU[[#This Row],[BPU Description]]","v":"Edmonton Processing potatoes"},"Edmonton",60,"Processing potatoes",3116.69,3295.06,3377.3,3929,5480.51,5787.24]
[{"$f":"Table_BPU[[#This Row],[Risk Area]]&\" \"&Table_BPU[[#This Row],[BPU Description]]","v":"Fairview Processing potatoes"},"Fairview",60,"Processing potatoes",3116.69,3295.06,3377.3,3929,5480.51,5787.24]
[{"$f":"Table_BPU[[#This Row],[Risk Area]]&\" \"&Table_BPU[[#This Row],[BPU Description]]","v":"Flagstaff Processing potatoes"},"Flagstaff",60,"Processing potatoes",3116.69,3295.06,3377.3,3929,5480.51,5787.24]
[{"$f":"Table_BPU[[#This Row],[Risk Area]]&\" \"&Table_BPU[[#This Row],[BPU Description]]","v":"Foothills Processing potatoes"},"Foothills",60,"Processing potatoes",3116.69,3295.06,3377.3,3929,5480.51,5787.24]
[{"$f":"Table_BPU[[#This Row],[Risk Area]]&\" \"&Table_BPU[[#This Row],[BPU Description]]","v":"Forty Mile Processing potatoes"},"Forty Mile",60,"Processing potatoes",3116.69,3295.06,3377.3,3929,5480.51,5787.24]
[{"$f":"Table_BPU[[#This Row],[Risk Area]]&\" \"&Table_BPU[[#This Row],[BPU Description]]","v":"Grande Prairie Processing potatoes"},"Grande Prairie",60,"Processing potatoes",3116.69,3295.06,3377.3,3929,5480.51,5787.24]
[{"$f":"Table_BPU[[#This Row],[Risk Area]]&\" \"&Table_BPU[[#This Row],[BPU Description]]","v":"Greenview Processing potatoes"},"Greenview",60,"Processing potatoes",3116.69,3295.06,3377.3,3929,5480.51,5787.24]
[{"$f":"Table_BPU[[#This Row],[Risk Area]]&\" \"&Table_BPU[[#This Row],[BPU Description]]","v":"Kneehill Processing potatoes"},"Kneehill",60,"Processing potatoes",3116.69,3295.06,3377.3,3929,5480.51,5787.24]
[{"$f":"Table_BPU[[#This Row],[Risk Area]]&\" \"&Table_BPU[[#This Row],[BPU Description]]","v":"Lac La Biche Processing potatoes"},"Lac La Biche",60,"Processing potatoes",3116.69,3295.06,3377.3,3929,5480.51,5787.24]
[{"$f":"Table_BPU[[#This Row],[Risk Area]]&\" \"&Table_BPU[[#This Row],[BPU Description]]","v":"Lac Ste. Anne County Processing potatoes"},"Lac Ste. Anne County",60,"Processing potatoes",3116.69,3295.06,3377.3,3929,5480.51,5787.24]
[{"$f":"Table_BPU[[#This Row],[Risk Area]]&\" \"&Table_BPU[[#This Row],[BPU Description]]","v":"Lacombe Processing potatoes"},"Lacombe",60,"Processing potatoes",3116.69,3295.06,3377.3,3929,5480.51,5787.24]
[{"$f":"Table_BPU[[#This Row],[Risk Area]]&\" \"&Table_BPU[[#This Row],[BPU Description]]","v":"Lamont Processing potatoes"},"Lamont",60,"Processing potatoes",3116.69,3295.06,3377.3,3929,5480.51,5787.24]
[{"$f":"Table_BPU[[#This Row],[Risk Area]]&\" \"&Table_BPU[[#This Row],[BPU Description]]","v":"Leduc Processing potatoes"},"Leduc",60,"Processing potatoes",3116.69,3295.06,3377.3,3929,5480.51,5787.24]
[{"$f":"Table_BPU[[#This Row],[Risk Area]]&\" \"&Table_BPU[[#This Row],[BPU Description]]","v":"Lesser Slave River Processing potatoes"},"Lesser Slave River",60,"Processing potatoes",3116.69,3295.06,3377.3,3929,5480.51,5787.24]
[{"$f":"Table_BPU[[#This Row],[Risk Area]]&\" \"&Table_BPU[[#This Row],[BPU Description]]","v":"Lethbridge Processing potatoes"},"Lethbridge",60,"Processing potatoes",3116.69,3295.06,3377.3,3929,5480.51,5787.24]
[{"$f":"Table_BPU[[#This Row],[Risk Area]]&\" \"&Table_BPU[[#This Row],[BPU Description]]","v":"Mackenzie Processing potatoes"},"Mackenzie",60,"Processing potatoes",3116.69,3295.06,3377.3,3929,5480.51,5787.24]
[{"$f":"Table_BPU[[#This Row],[Risk Area]]&\" \"&Table_BPU[[#This Row],[BPU Description]]","v":"Minburn Processing potatoes"},"Minburn",60,"Processing potatoes",3116.69,3295.06,3377.3,3929,5480.51,5787.24]
[{"$f":"Table_BPU[[#This Row],[Risk Area]]&\" \"&Table_BPU[[#This Row],[BPU Description]]","v":"Mountain View Processing potatoes"},"Mountain View",60,"Processing potatoes",3116.69,3295.06,3377.3,3929,5480.51,5787.24]
[{"$f":"Table_BPU[[#This Row],[Risk Area]]&\" \"&Table_BPU[[#This Row],[BPU Description]]","v":"Newell Processing potatoes"},"Newell",60,"Processing potatoes",3116.69,3295.06,3377.3,3929,5480.51,5787.24]
[{"$f":"Table_BPU[[#This Row],[Risk Area]]&\" \"&Table_BPU[[#This Row],[BPU Description]]","v":"Northern Lights Processing potatoes"},"Northern Lights",60,"Processing potatoes",3116.69,3295.06,3377.3,3929,5480.51,5787.24]
[{"$f":"Table_BPU[[#This Row],[Risk Area]]&\" \"&Table_BPU[[#This Row],[BPU Description]]","v":"Northern Sunrise Processing potatoes"},"Northern Sunrise",60,"Processing potatoes",3116.69,3295.06,3377.3,3929,5480.51,5787.24]
[{"$f":"Table_BPU[[#This Row],[Risk Area]]&\" \"&Table_BPU[[#This Row],[BPU Description]]","v":"Opportunity Processing potatoes"},"Opportunity",60,"Processing potatoes",3116.69,3295.06,3377.3,3929,5480.51,5787.24]
[{"$f":"Table_BPU[[#This Row],[Risk Area]]&\" \"&Table_BPU[[#This Row],[BPU Description]]","v":"Paintearth Processing potatoes"},"Paintearth",60,"Processing potatoes",3116.69,3295.06,3377.3,3929,5480.51,5787.24]
[{"$f":"Table_BPU[[#This Row],[Risk Area]]&\" \"&Table_BPU[[#This Row],[BPU Description]]","v":"Parkland County Processing potatoes"},"Parkland County",60,"Processing potatoes",3116.69,3295.06,3377.3,3929,5480.51,5787.24]
[{"$f":"Table_BPU[[#This Row],[Risk Area]]&\" \"&Table_BPU[[#This Row],[BPU Description]]","v":"Peace Processing potatoes"},"Peace",60,"Processing potatoes",3116.69,3295.06,3377.3,3929,5480.51,5787.24]
[{"$f":"Table_BPU[[#This Row],[Risk Area]]&\" \"&Table_BPU[[#This Row],[BPU Description]]","v":"Pincher Creek Processing potatoes"},"Pincher Creek",60,"Processing potatoes",3116.69,3295.06,3377.3,3929,5480.51,5787.24]
[{"$f":"Table_BPU[[#This Row],[Risk Area]]&\" \"&Table_BPU[[#This Row],[BPU Description]]","v":"Ponoka Processing potatoes"},"Ponoka",60,"Processing potatoes",3116.69,3295.06,3377.3,3929,5480.51,5787.24]
[{"$f":"Table_BPU[[#This Row],[Risk Area]]&\" \"&Table_BPU[[#This Row],[BPU Description]]","v":"Provost Processing potatoes"},"Provost",60,"Processing potatoes",3116.69,3295.06,3377.3,3929,5480.51,5787.24]
[{"$f":"Table_BPU[[#This Row],[Risk Area]]&\" \"&Table_BPU[[#This Row],[BPU Description]]","v":"Ranchland Processing potatoes"},"Ranchland",60,"Processing potatoes",3116.69,3295.06,3377.3,3929,5480.51,5787.24]
[{"$f":"Table_BPU[[#This Row],[Risk Area]]&\" \"&Table_BPU[[#This Row],[BPU Description]]","v":"Red Deer Processing potatoes"},"Red Deer",60,"Processing potatoes",3116.69,3295.06,3377.3,3929,5480.51,5787.24]
[{"$f":"Table_BPU[[#This Row],[Risk Area]]&\" \"&Table_BPU[[#This Row],[BPU Description]]","v":"Rocky View Processing potatoes"},"Rocky View",60,"Processing potatoes",3116.69,3295.06,3377.3,3929,5480.51,5787.24]
[{"$f":"Table_BPU[[#This Row],[Risk Area]]&\" \"&Table_BPU[[#This Row],[BPU Description]]","v":"Saddle Hills Processing potatoes"},"Saddle Hills",60,"Processing potatoes",3116.69,3295.06,3377.3,3929,5480.51,5787.24]
[{"$f":"Table_BPU[[#This Row],[Risk Area]]&\" \"&Table_BPU[[#This Row],[BPU Description]]","v":"Smoky Lake Processing potatoes"},"Smoky Lake",60,"Processing potatoes",3116.69,3295.06,3377.3,3929,5480.51,5787.24]
[{"$f":"Table_BPU[[#This Row],[Risk Area]]&\" \"&Table_BPU[[#This Row],[BPU Description]]","v":"Smoky River Processing potatoes"},"Smoky River",60,"Processing potatoes",3116.69,3295.06,3377.3,3929,5480.51,5787.24]
[{"$f":"Table_BPU[[#This Row],[Risk Area]]&\" \"&Table_BPU[[#This Row],[BPU Description]]","v":"Special Area 02 Processing potatoes"},"Special Area 02",60,"Processing potatoes",3116.69,3295.06,3377.3,3929,5480.51,5787.24]
[{"$f":"Table_BPU[[#This Row],[Risk Area]]&\" \"&Table_BPU[[#This Row],[BPU Description]]","v":"Special Area 03 Processing potatoes"},"Special Area 03",60,"Processing potatoes",3116.69,3295.06,3377.3,3929,5480.51,5787.24]
[{"$f":"Table_BPU[[#This Row],[Risk Area]]&\" \"&Table_BPU[[#This Row],[BPU Description]]","v":"Special Area 04 Processing potatoes"},"Special Area 04",60,"Processing potatoes",3116.69,3295.06,3377.3,3929,5480.51,5787.24]
[{"$f":"Table_BPU[[#This Row],[Risk Area]]&\" \"&Table_BPU[[#This Row],[BPU Description]]","v":"Spirit River Processing potatoes"},"Spirit River",60,"Processing potatoes",3116.69,3295.06,3377.3,3929,5480.51,5787.24]
[{"$f":"Table_BPU[[#This Row],[Risk Area]]&\" \"&Table_BPU[[#This Row],[BPU Description]]","v":"St. Paul Processing potatoes"},"St. Paul",60,"Processing potatoes",3116.69,3295.06,3377.3,3929,5480.51,5787.24]
[{"$f":"Table_BPU[[#This Row],[Risk Area]]&\" \"&Table_BPU[[#This Row],[BPU Description]]","v":"Starland Processing potatoes"},"Starland",60,"Processing potatoes",3116.69,3295.06,3377.3,3929,5480.51,5787.24]
[{"$f":"Table_BPU[[#This Row],[Risk Area]]&\" \"&Table_BPU[[#This Row],[BPU Description]]","v":"Stettler Processing potatoes"},"Stettler",60,"Processing potatoes",3116.69,3295.06,3377.3,3929,5480.51,5787.24]
[{"$f":"Table_BPU[[#This Row],[Risk Area]]&\" \"&Table_BPU[[#This Row],[BPU Description]]","v":"Strathcona County Processing potatoes"},"Strathcona County",60,"Processing potatoes",3116.69,3295.06,3377.3,3929,5480.51,5787.24]
[{"$f":"Table_BPU[[#This Row],[Risk Area]]&\" \"&Table_BPU[[#This Row],[BPU Description]]","v":"Sturgeon Processing potatoes"},"Sturgeon",60,"Processing potatoes",3116.69,3295.06,3377.3,3929,5480.51,5787.24]
[{"$f":"Table_BPU[[#This Row],[Risk Area]]&\" \"&Table_BPU[[#This Row],[BPU Description]]","v":"Taber Processing potatoes"},"Taber",60,"Processing potatoes",3116.69,3295.06,3377.3,3929,5480.51,5787.24]
[{"$f":"Table_BPU[[#This Row],[Risk Area]]&\" \"&Table_BPU[[#This Row],[BPU Description]]","v":"Thorhild Processing potatoes"},"Thorhild",60,"Processing potatoes",3116.69,3295.06,3377.3,3929,5480.51,5787.24]
[{"$f":"Table_BPU[[#This Row],[Risk Area]]&\" \"&Table_BPU[[#This Row],[BPU Description]]","v":"Two Hills Processing potatoes"},"Two Hills",60,"Processing potatoes",3116.69,3295.06,3377.3,3929,5480.51,5787.24]
[{"$f":"Table_BPU[[#This Row],[Risk Area]]&\" \"&Table_BPU[[#This Row],[BPU Description]]","v":"Vermilion River Processing potatoes"},"Vermilion River",60,"Processing potatoes",3116.69,3295.06,3377.3,3929,5480.51,5787.24]
[{"$f":"Table_BPU[[#This Row],[Risk Area]]&\" \"&Table_BPU[[#This Row],[BPU Description]]","v":"Vulcan Processing potatoes"},"Vulcan",60,"Processing potatoes",3116.69,3295.06,3377.3,3929,5480.51,5787.24]
[{"$f":"Table_BPU[[#This Row],[Risk Area]]&\" \"&Table_BPU[[#This Row],[BPU Description]]","v":"Wainwright Processing potatoes"},"Wainwright",60,"Processing potatoes",3116.69,3295.06,3377.3,3929,5480.51,5787.24]
[{"$f":"Table_BPU[[#This Row],[Risk Area]]&\" \"&Table_BPU[[#This Row],[BPU Description]]","v":"Warner Processing potatoes"},"Warner",60,"Processing potatoes",3116.69,3295.06,3377.3,3929,5480.51,5787.24]
[{"$f":"Table_BPU[[#This Row],[Risk Area]]&\" \"&Table_BPU[[#This Row],[BPU Description]]","v":"Westlock Processing potatoes"},"Westlock",60,"Processing potatoes",3116.69,3295.06,3377.3,3929,5480.51,5787.24]
[{"$f":"Table_BPU[[#This Row],[Risk Area]]&\" \"&Table_BPU[[#This Row],[BPU Description]]","v":"Wetaskiwin Processing potatoes"},"Wetaskiwin",60,"Processing potatoes",3116.69,3295.06,3377.3,3929,5480.51,5787.24]
[{"$f":"Table_BPU[[#This Row],[Risk Area]]&\" \"&Table_BPU[[#This Row],[BPU Description]]","v":"Wheatland Processing potatoes"},"Wheatland",60,"Processing potatoes",3116.69,3295.06,3377.3,3929,5480.51,5787.24]
[{"$f":"Table_BPU[[#This Row],[Risk Area]]&\" \"&Table_BPU[[#This Row],[BPU Description]]","v":"Willow Creek Processing potatoes"},"Willow Creek",60,"Processing potatoes",3116.69,3295.06,3377.3,3929,5480.51,5787.24]
[{"$f":"Table_BPU[[#This Row],[Risk Area]]&\" \"&Table_BPU[[#This Row],[BPU Description]]","v":"Wood Buffalo Processing potatoes"},"Wood Buffalo",60,"Processing potatoes",3116.69,3295.06,3377.3,3929,5480.51,5787.24]
[{"$f":"Table_BPU[[#This Row],[Risk Area]]&\" \"&Table_BPU[[#This Row],[BPU Description]]","v":"Woodlands Processing potatoes"},"Woodlands",60,"Processing potatoes",3116.69,3295.06,3377.3,3929,5480.51,5787.24]
[{"$f":"Table_BPU[[#This Row],[Risk Area]]&\" \"&Table_BPU[[#This Row],[BPU Description]]","v":"Yellowhead Processing potatoes"},"Yellowhead",60,"Processing potatoes",3116.69,3295.06,3377.3,3929,5480.51,5787.24]
[{"$f":"Table_BPU[[#This Row],[Risk Area]]&\" \"&Table_BPU[[#This Row],[BPU Description]]","v":"Cardston Seed Potatoes - Irrigated"},"Cardston",58,"Seed Potatoes - Irrigated",3792.15,5110.08,3849.72,4496.8100000000004,5117.26,5565.71]
[{"$f":"Table_BPU[[#This Row],[Risk Area]]&\" \"&Table_BPU[[#This Row],[BPU Description]]","v":"Cypress Seed Potatoes - Irrigated"},"Cypress",58,"Seed Potatoes - Irrigated",3792.15,5110.08,3849.72,4496.8100000000004,5117.26,5565.71]
[{"$f":"Table_BPU[[#This Row],[Risk Area]]&\" \"&Table_BPU[[#This Row],[BPU Description]]","v":"Forty Mile Seed Potatoes - Irrigated"},"Forty Mile",58,"Seed Potatoes - Irrigated",3792.15,5110.08,3849.72,4496.8100000000004,5117.26,5565.71]
[{"$f":"Table_BPU[[#This Row],[Risk Area]]&\" \"&Table_BPU[[#This Row],[BPU Description]]","v":"Lethbridge Seed Potatoes - Irrigated"},"Lethbridge",58,"Seed Potatoes - Irrigated",3792.15,5110.08,3849.72,4496.8100000000004,5117.26,5565.71]
[{"$f":"Table_BPU[[#This Row],[Risk Area]]&\" \"&Table_BPU[[#This Row],[BPU Description]]","v":"Newell Seed Potatoes - Irrigated"},"Newell",58,"Seed Potatoes - Irrigated",3792.15,5110.08,3849.72,4496.8100000000004,5117.26,5565.71]
[{"$f":"Table_BPU[[#This Row],[Risk Area]]&\" \"&Table_BPU[[#This Row],[BPU Description]]","v":"Taber Seed Potatoes - Irrigated"},"Taber",58,"Seed Potatoes - Irrigated",3792.15,5110.08,3849.72,4496.8100000000004,5117.26,5565.71]
[{"$f":"Table_BPU[[#This Row],[Risk Area]]&\" \"&Table_BPU[[#This Row],[BPU Description]]","v":"Vulcan Seed Potatoes - Irrigated"},"Vulcan",58,"Seed Potatoes - Irrigated",3792.15,5110.08,3849.72,4496.8100000000004,5117.26,5565.71]
[{"$f":"Table_BPU[[#This Row],[Risk Area]]&\" \"&Table_BPU[[#This Row],[BPU Description]]","v":"Warner Seed Potatoes - Irrigated"},"Warner",58,"Seed Potatoes - Irrigated",3792.15,5110.08,3849.72,4496.8100000000004,5117.26,5565.71]
[{"$f":"Table_BPU[[#This Row],[Risk Area]]&\" \"&Table_BPU[[#This Row],[BPU Description]]","v":"Wheatland Seed Potatoes - Irrigated"},"Wheatland",58,"Seed Potatoes - Irrigated",3792.15,5110.08,3849.72,4496.8100000000004,5117.26,5565.71]
[{"$f":"Table_BPU[[#This Row],[Risk Area]]&\" \"&Table_BPU[[#This Row],[BPU Description]]","v":"Willow Creek Seed Potatoes - Irrigated"},"Willow Creek",58,"Seed Potatoes - Irrigated",3792.15,5110.08,3849.72,4496.8100000000004,5117.26,5565.71]
[{"$f":"Table_BPU[[#This Row],[Risk Area]]&\" \"&Table_BPU[[#This Row],[BPU Description]]","v":"Acadia Seed potatoes - Dryland"},"Acadia",57,"Seed potatoes - Dryland",3108.27,3545.55,2762.39,3401.22,4422.25,4855.71]
[{"$f":"Table_BPU[[#This Row],[Risk Area]]&\" \"&Table_BPU[[#This Row],[BPU Description]]","v":"Athabasca Seed potatoes - Dryland"},"Athabasca",57,"Seed potatoes - Dryland",3108.27,3545.55,2762.39,3401.22,4422.25,4855.71]
[{"$f":"Table_BPU[[#This Row],[Risk Area]]&\" \"&Table_BPU[[#This Row],[BPU Description]]","v":"Barrhead Seed potatoes - Dryland"},"Barrhead",57,"Seed potatoes - Dryland",3108.27,3545.55,2762.39,3401.22,4422.25,4855.71]
[{"$f":"Table_BPU[[#This Row],[Risk Area]]&\" \"&Table_BPU[[#This Row],[BPU Description]]","v":"Beaver Seed potatoes - Dryland"},"Beaver",57,"Seed potatoes - Dryland",3108.27,3545.55,2762.39,3401.22,4422.25,4855.71]
[{"$f":"Table_BPU[[#This Row],[Risk Area]]&\" \"&Table_BPU[[#This Row],[BPU Description]]","v":"Big Lakes Seed potatoes - Dryland"},"Big Lakes",57,"Seed potatoes - Dryland",3108.27,3545.55,2762.39,3401.22,4422.25,4855.71]
[{"$f":"Table_BPU[[#This Row],[Risk Area]]&\" \"&Table_BPU[[#This Row],[BPU Description]]","v":"Bighorn Seed potatoes - Dryland"},"Bighorn",57,"Seed potatoes - Dryland",3108.27,3545.55,2762.39,3401.22,4422.25,4855.71]
[{"$f":"Table_BPU[[#This Row],[Risk Area]]&\" \"&Table_BPU[[#This Row],[BPU Description]]","v":"Birch Hills Seed potatoes - Dryland"},"Birch Hills",57,"Seed potatoes - Dryland",3108.27,3545.55,2762.39,3401.22,4422.25,4855.71]
[{"$f":"Table_BPU[[#This Row],[Risk Area]]&\" \"&Table_BPU[[#This Row],[BPU Description]]","v":"Bonnyville Seed potatoes - Dryland"},"Bonnyville",57,"Seed potatoes - Dryland",3108.27,3545.55,2762.39,3401.22,4422.25,4855.71]
[{"$f":"Table_BPU[[#This Row],[Risk Area]]&\" \"&Table_BPU[[#This Row],[BPU Description]]","v":"Brazeau Seed potatoes - Dryland"},"Brazeau",57,"Seed potatoes - Dryland",3108.27,3545.55,2762.39,3401.22,4422.25,4855.71]
[{"$f":"Table_BPU[[#This Row],[Risk Area]]&\" \"&Table_BPU[[#This Row],[BPU Description]]","v":"Camrose Seed potatoes - Dryland"},"Camrose",57,"Seed potatoes - Dryland",3108.27,3545.55,2762.39,3401.22,4422.25,4855.71]
[{"$f":"Table_BPU[[#This Row],[Risk Area]]&\" \"&Table_BPU[[#This Row],[BPU Description]]","v":"Cardston Seed potatoes - Dryland"},"Cardston",57,"Seed potatoes - Dryland",3108.27,3545.55,2762.39,3401.22,4422.25,4855.71]
[{"$f":"Table_BPU[[#This Row],[Risk Area]]&\" \"&Table_BPU[[#This Row],[BPU Description]]","v":"Clear Hills Seed potatoes - Dryland"},"Clear Hills",57,"Seed potatoes - Dryland",3108.27,3545.55,2762.39,3401.22,4422.25,4855.71]
[{"$f":"Table_BPU[[#This Row],[Risk Area]]&\" \"&Table_BPU[[#This Row],[BPU Description]]","v":"Clearwater Seed potatoes - Dryland"},"Clearwater",57,"Seed potatoes - Dryland",3108.27,3545.55,2762.39,3401.22,4422.25,4855.71]
[{"$f":"Table_BPU[[#This Row],[Risk Area]]&\" \"&Table_BPU[[#This Row],[BPU Description]]","v":"Cypress Seed potatoes - Dryland"},"Cypress",57,"Seed potatoes - Dryland",3108.27,3545.55,2762.39,3401.22,4422.25,4855.71]
[{"$f":"Table_BPU[[#This Row],[Risk Area]]&\" \"&Table_BPU[[#This Row],[BPU Description]]","v":"Edmonton Seed potatoes - Dryland"},"Edmonton",57,"Seed potatoes - Dryland",3108.27,3545.55,2762.39,3401.22,4422.25,4855.71]
[{"$f":"Table_BPU[[#This Row],[Risk Area]]&\" \"&Table_BPU[[#This Row],[BPU Description]]","v":"Fairview Seed potatoes - Dryland"},"Fairview",57,"Seed potatoes - Dryland",3108.27,3545.55,2762.39,3401.22,4422.25,4855.71]
[{"$f":"Table_BPU[[#This Row],[Risk Area]]&\" \"&Table_BPU[[#This Row],[BPU Description]]","v":"Flagstaff Seed potatoes - Dryland"},"Flagstaff",57,"Seed potatoes - Dryland",3108.27,3545.55,2762.39,3401.22,4422.25,4855.71]
[{"$f":"Table_BPU[[#This Row],[Risk Area]]&\" \"&Table_BPU[[#This Row],[BPU Description]]","v":"Foothills Seed potatoes - Dryland"},"Foothills",57,"Seed potatoes - Dryland",3108.27,3545.55,2762.39,3401.22,4422.25,4855.71]
[{"$f":"Table_BPU[[#This Row],[Risk Area]]&\" \"&Table_BPU[[#This Row],[BPU Description]]","v":"Forty Mile Seed potatoes - Dryland"},"Forty Mile",57,"Seed potatoes - Dryland",3108.27,3545.55,2762.39,3401.22,4422.25,4855.71]
[{"$f":"Table_BPU[[#This Row],[Risk Area]]&\" \"&Table_BPU[[#This Row],[BPU Description]]","v":"Grande Prairie Seed potatoes - Dryland"},"Grande Prairie",57,"Seed potatoes - Dryland",3108.27,3545.55,2762.39,3401.22,4422.25,4855.71]
[{"$f":"Table_BPU[[#This Row],[Risk Area]]&\" \"&Table_BPU[[#This Row],[BPU Description]]","v":"Greenview Seed potatoes - Dryland"},"Greenview",57,"Seed potatoes - Dryland",3108.27,3545.55,2762.39,3401.22,4422.25,4855.71]
[{"$f":"Table_BPU[[#This Row],[Risk Area]]&\" \"&Table_BPU[[#This Row],[BPU Description]]","v":"Kneehill Seed potatoes - Dryland"},"Kneehill",57,"Seed potatoes - Dryland",3108.27,3545.55,2762.39,3401.22,4422.25,4855.71]
[{"$f":"Table_BPU[[#This Row],[Risk Area]]&\" \"&Table_BPU[[#This Row],[BPU Description]]","v":"Lac La Biche Seed potatoes - Dryland"},"Lac La Biche",57,"Seed potatoes - Dryland",3108.27,3545.55,2762.39,3401.22,4422.25,4855.71]
[{"$f":"Table_BPU[[#This Row],[Risk Area]]&\" \"&Table_BPU[[#This Row],[BPU Description]]","v":"Lac Ste. Anne County Seed potatoes - Dryland"},"Lac Ste. Anne County",57,"Seed potatoes - Dryland",3108.27,3545.55,2762.39,3401.22,4422.25,4855.71]
[{"$f":"Table_BPU[[#This Row],[Risk Area]]&\" \"&Table_BPU[[#This Row],[BPU Description]]","v":"Lacombe Seed potatoes - Dryland"},"Lacombe",57,"Seed potatoes - Dryland",3108.27,3545.55,2762.39,3401.22,4422.25,4855.71]
[{"$f":"Table_BPU[[#This Row],[Risk Area]]&\" \"&Table_BPU[[#This Row],[BPU Description]]","v":"Lamont Seed potatoes - Dryland"},"Lamont",57,"Seed potatoes - Dryland",3108.27,3545.55,2762.39,3401.22,4422.25,4855.71]
[{"$f":"Table_BPU[[#This Row],[Risk Area]]&\" \"&Table_BPU[[#This Row],[BPU Description]]","v":"Leduc Seed potatoes - Dryland"},"Leduc",57,"Seed potatoes - Dryland",3108.27,3545.55,2762.39,3401.22,4422.25,4855.71]
[{"$f":"Table_BPU[[#This Row],[Risk Area]]&\" \"&Table_BPU[[#This Row],[BPU Description]]","v":"Lesser Slave River Seed potatoes - Dryland"},"Lesser Slave River",57,"Seed potatoes - Dryland",3108.27,3545.55,2762.39,3401.22,4422.25,4855.71]
[{"$f":"Table_BPU[[#This Row],[Risk Area]]&\" \"&Table_BPU[[#This Row],[BPU Description]]","v":"Lethbridge Seed potatoes - Dryland"},"Lethbridge",57,"Seed potatoes - Dryland",3108.27,3545.55,2762.39,3401.22,4422.25,4855.71]
[{"$f":"Table_BPU[[#This Row],[Risk Area]]&\" \"&Table_BPU[[#This Row],[BPU Description]]","v":"Mackenzie Seed potatoes - Dryland"},"Mackenzie",57,"Seed potatoes - Dryland",3108.27,3545.55,2762.39,3401.22,4422.25,4855.71]
[{"$f":"Table_BPU[[#This Row],[Risk Area]]&\" \"&Table_BPU[[#This Row],[BPU Description]]","v":"Minburn Seed potatoes - Dryland"},"Minburn",57,"Seed potatoes - Dryland",3108.27,3545.55,2762.39,3401.22,4422.25,4855.71]
[{"$f":"Table_BPU[[#This Row],[Risk Area]]&\" \"&Table_BPU[[#This Row],[BPU Description]]","v":"Mountain View Seed potatoes - Dryland"},"Mountain View",57,"Seed potatoes - Dryland",3108.27,3545.55,2762.39,3401.22,4422.25,4855.71]
[{"$f":"Table_BPU[[#This Row],[Risk Area]]&\" \"&Table_BPU[[#This Row],[BPU Description]]","v":"Newell Seed potatoes - Dryland"},"Newell",57,"Seed potatoes - Dryland",3108.27,3545.55,2762.39,3401.22,4422.25,4855.71]
[{"$f":"Table_BPU[[#This Row],[Risk Area]]&\" \"&Table_BPU[[#This Row],[BPU Description]]","v":"Northern Lights Seed potatoes - Dryland"},"Northern Lights",57,"Seed potatoes - Dryland",3108.27,3545.55,2762.39,3401.22,4422.25,4855.71]
[{"$f":"Table_BPU[[#This Row],[Risk Area]]&\" \"&Table_BPU[[#This Row],[BPU Description]]","v":"Northern Sunrise Seed potatoes - Dryland"},"Northern Sunrise",57,"Seed potatoes - Dryland",3108.27,3545.55,2762.39,3401.22,4422.25,4855.71]
[{"$f":"Table_BPU[[#This Row],[Risk Area]]&\" \"&Table_BPU[[#This Row],[BPU Description]]","v":"Opportunity Seed potatoes - Dryland"},"Opportunity",57,"Seed potatoes - Dryland",3108.27,3545.55,2762.39,3401.22,4422.25,4855.71]
[{"$f":"Table_BPU[[#This Row],[Risk Area]]&\" \"&Table_BPU[[#This Row],[BPU Description]]","v":"Paintearth Seed potatoes - Dryland"},"Paintearth",57,"Seed potatoes - Dryland",3108.27,3545.55,2762.39,3401.22,4422.25,4855.71]
[{"$f":"Table_BPU[[#This Row],[Risk Area]]&\" \"&Table_BPU[[#This Row],[BPU Description]]","v":"Parkland County Seed potatoes - Dryland"},"Parkland County",57,"Seed potatoes - Dryland",3108.27,3545.55,2762.39,3401.22,4422.25,4855.71]
[{"$f":"Table_BPU[[#This Row],[Risk Area]]&\" \"&Table_BPU[[#This Row],[BPU Description]]","v":"Peace Seed potatoes - Dryland"},"Peace",57,"Seed potatoes - Dryland",3108.27,3545.55,2762.39,3401.22,4422.25,4855.71]
[{"$f":"Table_BPU[[#This Row],[Risk Area]]&\" \"&Table_BPU[[#This Row],[BPU Description]]","v":"Pincher Creek Seed potatoes - Dryland"},"Pincher Creek",57,"Seed potatoes - Dryland",3108.27,3545.55,2762.39,3401.22,4422.25,4855.71]
[{"$f":"Table_BPU[[#This Row],[Risk Area]]&\" \"&Table_BPU[[#This Row],[BPU Description]]","v":"Ponoka Seed potatoes - Dryland"},"Ponoka",57,"Seed potatoes - Dryland",3108.27,3545.55,2762.39,3401.22,4422.25,4855.71]
[{"$f":"Table_BPU[[#This Row],[Risk Area]]&\" \"&Table_BPU[[#This Row],[BPU Description]]","v":"Provost Seed potatoes - Dryland"},"Provost",57,"Seed potatoes - Dryland",3108.27,3545.55,2762.39,3401.22,4422.25,4855.71]
[{"$f":"Table_BPU[[#This Row],[Risk Area]]&\" \"&Table_BPU[[#This Row],[BPU Description]]","v":"Ranchland Seed potatoes - Dryland"},"Ranchland",57,"Seed potatoes - Dryland",3108.27,3545.55,2762.39,3401.22,4422.25,4855.71]
[{"$f":"Table_BPU[[#This Row],[Risk Area]]&\" \"&Table_BPU[[#This Row],[BPU Description]]","v":"Red Deer Seed potatoes - Dryland"},"Red Deer",57,"Seed potatoes - Dryland",3108.27,3545.55,2762.39,3401.22,4422.25,4855.71]
[{"$f":"Table_BPU[[#This Row],[Risk Area]]&\" \"&Table_BPU[[#This Row],[BPU Description]]","v":"Rocky View Seed potatoes - Dryland"},"Rocky View",57,"Seed potatoes - Dryland",3108.27,3545.55,2762.39,3401.22,4422.25,4855.71]
[{"$f":"Table_BPU[[#This Row],[Risk Area]]&\" \"&Table_BPU[[#This Row],[BPU Description]]","v":"Saddle Hills Seed potatoes - Dryland"},"Saddle Hills",57,"Seed potatoes - Dryland",3108.27,3545.55,2762.39,3401.22,4422.25,4855.71]
[{"$f":"Table_BPU[[#This Row],[Risk Area]]&\" \"&Table_BPU[[#This Row],[BPU Description]]","v":"Smoky Lake Seed potatoes - Dryland"},"Smoky Lake",57,"Seed potatoes - Dryland",3108.27,3545.55,2762.39,3401.22,4422.25,4855.71]
[{"$f":"Table_BPU[[#This Row],[Risk Area]]&\" \"&Table_BPU[[#This Row],[BPU Description]]","v":"Smoky River Seed potatoes - Dryland"},"Smoky River",57,"Seed potatoes - Dryland",3108.27,3545.55,2762.39,3401.22,4422.25,4855.71]
[{"$f":"Table_BPU[[#This Row],[Risk Area]]&\" \"&Table_BPU[[#This Row],[BPU Description]]","v":"Special Area 02 Seed potatoes - Dryland"},"Special Area 02",57,"Seed potatoes - Dryland",3108.27,3545.55,2762.39,3401.22,4422.25,4855.71]
[{"$f":"Table_BPU[[#This Row],[Risk Area]]&\" \"&Table_BPU[[#This Row],[BPU Description]]","v":"Special Area 03 Seed potatoes - Dryland"},"Special Area 03",57,"Seed potatoes - Dryland",3108.27,3545.55,2762.39,3401.22,4422.25,4855.71]
[{"$f":"Table_BPU[[#This Row],[Risk Area]]&\" \"&Table_BPU[[#This Row],[BPU Description]]","v":"Special Area 04 Seed potatoes - Dryland"},"Special Area 04",57,"Seed potatoes - Dryland",3108.27,3545.55,2762.39,3401.22,4422.25,4855.71]
[{"$f":"Table_BPU[[#This Row],[Risk Area]]&\" \"&Table_BPU[[#This Row],[BPU Description]]","v":"Spirit River Seed potatoes - Dryland"},"Spirit River",57,"Seed potatoes - Dryland",3108.27,3545.55,2762.39,3401.22,4422.25,4855.71]
[{"$f":"Table_BPU[[#This Row],[Risk Area]]&\" \"&Table_BPU[[#This Row],[BPU Description]]","v":"St. Paul Seed potatoes - Dryland"},"St. Paul",57,"Seed potatoes - Dryland",3108.27,3545.55,2762.39,3401.22,4422.25,4855.71]
[{"$f":"Table_BPU[[#This Row],[Risk Area]]&\" \"&Table_BPU[[#This Row],[BPU Description]]","v":"Starland Seed potatoes - Dryland"},"Starland",57,"Seed potatoes - Dryland",3108.27,3545.55,2762.39,3401.22,4422.25,4855.71]
[{"$f":"Table_BPU[[#This Row],[Risk Area]]&\" \"&Table_BPU[[#This Row],[BPU Description]]","v":"Stettler Seed potatoes - Dryland"},"Stettler",57,"Seed potatoes - Dryland",3108.27,3545.55,2762.39,3401.22,4422.25,4855.71]
[{"$f":"Table_BPU[[#This Row],[Risk Area]]&\" \"&Table_BPU[[#This Row],[BPU Description]]","v":"Strathcona County Seed potatoes - Dryland"},"Strathcona County",57,"Seed potatoes - Dryland",3108.27,3545.55,2762.39,3401.22,4422.25,4855.71]
[{"$f":"Table_BPU[[#This Row],[Risk Area]]&\" \"&Table_BPU[[#This Row],[BPU Description]]","v":"Sturgeon Seed potatoes - Dryland"},"Sturgeon",57,"Seed potatoes - Dryland",3108.27,3545.55,2762.39,3401.22,4422.25,4855.71]
[{"$f":"Table_BPU[[#This Row],[Risk Area]]&\" \"&Table_BPU[[#This Row],[BPU Description]]","v":"Taber Seed potatoes - Dryland"},"Taber",57,"Seed potatoes - Dryland",3108.27,3545.55,2762.39,3401.22,4422.25,4855.71]
[{"$f":"Table_BPU[[#This Row],[Risk Area]]&\" \"&Table_BPU[[#This Row],[BPU Description]]","v":"Thorhild Seed potatoes - Dryland"},"Thorhild",57,"Seed potatoes - Dryland",3108.27,3545.55,2762.39,3401.22,4422.25,4855.71]
[{"$f":"Table_BPU[[#This Row],[Risk Area]]&\" \"&Table_BPU[[#This Row],[BPU Description]]","v":"Two Hills Seed potatoes - Dryland"},"Two Hills",57,"Seed potatoes - Dryland",3108.27,3545.55,2762.39,3401.22,4422.25,4855.71]
[{"$f":"Table_BPU[[#This Row],[Risk Area]]&\" \"&Table_BPU[[#This Row],[BPU Description]]","v":"Vermilion River Seed potatoes - Dryland"},"Vermilion River",57,"Seed potatoes - Dryland",3108.27,3545.55,2762.39,3401.22,4422.25,4855.71]
[{"$f":"Table_BPU[[#This Row],[Risk Area]]&\" \"&Table_BPU[[#This Row],[BPU Description]]","v":"Vulcan Seed potatoes - Dryland"},"Vulcan",57,"Seed potatoes - Dryland",3108.27,3545.55,2762.39,3401.22,4422.25,4855.71]
[{"$f":"Table_BPU[[#This Row],[Risk Area]]&\" \"&Table_BPU[[#This Row],[BPU Description]]","v":"Wainwright Seed potatoes - Dryland"},"Wainwright",57,"Seed potatoes - Dryland",3108.27,3545.55,2762.39,3401.22,4422.25,4855.71]
[{"$f":"Table_BPU[[#This Row],[Risk Area]]&\" \"&Table_BPU[[#This Row],[BPU Description]]","v":"Warner Seed potatoes - Dryland"},"Warner",57,"Seed potatoes - Dryland",3108.27,3545.55,2762.39,3401.22,4422.25,4855.71]
[{"$f":"Table_BPU[[#This Row],[Risk Area]]&\" \"&Table_BPU[[#This Row],[BPU Description]]","v":"Westlock Seed potatoes - Dryland"},"Westlock",57,"Seed potatoes - Dryland",3108.27,3545.55,2762.39,3401.22,4422.25,4855.71]
[{"$f":"Table_BPU[[#This Row],[Risk Area]]&\" \"&Table_BPU[[#This Row],[BPU Description]]","v":"Wetaskiwin Seed potatoes - Dryland"},"Wetaskiwin",57,"Seed potatoes - Dryland",3108.27,3545.55,2762.39,3401.22,4422.25,4855.71]
[{"$f":"Table_BPU[[#This Row],[Risk Area]]&\" \"&Table_BPU[[#This Row],[BPU Description]]","v":"Wheatland Seed potatoes - Dryland"},"Wheatland",57,"Seed potatoes - Dryland",3108.27,3545.55,2762.39,3401.22,4422.25,4855.71]
[{"$f":"Table_BPU[[#This Row],[Risk Area]]&\" \"&Table_BPU[[#This Row],[BPU Description]]","v":"Willow Creek Seed potatoes - Dryland"},"Willow Creek",57,"Seed potatoes - Dryland",3108.27,3545.55,2762.39,3401.22,4422.25,4855.71]
[{"$f":"Table_BPU[[#This Row],[Risk Area]]&\" \"&Table_BPU[[#This Row],[BPU Description]]","v":"Wood Buffalo Seed potatoes - Dryland"},"Wood Buffalo",57,"Seed potatoes - Dryland",3108.27,3545.55,2762.39,3401.22,4422.25,4855.71]
[{"$f":"Table_BPU[[#This Row],[Risk Area]]&\" \"&Table_BPU[[#This Row],[BPU Description]]","v":"Woodlands Seed potatoes - Dryland"},"Woodlands",57,"Seed potatoes - Dryland",3108.27,3545.55,2762.39,3401.22,4422.25,4855.71]
[{"$f":"Table_BPU[[#This Row],[Risk Area]]&\" \"&Table_BPU[[#This Row],[BPU Description]]","v":"Yellowhead Seed potatoes - Dryland"},"Yellowhead",57,"Seed potatoes - Dryland",3108.27,3545.55,2762.39,3401.22,4422.25,4855.71]
[{"$f":"Table_BPU[[#This Row],[Risk Area]]&\" \"&Table_BPU[[#This Row],[BPU Description]]","v":"Acadia Sheep - Ewe/lamb"},"Acadia",32,"Sheep - Ewe/lamb",125.18899999999999,155.88999999999999,171.93,166.65,159.02000000000001,185.99]
[{"$f":"Table_BPU[[#This Row],[Risk Area]]&\" \"&Table_BPU[[#This Row],[BPU Description]]","v":"Athabasca Sheep - Ewe/lamb"},"Athabasca",32,"Sheep - Ewe/lamb",125.18899999999999,155.88999999999999,171.93,166.65,159.02000000000001,185.99]
[{"$f":"Table_BPU[[#This Row],[Risk Area]]&\" \"&Table_BPU[[#This Row],[BPU Description]]","v":"Barrhead Sheep - Ewe/lamb"},"Barrhead",32,"Sheep - Ewe/lamb",125.18899999999999,155.88999999999999,171.93,166.65,159.02000000000001,185.99]
[{"$f":"Table_BPU[[#This Row],[Risk Area]]&\" \"&Table_BPU[[#This Row],[BPU Description]]","v":"Beaver Sheep - Ewe/lamb"},"Beaver",32,"Sheep - Ewe/lamb",125.18899999999999,155.88999999999999,171.93,166.65,159.02000000000001,185.99]
[{"$f":"Table_BPU[[#This Row],[Risk Area]]&\" \"&Table_BPU[[#This Row],[BPU Description]]","v":"Big Lakes Sheep - Ewe/lamb"},"Big Lakes",32,"Sheep - Ewe/lamb",125.18899999999999,155.88999999999999,171.93,166.65,159.02000000000001,185.99]
[{"$f":"Table_BPU[[#This Row],[Risk Area]]&\" \"&Table_BPU[[#This Row],[BPU Description]]","v":"Bighorn Sheep - Ewe/lamb"},"Bighorn",32,"Sheep - Ewe/lamb",125.18899999999999,155.88999999999999,171.93,166.65,159.02000000000001,185.99]
[{"$f":"Table_BPU[[#This Row],[Risk Area]]&\" \"&Table_BPU[[#This Row],[BPU Description]]","v":"Birch Hills Sheep - Ewe/lamb"},"Birch Hills",32,"Sheep - Ewe/lamb",125.18899999999999,155.88999999999999,171.93,166.65,159.02000000000001,185.99]
[{"$f":"Table_BPU[[#This Row],[Risk Area]]&\" \"&Table_BPU[[#This Row],[BPU Description]]","v":"Bonnyville Sheep - Ewe/lamb"},"Bonnyville",32,"Sheep - Ewe/lamb",125.18899999999999,155.88999999999999,171.93,166.65,159.02000000000001,185.99]
[{"$f":"Table_BPU[[#This Row],[Risk Area]]&\" \"&Table_BPU[[#This Row],[BPU Description]]","v":"Brazeau Sheep - Ewe/lamb"},"Brazeau",32,"Sheep - Ewe/lamb",125.18899999999999,155.88999999999999,171.93,166.65,159.02000000000001,185.99]
[{"$f":"Table_BPU[[#This Row],[Risk Area]]&\" \"&Table_BPU[[#This Row],[BPU Description]]","v":"Camrose Sheep - Ewe/lamb"},"Camrose",32,"Sheep - Ewe/lamb",125.18899999999999,155.88999999999999,171.93,166.65,159.02000000000001,185.99]
[{"$f":"Table_BPU[[#This Row],[Risk Area]]&\" \"&Table_BPU[[#This Row],[BPU Description]]","v":"Cardston Sheep - Ewe/lamb"},"Cardston",32,"Sheep - Ewe/lamb",125.18899999999999,155.88999999999999,171.93,166.65,159.02000000000001,185.99]
[{"$f":"Table_BPU[[#This Row],[Risk Area]]&\" \"&Table_BPU[[#This Row],[BPU Description]]","v":"Clear Hills Sheep - Ewe/lamb"},"Clear Hills",32,"Sheep - Ewe/lamb",125.18899999999999,155.88999999999999,171.93,166.65,159.02000000000001,185.99]
[{"$f":"Table_BPU[[#This Row],[Risk Area]]&\" \"&Table_BPU[[#This Row],[BPU Description]]","v":"Clearwater Sheep - Ewe/lamb"},"Clearwater",32,"Sheep - Ewe/lamb",125.18899999999999,155.88999999999999,171.93,166.65,159.02000000000001,185.99]
[{"$f":"Table_BPU[[#This Row],[Risk Area]]&\" \"&Table_BPU[[#This Row],[BPU Description]]","v":"Cypress Sheep - Ewe/lamb"},"Cypress",32,"Sheep - Ewe/lamb",125.18899999999999,155.88999999999999,171.93,166.65,159.02000000000001,185.99]
[{"$f":"Table_BPU[[#This Row],[Risk Area]]&\" \"&Table_BPU[[#This Row],[BPU Description]]","v":"Edmonton Sheep - Ewe/lamb"},"Edmonton",32,"Sheep - Ewe/lamb",125.18899999999999,155.88999999999999,171.93,166.65,159.02000000000001,185.99]
[{"$f":"Table_BPU[[#This Row],[Risk Area]]&\" \"&Table_BPU[[#This Row],[BPU Description]]","v":"Fairview Sheep - Ewe/lamb"},"Fairview",32,"Sheep - Ewe/lamb",125.18899999999999,155.88999999999999,171.93,166.65,159.02000000000001,185.99]
[{"$f":"Table_BPU[[#This Row],[Risk Area]]&\" \"&Table_BPU[[#This Row],[BPU Description]]","v":"Flagstaff Sheep - Ewe/lamb"},"Flagstaff",32,"Sheep - Ewe/lamb",125.18899999999999,155.88999999999999,171.93,166.65,159.02000000000001,185.99]
[{"$f":"Table_BPU[[#This Row],[Risk Area]]&\" \"&Table_BPU[[#This Row],[BPU Description]]","v":"Foothills Sheep - Ewe/lamb"},"Foothills",32,"Sheep - Ewe/lamb",125.18899999999999,155.88999999999999,171.93,166.65,159.02000000000001,185.99]
[{"$f":"Table_BPU[[#This Row],[Risk Area]]&\" \"&Table_BPU[[#This Row],[BPU Description]]","v":"Forty Mile Sheep - Ewe/lamb"},"Forty Mile",32,"Sheep - Ewe/lamb",125.18899999999999,155.88999999999999,171.93,166.65,159.02000000000001,185.99]
[{"$f":"Table_BPU[[#This Row],[Risk Area]]&\" \"&Table_BPU[[#This Row],[BPU Description]]","v":"Grande Prairie Sheep - Ewe/lamb"},"Grande Prairie",32,"Sheep - Ewe/lamb",125.18899999999999,155.88999999999999,171.93,166.65,159.02000000000001,185.99]
[{"$f":"Table_BPU[[#This Row],[Risk Area]]&\" \"&Table_BPU[[#This Row],[BPU Description]]","v":"Greenview Sheep - Ewe/lamb"},"Greenview",32,"Sheep - Ewe/lamb",125.18899999999999,155.88999999999999,171.93,166.65,159.02000000000001,185.99]
[{"$f":"Table_BPU[[#This Row],[Risk Area]]&\" \"&Table_BPU[[#This Row],[BPU Description]]","v":"Kneehill Sheep - Ewe/lamb"},"Kneehill",32,"Sheep - Ewe/lamb",125.18899999999999,155.88999999999999,171.93,166.65,159.02000000000001,185.99]
[{"$f":"Table_BPU[[#This Row],[Risk Area]]&\" \"&Table_BPU[[#This Row],[BPU Description]]","v":"Lac La Biche Sheep - Ewe/lamb"},"Lac La Biche",32,"Sheep - Ewe/lamb",125.18899999999999,155.88999999999999,171.93,166.65,159.02000000000001,185.99]
[{"$f":"Table_BPU[[#This Row],[Risk Area]]&\" \"&Table_BPU[[#This Row],[BPU Description]]","v":"Lac Ste. Anne County Sheep - Ewe/lamb"},"Lac Ste. Anne County",32,"Sheep - Ewe/lamb",125.18899999999999,155.88999999999999,171.93,166.65,159.02000000000001,185.99]
[{"$f":"Table_BPU[[#This Row],[Risk Area]]&\" \"&Table_BPU[[#This Row],[BPU Description]]","v":"Lacombe Sheep - Ewe/lamb"},"Lacombe",32,"Sheep - Ewe/lamb",125.18899999999999,155.88999999999999,171.93,166.65,159.02000000000001,185.99]
[{"$f":"Table_BPU[[#This Row],[Risk Area]]&\" \"&Table_BPU[[#This Row],[BPU Description]]","v":"Lamont Sheep - Ewe/lamb"},"Lamont",32,"Sheep - Ewe/lamb",125.18899999999999,155.88999999999999,171.93,166.65,159.02000000000001,185.99]
[{"$f":"Table_BPU[[#This Row],[Risk Area]]&\" \"&Table_BPU[[#This Row],[BPU Description]]","v":"Leduc Sheep - Ewe/lamb"},"Leduc",32,"Sheep - Ewe/lamb",125.18899999999999,155.88999999999999,171.93,166.65,159.02000000000001,185.99]
[{"$f":"Table_BPU[[#This Row],[Risk Area]]&\" \"&Table_BPU[[#This Row],[BPU Description]]","v":"Lesser Slave River Sheep - Ewe/lamb"},"Lesser Slave River",32,"Sheep - Ewe/lamb",125.18899999999999,155.88999999999999,171.93,166.65,159.02000000000001,185.99]
[{"$f":"Table_BPU[[#This Row],[Risk Area]]&\" \"&Table_BPU[[#This Row],[BPU Description]]","v":"Lethbridge Sheep - Ewe/lamb"},"Lethbridge",32,"Sheep - Ewe/lamb",125.18899999999999,155.88999999999999,171.93,166.65,159.02000000000001,185.99]
[{"$f":"Table_BPU[[#This Row],[Risk Area]]&\" \"&Table_BPU[[#This Row],[BPU Description]]","v":"Mackenzie Sheep - Ewe/lamb"},"Mackenzie",32,"Sheep - Ewe/lamb",125.18899999999999,155.88999999999999,171.93,166.65,159.02000000000001,185.99]
[{"$f":"Table_BPU[[#This Row],[Risk Area]]&\" \"&Table_BPU[[#This Row],[BPU Description]]","v":"Minburn Sheep - Ewe/lamb"},"Minburn",32,"Sheep - Ewe/lamb",125.18899999999999,155.88999999999999,171.93,166.65,159.02000000000001,185.99]
[{"$f":"Table_BPU[[#This Row],[Risk Area]]&\" \"&Table_BPU[[#This Row],[BPU Description]]","v":"Mountain View Sheep - Ewe/lamb"},"Mountain View",32,"Sheep - Ewe/lamb",125.18899999999999,155.88999999999999,171.93,166.65,159.02000000000001,185.99]
[{"$f":"Table_BPU[[#This Row],[Risk Area]]&\" \"&Table_BPU[[#This Row],[BPU Description]]","v":"Newell Sheep - Ewe/lamb"},"Newell",32,"Sheep - Ewe/lamb",125.18899999999999,155.88999999999999,171.93,166.65,159.02000000000001,185.99]
[{"$f":"Table_BPU[[#This Row],[Risk Area]]&\" \"&Table_BPU[[#This Row],[BPU Description]]","v":"Northern Lights Sheep - Ewe/lamb"},"Northern Lights",32,"Sheep - Ewe/lamb",125.18899999999999,155.88999999999999,171.93,166.65,159.02000000000001,185.99]
[{"$f":"Table_BPU[[#This Row],[Risk Area]]&\" \"&Table_BPU[[#This Row],[BPU Description]]","v":"Northern Sunrise Sheep - Ewe/lamb"},"Northern Sunrise",32,"Sheep - Ewe/lamb",125.18899999999999,155.88999999999999,171.93,166.65,159.02000000000001,185.99]
[{"$f":"Table_BPU[[#This Row],[Risk Area]]&\" \"&Table_BPU[[#This Row],[BPU Description]]","v":"Opportunity Sheep - Ewe/lamb"},"Opportunity",32,"Sheep - Ewe/lamb",125.18899999999999,155.88999999999999,171.93,166.65,159.02000000000001,185.99]
[{"$f":"Table_BPU[[#This Row],[Risk Area]]&\" \"&Table_BPU[[#This Row],[BPU Description]]","v":"Paintearth Sheep - Ewe/lamb"},"Paintearth",32,"Sheep - Ewe/lamb",125.18899999999999,155.88999999999999,171.93,166.65,159.02000000000001,185.99]
[{"$f":"Table_BPU[[#This Row],[Risk Area]]&\" \"&Table_BPU[[#This Row],[BPU Description]]","v":"Parkland County Sheep - Ewe/lamb"},"Parkland County",32,"Sheep - Ewe/lamb",125.18899999999999,155.88999999999999,171.93,166.65,159.02000000000001,185.99]
[{"$f":"Table_BPU[[#This Row],[Risk Area]]&\" \"&Table_BPU[[#This Row],[BPU Description]]","v":"Peace Sheep - Ewe/lamb"},"Peace",32,"Sheep - Ewe/lamb",125.18899999999999,155.88999999999999,171.93,166.65,159.02000000000001,185.99]
[{"$f":"Table_BPU[[#This Row],[Risk Area]]&\" \"&Table_BPU[[#This Row],[BPU Description]]","v":"Pincher Creek Sheep - Ewe/lamb"},"Pincher Creek",32,"Sheep - Ewe/lamb",125.18899999999999,155.88999999999999,171.93,166.65,159.02000000000001,185.99]
[{"$f":"Table_BPU[[#This Row],[Risk Area]]&\" \"&Table_BPU[[#This Row],[BPU Description]]","v":"Ponoka Sheep - Ewe/lamb"},"Ponoka",32,"Sheep - Ewe/lamb",125.18899999999999,155.88999999999999,171.93,166.65,159.02000000000001,185.99]
[{"$f":"Table_BPU[[#This Row],[Risk Area]]&\" \"&Table_BPU[[#This Row],[BPU Description]]","v":"Provost Sheep - Ewe/lamb"},"Provost",32,"Sheep - Ewe/lamb",125.18899999999999,155.88999999999999,171.93,166.65,159.02000000000001,185.99]
[{"$f":"Table_BPU[[#This Row],[Risk Area]]&\" \"&Table_BPU[[#This Row],[BPU Description]]","v":"Ranchland Sheep - Ewe/lamb"},"Ranchland",32,"Sheep - Ewe/lamb",125.18899999999999,155.88999999999999,171.93,166.65,159.02000000000001,185.99]
[{"$f":"Table_BPU[[#This Row],[Risk Area]]&\" \"&Table_BPU[[#This Row],[BPU Description]]","v":"Red Deer Sheep - Ewe/lamb"},"Red Deer",32,"Sheep - Ewe/lamb",125.18899999999999,155.88999999999999,171.93,166.65,159.02000000000001,185.99]
[{"$f":"Table_BPU[[#This Row],[Risk Area]]&\" \"&Table_BPU[[#This Row],[BPU Description]]","v":"Rocky View Sheep - Ewe/lamb"},"Rocky View",32,"Sheep - Ewe/lamb",125.18899999999999,155.88999999999999,171.93,166.65,159.02000000000001,185.99]
[{"$f":"Table_BPU[[#This Row],[Risk Area]]&\" \"&Table_BPU[[#This Row],[BPU Description]]","v":"Saddle Hills Sheep - Ewe/lamb"},"Saddle Hills",32,"Sheep - Ewe/lamb",125.18899999999999,155.88999999999999,171.93,166.65,159.02000000000001,185.99]
[{"$f":"Table_BPU[[#This Row],[Risk Area]]&\" \"&Table_BPU[[#This Row],[BPU Description]]","v":"Smoky Lake Sheep - Ewe/lamb"},"Smoky Lake",32,"Sheep - Ewe/lamb",125.18899999999999,155.88999999999999,171.93,166.65,159.02000000000001,185.99]
[{"$f":"Table_BPU[[#This Row],[Risk Area]]&\" \"&Table_BPU[[#This Row],[BPU Description]]","v":"Smoky River Sheep - Ewe/lamb"},"Smoky River",32,"Sheep - Ewe/lamb",125.18899999999999,155.88999999999999,171.93,166.65,159.02000000000001,185.99]
[{"$f":"Table_BPU[[#This Row],[Risk Area]]&\" \"&Table_BPU[[#This Row],[BPU Description]]","v":"Special Area 02 Sheep - Ewe/lamb"},"Special Area 02",32,"Sheep - Ewe/lamb",125.18899999999999,155.88999999999999,171.93,166.65,159.02000000000001,185.99]
[{"$f":"Table_BPU[[#This Row],[Risk Area]]&\" \"&Table_BPU[[#This Row],[BPU Description]]","v":"Special Area 03 Sheep - Ewe/lamb"},"Special Area 03",32,"Sheep - Ewe/lamb",125.18899999999999,155.88999999999999,171.93,166.65,159.02000000000001,185.99]
[{"$f":"Table_BPU[[#This Row],[Risk Area]]&\" \"&Table_BPU[[#This Row],[BPU Description]]","v":"Special Area 04 Sheep - Ewe/lamb"},"Special Area 04",32,"Sheep - Ewe/lamb",125.18899999999999,155.88999999999999,171.93,166.65,159.02000000000001,185.99]
[{"$f":"Table_BPU[[#This Row],[Risk Area]]&\" \"&Table_BPU[[#This Row],[BPU Description]]","v":"Spirit River Sheep - Ewe/lamb"},"Spirit River",32,"Sheep - Ewe/lamb",125.18899999999999,155.88999999999999,171.93,166.65,159.02000000000001,185.99]
[{"$f":"Table_BPU[[#This Row],[Risk Area]]&\" \"&Table_BPU[[#This Row],[BPU Description]]","v":"St. Paul Sheep - Ewe/lamb"},"St. Paul",32,"Sheep - Ewe/lamb",125.18899999999999,155.88999999999999,171.93,166.65,159.02000000000001,185.99]
[{"$f":"Table_BPU[[#This Row],[Risk Area]]&\" \"&Table_BPU[[#This Row],[BPU Description]]","v":"Starland Sheep - Ewe/lamb"},"Starland",32,"Sheep - Ewe/lamb",125.18899999999999,155.88999999999999,171.93,166.65,159.02000000000001,185.99]
[{"$f":"Table_BPU[[#This Row],[Risk Area]]&\" \"&Table_BPU[[#This Row],[BPU Description]]","v":"Stettler Sheep - Ewe/lamb"},"Stettler",32,"Sheep - Ewe/lamb",125.18899999999999,155.88999999999999,171.93,166.65,159.02000000000001,185.99]
[{"$f":"Table_BPU[[#This Row],[Risk Area]]&\" \"&Table_BPU[[#This Row],[BPU Description]]","v":"Strathcona County Sheep - Ewe/lamb"},"Strathcona County",32,"Sheep - Ewe/lamb",125.18899999999999,155.88999999999999,171.93,166.65,159.02000000000001,185.99]
[{"$f":"Table_BPU[[#This Row],[Risk Area]]&\" \"&Table_BPU[[#This Row],[BPU Description]]","v":"Sturgeon Sheep - Ewe/lamb"},"Sturgeon",32,"Sheep - Ewe/lamb",125.18899999999999,155.88999999999999,171.93,166.65,159.02000000000001,185.99]
[{"$f":"Table_BPU[[#This Row],[Risk Area]]&\" \"&Table_BPU[[#This Row],[BPU Description]]","v":"Taber Sheep - Ewe/lamb"},"Taber",32,"Sheep - Ewe/lamb",125.18899999999999,155.88999999999999,171.93,166.65,159.02000000000001,185.99]
[{"$f":"Table_BPU[[#This Row],[Risk Area]]&\" \"&Table_BPU[[#This Row],[BPU Description]]","v":"Thorhild Sheep - Ewe/lamb"},"Thorhild",32,"Sheep - Ewe/lamb",125.18899999999999,155.88999999999999,171.93,166.65,159.02000000000001,185.99]
[{"$f":"Table_BPU[[#This Row],[Risk Area]]&\" \"&Table_BPU[[#This Row],[BPU Description]]","v":"Two Hills Sheep - Ewe/lamb"},"Two Hills",32,"Sheep - Ewe/lamb",125.18899999999999,155.88999999999999,171.93,166.65,159.02000000000001,185.99]
[{"$f":"Table_BPU[[#This Row],[Risk Area]]&\" \"&Table_BPU[[#This Row],[BPU Description]]","v":"Vermilion River Sheep - Ewe/lamb"},"Vermilion River",32,"Sheep - Ewe/lamb",125.18899999999999,155.88999999999999,171.93,166.65,159.02000000000001,185.99]
[{"$f":"Table_BPU[[#This Row],[Risk Area]]&\" \"&Table_BPU[[#This Row],[BPU Description]]","v":"Vulcan Sheep - Ewe/lamb"},"Vulcan",32,"Sheep - Ewe/lamb",125.18899999999999,155.88999999999999,171.93,166.65,159.02000000000001,185.99]
[{"$f":"Table_BPU[[#This Row],[Risk Area]]&\" \"&Table_BPU[[#This Row],[BPU Description]]","v":"Wainwright Sheep - Ewe/lamb"},"Wainwright",32,"Sheep - Ewe/lamb",125.18899999999999,155.88999999999999,171.93,166.65,159.02000000000001,185.99]
[{"$f":"Table_BPU[[#This Row],[Risk Area]]&\" \"&Table_BPU[[#This Row],[BPU Description]]","v":"Warner Sheep - Ewe/lamb"},"Warner",32,"Sheep - Ewe/lamb",125.18899999999999,155.88999999999999,171.93,166.65,159.02000000000001,185.99]
[{"$f":"Table_BPU[[#This Row],[Risk Area]]&\" \"&Table_BPU[[#This Row],[BPU Description]]","v":"Westlock Sheep - Ewe/lamb"},"Westlock",32,"Sheep - Ewe/lamb",125.18899999999999,155.88999999999999,171.93,166.65,159.02000000000001,185.99]
[{"$f":"Table_BPU[[#This Row],[Risk Area]]&\" \"&Table_BPU[[#This Row],[BPU Description]]","v":"Wetaskiwin Sheep - Ewe/lamb"},"Wetaskiwin",32,"Sheep - Ewe/lamb",125.18899999999999,155.88999999999999,171.93,166.65,159.02000000000001,185.99]
[{"$f":"Table_BPU[[#This Row],[Risk Area]]&\" \"&Table_BPU[[#This Row],[BPU Description]]","v":"Wheatland Sheep - Ewe/lamb"},"Wheatland",32,"Sheep - Ewe/lamb",125.18899999999999,155.88999999999999,171.93,166.65,159.02000000000001,185.99]
[{"$f":"Table_BPU[[#This Row],[Risk Area]]&\" \"&Table_BPU[[#This Row],[BPU Description]]","v":"Willow Creek Sheep - Ewe/lamb"},"Willow Creek",32,"Sheep - Ewe/lamb",125.18899999999999,155.88999999999999,171.93,166.65,159.02000000000001,185.99]
[{"$f":"Table_BPU[[#This Row],[Risk Area]]&\" \"&Table_BPU[[#This Row],[BPU Description]]","v":"Wood Buffalo Sheep - Ewe/lamb"},"Wood Buffalo",32,"Sheep - Ewe/lamb",125.18899999999999,155.88999999999999,171.93,166.65,159.02000000000001,185.99]
[{"$f":"Table_BPU[[#This Row],[Risk Area]]&\" \"&Table_BPU[[#This Row],[BPU Description]]","v":"Woodlands Sheep - Ewe/lamb"},"Woodlands",32,"Sheep - Ewe/lamb",125.18899999999999,155.88999999999999,171.93,166.65,159.02000000000001,185.99]
[{"$f":"Table_BPU[[#This Row],[Risk Area]]&\" \"&Table_BPU[[#This Row],[BPU Description]]","v":"Yellowhead Sheep - Ewe/lamb"},"Yellowhead",32,"Sheep - Ewe/lamb",125.18899999999999,155.88999999999999,171.93,166.65,159.02000000000001,185.99]
[{"$f":"Table_BPU[[#This Row],[Risk Area]]&\" \"&Table_BPU[[#This Row],[BPU Description]]","v":"Acadia Sugar Beets"},"Acadia",49,"Sugar Beets",764.24,838.94,842.45,547.37,1546.52,1148.29]
[{"$f":"Table_BPU[[#This Row],[Risk Area]]&\" \"&Table_BPU[[#This Row],[BPU Description]]","v":"Athabasca Sugar Beets"},"Athabasca",49,"Sugar Beets",764.24,838.94,842.45,547.37,1546.52,1148.29]
[{"$f":"Table_BPU[[#This Row],[Risk Area]]&\" \"&Table_BPU[[#This Row],[BPU Description]]","v":"Barrhead Sugar Beets"},"Barrhead",49,"Sugar Beets",764.24,838.94,842.45,547.37,1546.52,1148.29]
[{"$f":"Table_BPU[[#This Row],[Risk Area]]&\" \"&Table_BPU[[#This Row],[BPU Description]]","v":"Beaver Sugar Beets"},"Beaver",49,"Sugar Beets",764.24,838.94,842.45,547.37,1546.52,1148.29]
[{"$f":"Table_BPU[[#This Row],[Risk Area]]&\" \"&Table_BPU[[#This Row],[BPU Description]]","v":"Big Lakes Sugar Beets"},"Big Lakes",49,"Sugar Beets",764.24,838.94,842.45,547.37,1546.52,1148.29]
[{"$f":"Table_BPU[[#This Row],[Risk Area]]&\" \"&Table_BPU[[#This Row],[BPU Description]]","v":"Bighorn Sugar Beets"},"Bighorn",49,"Sugar Beets",764.24,838.94,842.45,547.37,1546.52,1148.29]
[{"$f":"Table_BPU[[#This Row],[Risk Area]]&\" \"&Table_BPU[[#This Row],[BPU Description]]","v":"Birch Hills Sugar Beets"},"Birch Hills",49,"Sugar Beets",764.24,838.94,842.45,547.37,1546.52,1148.29]
[{"$f":"Table_BPU[[#This Row],[Risk Area]]&\" \"&Table_BPU[[#This Row],[BPU Description]]","v":"Bonnyville Sugar Beets"},"Bonnyville",49,"Sugar Beets",764.24,838.94,842.45,547.37,1546.52,1148.29]
[{"$f":"Table_BPU[[#This Row],[Risk Area]]&\" \"&Table_BPU[[#This Row],[BPU Description]]","v":"Brazeau Sugar Beets"},"Brazeau",49,"Sugar Beets",764.24,838.94,842.45,547.37,1546.52,1148.29]
[{"$f":"Table_BPU[[#This Row],[Risk Area]]&\" \"&Table_BPU[[#This Row],[BPU Description]]","v":"Camrose Sugar Beets"},"Camrose",49,"Sugar Beets",764.24,838.94,842.45,547.37,1546.52,1148.29]
[{"$f":"Table_BPU[[#This Row],[Risk Area]]&\" \"&Table_BPU[[#This Row],[BPU Description]]","v":"Cardston Sugar Beets"},"Cardston",49,"Sugar Beets",764.24,838.94,842.45,547.37,1546.52,1148.29]
[{"$f":"Table_BPU[[#This Row],[Risk Area]]&\" \"&Table_BPU[[#This Row],[BPU Description]]","v":"Clear Hills Sugar Beets"},"Clear Hills",49,"Sugar Beets",764.24,838.94,842.45,547.37,1546.52,1148.29]
[{"$f":"Table_BPU[[#This Row],[Risk Area]]&\" \"&Table_BPU[[#This Row],[BPU Description]]","v":"Clearwater Sugar Beets"},"Clearwater",49,"Sugar Beets",764.24,838.94,842.45,547.37,1546.52,1148.29]
[{"$f":"Table_BPU[[#This Row],[Risk Area]]&\" \"&Table_BPU[[#This Row],[BPU Description]]","v":"Cypress Sugar Beets"},"Cypress",49,"Sugar Beets",764.24,838.94,842.45,547.37,1546.52,1148.29]
[{"$f":"Table_BPU[[#This Row],[Risk Area]]&\" \"&Table_BPU[[#This Row],[BPU Description]]","v":"Edmonton Sugar Beets"},"Edmonton",49,"Sugar Beets",764.24,838.94,842.45,547.37,1546.52,1148.29]
[{"$f":"Table_BPU[[#This Row],[Risk Area]]&\" \"&Table_BPU[[#This Row],[BPU Description]]","v":"Fairview Sugar Beets"},"Fairview",49,"Sugar Beets",764.24,838.94,842.45,547.37,1546.52,1148.29]
[{"$f":"Table_BPU[[#This Row],[Risk Area]]&\" \"&Table_BPU[[#This Row],[BPU Description]]","v":"Flagstaff Sugar Beets"},"Flagstaff",49,"Sugar Beets",764.24,838.94,842.45,547.37,1546.52,1148.29]
[{"$f":"Table_BPU[[#This Row],[Risk Area]]&\" \"&Table_BPU[[#This Row],[BPU Description]]","v":"Foothills Sugar Beets"},"Foothills",49,"Sugar Beets",764.24,838.94,842.45,547.37,1546.52,1148.29]
[{"$f":"Table_BPU[[#This Row],[Risk Area]]&\" \"&Table_BPU[[#This Row],[BPU Description]]","v":"Forty Mile Sugar Beets"},"Forty Mile",49,"Sugar Beets",764.24,838.94,842.45,547.37,1546.52,1148.29]
[{"$f":"Table_BPU[[#This Row],[Risk Area]]&\" \"&Table_BPU[[#This Row],[BPU Description]]","v":"Grande Prairie Sugar Beets"},"Grande Prairie",49,"Sugar Beets",764.24,838.94,842.45,547.37,1546.52,1148.29]
[{"$f":"Table_BPU[[#This Row],[Risk Area]]&\" \"&Table_BPU[[#This Row],[BPU Description]]","v":"Greenview Sugar Beets"},"Greenview",49,"Sugar Beets",764.24,838.94,842.45,547.37,1546.52,1148.29]
[{"$f":"Table_BPU[[#This Row],[Risk Area]]&\" \"&Table_BPU[[#This Row],[BPU Description]]","v":"Kneehill Sugar Beets"},"Kneehill",49,"Sugar Beets",764.24,838.94,842.45,547.37,1546.52,1148.29]
[{"$f":"Table_BPU[[#This Row],[Risk Area]]&\" \"&Table_BPU[[#This Row],[BPU Description]]","v":"Lac La Biche Sugar Beets"},"Lac La Biche",49,"Sugar Beets",764.24,838.94,842.45,547.37,1546.52,1148.29]
[{"$f":"Table_BPU[[#This Row],[Risk Area]]&\" \"&Table_BPU[[#This Row],[BPU Description]]","v":"Lac Ste. Anne County Sugar Beets"},"Lac Ste. Anne County",49,"Sugar Beets",764.24,838.94,842.45,547.37,1546.52,1148.29]
[{"$f":"Table_BPU[[#This Row],[Risk Area]]&\" \"&Table_BPU[[#This Row],[BPU Description]]","v":"Lacombe Sugar Beets"},"Lacombe",49,"Sugar Beets",764.24,838.94,842.45,547.37,1546.52,1148.29]
[{"$f":"Table_BPU[[#This Row],[Risk Area]]&\" \"&Table_BPU[[#This Row],[BPU Description]]","v":"Lamont Sugar Beets"},"Lamont",49,"Sugar Beets",764.24,838.94,842.45,547.37,1546.52,1148.29]
[{"$f":"Table_BPU[[#This Row],[Risk Area]]&\" \"&Table_BPU[[#This Row],[BPU Description]]","v":"Leduc Sugar Beets"},"Leduc",49,"Sugar Beets",764.24,838.94,842.45,547.37,1546.52,1148.29]
[{"$f":"Table_BPU[[#This Row],[Risk Area]]&\" \"&Table_BPU[[#This Row],[BPU Description]]","v":"Lesser Slave River Sugar Beets"},"Lesser Slave River",49,"Sugar Beets",764.24,838.94,842.45,547.37,1546.52,1148.29]
[{"$f":"Table_BPU[[#This Row],[Risk Area]]&\" \"&Table_BPU[[#This Row],[BPU Description]]","v":"Lethbridge Sugar Beets"},"Lethbridge",49,"Sugar Beets",764.24,838.94,842.45,547.37,1546.52,1148.29]
[{"$f":"Table_BPU[[#This Row],[Risk Area]]&\" \"&Table_BPU[[#This Row],[BPU Description]]","v":"Mackenzie Sugar Beets"},"Mackenzie",49,"Sugar Beets",764.24,838.94,842.45,547.37,1546.52,1148.29]
[{"$f":"Table_BPU[[#This Row],[Risk Area]]&\" \"&Table_BPU[[#This Row],[BPU Description]]","v":"Minburn Sugar Beets"},"Minburn",49,"Sugar Beets",764.24,838.94,842.45,547.37,1546.52,1148.29]
[{"$f":"Table_BPU[[#This Row],[Risk Area]]&\" \"&Table_BPU[[#This Row],[BPU Description]]","v":"Mountain View Sugar Beets"},"Mountain View",49,"Sugar Beets",764.24,838.94,842.45,547.37,1546.52,1148.29]
[{"$f":"Table_BPU[[#This Row],[Risk Area]]&\" \"&Table_BPU[[#This Row],[BPU Description]]","v":"Newell Sugar Beets"},"Newell",49,"Sugar Beets",764.24,838.94,842.45,547.37,1546.52,1148.29]
[{"$f":"Table_BPU[[#This Row],[Risk Area]]&\" \"&Table_BPU[[#This Row],[BPU Description]]","v":"Northern Lights Sugar Beets"},"Northern Lights",49,"Sugar Beets",764.24,838.94,842.45,547.37,1546.52,1148.29]
[{"$f":"Table_BPU[[#This Row],[Risk Area]]&\" \"&Table_BPU[[#This Row],[BPU Description]]","v":"Northern Sunrise Sugar Beets"},"Northern Sunrise",49,"Sugar Beets",764.24,838.94,842.45,547.37,1546.52,1148.29]
[{"$f":"Table_BPU[[#This Row],[Risk Area]]&\" \"&Table_BPU[[#This Row],[BPU Description]]","v":"Opportunity Sugar Beets"},"Opportunity",49,"Sugar Beets",764.24,838.94,842.45,547.37,1546.52,1148.29]
[{"$f":"Table_BPU[[#This Row],[Risk Area]]&\" \"&Table_BPU[[#This Row],[BPU Description]]","v":"Paintearth Sugar Beets"},"Paintearth",49,"Sugar Beets",764.24,838.94,842.45,547.37,1546.52,1148.29]
[{"$f":"Table_BPU[[#This Row],[Risk Area]]&\" \"&Table_BPU[[#This Row],[BPU Description]]","v":"Parkland County Sugar Beets"},"Parkland County",49,"Sugar Beets",764.24,838.94,842.45,547.37,1546.52,1148.29]
[{"$f":"Table_BPU[[#This Row],[Risk Area]]&\" \"&Table_BPU[[#This Row],[BPU Description]]","v":"Peace Sugar Beets"},"Peace",49,"Sugar Beets",764.24,838.94,842.45,547.37,1546.52,1148.29]
[{"$f":"Table_BPU[[#This Row],[Risk Area]]&\" \"&Table_BPU[[#This Row],[BPU Description]]","v":"Pincher Creek Sugar Beets"},"Pincher Creek",49,"Sugar Beets",764.24,838.94,842.45,547.37,1546.52,1148.29]
[{"$f":"Table_BPU[[#This Row],[Risk Area]]&\" \"&Table_BPU[[#This Row],[BPU Description]]","v":"Ponoka Sugar Beets"},"Ponoka",49,"Sugar Beets",764.24,838.94,842.45,547.37,1546.52,1148.29]
[{"$f":"Table_BPU[[#This Row],[Risk Area]]&\" \"&Table_BPU[[#This Row],[BPU Description]]","v":"Provost Sugar Beets"},"Provost",49,"Sugar Beets",764.24,838.94,842.45,547.37,1546.52,1148.29]
[{"$f":"Table_BPU[[#This Row],[Risk Area]]&\" \"&Table_BPU[[#This Row],[BPU Description]]","v":"Ranchland Sugar Beets"},"Ranchland",49,"Sugar Beets",764.24,838.94,842.45,547.37,1546.52,1148.29]
[{"$f":"Table_BPU[[#This Row],[Risk Area]]&\" \"&Table_BPU[[#This Row],[BPU Description]]","v":"Red Deer Sugar Beets"},"Red Deer",49,"Sugar Beets",764.24,838.94,842.45,547.37,1546.52,1148.29]
[{"$f":"Table_BPU[[#This Row],[Risk Area]]&\" \"&Table_BPU[[#This Row],[BPU Description]]","v":"Rocky View Sugar Beets"},"Rocky View",49,"Sugar Beets",764.24,838.94,842.45,547.37,1546.52,1148.29]
[{"$f":"Table_BPU[[#This Row],[Risk Area]]&\" \"&Table_BPU[[#This Row],[BPU Description]]","v":"Saddle Hills Sugar Beets"},"Saddle Hills",49,"Sugar Beets",764.24,838.94,842.45,547.37,1546.52,1148.29]
[{"$f":"Table_BPU[[#This Row],[Risk Area]]&\" \"&Table_BPU[[#This Row],[BPU Description]]","v":"Smoky Lake Sugar Beets"},"Smoky Lake",49,"Sugar Beets",764.24,838.94,842.45,547.37,1546.52,1148.29]
[{"$f":"Table_BPU[[#This Row],[Risk Area]]&\" \"&Table_BPU[[#This Row],[BPU Description]]","v":"Smoky River Sugar Beets"},"Smoky River",49,"Sugar Beets",764.24,838.94,842.45,547.37,1546.52,1148.29]
[{"$f":"Table_BPU[[#This Row],[Risk Area]]&\" \"&Table_BPU[[#This Row],[BPU Description]]","v":"Special Area 02 Sugar Beets"},"Special Area 02",49,"Sugar Beets",764.24,838.94,842.45,547.37,1546.52,1148.29]
[{"$f":"Table_BPU[[#This Row],[Risk Area]]&\" \"&Table_BPU[[#This Row],[BPU Description]]","v":"Special Area 03 Sugar Beets"},"Special Area 03",49,"Sugar Beets",764.24,838.94,842.45,547.37,1546.52,1148.29]
[{"$f":"Table_BPU[[#This Row],[Risk Area]]&\" \"&Table_BPU[[#This Row],[BPU Description]]","v":"Special Area 04 Sugar Beets"},"Special Area 04",49,"Sugar Beets",764.24,838.94,842.45,547.37,1546.52,1148.29]
[{"$f":"Table_BPU[[#This Row],[Risk Area]]&\" \"&Table_BPU[[#This Row],[BPU Description]]","v":"Spirit River Sugar Beets"},"Spirit River",49,"Sugar Beets",764.24,838.94,842.45,547.37,1546.52,1148.29]
[{"$f":"Table_BPU[[#This Row],[Risk Area]]&\" \"&Table_BPU[[#This Row],[BPU Description]]","v":"St. Paul Sugar Beets"},"St. Paul",49,"Sugar Beets",764.24,838.94,842.45,547.37,1546.52,1148.29]
[{"$f":"Table_BPU[[#This Row],[Risk Area]]&\" \"&Table_BPU[[#This Row],[BPU Description]]","v":"Starland Sugar Beets"},"Starland",49,"Sugar Beets",764.24,838.94,842.45,547.37,1546.52,1148.29]
[{"$f":"Table_BPU[[#This Row],[Risk Area]]&\" \"&Table_BPU[[#This Row],[BPU Description]]","v":"Stettler Sugar Beets"},"Stettler",49,"Sugar Beets",764.24,838.94,842.45,547.37,1546.52,1148.29]
[{"$f":"Table_BPU[[#This Row],[Risk Area]]&\" \"&Table_BPU[[#This Row],[BPU Description]]","v":"Strathcona County Sugar Beets"},"Strathcona County",49,"Sugar Beets",764.24,838.94,842.45,547.37,1546.52,1148.29]
[{"$f":"Table_BPU[[#This Row],[Risk Area]]&\" \"&Table_BPU[[#This Row],[BPU Description]]","v":"Sturgeon Sugar Beets"},"Sturgeon",49,"Sugar Beets",764.24,838.94,842.45,547.37,1546.52,1148.29]
[{"$f":"Table_BPU[[#This Row],[Risk Area]]&\" \"&Table_BPU[[#This Row],[BPU Description]]","v":"Taber Sugar Beets"},"Taber",49,"Sugar Beets",764.24,838.94,842.45,547.37,1546.52,1148.29]
[{"$f":"Table_BPU[[#This Row],[Risk Area]]&\" \"&Table_BPU[[#This Row],[BPU Description]]","v":"Thorhild Sugar Beets"},"Thorhild",49,"Sugar Beets",764.24,838.94,842.45,547.37,1546.52,1148.29]
[{"$f":"Table_BPU[[#This Row],[Risk Area]]&\" \"&Table_BPU[[#This Row],[BPU Description]]","v":"Two Hills Sugar Beets"},"Two Hills",49,"Sugar Beets",764.24,838.94,842.45,547.37,1546.52,1148.29]
[{"$f":"Table_BPU[[#This Row],[Risk Area]]&\" \"&Table_BPU[[#This Row],[BPU Description]]","v":"Vermilion River Sugar Beets"},"Vermilion River",49,"Sugar Beets",764.24,838.94,842.45,547.37,1546.52,1148.29]
[{"$f":"Table_BPU[[#This Row],[Risk Area]]&\" \"&Table_BPU[[#This Row],[BPU Description]]","v":"Vulcan Sugar Beets"},"Vulcan",49,"Sugar Beets",764.24,838.94,842.45,547.37,1546.52,1148.29]
[{"$f":"Table_BPU[[#This Row],[Risk Area]]&\" \"&Table_BPU[[#This Row],[BPU Description]]","v":"Wainwright Sugar Beets"},"Wainwright",49,"Sugar Beets",764.24,838.94,842.45,547.37,1546.52,1148.29]
[{"$f":"Table_BPU[[#This Row],[Risk Area]]&\" \"&Table_BPU[[#This Row],[BPU Description]]","v":"Warner Sugar Beets"},"Warner",49,"Sugar Beets",764.24,838.94,842.45,547.37,1546.52,1148.29]
[{"$f":"Table_BPU[[#This Row],[Risk Area]]&\" \"&Table_BPU[[#This Row],[BPU Description]]","v":"Westlock Sugar Beets"},"Westlock",49,"Sugar Beets",764.24,838.94,842.45,547.37,1546.52,1148.29]
[{"$f":"Table_BPU[[#This Row],[Risk Area]]&\" \"&Table_BPU[[#This Row],[BPU Description]]","v":"Wetaskiwin Sugar Beets"},"Wetaskiwin",49,"Sugar Beets",764.24,838.94,842.45,547.37,1546.52,1148.29]
[{"$f":"Table_BPU[[#This Row],[Risk Area]]&\" \"&Table_BPU[[#This Row],[BPU Description]]","v":"Wheatland Sugar Beets"},"Wheatland",49,"Sugar Beets",764.24,838.94,842.45,547.37,1546.52,1148.29]
[{"$f":"Table_BPU[[#This Row],[Risk Area]]&\" \"&Table_BPU[[#This Row],[BPU Description]]","v":"Willow Creek Sugar Beets"},"Willow Creek",49,"Sugar Beets",764.24,838.94,842.45,547.37,1546.52,1148.29]
[{"$f":"Table_BPU[[#This Row],[Risk Area]]&\" \"&Table_BPU[[#This Row],[BPU Description]]","v":"Wood Buffalo Sugar Beets"},"Wood Buffalo",49,"Sugar Beets",764.24,838.94,842.45,547.37,1546.52,1148.29]
[{"$f":"Table_BPU[[#This Row],[Risk Area]]&\" \"&Table_BPU[[#This Row],[BPU Description]]","v":"Woodlands Sugar Beets"},"Woodlands",49,"Sugar Beets",764.24,838.94,842.45,547.37,1546.52,1148.29]
[{"$f":"Table_BPU[[#This Row],[Risk Area]]&\" \"&Table_BPU[[#This Row],[BPU Description]]","v":"Yellowhead Sugar Beets"},"Yellowhead",49,"Sugar Beets",764.24,838.94,842.45,547.37,1546.52,1148.29]
[{"$f":"Table_BPU[[#This Row],[Risk Area]]&\" \"&Table_BPU[[#This Row],[BPU Description]]","v":"Acadia Sunflower"},"Acadia",50,"Sunflower",377.79,360.23,871.61,1003.92,809.66,640.28]
[{"$f":"Table_BPU[[#This Row],[Risk Area]]&\" \"&Table_BPU[[#This Row],[BPU Description]]","v":"Athabasca Sunflower"},"Athabasca",50,"Sunflower",377.79,360.23,871.61,1003.92,809.66,640.28]
[{"$f":"Table_BPU[[#This Row],[Risk Area]]&\" \"&Table_BPU[[#This Row],[BPU Description]]","v":"Barrhead Sunflower"},"Barrhead",50,"Sunflower",377.79,360.23,871.61,1003.92,809.66,640.28]
[{"$f":"Table_BPU[[#This Row],[Risk Area]]&\" \"&Table_BPU[[#This Row],[BPU Description]]","v":"Beaver Sunflower"},"Beaver",50,"Sunflower",377.79,360.23,871.61,1003.92,809.66,640.28]
[{"$f":"Table_BPU[[#This Row],[Risk Area]]&\" \"&Table_BPU[[#This Row],[BPU Description]]","v":"Big Lakes Sunflower"},"Big Lakes",50,"Sunflower",377.79,360.23,871.61,1003.92,809.66,640.28]
[{"$f":"Table_BPU[[#This Row],[Risk Area]]&\" \"&Table_BPU[[#This Row],[BPU Description]]","v":"Bighorn Sunflower"},"Bighorn",50,"Sunflower",377.79,360.23,871.61,1003.92,809.66,640.28]
[{"$f":"Table_BPU[[#This Row],[Risk Area]]&\" \"&Table_BPU[[#This Row],[BPU Description]]","v":"Birch Hills Sunflower"},"Birch Hills",50,"Sunflower",377.79,360.23,871.61,1003.92,809.66,640.28]
[{"$f":"Table_BPU[[#This Row],[Risk Area]]&\" \"&Table_BPU[[#This Row],[BPU Description]]","v":"Bonnyville Sunflower"},"Bonnyville",50,"Sunflower",377.79,360.23,871.61,1003.92,809.66,640.28]
[{"$f":"Table_BPU[[#This Row],[Risk Area]]&\" \"&Table_BPU[[#This Row],[BPU Description]]","v":"Brazeau Sunflower"},"Brazeau",50,"Sunflower",377.79,360.23,871.61,1003.92,809.66,640.28]
[{"$f":"Table_BPU[[#This Row],[Risk Area]]&\" \"&Table_BPU[[#This Row],[BPU Description]]","v":"Camrose Sunflower"},"Camrose",50,"Sunflower",377.79,360.23,871.61,1003.92,809.66,640.28]
[{"$f":"Table_BPU[[#This Row],[Risk Area]]&\" \"&Table_BPU[[#This Row],[BPU Description]]","v":"Cardston Sunflower"},"Cardston",50,"Sunflower",377.79,360.23,871.61,1003.92,809.66,640.28]
[{"$f":"Table_BPU[[#This Row],[Risk Area]]&\" \"&Table_BPU[[#This Row],[BPU Description]]","v":"Clear Hills Sunflower"},"Clear Hills",50,"Sunflower",377.79,360.23,871.61,1003.92,809.66,640.28]
[{"$f":"Table_BPU[[#This Row],[Risk Area]]&\" \"&Table_BPU[[#This Row],[BPU Description]]","v":"Clearwater Sunflower"},"Clearwater",50,"Sunflower",377.79,360.23,871.61,1003.92,809.66,640.28]
[{"$f":"Table_BPU[[#This Row],[Risk Area]]&\" \"&Table_BPU[[#This Row],[BPU Description]]","v":"Cypress Sunflower"},"Cypress",50,"Sunflower",377.79,360.23,871.61,1003.92,809.66,640.28]
[{"$f":"Table_BPU[[#This Row],[Risk Area]]&\" \"&Table_BPU[[#This Row],[BPU Description]]","v":"Edmonton Sunflower"},"Edmonton",50,"Sunflower",377.79,360.23,871.61,1003.92,809.66,640.28]
[{"$f":"Table_BPU[[#This Row],[Risk Area]]&\" \"&Table_BPU[[#This Row],[BPU Description]]","v":"Fairview Sunflower"},"Fairview",50,"Sunflower",377.79,360.23,871.61,1003.92,809.66,640.28]
[{"$f":"Table_BPU[[#This Row],[Risk Area]]&\" \"&Table_BPU[[#This Row],[BPU Description]]","v":"Flagstaff Sunflower"},"Flagstaff",50,"Sunflower",377.79,360.23,871.61,1003.92,809.66,640.28]
[{"$f":"Table_BPU[[#This Row],[Risk Area]]&\" \"&Table_BPU[[#This Row],[BPU Description]]","v":"Foothills Sunflower"},"Foothills",50,"Sunflower",377.79,360.23,871.61,1003.92,809.66,640.28]
[{"$f":"Table_BPU[[#This Row],[Risk Area]]&\" \"&Table_BPU[[#This Row],[BPU Description]]","v":"Forty Mile Sunflower"},"Forty Mile",50,"Sunflower",377.79,360.23,871.61,1003.92,809.66,640.28]
[{"$f":"Table_BPU[[#This Row],[Risk Area]]&\" \"&Table_BPU[[#This Row],[BPU Description]]","v":"Grande Prairie Sunflower"},"Grande Prairie",50,"Sunflower",377.79,360.23,871.61,1003.92,809.66,640.28]
[{"$f":"Table_BPU[[#This Row],[Risk Area]]&\" \"&Table_BPU[[#This Row],[BPU Description]]","v":"Greenview Sunflower"},"Greenview",50,"Sunflower",377.79,360.23,871.61,1003.92,809.66,640.28]
[{"$f":"Table_BPU[[#This Row],[Risk Area]]&\" \"&Table_BPU[[#This Row],[BPU Description]]","v":"Kneehill Sunflower"},"Kneehill",50,"Sunflower",377.79,360.23,871.61,1003.92,809.66,640.28]
[{"$f":"Table_BPU[[#This Row],[Risk Area]]&\" \"&Table_BPU[[#This Row],[BPU Description]]","v":"Lac La Biche Sunflower"},"Lac La Biche",50,"Sunflower",377.79,360.23,871.61,1003.92,809.66,640.28]
[{"$f":"Table_BPU[[#This Row],[Risk Area]]&\" \"&Table_BPU[[#This Row],[BPU Description]]","v":"Lac Ste. Anne County Sunflower"},"Lac Ste. Anne County",50,"Sunflower",377.79,360.23,871.61,1003.92,809.66,640.28]
[{"$f":"Table_BPU[[#This Row],[Risk Area]]&\" \"&Table_BPU[[#This Row],[BPU Description]]","v":"Lacombe Sunflower"},"Lacombe",50,"Sunflower",377.79,360.23,871.61,1003.92,809.66,640.28]
[{"$f":"Table_BPU[[#This Row],[Risk Area]]&\" \"&Table_BPU[[#This Row],[BPU Description]]","v":"Lamont Sunflower"},"Lamont",50,"Sunflower",377.79,360.23,871.61,1003.92,809.66,640.28]
[{"$f":"Table_BPU[[#This Row],[Risk Area]]&\" \"&Table_BPU[[#This Row],[BPU Description]]","v":"Leduc Sunflower"},"Leduc",50,"Sunflower",377.79,360.23,871.61,1003.92,809.66,640.28]
[{"$f":"Table_BPU[[#This Row],[Risk Area]]&\" \"&Table_BPU[[#This Row],[BPU Description]]","v":"Lesser Slave River Sunflower"},"Lesser Slave River",50,"Sunflower",377.79,360.23,871.61,1003.92,809.66,640.28]
[{"$f":"Table_BPU[[#This Row],[Risk Area]]&\" \"&Table_BPU[[#This Row],[BPU Description]]","v":"Lethbridge Sunflower"},"Lethbridge",50,"Sunflower",377.79,360.23,871.61,1003.92,809.66,640.28]
[{"$f":"Table_BPU[[#This Row],[Risk Area]]&\" \"&Table_BPU[[#This Row],[BPU Description]]","v":"Mackenzie Sunflower"},"Mackenzie",50,"Sunflower",377.79,360.23,871.61,1003.92,809.66,640.28]
[{"$f":"Table_BPU[[#This Row],[Risk Area]]&\" \"&Table_BPU[[#This Row],[BPU Description]]","v":"Minburn Sunflower"},"Minburn",50,"Sunflower",377.79,360.23,871.61,1003.92,809.66,640.28]
[{"$f":"Table_BPU[[#This Row],[Risk Area]]&\" \"&Table_BPU[[#This Row],[BPU Description]]","v":"Mountain View Sunflower"},"Mountain View",50,"Sunflower",377.79,360.23,871.61,1003.92,809.66,640.28]
[{"$f":"Table_BPU[[#This Row],[Risk Area]]&\" \"&Table_BPU[[#This Row],[BPU Description]]","v":"Newell Sunflower"},"Newell",50,"Sunflower",377.79,360.23,871.61,1003.92,809.66,640.28]
[{"$f":"Table_BPU[[#This Row],[Risk Area]]&\" \"&Table_BPU[[#This Row],[BPU Description]]","v":"Northern Lights Sunflower"},"Northern Lights",50,"Sunflower",377.79,360.23,871.61,1003.92,809.66,640.28]
[{"$f":"Table_BPU[[#This Row],[Risk Area]]&\" \"&Table_BPU[[#This Row],[BPU Description]]","v":"Northern Sunrise Sunflower"},"Northern Sunrise",50,"Sunflower",377.79,360.23,871.61,1003.92,809.66,640.28]
[{"$f":"Table_BPU[[#This Row],[Risk Area]]&\" \"&Table_BPU[[#This Row],[BPU Description]]","v":"Opportunity Sunflower"},"Opportunity",50,"Sunflower",377.79,360.23,871.61,1003.92,809.66,640.28]
[{"$f":"Table_BPU[[#This Row],[Risk Area]]&\" \"&Table_BPU[[#This Row],[BPU Description]]","v":"Paintearth Sunflower"},"Paintearth",50,"Sunflower",377.79,360.23,871.61,1003.92,809.66,640.28]
[{"$f":"Table_BPU[[#This Row],[Risk Area]]&\" \"&Table_BPU[[#This Row],[BPU Description]]","v":"Parkland County Sunflower"},"Parkland County",50,"Sunflower",377.79,360.23,871.61,1003.92,809.66,640.28]
[{"$f":"Table_BPU[[#This Row],[Risk Area]]&\" \"&Table_BPU[[#This Row],[BPU Description]]","v":"Peace Sunflower"},"Peace",50,"Sunflower",377.79,360.23,871.61,1003.92,809.66,640.28]
[{"$f":"Table_BPU[[#This Row],[Risk Area]]&\" \"&Table_BPU[[#This Row],[BPU Description]]","v":"Pincher Creek Sunflower"},"Pincher Creek",50,"Sunflower",377.79,360.23,871.61,1003.92,809.66,640.28]
[{"$f":"Table_BPU[[#This Row],[Risk Area]]&\" \"&Table_BPU[[#This Row],[BPU Description]]","v":"Ponoka Sunflower"},"Ponoka",50,"Sunflower",377.79,360.23,871.61,1003.92,809.66,640.28]
[{"$f":"Table_BPU[[#This Row],[Risk Area]]&\" \"&Table_BPU[[#This Row],[BPU Description]]","v":"Provost Sunflower"},"Provost",50,"Sunflower",377.79,360.23,871.61,1003.92,809.66,640.28]
[{"$f":"Table_BPU[[#This Row],[Risk Area]]&\" \"&Table_BPU[[#This Row],[BPU Description]]","v":"Ranchland Sunflower"},"Ranchland",50,"Sunflower",377.79,360.23,871.61,1003.92,809.66,640.28]
[{"$f":"Table_BPU[[#This Row],[Risk Area]]&\" \"&Table_BPU[[#This Row],[BPU Description]]","v":"Red Deer Sunflower"},"Red Deer",50,"Sunflower",377.79,360.23,871.61,1003.92,809.66,640.28]
[{"$f":"Table_BPU[[#This Row],[Risk Area]]&\" \"&Table_BPU[[#This Row],[BPU Description]]","v":"Rocky View Sunflower"},"Rocky View",50,"Sunflower",377.79,360.23,871.61,1003.92,809.66,640.28]
[{"$f":"Table_BPU[[#This Row],[Risk Area]]&\" \"&Table_BPU[[#This Row],[BPU Description]]","v":"Saddle Hills Sunflower"},"Saddle Hills",50,"Sunflower",377.79,360.23,871.61,1003.92,809.66,640.28]
[{"$f":"Table_BPU[[#This Row],[Risk Area]]&\" \"&Table_BPU[[#This Row],[BPU Description]]","v":"Smoky Lake Sunflower"},"Smoky Lake",50,"Sunflower",377.79,360.23,871.61,1003.92,809.66,640.28]
[{"$f":"Table_BPU[[#This Row],[Risk Area]]&\" \"&Table_BPU[[#This Row],[BPU Description]]","v":"Smoky River Sunflower"},"Smoky River",50,"Sunflower",377.79,360.23,871.61,1003.92,809.66,640.28]
[{"$f":"Table_BPU[[#This Row],[Risk Area]]&\" \"&Table_BPU[[#This Row],[BPU Description]]","v":"Special Area 02 Sunflower"},"Special Area 02",50,"Sunflower",377.79,360.23,871.61,1003.92,809.66,640.28]
[{"$f":"Table_BPU[[#This Row],[Risk Area]]&\" \"&Table_BPU[[#This Row],[BPU Description]]","v":"Special Area 03 Sunflower"},"Special Area 03",50,"Sunflower",377.79,360.23,871.61,1003.92,809.66,640.28]
[{"$f":"Table_BPU[[#This Row],[Risk Area]]&\" \"&Table_BPU[[#This Row],[BPU Description]]","v":"Special Area 04 Sunflower"},"Special Area 04",50,"Sunflower",377.79,360.23,871.61,1003.92,809.66,640.28]
[{"$f":"Table_BPU[[#This Row],[Risk Area]]&\" \"&Table_BPU[[#This Row],[BPU Description]]","v":"Spirit River Sunflower"},"Spirit River",50,"Sunflower",377.79,360.23,871.61,1003.92,809.66,640.28]
[{"$f":"Table_BPU[[#This Row],[Risk Area]]&\" \"&Table_BPU[[#This Row],[BPU Description]]","v":"St. Paul Sunflower"},"St. Paul",50,"Sunflower",377.79,360.23,871.61,1003.92,809.66,640.28]
[{"$f":"Table_BPU[[#This Row],[Risk Area]]&\" \"&Table_BPU[[#This Row],[BPU Description]]","v":"Starland Sunflower"},"Starland",50,"Sunflower",377.79,360.23,871.61,1003.92,809.66,640.28]
[{"$f":"Table_BPU[[#This Row],[Risk Area]]&\" \"&Table_BPU[[#This Row],[BPU Description]]","v":"Stettler Sunflower"},"Stettler",50,"Sunflower",377.79,360.23,871.61,1003.92,809.66,640.28]
[{"$f":"Table_BPU[[#This Row],[Risk Area]]&\" \"&Table_BPU[[#This Row],[BPU Description]]","v":"Strathcona County Sunflower"},"Strathcona County",50,"Sunflower",377.79,360.23,871.61,1003.92,809.66,640.28]
[{"$f":"Table_BPU[[#This Row],[Risk Area]]&\" \"&Table_BPU[[#This Row],[BPU Description]]","v":"Sturgeon Sunflower"},"Sturgeon",50,"Sunflower",377.79,360.23,871.61,1003.92,809.66,640.28]
[{"$f":"Table_BPU[[#This Row],[Risk Area]]&\" \"&Table_BPU[[#This Row],[BPU Description]]","v":"Taber Sunflower"},"Taber",50,"Sunflower",377.79,360.23,871.61,1003.92,809.66,640.28]
[{"$f":"Table_BPU[[#This Row],[Risk Area]]&\" \"&Table_BPU[[#This Row],[BPU Description]]","v":"Thorhild Sunflower"},"Thorhild",50,"Sunflower",377.79,360.23,871.61,1003.92,809.66,640.28]
[{"$f":"Table_BPU[[#This Row],[Risk Area]]&\" \"&Table_BPU[[#This Row],[BPU Description]]","v":"Two Hills Sunflower"},"Two Hills",50,"Sunflower",377.79,360.23,871.61,1003.92,809.66,640.28]
[{"$f":"Table_BPU[[#This Row],[Risk Area]]&\" \"&Table_BPU[[#This Row],[BPU Description]]","v":"Vermilion River Sunflower"},"Vermilion River",50,"Sunflower",377.79,360.23,871.61,1003.92,809.66,640.28]
[{"$f":"Table_BPU[[#This Row],[Risk Area]]&\" \"&Table_BPU[[#This Row],[BPU Description]]","v":"Vulcan Sunflower"},"Vulcan",50,"Sunflower",377.79,360.23,871.61,1003.92,809.66,640.28]
[{"$f":"Table_BPU[[#This Row],[Risk Area]]&\" \"&Table_BPU[[#This Row],[BPU Description]]","v":"Wainwright Sunflower"},"Wainwright",50,"Sunflower",377.79,360.23,871.61,1003.92,809.66,640.28]
[{"$f":"Table_BPU[[#This Row],[Risk Area]]&\" \"&Table_BPU[[#This Row],[BPU Description]]","v":"Warner Sunflower"},"Warner",50,"Sunflower",377.79,360.23,871.61,1003.92,809.66,640.28]
[{"$f":"Table_BPU[[#This Row],[Risk Area]]&\" \"&Table_BPU[[#This Row],[BPU Description]]","v":"Westlock Sunflower"},"Westlock",50,"Sunflower",377.79,360.23,871.61,1003.92,809.66,640.28]
[{"$f":"Table_BPU[[#This Row],[Risk Area]]&\" \"&Table_BPU[[#This Row],[BPU Description]]","v":"Wetaskiwin Sunflower"},"Wetaskiwin",50,"Sunflower",377.79,360.23,871.61,1003.92,809.66,640.28]
[{"$f":"Table_BPU[[#This Row],[Risk Area]]&\" \"&Table_BPU[[#This Row],[BPU Description]]","v":"Wheatland Sunflower"},"Wheatland",50,"Sunflower",377.79,360.23,871.61,1003.92,809.66,640.28]
[{"$f":"Table_BPU[[#This Row],[Risk Area]]&\" \"&Table_BPU[[#This Row],[BPU Description]]","v":"Willow Creek Sunflower"},"Willow Creek",50,"Sunflower",377.79,360.23,871.61,1003.92,809.66,640.28]
[{"$f":"Table_BPU[[#This Row],[Risk Area]]&\" \"&Table_BPU[[#This Row],[BPU Description]]","v":"Wood Buffalo Sunflower"},"Wood Buffalo",50,"Sunflower",377.79,360.23,871.61,1003.92,809.66,640.28]
[{"$f":"Table_BPU[[#This Row],[Risk Area]]&\" \"&Table_BPU[[#This Row],[BPU Description]]","v":"Woodlands Sunflower"},"Woodlands",50,"Sunflower",377.79,360.23,871.61,1003.92,809.66,640.28]
[{"$f":"Table_BPU[[#This Row],[Risk Area]]&\" \"&Table_BPU[[#This Row],[BPU Description]]","v":"Yellowhead Sunflower"},"Yellowhead",50,"Sunflower",377.79,360.23,871.61,1003.92,809.66,640.28]
[{"$f":"Table_BPU[[#This Row],[Risk Area]]&\" \"&Table_BPU[[#This Row],[BPU Description]]","v":"Acadia Table Potatoes"},"Acadia",59,"Table Potatoes",697.76,1097.49,1038.3499999999999,1461.82,3178.43,2626.74]
[{"$f":"Table_BPU[[#This Row],[Risk Area]]&\" \"&Table_BPU[[#This Row],[BPU Description]]","v":"Athabasca Table Potatoes"},"Athabasca",59,"Table Potatoes",697.76,1097.49,1038.3499999999999,1461.82,3178.43,2626.74]
[{"$f":"Table_BPU[[#This Row],[Risk Area]]&\" \"&Table_BPU[[#This Row],[BPU Description]]","v":"Barrhead Table Potatoes"},"Barrhead",59,"Table Potatoes",697.76,1097.49,1038.3499999999999,1461.82,3178.43,2626.74]
[{"$f":"Table_BPU[[#This Row],[Risk Area]]&\" \"&Table_BPU[[#This Row],[BPU Description]]","v":"Beaver Table Potatoes"},"Beaver",59,"Table Potatoes",697.76,1097.49,1038.3499999999999,1461.82,3178.43,2626.74]
[{"$f":"Table_BPU[[#This Row],[Risk Area]]&\" \"&Table_BPU[[#This Row],[BPU Description]]","v":"Big Lakes Table Potatoes"},"Big Lakes",59,"Table Potatoes",697.76,1097.49,1038.3499999999999,1461.82,3178.43,2626.74]
[{"$f":"Table_BPU[[#This Row],[Risk Area]]&\" \"&Table_BPU[[#This Row],[BPU Description]]","v":"Bighorn Table Potatoes"},"Bighorn",59,"Table Potatoes",697.76,1097.49,1038.3499999999999,1461.82,3178.43,2626.74]
[{"$f":"Table_BPU[[#This Row],[Risk Area]]&\" \"&Table_BPU[[#This Row],[BPU Description]]","v":"Birch Hills Table Potatoes"},"Birch Hills",59,"Table Potatoes",697.76,1097.49,1038.3499999999999,1461.82,3178.43,2626.74]
[{"$f":"Table_BPU[[#This Row],[Risk Area]]&\" \"&Table_BPU[[#This Row],[BPU Description]]","v":"Bonnyville Table Potatoes"},"Bonnyville",59,"Table Potatoes",697.76,1097.49,1038.3499999999999,1461.82,3178.43,2626.74]
[{"$f":"Table_BPU[[#This Row],[Risk Area]]&\" \"&Table_BPU[[#This Row],[BPU Description]]","v":"Brazeau Table Potatoes"},"Brazeau",59,"Table Potatoes",697.76,1097.49,1038.3499999999999,1461.82,3178.43,2626.74]
[{"$f":"Table_BPU[[#This Row],[Risk Area]]&\" \"&Table_BPU[[#This Row],[BPU Description]]","v":"Camrose Table Potatoes"},"Camrose",59,"Table Potatoes",697.76,1097.49,1038.3499999999999,1461.82,3178.43,2626.74]
[{"$f":"Table_BPU[[#This Row],[Risk Area]]&\" \"&Table_BPU[[#This Row],[BPU Description]]","v":"Cardston Table Potatoes"},"Cardston",59,"Table Potatoes",697.76,1097.49,1038.3499999999999,1461.82,3178.43,2626.74]
[{"$f":"Table_BPU[[#This Row],[Risk Area]]&\" \"&Table_BPU[[#This Row],[BPU Description]]","v":"Clear Hills Table Potatoes"},"Clear Hills",59,"Table Potatoes",697.76,1097.49,1038.3499999999999,1461.82,3178.43,2626.74]
[{"$f":"Table_BPU[[#This Row],[Risk Area]]&\" \"&Table_BPU[[#This Row],[BPU Description]]","v":"Clearwater Table Potatoes"},"Clearwater",59,"Table Potatoes",697.76,1097.49,1038.3499999999999,1461.82,3178.43,2626.74]
[{"$f":"Table_BPU[[#This Row],[Risk Area]]&\" \"&Table_BPU[[#This Row],[BPU Description]]","v":"Cypress Table Potatoes"},"Cypress",59,"Table Potatoes",697.76,1097.49,1038.3499999999999,1461.82,3178.43,2626.74]
[{"$f":"Table_BPU[[#This Row],[Risk Area]]&\" \"&Table_BPU[[#This Row],[BPU Description]]","v":"Edmonton Table Potatoes"},"Edmonton",59,"Table Potatoes",697.76,1097.49,1038.3499999999999,1461.82,3178.43,2626.74]
[{"$f":"Table_BPU[[#This Row],[Risk Area]]&\" \"&Table_BPU[[#This Row],[BPU Description]]","v":"Fairview Table Potatoes"},"Fairview",59,"Table Potatoes",697.76,1097.49,1038.3499999999999,1461.82,3178.43,2626.74]
[{"$f":"Table_BPU[[#This Row],[Risk Area]]&\" \"&Table_BPU[[#This Row],[BPU Description]]","v":"Flagstaff Table Potatoes"},"Flagstaff",59,"Table Potatoes",697.76,1097.49,1038.3499999999999,1461.82,3178.43,2626.74]
[{"$f":"Table_BPU[[#This Row],[Risk Area]]&\" \"&Table_BPU[[#This Row],[BPU Description]]","v":"Foothills Table Potatoes"},"Foothills",59,"Table Potatoes",697.76,1097.49,1038.3499999999999,1461.82,3178.43,2626.74]
[{"$f":"Table_BPU[[#This Row],[Risk Area]]&\" \"&Table_BPU[[#This Row],[BPU Description]]","v":"Forty Mile Table Potatoes"},"Forty Mile",59,"Table Potatoes",697.76,1097.49,1038.3499999999999,1461.82,3178.43,2626.74]
[{"$f":"Table_BPU[[#This Row],[Risk Area]]&\" \"&Table_BPU[[#This Row],[BPU Description]]","v":"Grande Prairie Table Potatoes"},"Grande Prairie",59,"Table Potatoes",697.76,1097.49,1038.3499999999999,1461.82,3178.43,2626.74]
[{"$f":"Table_BPU[[#This Row],[Risk Area]]&\" \"&Table_BPU[[#This Row],[BPU Description]]","v":"Greenview Table Potatoes"},"Greenview",59,"Table Potatoes",697.76,1097.49,1038.3499999999999,1461.82,3178.43,2626.74]
[{"$f":"Table_BPU[[#This Row],[Risk Area]]&\" \"&Table_BPU[[#This Row],[BPU Description]]","v":"Kneehill Table Potatoes"},"Kneehill",59,"Table Potatoes",697.76,1097.49,1038.3499999999999,1461.82,3178.43,2626.74]
[{"$f":"Table_BPU[[#This Row],[Risk Area]]&\" \"&Table_BPU[[#This Row],[BPU Description]]","v":"Lac La Biche Table Potatoes"},"Lac La Biche",59,"Table Potatoes",697.76,1097.49,1038.3499999999999,1461.82,3178.43,2626.74]
[{"$f":"Table_BPU[[#This Row],[Risk Area]]&\" \"&Table_BPU[[#This Row],[BPU Description]]","v":"Lac Ste. Anne County Table Potatoes"},"Lac Ste. Anne County",59,"Table Potatoes",697.76,1097.49,1038.3499999999999,1461.82,3178.43,2626.74]
[{"$f":"Table_BPU[[#This Row],[Risk Area]]&\" \"&Table_BPU[[#This Row],[BPU Description]]","v":"Lacombe Table Potatoes"},"Lacombe",59,"Table Potatoes",697.76,1097.49,1038.3499999999999,1461.82,3178.43,2626.74]
[{"$f":"Table_BPU[[#This Row],[Risk Area]]&\" \"&Table_BPU[[#This Row],[BPU Description]]","v":"Lamont Table Potatoes"},"Lamont",59,"Table Potatoes",697.76,1097.49,1038.3499999999999,1461.82,3178.43,2626.74]
[{"$f":"Table_BPU[[#This Row],[Risk Area]]&\" \"&Table_BPU[[#This Row],[BPU Description]]","v":"Leduc Table Potatoes"},"Leduc",59,"Table Potatoes",697.76,1097.49,1038.3499999999999,1461.82,3178.43,2626.74]
[{"$f":"Table_BPU[[#This Row],[Risk Area]]&\" \"&Table_BPU[[#This Row],[BPU Description]]","v":"Lesser Slave River Table Potatoes"},"Lesser Slave River",59,"Table Potatoes",697.76,1097.49,1038.3499999999999,1461.82,3178.43,2626.74]
[{"$f":"Table_BPU[[#This Row],[Risk Area]]&\" \"&Table_BPU[[#This Row],[BPU Description]]","v":"Lethbridge Table Potatoes"},"Lethbridge",59,"Table Potatoes",697.76,1097.49,1038.3499999999999,1461.82,3178.43,2626.74]
[{"$f":"Table_BPU[[#This Row],[Risk Area]]&\" \"&Table_BPU[[#This Row],[BPU Description]]","v":"Mackenzie Table Potatoes"},"Mackenzie",59,"Table Potatoes",697.76,1097.49,1038.3499999999999,1461.82,3178.43,2626.74]
[{"$f":"Table_BPU[[#This Row],[Risk Area]]&\" \"&Table_BPU[[#This Row],[BPU Description]]","v":"Minburn Table Potatoes"},"Minburn",59,"Table Potatoes",697.76,1097.49,1038.3499999999999,1461.82,3178.43,2626.74]
[{"$f":"Table_BPU[[#This Row],[Risk Area]]&\" \"&Table_BPU[[#This Row],[BPU Description]]","v":"Mountain View Table Potatoes"},"Mountain View",59,"Table Potatoes",697.76,1097.49,1038.3499999999999,1461.82,3178.43,2626.74]
[{"$f":"Table_BPU[[#This Row],[Risk Area]]&\" \"&Table_BPU[[#This Row],[BPU Description]]","v":"Newell Table Potatoes"},"Newell",59,"Table Potatoes",697.76,1097.49,1038.3499999999999,1461.82,3178.43,2626.74]
[{"$f":"Table_BPU[[#This Row],[Risk Area]]&\" \"&Table_BPU[[#This Row],[BPU Description]]","v":"Northern Lights Table Potatoes"},"Northern Lights",59,"Table Potatoes",697.76,1097.49,1038.3499999999999,1461.82,3178.43,2626.74]
[{"$f":"Table_BPU[[#This Row],[Risk Area]]&\" \"&Table_BPU[[#This Row],[BPU Description]]","v":"Northern Sunrise Table Potatoes"},"Northern Sunrise",59,"Table Potatoes",697.76,1097.49,1038.3499999999999,1461.82,3178.43,2626.74]
[{"$f":"Table_BPU[[#This Row],[Risk Area]]&\" \"&Table_BPU[[#This Row],[BPU Description]]","v":"Opportunity Table Potatoes"},"Opportunity",59,"Table Potatoes",697.76,1097.49,1038.3499999999999,1461.82,3178.43,2626.74]
[{"$f":"Table_BPU[[#This Row],[Risk Area]]&\" \"&Table_BPU[[#This Row],[BPU Description]]","v":"Paintearth Table Potatoes"},"Paintearth",59,"Table Potatoes",697.76,1097.49,1038.3499999999999,1461.82,3178.43,2626.74]
[{"$f":"Table_BPU[[#This Row],[Risk Area]]&\" \"&Table_BPU[[#This Row],[BPU Description]]","v":"Parkland County Table Potatoes"},"Parkland County",59,"Table Potatoes",697.76,1097.49,1038.3499999999999,1461.82,3178.43,2626.74]
[{"$f":"Table_BPU[[#This Row],[Risk Area]]&\" \"&Table_BPU[[#This Row],[BPU Description]]","v":"Peace Table Potatoes"},"Peace",59,"Table Potatoes",697.76,1097.49,1038.3499999999999,1461.82,3178.43,2626.74]
[{"$f":"Table_BPU[[#This Row],[Risk Area]]&\" \"&Table_BPU[[#This Row],[BPU Description]]","v":"Pincher Creek Table Potatoes"},"Pincher Creek",59,"Table Potatoes",697.76,1097.49,1038.3499999999999,1461.82,3178.43,2626.74]
[{"$f":"Table_BPU[[#This Row],[Risk Area]]&\" \"&Table_BPU[[#This Row],[BPU Description]]","v":"Ponoka Table Potatoes"},"Ponoka",59,"Table Potatoes",697.76,1097.49,1038.3499999999999,1461.82,3178.43,2626.74]
[{"$f":"Table_BPU[[#This Row],[Risk Area]]&\" \"&Table_BPU[[#This Row],[BPU Description]]","v":"Provost Table Potatoes"},"Provost",59,"Table Potatoes",697.76,1097.49,1038.3499999999999,1461.82,3178.43,2626.74]
[{"$f":"Table_BPU[[#This Row],[Risk Area]]&\" \"&Table_BPU[[#This Row],[BPU Description]]","v":"Ranchland Table Potatoes"},"Ranchland",59,"Table Potatoes",697.76,1097.49,1038.3499999999999,1461.82,3178.43,2626.74]
[{"$f":"Table_BPU[[#This Row],[Risk Area]]&\" \"&Table_BPU[[#This Row],[BPU Description]]","v":"Red Deer Table Potatoes"},"Red Deer",59,"Table Potatoes",697.76,1097.49,1038.3499999999999,1461.82,3178.43,2626.74]
[{"$f":"Table_BPU[[#This Row],[Risk Area]]&\" \"&Table_BPU[[#This Row],[BPU Description]]","v":"Rocky View Table Potatoes"},"Rocky View",59,"Table Potatoes",697.76,1097.49,1038.3499999999999,1461.82,3178.43,2626.74]
[{"$f":"Table_BPU[[#This Row],[Risk Area]]&\" \"&Table_BPU[[#This Row],[BPU Description]]","v":"Saddle Hills Table Potatoes"},"Saddle Hills",59,"Table Potatoes",697.76,1097.49,1038.3499999999999,1461.82,3178.43,2626.74]
[{"$f":"Table_BPU[[#This Row],[Risk Area]]&\" \"&Table_BPU[[#This Row],[BPU Description]]","v":"Smoky Lake Table Potatoes"},"Smoky Lake",59,"Table Potatoes",697.76,1097.49,1038.3499999999999,1461.82,3178.43,2626.74]
[{"$f":"Table_BPU[[#This Row],[Risk Area]]&\" \"&Table_BPU[[#This Row],[BPU Description]]","v":"Smoky River Table Potatoes"},"Smoky River",59,"Table Potatoes",697.76,1097.49,1038.3499999999999,1461.82,3178.43,2626.74]
[{"$f":"Table_BPU[[#This Row],[Risk Area]]&\" \"&Table_BPU[[#This Row],[BPU Description]]","v":"Special Area 02 Table Potatoes"},"Special Area 02",59,"Table Potatoes",697.76,1097.49,1038.3499999999999,1461.82,3178.43,2626.74]
[{"$f":"Table_BPU[[#This Row],[Risk Area]]&\" \"&Table_BPU[[#This Row],[BPU Description]]","v":"Special Area 03 Table Potatoes"},"Special Area 03",59,"Table Potatoes",697.76,1097.49,1038.3499999999999,1461.82,3178.43,2626.74]
[{"$f":"Table_BPU[[#This Row],[Risk Area]]&\" \"&Table_BPU[[#This Row],[BPU Description]]","v":"Special Area 04 Table Potatoes"},"Special Area 04",59,"Table Potatoes",697.76,1097.49,1038.3499999999999,1461.82,3178.43,2626.74]
[{"$f":"Table_BPU[[#This Row],[Risk Area]]&\" \"&Table_BPU[[#This Row],[BPU Description]]","v":"Spirit River Table Potatoes"},"Spirit River",59,"Table Potatoes",697.76,1097.49,1038.3499999999999,1461.82,3178.43,2626.74]
[{"$f":"Table_BPU[[#This Row],[Risk Area]]&\" \"&Table_BPU[[#This Row],[BPU Description]]","v":"St. Paul Table Potatoes"},"St. Paul",59,"Table Potatoes",697.76,1097.49,1038.3499999999999,1461.82,3178.43,2626.74]
[{"$f":"Table_BPU[[#This Row],[Risk Area]]&\" \"&Table_BPU[[#This Row],[BPU Description]]","v":"Starland Table Potatoes"},"Starland",59,"Table Potatoes",697.76,1097.49,1038.3499999999999,1461.82,3178.43,2626.74]
[{"$f":"Table_BPU[[#This Row],[Risk Area]]&\" \"&Table_BPU[[#This Row],[BPU Description]]","v":"Stettler Table Potatoes"},"Stettler",59,"Table Potatoes",697.76,1097.49,1038.3499999999999,1461.82,3178.43,2626.74]
[{"$f":"Table_BPU[[#This Row],[Risk Area]]&\" \"&Table_BPU[[#This Row],[BPU Description]]","v":"Strathcona County Table Potatoes"},"Strathcona County",59,"Table Potatoes",697.76,1097.49,1038.3499999999999,1461.82,3178.43,2626.74]
[{"$f":"Table_BPU[[#This Row],[Risk Area]]&\" \"&Table_BPU[[#This Row],[BPU Description]]","v":"Sturgeon Table Potatoes"},"Sturgeon",59,"Table Potatoes",697.76,1097.49,1038.3499999999999,1461.82,3178.43,2626.74]
[{"$f":"Table_BPU[[#This Row],[Risk Area]]&\" \"&Table_BPU[[#This Row],[BPU Description]]","v":"Taber Table Potatoes"},"Taber",59,"Table Potatoes",697.76,1097.49,1038.3499999999999,1461.82,3178.43,2626.74]
[{"$f":"Table_BPU[[#This Row],[Risk Area]]&\" \"&Table_BPU[[#This Row],[BPU Description]]","v":"Thorhild Table Potatoes"},"Thorhild",59,"Table Potatoes",697.76,1097.49,1038.3499999999999,1461.82,3178.43,2626.74]
[{"$f":"Table_BPU[[#This Row],[Risk Area]]&\" \"&Table_BPU[[#This Row],[BPU Description]]","v":"Two Hills Table Potatoes"},"Two Hills",59,"Table Potatoes",697.76,1097.49,1038.3499999999999,1461.82,3178.43,2626.74]
[{"$f":"Table_BPU[[#This Row],[Risk Area]]&\" \"&Table_BPU[[#This Row],[BPU Description]]","v":"Vermilion River Table Potatoes"},"Vermilion River",59,"Table Potatoes",697.76,1097.49,1038.3499999999999,1461.82,3178.43,2626.74]
[{"$f":"Table_BPU[[#This Row],[Risk Area]]&\" \"&Table_BPU[[#This Row],[BPU Description]]","v":"Vulcan Table Potatoes"},"Vulcan",59,"Table Potatoes",697.76,1097.49,1038.3499999999999,1461.82,3178.43,2626.74]
[{"$f":"Table_BPU[[#This Row],[Risk Area]]&\" \"&Table_BPU[[#This Row],[BPU Description]]","v":"Wainwright Table Potatoes"},"Wainwright",59,"Table Potatoes",697.76,1097.49,1038.3499999999999,1461.82,3178.43,2626.74]
[{"$f":"Table_BPU[[#This Row],[Risk Area]]&\" \"&Table_BPU[[#This Row],[BPU Description]]","v":"Warner Table Potatoes"},"Warner",59,"Table Potatoes",697.76,1097.49,1038.3499999999999,1461.82,3178.43,2626.74]
[{"$f":"Table_BPU[[#This Row],[Risk Area]]&\" \"&Table_BPU[[#This Row],[BPU Description]]","v":"Westlock Table Potatoes"},"Westlock",59,"Table Potatoes",697.76,1097.49,1038.3499999999999,1461.82,3178.43,2626.74]
[{"$f":"Table_BPU[[#This Row],[Risk Area]]&\" \"&Table_BPU[[#This Row],[BPU Description]]","v":"Wetaskiwin Table Potatoes"},"Wetaskiwin",59,"Table Potatoes",697.76,1097.49,1038.3499999999999,1461.82,3178.43,2626.74]
[{"$f":"Table_BPU[[#This Row],[Risk Area]]&\" \"&Table_BPU[[#This Row],[BPU Description]]","v":"Wheatland Table Potatoes"},"Wheatland",59,"Table Potatoes",697.76,1097.49,1038.3499999999999,1461.82,3178.43,2626.74]
[{"$f":"Table_BPU[[#This Row],[Risk Area]]&\" \"&Table_BPU[[#This Row],[BPU Description]]","v":"Willow Creek Table Potatoes"},"Willow Creek",59,"Table Potatoes",697.76,1097.49,1038.3499999999999,1461.82,3178.43,2626.74]
[{"$f":"Table_BPU[[#This Row],[Risk Area]]&\" \"&Table_BPU[[#This Row],[BPU Description]]","v":"Wood Buffalo Table Potatoes"},"Wood Buffalo",59,"Table Potatoes",697.76,1097.49,1038.3499999999999,1461.82,3178.43,2626.74]
[{"$f":"Table_BPU[[#This Row],[Risk Area]]&\" \"&Table_BPU[[#This Row],[BPU Description]]","v":"Woodlands Table Potatoes"},"Woodlands",59,"Table Potatoes",697.76,1097.49,1038.3499999999999,1461.82,3178.43,2626.74]
[{"$f":"Table_BPU[[#This Row],[Risk Area]]&\" \"&Table_BPU[[#This Row],[BPU Description]]","v":"Yellowhead Table Potatoes"},"Yellowhead",59,"Table Potatoes",697.76,1097.49,1038.3499999999999,1461.82,3178.43,2626.74]
[{"$f":"Table_BPU[[#This Row],[Risk Area]]&\" \"&Table_BPU[[#This Row],[BPU Description]]","v":"Acadia Timothy Hay (export)"},"Acadia",80,"Timothy Hay (export)",566.48,457.7,365.6,633.95000000000005,537.47,526.49]
[{"$f":"Table_BPU[[#This Row],[Risk Area]]&\" \"&Table_BPU[[#This Row],[BPU Description]]","v":"Athabasca Timothy Hay (export)"},"Athabasca",80,"Timothy Hay (export)",566.48,457.7,365.6,633.95000000000005,537.47,526.49]
[{"$f":"Table_BPU[[#This Row],[Risk Area]]&\" \"&Table_BPU[[#This Row],[BPU Description]]","v":"Barrhead Timothy Hay (export)"},"Barrhead",80,"Timothy Hay (export)",566.48,457.7,365.6,633.95000000000005,537.47,526.49]
[{"$f":"Table_BPU[[#This Row],[Risk Area]]&\" \"&Table_BPU[[#This Row],[BPU Description]]","v":"Beaver Timothy Hay (export)"},"Beaver",80,"Timothy Hay (export)",566.48,457.7,365.6,633.95000000000005,537.47,526.49]
[{"$f":"Table_BPU[[#This Row],[Risk Area]]&\" \"&Table_BPU[[#This Row],[BPU Description]]","v":"Big Lakes Timothy Hay (export)"},"Big Lakes",80,"Timothy Hay (export)",566.48,457.7,365.6,633.95000000000005,537.47,526.49]
[{"$f":"Table_BPU[[#This Row],[Risk Area]]&\" \"&Table_BPU[[#This Row],[BPU Description]]","v":"Bighorn Timothy Hay (export)"},"Bighorn",80,"Timothy Hay (export)",566.48,457.7,365.6,633.95000000000005,537.47,526.49]
[{"$f":"Table_BPU[[#This Row],[Risk Area]]&\" \"&Table_BPU[[#This Row],[BPU Description]]","v":"Birch Hills Timothy Hay (export)"},"Birch Hills",80,"Timothy Hay (export)",566.48,457.7,365.6,633.95000000000005,537.47,526.49]
[{"$f":"Table_BPU[[#This Row],[Risk Area]]&\" \"&Table_BPU[[#This Row],[BPU Description]]","v":"Bonnyville Timothy Hay (export)"},"Bonnyville",80,"Timothy Hay (export)",566.48,457.7,365.6,633.95000000000005,537.47,526.49]
[{"$f":"Table_BPU[[#This Row],[Risk Area]]&\" \"&Table_BPU[[#This Row],[BPU Description]]","v":"Brazeau Timothy Hay (export)"},"Brazeau",80,"Timothy Hay (export)",566.48,457.7,365.6,633.95000000000005,537.47,526.49]
[{"$f":"Table_BPU[[#This Row],[Risk Area]]&\" \"&Table_BPU[[#This Row],[BPU Description]]","v":"Camrose Timothy Hay (export)"},"Camrose",80,"Timothy Hay (export)",566.48,457.7,365.6,633.95000000000005,537.47,526.49]
[{"$f":"Table_BPU[[#This Row],[Risk Area]]&\" \"&Table_BPU[[#This Row],[BPU Description]]","v":"Cardston Timothy Hay (export)"},"Cardston",80,"Timothy Hay (export)",566.48,457.7,365.6,633.95000000000005,537.47,526.49]
[{"$f":"Table_BPU[[#This Row],[Risk Area]]&\" \"&Table_BPU[[#This Row],[BPU Description]]","v":"Clear Hills Timothy Hay (export)"},"Clear Hills",80,"Timothy Hay (export)",566.48,457.7,365.6,633.95000000000005,537.47,526.49]
[{"$f":"Table_BPU[[#This Row],[Risk Area]]&\" \"&Table_BPU[[#This Row],[BPU Description]]","v":"Clearwater Timothy Hay (export)"},"Clearwater",80,"Timothy Hay (export)",566.48,457.7,365.6,633.95000000000005,537.47,526.49]
[{"$f":"Table_BPU[[#This Row],[Risk Area]]&\" \"&Table_BPU[[#This Row],[BPU Description]]","v":"Cypress Timothy Hay (export)"},"Cypress",80,"Timothy Hay (export)",566.48,457.7,365.6,633.95000000000005,537.47,526.49]
[{"$f":"Table_BPU[[#This Row],[Risk Area]]&\" \"&Table_BPU[[#This Row],[BPU Description]]","v":"Edmonton Timothy Hay (export)"},"Edmonton",80,"Timothy Hay (export)",566.48,457.7,365.6,633.95000000000005,537.47,526.49]
[{"$f":"Table_BPU[[#This Row],[Risk Area]]&\" \"&Table_BPU[[#This Row],[BPU Description]]","v":"Fairview Timothy Hay (export)"},"Fairview",80,"Timothy Hay (export)",566.48,457.7,365.6,633.95000000000005,537.47,526.49]
[{"$f":"Table_BPU[[#This Row],[Risk Area]]&\" \"&Table_BPU[[#This Row],[BPU Description]]","v":"Flagstaff Timothy Hay (export)"},"Flagstaff",80,"Timothy Hay (export)",566.48,457.7,365.6,633.95000000000005,537.47,526.49]
[{"$f":"Table_BPU[[#This Row],[Risk Area]]&\" \"&Table_BPU[[#This Row],[BPU Description]]","v":"Foothills Timothy Hay (export)"},"Foothills",80,"Timothy Hay (export)",566.48,457.7,365.6,633.95000000000005,537.47,526.49]
[{"$f":"Table_BPU[[#This Row],[Risk Area]]&\" \"&Table_BPU[[#This Row],[BPU Description]]","v":"Forty Mile Timothy Hay (export)"},"Forty Mile",80,"Timothy Hay (export)",566.48,457.7,365.6,633.95000000000005,537.47,526.49]
[{"$f":"Table_BPU[[#This Row],[Risk Area]]&\" \"&Table_BPU[[#This Row],[BPU Description]]","v":"Grande Prairie Timothy Hay (export)"},"Grande Prairie",80,"Timothy Hay (export)",566.48,457.7,365.6,633.95000000000005,537.47,526.49]
[{"$f":"Table_BPU[[#This Row],[Risk Area]]&\" \"&Table_BPU[[#This Row],[BPU Description]]","v":"Greenview Timothy Hay (export)"},"Greenview",80,"Timothy Hay (export)",566.48,457.7,365.6,633.95000000000005,537.47,526.49]
[{"$f":"Table_BPU[[#This Row],[Risk Area]]&\" \"&Table_BPU[[#This Row],[BPU Description]]","v":"Kneehill Timothy Hay (export)"},"Kneehill",80,"Timothy Hay (export)",566.48,457.7,365.6,633.95000000000005,537.47,526.49]
[{"$f":"Table_BPU[[#This Row],[Risk Area]]&\" \"&Table_BPU[[#This Row],[BPU Description]]","v":"Lac La Biche Timothy Hay (export)"},"Lac La Biche",80,"Timothy Hay (export)",566.48,457.7,365.6,633.95000000000005,537.47,526.49]
[{"$f":"Table_BPU[[#This Row],[Risk Area]]&\" \"&Table_BPU[[#This Row],[BPU Description]]","v":"Lac Ste. Anne County Timothy Hay (export)"},"Lac Ste. Anne County",80,"Timothy Hay (export)",566.48,457.7,365.6,633.95000000000005,537.47,526.49]
[{"$f":"Table_BPU[[#This Row],[Risk Area]]&\" \"&Table_BPU[[#This Row],[BPU Description]]","v":"Lacombe Timothy Hay (export)"},"Lacombe",80,"Timothy Hay (export)",566.48,457.7,365.6,633.95000000000005,537.47,526.49]
[{"$f":"Table_BPU[[#This Row],[Risk Area]]&\" \"&Table_BPU[[#This Row],[BPU Description]]","v":"Lamont Timothy Hay (export)"},"Lamont",80,"Timothy Hay (export)",566.48,457.7,365.6,633.95000000000005,537.47,526.49]
[{"$f":"Table_BPU[[#This Row],[Risk Area]]&\" \"&Table_BPU[[#This Row],[BPU Description]]","v":"Leduc Timothy Hay (export)"},"Leduc",80,"Timothy Hay (export)",566.48,457.7,365.6,633.95000000000005,537.47,526.49]
[{"$f":"Table_BPU[[#This Row],[Risk Area]]&\" \"&Table_BPU[[#This Row],[BPU Description]]","v":"Lesser Slave River Timothy Hay (export)"},"Lesser Slave River",80,"Timothy Hay (export)",566.48,457.7,365.6,633.95000000000005,537.47,526.49]
[{"$f":"Table_BPU[[#This Row],[Risk Area]]&\" \"&Table_BPU[[#This Row],[BPU Description]]","v":"Lethbridge Timothy Hay (export)"},"Lethbridge",80,"Timothy Hay (export)",566.48,457.7,365.6,633.95000000000005,537.47,526.49]
[{"$f":"Table_BPU[[#This Row],[Risk Area]]&\" \"&Table_BPU[[#This Row],[BPU Description]]","v":"Mackenzie Timothy Hay (export)"},"Mackenzie",80,"Timothy Hay (export)",566.48,457.7,365.6,633.95000000000005,537.47,526.49]
[{"$f":"Table_BPU[[#This Row],[Risk Area]]&\" \"&Table_BPU[[#This Row],[BPU Description]]","v":"Minburn Timothy Hay (export)"},"Minburn",80,"Timothy Hay (export)",566.48,457.7,365.6,633.95000000000005,537.47,526.49]
[{"$f":"Table_BPU[[#This Row],[Risk Area]]&\" \"&Table_BPU[[#This Row],[BPU Description]]","v":"Mountain View Timothy Hay (export)"},"Mountain View",80,"Timothy Hay (export)",566.48,457.7,365.6,633.95000000000005,537.47,526.49]
[{"$f":"Table_BPU[[#This Row],[Risk Area]]&\" \"&Table_BPU[[#This Row],[BPU Description]]","v":"Newell Timothy Hay (export)"},"Newell",80,"Timothy Hay (export)",566.48,457.7,365.6,633.95000000000005,537.47,526.49]
[{"$f":"Table_BPU[[#This Row],[Risk Area]]&\" \"&Table_BPU[[#This Row],[BPU Description]]","v":"Northern Lights Timothy Hay (export)"},"Northern Lights",80,"Timothy Hay (export)",566.48,457.7,365.6,633.95000000000005,537.47,526.49]
[{"$f":"Table_BPU[[#This Row],[Risk Area]]&\" \"&Table_BPU[[#This Row],[BPU Description]]","v":"Northern Sunrise Timothy Hay (export)"},"Northern Sunrise",80,"Timothy Hay (export)",566.48,457.7,365.6,633.95000000000005,537.47,526.49]
[{"$f":"Table_BPU[[#This Row],[Risk Area]]&\" \"&Table_BPU[[#This Row],[BPU Description]]","v":"Opportunity Timothy Hay (export)"},"Opportunity",80,"Timothy Hay (export)",566.48,457.7,365.6,633.95000000000005,537.47,526.49]
[{"$f":"Table_BPU[[#This Row],[Risk Area]]&\" \"&Table_BPU[[#This Row],[BPU Description]]","v":"Paintearth Timothy Hay (export)"},"Paintearth",80,"Timothy Hay (export)",566.48,457.7,365.6,633.95000000000005,537.47,526.49]
[{"$f":"Table_BPU[[#This Row],[Risk Area]]&\" \"&Table_BPU[[#This Row],[BPU Description]]","v":"Parkland County Timothy Hay (export)"},"Parkland County",80,"Timothy Hay (export)",566.48,457.7,365.6,633.95000000000005,537.47,526.49]
[{"$f":"Table_BPU[[#This Row],[Risk Area]]&\" \"&Table_BPU[[#This Row],[BPU Description]]","v":"Peace Timothy Hay (export)"},"Peace",80,"Timothy Hay (export)",566.48,457.7,365.6,633.95000000000005,537.47,526.49]
[{"$f":"Table_BPU[[#This Row],[Risk Area]]&\" \"&Table_BPU[[#This Row],[BPU Description]]","v":"Pincher Creek Timothy Hay (export)"},"Pincher Creek",80,"Timothy Hay (export)",566.48,457.7,365.6,633.95000000000005,537.47,526.49]
[{"$f":"Table_BPU[[#This Row],[Risk Area]]&\" \"&Table_BPU[[#This Row],[BPU Description]]","v":"Ponoka Timothy Hay (export)"},"Ponoka",80,"Timothy Hay (export)",566.48,457.7,365.6,633.95000000000005,537.47,526.49]
[{"$f":"Table_BPU[[#This Row],[Risk Area]]&\" \"&Table_BPU[[#This Row],[BPU Description]]","v":"Provost Timothy Hay (export)"},"Provost",80,"Timothy Hay (export)",566.48,457.7,365.6,633.95000000000005,537.47,526.49]
[{"$f":"Table_BPU[[#This Row],[Risk Area]]&\" \"&Table_BPU[[#This Row],[BPU Description]]","v":"Ranchland Timothy Hay (export)"},"Ranchland",80,"Timothy Hay (export)",566.48,457.7,365.6,633.95000000000005,537.47,526.49]
[{"$f":"Table_BPU[[#This Row],[Risk Area]]&\" \"&Table_BPU[[#This Row],[BPU Description]]","v":"Red Deer Timothy Hay (export)"},"Red Deer",80,"Timothy Hay (export)",566.48,457.7,365.6,633.95000000000005,537.47,526.49]
[{"$f":"Table_BPU[[#This Row],[Risk Area]]&\" \"&Table_BPU[[#This Row],[BPU Description]]","v":"Rocky View Timothy Hay (export)"},"Rocky View",80,"Timothy Hay (export)",566.48,457.7,365.6,633.95000000000005,537.47,526.49]
[{"$f":"Table_BPU[[#This Row],[Risk Area]]&\" \"&Table_BPU[[#This Row],[BPU Description]]","v":"Saddle Hills Timothy Hay (export)"},"Saddle Hills",80,"Timothy Hay (export)",566.48,457.7,365.6,633.95000000000005,537.47,526.49]
[{"$f":"Table_BPU[[#This Row],[Risk Area]]&\" \"&Table_BPU[[#This Row],[BPU Description]]","v":"Smoky Lake Timothy Hay (export)"},"Smoky Lake",80,"Timothy Hay (export)",566.48,457.7,365.6,633.95000000000005,537.47,526.49]
[{"$f":"Table_BPU[[#This Row],[Risk Area]]&\" \"&Table_BPU[[#This Row],[BPU Description]]","v":"Smoky River Timothy Hay (export)"},"Smoky River",80,"Timothy Hay (export)",566.48,457.7,365.6,633.95000000000005,537.47,526.49]
[{"$f":"Table_BPU[[#This Row],[Risk Area]]&\" \"&Table_BPU[[#This Row],[BPU Description]]","v":"Special Area 02 Timothy Hay (export)"},"Special Area 02",80,"Timothy Hay (export)",566.48,457.7,365.6,633.95000000000005,537.47,526.49]
[{"$f":"Table_BPU[[#This Row],[Risk Area]]&\" \"&Table_BPU[[#This Row],[BPU Description]]","v":"Special Area 03 Timothy Hay (export)"},"Special Area 03",80,"Timothy Hay (export)",566.48,457.7,365.6,633.95000000000005,537.47,526.49]
[{"$f":"Table_BPU[[#This Row],[Risk Area]]&\" \"&Table_BPU[[#This Row],[BPU Description]]","v":"Special Area 04 Timothy Hay (export)"},"Special Area 04",80,"Timothy Hay (export)",566.48,457.7,365.6,633.95000000000005,537.47,526.49]
[{"$f":"Table_BPU[[#This Row],[Risk Area]]&\" \"&Table_BPU[[#This Row],[BPU Description]]","v":"Spirit River Timothy Hay (export)"},"Spirit River",80,"Timothy Hay (export)",566.48,457.7,365.6,633.95000000000005,537.47,526.49]
[{"$f":"Table_BPU[[#This Row],[Risk Area]]&\" \"&Table_BPU[[#This Row],[BPU Description]]","v":"St. Paul Timothy Hay (export)"},"St. Paul",80,"Timothy Hay (export)",566.48,457.7,365.6,633.95000000000005,537.47,526.49]
[{"$f":"Table_BPU[[#This Row],[Risk Area]]&\" \"&Table_BPU[[#This Row],[BPU Description]]","v":"Starland Timothy Hay (export)"},"Starland",80,"Timothy Hay (export)",566.48,457.7,365.6,633.95000000000005,537.47,526.49]
[{"$f":"Table_BPU[[#This Row],[Risk Area]]&\" \"&Table_BPU[[#This Row],[BPU Description]]","v":"Stettler Timothy Hay (export)"},"Stettler",80,"Timothy Hay (export)",566.48,457.7,365.6,633.95000000000005,537.47,526.49]
[{"$f":"Table_BPU[[#This Row],[Risk Area]]&\" \"&Table_BPU[[#This Row],[BPU Description]]","v":"Strathcona County Timothy Hay (export)"},"Strathcona County",80,"Timothy Hay (export)",566.48,457.7,365.6,633.95000000000005,537.47,526.49]
[{"$f":"Table_BPU[[#This Row],[Risk Area]]&\" \"&Table_BPU[[#This Row],[BPU Description]]","v":"Sturgeon Timothy Hay (export)"},"Sturgeon",80,"Timothy Hay (export)",566.48,457.7,365.6,633.95000000000005,537.47,526.49]
[{"$f":"Table_BPU[[#This Row],[Risk Area]]&\" \"&Table_BPU[[#This Row],[BPU Description]]","v":"Taber Timothy Hay (export)"},"Taber",80,"Timothy Hay (export)",566.48,457.7,365.6,633.95000000000005,537.47,526.49]
[{"$f":"Table_BPU[[#This Row],[Risk Area]]&\" \"&Table_BPU[[#This Row],[BPU Description]]","v":"Thorhild Timothy Hay (export)"},"Thorhild",80,"Timothy Hay (export)",566.48,457.7,365.6,633.95000000000005,537.47,526.49]
[{"$f":"Table_BPU[[#This Row],[Risk Area]]&\" \"&Table_BPU[[#This Row],[BPU Description]]","v":"Two Hills Timothy Hay (export)"},"Two Hills",80,"Timothy Hay (export)",566.48,457.7,365.6,633.95000000000005,537.47,526.49]
[{"$f":"Table_BPU[[#This Row],[Risk Area]]&\" \"&Table_BPU[[#This Row],[BPU Description]]","v":"Vermilion River Timothy Hay (export)"},"Vermilion River",80,"Timothy Hay (export)",566.48,457.7,365.6,633.95000000000005,537.47,526.49]
[{"$f":"Table_BPU[[#This Row],[Risk Area]]&\" \"&Table_BPU[[#This Row],[BPU Description]]","v":"Vulcan Timothy Hay (export)"},"Vulcan",80,"Timothy Hay (export)",566.48,457.7,365.6,633.95000000000005,537.47,526.49]
[{"$f":"Table_BPU[[#This Row],[Risk Area]]&\" \"&Table_BPU[[#This Row],[BPU Description]]","v":"Wainwright Timothy Hay (export)"},"Wainwright",80,"Timothy Hay (export)",566.48,457.7,365.6,633.95000000000005,537.47,526.49]
[{"$f":"Table_BPU[[#This Row],[Risk Area]]&\" \"&Table_BPU[[#This Row],[BPU Description]]","v":"Warner Timothy Hay (export)"},"Warner",80,"Timothy Hay (export)",566.48,457.7,365.6,633.95000000000005,537.47,526.49]
[{"$f":"Table_BPU[[#This Row],[Risk Area]]&\" \"&Table_BPU[[#This Row],[BPU Description]]","v":"Westlock Timothy Hay (export)"},"Westlock",80,"Timothy Hay (export)",566.48,457.7,365.6,633.95000000000005,537.47,526.49]
[{"$f":"Table_BPU[[#This Row],[Risk Area]]&\" \"&Table_BPU[[#This Row],[BPU Description]]","v":"Wetaskiwin Timothy Hay (export)"},"Wetaskiwin",80,"Timothy Hay (export)",566.48,457.7,365.6,633.95000000000005,537.47,526.49]
[{"$f":"Table_BPU[[#This Row],[Risk Area]]&\" \"&Table_BPU[[#This Row],[BPU Description]]","v":"Wheatland Timothy Hay (export)"},"Wheatland",80,"Timothy Hay (export)",566.48,457.7,365.6,633.95000000000005,537.47,526.49]
[{"$f":"Table_BPU[[#This Row],[Risk Area]]&\" \"&Table_BPU[[#This Row],[BPU Description]]","v":"Willow Creek Timothy Hay (export)"},"Willow Creek",80,"Timothy Hay (export)",566.48,457.7,365.6,633.95000000000005,537.47,526.49]
[{"$f":"Table_BPU[[#This Row],[Risk Area]]&\" \"&Table_BPU[[#This Row],[BPU Description]]","v":"Wood Buffalo Timothy Hay (export)"},"Wood Buffalo",80,"Timothy Hay (export)",566.48,457.7,365.6,633.95000000000005,537.47,526.49]
[{"$f":"Table_BPU[[#This Row],[Risk Area]]&\" \"&Table_BPU[[#This Row],[BPU Description]]","v":"Woodlands Timothy Hay (export)"},"Woodlands",80,"Timothy Hay (export)",566.48,457.7,365.6,633.95000000000005,537.47,526.49]
[{"$f":"Table_BPU[[#This Row],[Risk Area]]&\" \"&Table_BPU[[#This Row],[BPU Description]]","v":"Yellowhead Timothy Hay (export)"},"Yellowhead",80,"Timothy Hay (export)",566.48,457.7,365.6,633.95000000000005,537.47,526.49]
[{"$f":"Table_BPU[[#This Row],[Risk Area]]&\" \"&Table_BPU[[#This Row],[BPU Description]]","v":"Acadia Tomatoes (per sq ft)"},"Acadia",31,"Tomatoes (per sq ft)",1.61,3.78,0.85,0.1,0.42,0.94]
[{"$f":"Table_BPU[[#This Row],[Risk Area]]&\" \"&Table_BPU[[#This Row],[BPU Description]]","v":"Athabasca Tomatoes (per sq ft)"},"Athabasca",31,"Tomatoes (per sq ft)",1.61,3.78,0.85,0.1,0.42,0.94]
[{"$f":"Table_BPU[[#This Row],[Risk Area]]&\" \"&Table_BPU[[#This Row],[BPU Description]]","v":"Barrhead Tomatoes (per sq ft)"},"Barrhead",31,"Tomatoes (per sq ft)",1.61,3.78,0.85,0.1,0.42,0.94]
[{"$f":"Table_BPU[[#This Row],[Risk Area]]&\" \"&Table_BPU[[#This Row],[BPU Description]]","v":"Beaver Tomatoes (per sq ft)"},"Beaver",31,"Tomatoes (per sq ft)",1.61,3.78,0.85,0.1,0.42,0.94]
[{"$f":"Table_BPU[[#This Row],[Risk Area]]&\" \"&Table_BPU[[#This Row],[BPU Description]]","v":"Big Lakes Tomatoes (per sq ft)"},"Big Lakes",31,"Tomatoes (per sq ft)",1.61,3.78,0.85,0.1,0.42,0.94]
[{"$f":"Table_BPU[[#This Row],[Risk Area]]&\" \"&Table_BPU[[#This Row],[BPU Description]]","v":"Bighorn Tomatoes (per sq ft)"},"Bighorn",31,"Tomatoes (per sq ft)",1.61,3.78,0.85,0.1,0.42,0.94]
[{"$f":"Table_BPU[[#This Row],[Risk Area]]&\" \"&Table_BPU[[#This Row],[BPU Description]]","v":"Birch Hills Tomatoes (per sq ft)"},"Birch Hills",31,"Tomatoes (per sq ft)",1.61,3.78,0.85,0.1,0.42,0.94]
[{"$f":"Table_BPU[[#This Row],[Risk Area]]&\" \"&Table_BPU[[#This Row],[BPU Description]]","v":"Bonnyville Tomatoes (per sq ft)"},"Bonnyville",31,"Tomatoes (per sq ft)",1.61,3.78,0.85,0.1,0.42,0.94]
[{"$f":"Table_BPU[[#This Row],[Risk Area]]&\" \"&Table_BPU[[#This Row],[BPU Description]]","v":"Brazeau Tomatoes (per sq ft)"},"Brazeau",31,"Tomatoes (per sq ft)",1.61,3.78,0.85,0.1,0.42,0.94]
[{"$f":"Table_BPU[[#This Row],[Risk Area]]&\" \"&Table_BPU[[#This Row],[BPU Description]]","v":"Camrose Tomatoes (per sq ft)"},"Camrose",31,"Tomatoes (per sq ft)",1.61,3.78,0.85,0.1,0.42,0.94]
[{"$f":"Table_BPU[[#This Row],[Risk Area]]&\" \"&Table_BPU[[#This Row],[BPU Description]]","v":"Cardston Tomatoes (per sq ft)"},"Cardston",31,"Tomatoes (per sq ft)",1.61,3.78,0.85,0.1,0.42,0.94]
[{"$f":"Table_BPU[[#This Row],[Risk Area]]&\" \"&Table_BPU[[#This Row],[BPU Description]]","v":"Clear Hills Tomatoes (per sq ft)"},"Clear Hills",31,"Tomatoes (per sq ft)",1.61,3.78,0.85,0.1,0.42,0.94]
[{"$f":"Table_BPU[[#This Row],[Risk Area]]&\" \"&Table_BPU[[#This Row],[BPU Description]]","v":"Clearwater Tomatoes (per sq ft)"},"Clearwater",31,"Tomatoes (per sq ft)",1.61,3.78,0.85,0.1,0.42,0.94]
[{"$f":"Table_BPU[[#This Row],[Risk Area]]&\" \"&Table_BPU[[#This Row],[BPU Description]]","v":"Cypress Tomatoes (per sq ft)"},"Cypress",31,"Tomatoes (per sq ft)",1.61,3.78,0.85,0.1,0.42,0.94]
[{"$f":"Table_BPU[[#This Row],[Risk Area]]&\" \"&Table_BPU[[#This Row],[BPU Description]]","v":"Edmonton Tomatoes (per sq ft)"},"Edmonton",31,"Tomatoes (per sq ft)",1.61,3.78,0.85,0.1,0.42,0.94]
[{"$f":"Table_BPU[[#This Row],[Risk Area]]&\" \"&Table_BPU[[#This Row],[BPU Description]]","v":"Fairview Tomatoes (per sq ft)"},"Fairview",31,"Tomatoes (per sq ft)",1.61,3.78,0.85,0.1,0.42,0.94]
[{"$f":"Table_BPU[[#This Row],[Risk Area]]&\" \"&Table_BPU[[#This Row],[BPU Description]]","v":"Flagstaff Tomatoes (per sq ft)"},"Flagstaff",31,"Tomatoes (per sq ft)",1.61,3.78,0.85,0.1,0.42,0.94]
[{"$f":"Table_BPU[[#This Row],[Risk Area]]&\" \"&Table_BPU[[#This Row],[BPU Description]]","v":"Foothills Tomatoes (per sq ft)"},"Foothills",31,"Tomatoes (per sq ft)",1.61,3.78,0.85,0.1,0.42,0.94]
[{"$f":"Table_BPU[[#This Row],[Risk Area]]&\" \"&Table_BPU[[#This Row],[BPU Description]]","v":"Forty Mile Tomatoes (per sq ft)"},"Forty Mile",31,"Tomatoes (per sq ft)",1.61,3.78,0.85,0.1,0.42,0.94]
[{"$f":"Table_BPU[[#This Row],[Risk Area]]&\" \"&Table_BPU[[#This Row],[BPU Description]]","v":"Grande Prairie Tomatoes (per sq ft)"},"Grande Prairie",31,"Tomatoes (per sq ft)",1.61,3.78,0.85,0.1,0.42,0.94]
[{"$f":"Table_BPU[[#This Row],[Risk Area]]&\" \"&Table_BPU[[#This Row],[BPU Description]]","v":"Greenview Tomatoes (per sq ft)"},"Greenview",31,"Tomatoes (per sq ft)",1.61,3.78,0.85,0.1,0.42,0.94]
[{"$f":"Table_BPU[[#This Row],[Risk Area]]&\" \"&Table_BPU[[#This Row],[BPU Description]]","v":"Kneehill Tomatoes (per sq ft)"},"Kneehill",31,"Tomatoes (per sq ft)",1.61,3.78,0.85,0.1,0.42,0.94]
[{"$f":"Table_BPU[[#This Row],[Risk Area]]&\" \"&Table_BPU[[#This Row],[BPU Description]]","v":"Lac La Biche Tomatoes (per sq ft)"},"Lac La Biche",31,"Tomatoes (per sq ft)",1.61,3.78,0.85,0.1,0.42,0.94]
[{"$f":"Table_BPU[[#This Row],[Risk Area]]&\" \"&Table_BPU[[#This Row],[BPU Description]]","v":"Lac Ste. Anne County Tomatoes (per sq ft)"},"Lac Ste. Anne County",31,"Tomatoes (per sq ft)",1.61,3.78,0.85,0.1,0.42,0.94]
[{"$f":"Table_BPU[[#This Row],[Risk Area]]&\" \"&Table_BPU[[#This Row],[BPU Description]]","v":"Lacombe Tomatoes (per sq ft)"},"Lacombe",31,"Tomatoes (per sq ft)",1.61,3.78,0.85,0.1,0.42,0.94]
[{"$f":"Table_BPU[[#This Row],[Risk Area]]&\" \"&Table_BPU[[#This Row],[BPU Description]]","v":"Lamont Tomatoes (per sq ft)"},"Lamont",31,"Tomatoes (per sq ft)",1.61,3.78,0.85,0.1,0.42,0.94]
[{"$f":"Table_BPU[[#This Row],[Risk Area]]&\" \"&Table_BPU[[#This Row],[BPU Description]]","v":"Leduc Tomatoes (per sq ft)"},"Leduc",31,"Tomatoes (per sq ft)",1.61,3.78,0.85,0.1,0.42,0.94]
[{"$f":"Table_BPU[[#This Row],[Risk Area]]&\" \"&Table_BPU[[#This Row],[BPU Description]]","v":"Lesser Slave River Tomatoes (per sq ft)"},"Lesser Slave River",31,"Tomatoes (per sq ft)",1.61,3.78,0.85,0.1,0.42,0.94]
[{"$f":"Table_BPU[[#This Row],[Risk Area]]&\" \"&Table_BPU[[#This Row],[BPU Description]]","v":"Lethbridge Tomatoes (per sq ft)"},"Lethbridge",31,"Tomatoes (per sq ft)",1.61,3.78,0.85,0.1,0.42,0.94]
[{"$f":"Table_BPU[[#This Row],[Risk Area]]&\" \"&Table_BPU[[#This Row],[BPU Description]]","v":"Mackenzie Tomatoes (per sq ft)"},"Mackenzie",31,"Tomatoes (per sq ft)",1.61,3.78,0.85,0.1,0.42,0.94]
[{"$f":"Table_BPU[[#This Row],[Risk Area]]&\" \"&Table_BPU[[#This Row],[BPU Description]]","v":"Minburn Tomatoes (per sq ft)"},"Minburn",31,"Tomatoes (per sq ft)",1.61,3.78,0.85,0.1,0.42,0.94]
[{"$f":"Table_BPU[[#This Row],[Risk Area]]&\" \"&Table_BPU[[#This Row],[BPU Description]]","v":"Mountain View Tomatoes (per sq ft)"},"Mountain View",31,"Tomatoes (per sq ft)",1.61,3.78,0.85,0.1,0.42,0.94]
[{"$f":"Table_BPU[[#This Row],[Risk Area]]&\" \"&Table_BPU[[#This Row],[BPU Description]]","v":"Newell Tomatoes (per sq ft)"},"Newell",31,"Tomatoes (per sq ft)",1.61,3.78,0.85,0.1,0.42,0.94]
[{"$f":"Table_BPU[[#This Row],[Risk Area]]&\" \"&Table_BPU[[#This Row],[BPU Description]]","v":"Northern Lights Tomatoes (per sq ft)"},"Northern Lights",31,"Tomatoes (per sq ft)",1.61,3.78,0.85,0.1,0.42,0.94]
[{"$f":"Table_BPU[[#This Row],[Risk Area]]&\" \"&Table_BPU[[#This Row],[BPU Description]]","v":"Northern Sunrise Tomatoes (per sq ft)"},"Northern Sunrise",31,"Tomatoes (per sq ft)",1.61,3.78,0.85,0.1,0.42,0.94]
[{"$f":"Table_BPU[[#This Row],[Risk Area]]&\" \"&Table_BPU[[#This Row],[BPU Description]]","v":"Opportunity Tomatoes (per sq ft)"},"Opportunity",31,"Tomatoes (per sq ft)",1.61,3.78,0.85,0.1,0.42,0.94]
[{"$f":"Table_BPU[[#This Row],[Risk Area]]&\" \"&Table_BPU[[#This Row],[BPU Description]]","v":"Paintearth Tomatoes (per sq ft)"},"Paintearth",31,"Tomatoes (per sq ft)",1.61,3.78,0.85,0.1,0.42,0.94]
[{"$f":"Table_BPU[[#This Row],[Risk Area]]&\" \"&Table_BPU[[#This Row],[BPU Description]]","v":"Parkland County Tomatoes (per sq ft)"},"Parkland County",31,"Tomatoes (per sq ft)",1.61,3.78,0.85,0.1,0.42,0.94]
[{"$f":"Table_BPU[[#This Row],[Risk Area]]&\" \"&Table_BPU[[#This Row],[BPU Description]]","v":"Peace Tomatoes (per sq ft)"},"Peace",31,"Tomatoes (per sq ft)",1.61,3.78,0.85,0.1,0.42,0.94]
[{"$f":"Table_BPU[[#This Row],[Risk Area]]&\" \"&Table_BPU[[#This Row],[BPU Description]]","v":"Pincher Creek Tomatoes (per sq ft)"},"Pincher Creek",31,"Tomatoes (per sq ft)",1.61,3.78,0.85,0.1,0.42,0.94]
[{"$f":"Table_BPU[[#This Row],[Risk Area]]&\" \"&Table_BPU[[#This Row],[BPU Description]]","v":"Ponoka Tomatoes (per sq ft)"},"Ponoka",31,"Tomatoes (per sq ft)",1.61,3.78,0.85,0.1,0.42,0.94]
[{"$f":"Table_BPU[[#This Row],[Risk Area]]&\" \"&Table_BPU[[#This Row],[BPU Description]]","v":"Provost Tomatoes (per sq ft)"},"Provost",31,"Tomatoes (per sq ft)",1.61,3.78,0.85,0.1,0.42,0.94]
[{"$f":"Table_BPU[[#This Row],[Risk Area]]&\" \"&Table_BPU[[#This Row],[BPU Description]]","v":"Ranchland Tomatoes (per sq ft)"},"Ranchland",31,"Tomatoes (per sq ft)",1.61,3.78,0.85,0.1,0.42,0.94]
[{"$f":"Table_BPU[[#This Row],[Risk Area]]&\" \"&Table_BPU[[#This Row],[BPU Description]]","v":"Red Deer Tomatoes (per sq ft)"},"Red Deer",31,"Tomatoes (per sq ft)",1.61,3.78,0.85,0.1,0.42,0.94]
[{"$f":"Table_BPU[[#This Row],[Risk Area]]&\" \"&Table_BPU[[#This Row],[BPU Description]]","v":"Rocky View Tomatoes (per sq ft)"},"Rocky View",31,"Tomatoes (per sq ft)",1.61,3.78,0.85,0.1,0.42,0.94]
[{"$f":"Table_BPU[[#This Row],[Risk Area]]&\" \"&Table_BPU[[#This Row],[BPU Description]]","v":"Saddle Hills Tomatoes (per sq ft)"},"Saddle Hills",31,"Tomatoes (per sq ft)",1.61,3.78,0.85,0.1,0.42,0.94]
[{"$f":"Table_BPU[[#This Row],[Risk Area]]&\" \"&Table_BPU[[#This Row],[BPU Description]]","v":"Smoky Lake Tomatoes (per sq ft)"},"Smoky Lake",31,"Tomatoes (per sq ft)",1.61,3.78,0.85,0.1,0.42,0.94]
[{"$f":"Table_BPU[[#This Row],[Risk Area]]&\" \"&Table_BPU[[#This Row],[BPU Description]]","v":"Smoky River Tomatoes (per sq ft)"},"Smoky River",31,"Tomatoes (per sq ft)",1.61,3.78,0.85,0.1,0.42,0.94]
[{"$f":"Table_BPU[[#This Row],[Risk Area]]&\" \"&Table_BPU[[#This Row],[BPU Description]]","v":"Special Area 02 Tomatoes (per sq ft)"},"Special Area 02",31,"Tomatoes (per sq ft)",1.61,3.78,0.85,0.1,0.42,0.94]
[{"$f":"Table_BPU[[#This Row],[Risk Area]]&\" \"&Table_BPU[[#This Row],[BPU Description]]","v":"Special Area 03 Tomatoes (per sq ft)"},"Special Area 03",31,"Tomatoes (per sq ft)",1.61,3.78,0.85,0.1,0.42,0.94]
[{"$f":"Table_BPU[[#This Row],[Risk Area]]&\" \"&Table_BPU[[#This Row],[BPU Description]]","v":"Special Area 04 Tomatoes (per sq ft)"},"Special Area 04",31,"Tomatoes (per sq ft)",1.61,3.78,0.85,0.1,0.42,0.94]
[{"$f":"Table_BPU[[#This Row],[Risk Area]]&\" \"&Table_BPU[[#This Row],[BPU Description]]","v":"Spirit River Tomatoes (per sq ft)"},"Spirit River",31,"Tomatoes (per sq ft)",1.61,3.78,0.85,0.1,0.42,0.94]
[{"$f":"Table_BPU[[#This Row],[Risk Area]]&\" \"&Table_BPU[[#This Row],[BPU Description]]","v":"St. Paul Tomatoes (per sq ft)"},"St. Paul",31,"Tomatoes (per sq ft)",1.61,3.78,0.85,0.1,0.42,0.94]
[{"$f":"Table_BPU[[#This Row],[Risk Area]]&\" \"&Table_BPU[[#This Row],[BPU Description]]","v":"Starland Tomatoes (per sq ft)"},"Starland",31,"Tomatoes (per sq ft)",1.61,3.78,0.85,0.1,0.42,0.94]
[{"$f":"Table_BPU[[#This Row],[Risk Area]]&\" \"&Table_BPU[[#This Row],[BPU Description]]","v":"Stettler Tomatoes (per sq ft)"},"Stettler",31,"Tomatoes (per sq ft)",1.61,3.78,0.85,0.1,0.42,0.94]
[{"$f":"Table_BPU[[#This Row],[Risk Area]]&\" \"&Table_BPU[[#This Row],[BPU Description]]","v":"Strathcona County Tomatoes (per sq ft)"},"Strathcona County",31,"Tomatoes (per sq ft)",1.61,3.78,0.85,0.1,0.42,0.94]
[{"$f":"Table_BPU[[#This Row],[Risk Area]]&\" \"&Table_BPU[[#This Row],[BPU Description]]","v":"Sturgeon Tomatoes (per sq ft)"},"Sturgeon",31,"Tomatoes (per sq ft)",1.61,3.78,0.85,0.1,0.42,0.94]
[{"$f":"Table_BPU[[#This Row],[Risk Area]]&\" \"&Table_BPU[[#This Row],[BPU Description]]","v":"Taber Tomatoes (per sq ft)"},"Taber",31,"Tomatoes (per sq ft)",1.61,3.78,0.85,0.1,0.42,0.94]
[{"$f":"Table_BPU[[#This Row],[Risk Area]]&\" \"&Table_BPU[[#This Row],[BPU Description]]","v":"Thorhild Tomatoes (per sq ft)"},"Thorhild",31,"Tomatoes (per sq ft)",1.61,3.78,0.85,0.1,0.42,0.94]
[{"$f":"Table_BPU[[#This Row],[Risk Area]]&\" \"&Table_BPU[[#This Row],[BPU Description]]","v":"Two Hills Tomatoes (per sq ft)"},"Two Hills",31,"Tomatoes (per sq ft)",1.61,3.78,0.85,0.1,0.42,0.94]
[{"$f":"Table_BPU[[#This Row],[Risk Area]]&\" \"&Table_BPU[[#This Row],[BPU Description]]","v":"Vermilion River Tomatoes (per sq ft)"},"Vermilion River",31,"Tomatoes (per sq ft)",1.61,3.78,0.85,0.1,0.42,0.94]
[{"$f":"Table_BPU[[#This Row],[Risk Area]]&\" \"&Table_BPU[[#This Row],[BPU Description]]","v":"Vulcan Tomatoes (per sq ft)"},"Vulcan",31,"Tomatoes (per sq ft)",1.61,3.78,0.85,0.1,0.42,0.94]
[{"$f":"Table_BPU[[#This Row],[Risk Area]]&\" \"&Table_BPU[[#This Row],[BPU Description]]","v":"Wainwright Tomatoes (per sq ft)"},"Wainwright",31,"Tomatoes (per sq ft)",1.61,3.78,0.85,0.1,0.42,0.94]
[{"$f":"Table_BPU[[#This Row],[Risk Area]]&\" \"&Table_BPU[[#This Row],[BPU Description]]","v":"Warner Tomatoes (per sq ft)"},"Warner",31,"Tomatoes (per sq ft)",1.61,3.78,0.85,0.1,0.42,0.94]
[{"$f":"Table_BPU[[#This Row],[Risk Area]]&\" \"&Table_BPU[[#This Row],[BPU Description]]","v":"Westlock Tomatoes (per sq ft)"},"Westlock",31,"Tomatoes (per sq ft)",1.61,3.78,0.85,0.1,0.42,0.94]
[{"$f":"Table_BPU[[#This Row],[Risk Area]]&\" \"&Table_BPU[[#This Row],[BPU Description]]","v":"Wetaskiwin Tomatoes (per sq ft)"},"Wetaskiwin",31,"Tomatoes (per sq ft)",1.61,3.78,0.85,0.1,0.42,0.94]
[{"$f":"Table_BPU[[#This Row],[Risk Area]]&\" \"&Table_BPU[[#This Row],[BPU Description]]","v":"Wheatland Tomatoes (per sq ft)"},"Wheatland",31,"Tomatoes (per sq ft)",1.61,3.78,0.85,0.1,0.42,0.94]
[{"$f":"Table_BPU[[#This Row],[Risk Area]]&\" \"&Table_BPU[[#This Row],[BPU Description]]","v":"Willow Creek Tomatoes (per sq ft)"},"Willow Creek",31,"Tomatoes (per sq ft)",1.61,3.78,0.85,0.1,0.42,0.94]
[{"$f":"Table_BPU[[#This Row],[Risk Area]]&\" \"&Table_BPU[[#This Row],[BPU Description]]","v":"Wood Buffalo Tomatoes (per sq ft)"},"Wood Buffalo",31,"Tomatoes (per sq ft)",1.61,3.78,0.85,0.1,0.42,0.94]
[{"$f":"Table_BPU[[#This Row],[Risk Area]]&\" \"&Table_BPU[[#This Row],[BPU Description]]","v":"Woodlands Tomatoes (per sq ft)"},"Woodlands",31,"Tomatoes (per sq ft)",1.61,3.78,0.85,0.1,0.42,0.94]
[{"$f":"Table_BPU[[#This Row],[Risk Area]]&\" \"&Table_BPU[[#This Row],[BPU Description]]","v":"Yellowhead Tomatoes (per sq ft)"},"Yellowhead",31,"Tomatoes (per sq ft)",1.61,3.78,0.85,0.1,0.42,0.94]
[{"$f":"Table_BPU[[#This Row],[Risk Area]]&\" \"&Table_BPU[[#This Row],[BPU Description]]","v":"Acadia Triticale"},"Acadia",52,"Triticale",184.43,194.47,152.61000000000001,276.24,130.44999999999999,130.58000000000001]
[{"$f":"Table_BPU[[#This Row],[Risk Area]]&\" \"&Table_BPU[[#This Row],[BPU Description]]","v":"Athabasca Triticale"},"Athabasca",52,"Triticale",184.43,194.47,152.61000000000001,276.24,130.44999999999999,130.58000000000001]
[{"$f":"Table_BPU[[#This Row],[Risk Area]]&\" \"&Table_BPU[[#This Row],[BPU Description]]","v":"Barrhead Triticale"},"Barrhead",52,"Triticale",184.43,194.47,152.61000000000001,276.24,130.44999999999999,130.58000000000001]
[{"$f":"Table_BPU[[#This Row],[Risk Area]]&\" \"&Table_BPU[[#This Row],[BPU Description]]","v":"Beaver Triticale"},"Beaver",52,"Triticale",184.43,194.47,152.61000000000001,276.24,130.44999999999999,130.58000000000001]
[{"$f":"Table_BPU[[#This Row],[Risk Area]]&\" \"&Table_BPU[[#This Row],[BPU Description]]","v":"Big Lakes Triticale"},"Big Lakes",52,"Triticale",184.43,194.47,152.61000000000001,276.24,130.44999999999999,130.58000000000001]
[{"$f":"Table_BPU[[#This Row],[Risk Area]]&\" \"&Table_BPU[[#This Row],[BPU Description]]","v":"Bighorn Triticale"},"Bighorn",52,"Triticale",184.43,194.47,152.61000000000001,276.24,130.44999999999999,130.58000000000001]
[{"$f":"Table_BPU[[#This Row],[Risk Area]]&\" \"&Table_BPU[[#This Row],[BPU Description]]","v":"Birch Hills Triticale"},"Birch Hills",52,"Triticale",184.43,194.47,152.61000000000001,276.24,130.44999999999999,130.58000000000001]
[{"$f":"Table_BPU[[#This Row],[Risk Area]]&\" \"&Table_BPU[[#This Row],[BPU Description]]","v":"Bonnyville Triticale"},"Bonnyville",52,"Triticale",184.43,194.47,152.61000000000001,276.24,130.44999999999999,130.58000000000001]
[{"$f":"Table_BPU[[#This Row],[Risk Area]]&\" \"&Table_BPU[[#This Row],[BPU Description]]","v":"Brazeau Triticale"},"Brazeau",52,"Triticale",184.43,194.47,152.61000000000001,276.24,130.44999999999999,130.58000000000001]
[{"$f":"Table_BPU[[#This Row],[Risk Area]]&\" \"&Table_BPU[[#This Row],[BPU Description]]","v":"Camrose Triticale"},"Camrose",52,"Triticale",184.43,194.47,152.61000000000001,276.24,130.44999999999999,130.58000000000001]
[{"$f":"Table_BPU[[#This Row],[Risk Area]]&\" \"&Table_BPU[[#This Row],[BPU Description]]","v":"Cardston Triticale"},"Cardston",52,"Triticale",184.43,194.47,152.61000000000001,276.24,130.44999999999999,130.58000000000001]
[{"$f":"Table_BPU[[#This Row],[Risk Area]]&\" \"&Table_BPU[[#This Row],[BPU Description]]","v":"Clear Hills Triticale"},"Clear Hills",52,"Triticale",184.43,194.47,152.61000000000001,276.24,130.44999999999999,130.58000000000001]
[{"$f":"Table_BPU[[#This Row],[Risk Area]]&\" \"&Table_BPU[[#This Row],[BPU Description]]","v":"Clearwater Triticale"},"Clearwater",52,"Triticale",184.43,194.47,152.61000000000001,276.24,130.44999999999999,130.58000000000001]
[{"$f":"Table_BPU[[#This Row],[Risk Area]]&\" \"&Table_BPU[[#This Row],[BPU Description]]","v":"Cypress Triticale"},"Cypress",52,"Triticale",184.43,194.47,152.61000000000001,276.24,130.44999999999999,130.58000000000001]
[{"$f":"Table_BPU[[#This Row],[Risk Area]]&\" \"&Table_BPU[[#This Row],[BPU Description]]","v":"Edmonton Triticale"},"Edmonton",52,"Triticale",184.43,194.47,152.61000000000001,276.24,130.44999999999999,130.58000000000001]
[{"$f":"Table_BPU[[#This Row],[Risk Area]]&\" \"&Table_BPU[[#This Row],[BPU Description]]","v":"Fairview Triticale"},"Fairview",52,"Triticale",184.43,194.47,152.61000000000001,276.24,130.44999999999999,130.58000000000001]
[{"$f":"Table_BPU[[#This Row],[Risk Area]]&\" \"&Table_BPU[[#This Row],[BPU Description]]","v":"Flagstaff Triticale"},"Flagstaff",52,"Triticale",184.43,194.47,152.61000000000001,276.24,130.44999999999999,130.58000000000001]
[{"$f":"Table_BPU[[#This Row],[Risk Area]]&\" \"&Table_BPU[[#This Row],[BPU Description]]","v":"Foothills Triticale"},"Foothills",52,"Triticale",184.43,194.47,152.61000000000001,276.24,130.44999999999999,130.58000000000001]
[{"$f":"Table_BPU[[#This Row],[Risk Area]]&\" \"&Table_BPU[[#This Row],[BPU Description]]","v":"Forty Mile Triticale"},"Forty Mile",52,"Triticale",184.43,194.47,152.61000000000001,276.24,130.44999999999999,130.58000000000001]
[{"$f":"Table_BPU[[#This Row],[Risk Area]]&\" \"&Table_BPU[[#This Row],[BPU Description]]","v":"Grande Prairie Triticale"},"Grande Prairie",52,"Triticale",184.43,194.47,152.61000000000001,276.24,130.44999999999999,130.58000000000001]
[{"$f":"Table_BPU[[#This Row],[Risk Area]]&\" \"&Table_BPU[[#This Row],[BPU Description]]","v":"Greenview Triticale"},"Greenview",52,"Triticale",184.43,194.47,152.61000000000001,276.24,130.44999999999999,130.58000000000001]
[{"$f":"Table_BPU[[#This Row],[Risk Area]]&\" \"&Table_BPU[[#This Row],[BPU Description]]","v":"Kneehill Triticale"},"Kneehill",52,"Triticale",184.43,194.47,152.61000000000001,276.24,130.44999999999999,130.58000000000001]
[{"$f":"Table_BPU[[#This Row],[Risk Area]]&\" \"&Table_BPU[[#This Row],[BPU Description]]","v":"Lac La Biche Triticale"},"Lac La Biche",52,"Triticale",184.43,194.47,152.61000000000001,276.24,130.44999999999999,130.58000000000001]
[{"$f":"Table_BPU[[#This Row],[Risk Area]]&\" \"&Table_BPU[[#This Row],[BPU Description]]","v":"Lac Ste. Anne County Triticale"},"Lac Ste. Anne County",52,"Triticale",184.43,194.47,152.61000000000001,276.24,130.44999999999999,130.58000000000001]
[{"$f":"Table_BPU[[#This Row],[Risk Area]]&\" \"&Table_BPU[[#This Row],[BPU Description]]","v":"Lacombe Triticale"},"Lacombe",52,"Triticale",184.43,194.47,152.61000000000001,276.24,130.44999999999999,130.58000000000001]
[{"$f":"Table_BPU[[#This Row],[Risk Area]]&\" \"&Table_BPU[[#This Row],[BPU Description]]","v":"Lamont Triticale"},"Lamont",52,"Triticale",184.43,194.47,152.61000000000001,276.24,130.44999999999999,130.58000000000001]
[{"$f":"Table_BPU[[#This Row],[Risk Area]]&\" \"&Table_BPU[[#This Row],[BPU Description]]","v":"Leduc Triticale"},"Leduc",52,"Triticale",184.43,194.47,152.61000000000001,276.24,130.44999999999999,130.58000000000001]
[{"$f":"Table_BPU[[#This Row],[Risk Area]]&\" \"&Table_BPU[[#This Row],[BPU Description]]","v":"Lesser Slave River Triticale"},"Lesser Slave River",52,"Triticale",184.43,194.47,152.61000000000001,276.24,130.44999999999999,130.58000000000001]
[{"$f":"Table_BPU[[#This Row],[Risk Area]]&\" \"&Table_BPU[[#This Row],[BPU Description]]","v":"Lethbridge Triticale"},"Lethbridge",52,"Triticale",184.43,194.47,152.61000000000001,276.24,130.44999999999999,130.58000000000001]
[{"$f":"Table_BPU[[#This Row],[Risk Area]]&\" \"&Table_BPU[[#This Row],[BPU Description]]","v":"Mackenzie Triticale"},"Mackenzie",52,"Triticale",184.43,194.47,152.61000000000001,276.24,130.44999999999999,130.58000000000001]
[{"$f":"Table_BPU[[#This Row],[Risk Area]]&\" \"&Table_BPU[[#This Row],[BPU Description]]","v":"Minburn Triticale"},"Minburn",52,"Triticale",184.43,194.47,152.61000000000001,276.24,130.44999999999999,130.58000000000001]
[{"$f":"Table_BPU[[#This Row],[Risk Area]]&\" \"&Table_BPU[[#This Row],[BPU Description]]","v":"Mountain View Triticale"},"Mountain View",52,"Triticale",184.43,194.47,152.61000000000001,276.24,130.44999999999999,130.58000000000001]
[{"$f":"Table_BPU[[#This Row],[Risk Area]]&\" \"&Table_BPU[[#This Row],[BPU Description]]","v":"Newell Triticale"},"Newell",52,"Triticale",184.43,194.47,152.61000000000001,276.24,130.44999999999999,130.58000000000001]
[{"$f":"Table_BPU[[#This Row],[Risk Area]]&\" \"&Table_BPU[[#This Row],[BPU Description]]","v":"Northern Lights Triticale"},"Northern Lights",52,"Triticale",184.43,194.47,152.61000000000001,276.24,130.44999999999999,130.58000000000001]
[{"$f":"Table_BPU[[#This Row],[Risk Area]]&\" \"&Table_BPU[[#This Row],[BPU Description]]","v":"Northern Sunrise Triticale"},"Northern Sunrise",52,"Triticale",184.43,194.47,152.61000000000001,276.24,130.44999999999999,130.58000000000001]
[{"$f":"Table_BPU[[#This Row],[Risk Area]]&\" \"&Table_BPU[[#This Row],[BPU Description]]","v":"Opportunity Triticale"},"Opportunity",52,"Triticale",184.43,194.47,152.61000000000001,276.24,130.44999999999999,130.58000000000001]
[{"$f":"Table_BPU[[#This Row],[Risk Area]]&\" \"&Table_BPU[[#This Row],[BPU Description]]","v":"Paintearth Triticale"},"Paintearth",52,"Triticale",184.43,194.47,152.61000000000001,276.24,130.44999999999999,130.58000000000001]
[{"$f":"Table_BPU[[#This Row],[Risk Area]]&\" \"&Table_BPU[[#This Row],[BPU Description]]","v":"Parkland County Triticale"},"Parkland County",52,"Triticale",184.43,194.47,152.61000000000001,276.24,130.44999999999999,130.58000000000001]
[{"$f":"Table_BPU[[#This Row],[Risk Area]]&\" \"&Table_BPU[[#This Row],[BPU Description]]","v":"Peace Triticale"},"Peace",52,"Triticale",184.43,194.47,152.61000000000001,276.24,130.44999999999999,130.58000000000001]
[{"$f":"Table_BPU[[#This Row],[Risk Area]]&\" \"&Table_BPU[[#This Row],[BPU Description]]","v":"Pincher Creek Triticale"},"Pincher Creek",52,"Triticale",184.43,194.47,152.61000000000001,276.24,130.44999999999999,130.58000000000001]
[{"$f":"Table_BPU[[#This Row],[Risk Area]]&\" \"&Table_BPU[[#This Row],[BPU Description]]","v":"Ponoka Triticale"},"Ponoka",52,"Triticale",184.43,194.47,152.61000000000001,276.24,130.44999999999999,130.58000000000001]
[{"$f":"Table_BPU[[#This Row],[Risk Area]]&\" \"&Table_BPU[[#This Row],[BPU Description]]","v":"Provost Triticale"},"Provost",52,"Triticale",184.43,194.47,152.61000000000001,276.24,130.44999999999999,130.58000000000001]
[{"$f":"Table_BPU[[#This Row],[Risk Area]]&\" \"&Table_BPU[[#This Row],[BPU Description]]","v":"Ranchland Triticale"},"Ranchland",52,"Triticale",184.43,194.47,152.61000000000001,276.24,130.44999999999999,130.58000000000001]
[{"$f":"Table_BPU[[#This Row],[Risk Area]]&\" \"&Table_BPU[[#This Row],[BPU Description]]","v":"Red Deer Triticale"},"Red Deer",52,"Triticale",184.43,194.47,152.61000000000001,276.24,130.44999999999999,130.58000000000001]
[{"$f":"Table_BPU[[#This Row],[Risk Area]]&\" \"&Table_BPU[[#This Row],[BPU Description]]","v":"Rocky View Triticale"},"Rocky View",52,"Triticale",184.43,194.47,152.61000000000001,276.24,130.44999999999999,130.58000000000001]
[{"$f":"Table_BPU[[#This Row],[Risk Area]]&\" \"&Table_BPU[[#This Row],[BPU Description]]","v":"Saddle Hills Triticale"},"Saddle Hills",52,"Triticale",184.43,194.47,152.61000000000001,276.24,130.44999999999999,130.58000000000001]
[{"$f":"Table_BPU[[#This Row],[Risk Area]]&\" \"&Table_BPU[[#This Row],[BPU Description]]","v":"Smoky Lake Triticale"},"Smoky Lake",52,"Triticale",184.43,194.47,152.61000000000001,276.24,130.44999999999999,130.58000000000001]
[{"$f":"Table_BPU[[#This Row],[Risk Area]]&\" \"&Table_BPU[[#This Row],[BPU Description]]","v":"Smoky River Triticale"},"Smoky River",52,"Triticale",184.43,194.47,152.61000000000001,276.24,130.44999999999999,130.58000000000001]
[{"$f":"Table_BPU[[#This Row],[Risk Area]]&\" \"&Table_BPU[[#This Row],[BPU Description]]","v":"Special Area 02 Triticale"},"Special Area 02",52,"Triticale",184.43,194.47,152.61000000000001,276.24,130.44999999999999,130.58000000000001]
[{"$f":"Table_BPU[[#This Row],[Risk Area]]&\" \"&Table_BPU[[#This Row],[BPU Description]]","v":"Special Area 03 Triticale"},"Special Area 03",52,"Triticale",184.43,194.47,152.61000000000001,276.24,130.44999999999999,130.58000000000001]
[{"$f":"Table_BPU[[#This Row],[Risk Area]]&\" \"&Table_BPU[[#This Row],[BPU Description]]","v":"Special Area 04 Triticale"},"Special Area 04",52,"Triticale",184.43,194.47,152.61000000000001,276.24,130.44999999999999,130.58000000000001]
[{"$f":"Table_BPU[[#This Row],[Risk Area]]&\" \"&Table_BPU[[#This Row],[BPU Description]]","v":"Spirit River Triticale"},"Spirit River",52,"Triticale",184.43,194.47,152.61000000000001,276.24,130.44999999999999,130.58000000000001]
[{"$f":"Table_BPU[[#This Row],[Risk Area]]&\" \"&Table_BPU[[#This Row],[BPU Description]]","v":"St. Paul Triticale"},"St. Paul",52,"Triticale",184.43,194.47,152.61000000000001,276.24,130.44999999999999,130.58000000000001]
[{"$f":"Table_BPU[[#This Row],[Risk Area]]&\" \"&Table_BPU[[#This Row],[BPU Description]]","v":"Starland Triticale"},"Starland",52,"Triticale",184.43,194.47,152.61000000000001,276.24,130.44999999999999,130.58000000000001]
[{"$f":"Table_BPU[[#This Row],[Risk Area]]&\" \"&Table_BPU[[#This Row],[BPU Description]]","v":"Stettler Triticale"},"Stettler",52,"Triticale",184.43,194.47,152.61000000000001,276.24,130.44999999999999,130.58000000000001]
[{"$f":"Table_BPU[[#This Row],[Risk Area]]&\" \"&Table_BPU[[#This Row],[BPU Description]]","v":"Strathcona County Triticale"},"Strathcona County",52,"Triticale",184.43,194.47,152.61000000000001,276.24,130.44999999999999,130.58000000000001]
[{"$f":"Table_BPU[[#This Row],[Risk Area]]&\" \"&Table_BPU[[#This Row],[BPU Description]]","v":"Sturgeon Triticale"},"Sturgeon",52,"Triticale",184.43,194.47,152.61000000000001,276.24,130.44999999999999,130.58000000000001]
[{"$f":"Table_BPU[[#This Row],[Risk Area]]&\" \"&Table_BPU[[#This Row],[BPU Description]]","v":"Taber Triticale"},"Taber",52,"Triticale",184.43,194.47,152.61000000000001,276.24,130.44999999999999,130.58000000000001]
[{"$f":"Table_BPU[[#This Row],[Risk Area]]&\" \"&Table_BPU[[#This Row],[BPU Description]]","v":"Thorhild Triticale"},"Thorhild",52,"Triticale",184.43,194.47,152.61000000000001,276.24,130.44999999999999,130.58000000000001]
[{"$f":"Table_BPU[[#This Row],[Risk Area]]&\" \"&Table_BPU[[#This Row],[BPU Description]]","v":"Two Hills Triticale"},"Two Hills",52,"Triticale",184.43,194.47,152.61000000000001,276.24,130.44999999999999,130.58000000000001]
[{"$f":"Table_BPU[[#This Row],[Risk Area]]&\" \"&Table_BPU[[#This Row],[BPU Description]]","v":"Vermilion River Triticale"},"Vermilion River",52,"Triticale",184.43,194.47,152.61000000000001,276.24,130.44999999999999,130.58000000000001]
[{"$f":"Table_BPU[[#This Row],[Risk Area]]&\" \"&Table_BPU[[#This Row],[BPU Description]]","v":"Vulcan Triticale"},"Vulcan",52,"Triticale",184.43,194.47,152.61000000000001,276.24,130.44999999999999,130.58000000000001]
[{"$f":"Table_BPU[[#This Row],[Risk Area]]&\" \"&Table_BPU[[#This Row],[BPU Description]]","v":"Wainwright Triticale"},"Wainwright",52,"Triticale",184.43,194.47,152.61000000000001,276.24,130.44999999999999,130.58000000000001]
[{"$f":"Table_BPU[[#This Row],[Risk Area]]&\" \"&Table_BPU[[#This Row],[BPU Description]]","v":"Warner Triticale"},"Warner",52,"Triticale",184.43,194.47,152.61000000000001,276.24,130.44999999999999,130.58000000000001]
[{"$f":"Table_BPU[[#This Row],[Risk Area]]&\" \"&Table_BPU[[#This Row],[BPU Description]]","v":"Westlock Triticale"},"Westlock",52,"Triticale",184.43,194.47,152.61000000000001,276.24,130.44999999999999,130.58000000000001]
[{"$f":"Table_BPU[[#This Row],[Risk Area]]&\" \"&Table_BPU[[#This Row],[BPU Description]]","v":"Wetaskiwin Triticale"},"Wetaskiwin",52,"Triticale",184.43,194.47,152.61000000000001,276.24,130.44999999999999,130.58000000000001]
[{"$f":"Table_BPU[[#This Row],[Risk Area]]&\" \"&Table_BPU[[#This Row],[BPU Description]]","v":"Wheatland Triticale"},"Wheatland",52,"Triticale",184.43,194.47,152.61000000000001,276.24,130.44999999999999,130.58000000000001]
[{"$f":"Table_BPU[[#This Row],[Risk Area]]&\" \"&Table_BPU[[#This Row],[BPU Description]]","v":"Willow Creek Triticale"},"Willow Creek",52,"Triticale",184.43,194.47,152.61000000000001,276.24,130.44999999999999,130.58000000000001]
[{"$f":"Table_BPU[[#This Row],[Risk Area]]&\" \"&Table_BPU[[#This Row],[BPU Description]]","v":"Wood Buffalo Triticale"},"Wood Buffalo",52,"Triticale",184.43,194.47,152.61000000000001,276.24,130.44999999999999,130.58000000000001]
[{"$f":"Table_BPU[[#This Row],[Risk Area]]&\" \"&Table_BPU[[#This Row],[BPU Description]]","v":"Woodlands Triticale"},"Woodlands",52,"Triticale",184.43,194.47,152.61000000000001,276.24,130.44999999999999,130.58000000000001]
[{"$f":"Table_BPU[[#This Row],[Risk Area]]&\" \"&Table_BPU[[#This Row],[BPU Description]]","v":"Yellowhead Triticale"},"Yellowhead",52,"Triticale",184.43,194.47,152.61000000000001,276.24,130.44999999999999,130.58000000000001]
[{"$f":"Table_BPU[[#This Row],[Risk Area]]&\" \"&Table_BPU[[#This Row],[BPU Description]]","v":"Acadia Turkey Broilers / bird"},"Acadia",15,"Turkey Broilers / bird",3.91,3.69,4.18,4.68,6.66,4.62]
[{"$f":"Table_BPU[[#This Row],[Risk Area]]&\" \"&Table_BPU[[#This Row],[BPU Description]]","v":"Athabasca Turkey Broilers / bird"},"Athabasca",15,"Turkey Broilers / bird",3.91,3.69,4.18,4.68,6.66,4.62]
[{"$f":"Table_BPU[[#This Row],[Risk Area]]&\" \"&Table_BPU[[#This Row],[BPU Description]]","v":"Barrhead Turkey Broilers / bird"},"Barrhead",15,"Turkey Broilers / bird",3.91,3.69,4.18,4.68,6.66,4.62]
[{"$f":"Table_BPU[[#This Row],[Risk Area]]&\" \"&Table_BPU[[#This Row],[BPU Description]]","v":"Beaver Turkey Broilers / bird"},"Beaver",15,"Turkey Broilers / bird",3.91,3.69,4.18,4.68,6.66,4.62]
[{"$f":"Table_BPU[[#This Row],[Risk Area]]&\" \"&Table_BPU[[#This Row],[BPU Description]]","v":"Big Lakes Turkey Broilers / bird"},"Big Lakes",15,"Turkey Broilers / bird",3.91,3.69,4.18,4.68,6.66,4.62]
[{"$f":"Table_BPU[[#This Row],[Risk Area]]&\" \"&Table_BPU[[#This Row],[BPU Description]]","v":"Bighorn Turkey Broilers / bird"},"Bighorn",15,"Turkey Broilers / bird",3.91,3.69,4.18,4.68,6.66,4.62]
[{"$f":"Table_BPU[[#This Row],[Risk Area]]&\" \"&Table_BPU[[#This Row],[BPU Description]]","v":"Birch Hills Turkey Broilers / bird"},"Birch Hills",15,"Turkey Broilers / bird",3.91,3.69,4.18,4.68,6.66,4.62]
[{"$f":"Table_BPU[[#This Row],[Risk Area]]&\" \"&Table_BPU[[#This Row],[BPU Description]]","v":"Bonnyville Turkey Broilers / bird"},"Bonnyville",15,"Turkey Broilers / bird",3.91,3.69,4.18,4.68,6.66,4.62]
[{"$f":"Table_BPU[[#This Row],[Risk Area]]&\" \"&Table_BPU[[#This Row],[BPU Description]]","v":"Brazeau Turkey Broilers / bird"},"Brazeau",15,"Turkey Broilers / bird",3.91,3.69,4.18,4.68,6.66,4.62]
[{"$f":"Table_BPU[[#This Row],[Risk Area]]&\" \"&Table_BPU[[#This Row],[BPU Description]]","v":"Camrose Turkey Broilers / bird"},"Camrose",15,"Turkey Broilers / bird",3.91,3.69,4.18,4.68,6.66,4.62]
[{"$f":"Table_BPU[[#This Row],[Risk Area]]&\" \"&Table_BPU[[#This Row],[BPU Description]]","v":"Cardston Turkey Broilers / bird"},"Cardston",15,"Turkey Broilers / bird",3.91,3.69,4.18,4.68,6.66,4.62]
[{"$f":"Table_BPU[[#This Row],[Risk Area]]&\" \"&Table_BPU[[#This Row],[BPU Description]]","v":"Clear Hills Turkey Broilers / bird"},"Clear Hills",15,"Turkey Broilers / bird",3.91,3.69,4.18,4.68,6.66,4.62]
[{"$f":"Table_BPU[[#This Row],[Risk Area]]&\" \"&Table_BPU[[#This Row],[BPU Description]]","v":"Clearwater Turkey Broilers / bird"},"Clearwater",15,"Turkey Broilers / bird",3.91,3.69,4.18,4.68,6.66,4.62]
[{"$f":"Table_BPU[[#This Row],[Risk Area]]&\" \"&Table_BPU[[#This Row],[BPU Description]]","v":"Cypress Turkey Broilers / bird"},"Cypress",15,"Turkey Broilers / bird",3.91,3.69,4.18,4.68,6.66,4.62]
[{"$f":"Table_BPU[[#This Row],[Risk Area]]&\" \"&Table_BPU[[#This Row],[BPU Description]]","v":"Edmonton Turkey Broilers / bird"},"Edmonton",15,"Turkey Broilers / bird",3.91,3.69,4.18,4.68,6.66,4.62]
[{"$f":"Table_BPU[[#This Row],[Risk Area]]&\" \"&Table_BPU[[#This Row],[BPU Description]]","v":"Fairview Turkey Broilers / bird"},"Fairview",15,"Turkey Broilers / bird",3.91,3.69,4.18,4.68,6.66,4.62]
[{"$f":"Table_BPU[[#This Row],[Risk Area]]&\" \"&Table_BPU[[#This Row],[BPU Description]]","v":"Flagstaff Turkey Broilers / bird"},"Flagstaff",15,"Turkey Broilers / bird",3.91,3.69,4.18,4.68,6.66,4.62]
[{"$f":"Table_BPU[[#This Row],[Risk Area]]&\" \"&Table_BPU[[#This Row],[BPU Description]]","v":"Foothills Turkey Broilers / bird"},"Foothills",15,"Turkey Broilers / bird",3.91,3.69,4.18,4.68,6.66,4.62]
[{"$f":"Table_BPU[[#This Row],[Risk Area]]&\" \"&Table_BPU[[#This Row],[BPU Description]]","v":"Forty Mile Turkey Broilers / bird"},"Forty Mile",15,"Turkey Broilers / bird",3.91,3.69,4.18,4.68,6.66,4.62]
[{"$f":"Table_BPU[[#This Row],[Risk Area]]&\" \"&Table_BPU[[#This Row],[BPU Description]]","v":"Grande Prairie Turkey Broilers / bird"},"Grande Prairie",15,"Turkey Broilers / bird",3.91,3.69,4.18,4.68,6.66,4.62]
[{"$f":"Table_BPU[[#This Row],[Risk Area]]&\" \"&Table_BPU[[#This Row],[BPU Description]]","v":"Greenview Turkey Broilers / bird"},"Greenview",15,"Turkey Broilers / bird",3.91,3.69,4.18,4.68,6.66,4.62]
[{"$f":"Table_BPU[[#This Row],[Risk Area]]&\" \"&Table_BPU[[#This Row],[BPU Description]]","v":"Kneehill Turkey Broilers / bird"},"Kneehill",15,"Turkey Broilers / bird",3.91,3.69,4.18,4.68,6.66,4.62]
[{"$f":"Table_BPU[[#This Row],[Risk Area]]&\" \"&Table_BPU[[#This Row],[BPU Description]]","v":"Lac La Biche Turkey Broilers / bird"},"Lac La Biche",15,"Turkey Broilers / bird",3.91,3.69,4.18,4.68,6.66,4.62]
[{"$f":"Table_BPU[[#This Row],[Risk Area]]&\" \"&Table_BPU[[#This Row],[BPU Description]]","v":"Lac Ste. Anne County Turkey Broilers / bird"},"Lac Ste. Anne County",15,"Turkey Broilers / bird",3.91,3.69,4.18,4.68,6.66,4.62]
[{"$f":"Table_BPU[[#This Row],[Risk Area]]&\" \"&Table_BPU[[#This Row],[BPU Description]]","v":"Lacombe Turkey Broilers / bird"},"Lacombe",15,"Turkey Broilers / bird",3.91,3.69,4.18,4.68,6.66,4.62]
[{"$f":"Table_BPU[[#This Row],[Risk Area]]&\" \"&Table_BPU[[#This Row],[BPU Description]]","v":"Lamont Turkey Broilers / bird"},"Lamont",15,"Turkey Broilers / bird",3.91,3.69,4.18,4.68,6.66,4.62]
[{"$f":"Table_BPU[[#This Row],[Risk Area]]&\" \"&Table_BPU[[#This Row],[BPU Description]]","v":"Leduc Turkey Broilers / bird"},"Leduc",15,"Turkey Broilers / bird",3.91,3.69,4.18,4.68,6.66,4.62]
[{"$f":"Table_BPU[[#This Row],[Risk Area]]&\" \"&Table_BPU[[#This Row],[BPU Description]]","v":"Lesser Slave River Turkey Broilers / bird"},"Lesser Slave River",15,"Turkey Broilers / bird",3.91,3.69,4.18,4.68,6.66,4.62]
[{"$f":"Table_BPU[[#This Row],[Risk Area]]&\" \"&Table_BPU[[#This Row],[BPU Description]]","v":"Lethbridge Turkey Broilers / bird"},"Lethbridge",15,"Turkey Broilers / bird",3.91,3.69,4.18,4.68,6.66,4.62]
[{"$f":"Table_BPU[[#This Row],[Risk Area]]&\" \"&Table_BPU[[#This Row],[BPU Description]]","v":"Mackenzie Turkey Broilers / bird"},"Mackenzie",15,"Turkey Broilers / bird",3.91,3.69,4.18,4.68,6.66,4.62]
[{"$f":"Table_BPU[[#This Row],[Risk Area]]&\" \"&Table_BPU[[#This Row],[BPU Description]]","v":"Minburn Turkey Broilers / bird"},"Minburn",15,"Turkey Broilers / bird",3.91,3.69,4.18,4.68,6.66,4.62]
[{"$f":"Table_BPU[[#This Row],[Risk Area]]&\" \"&Table_BPU[[#This Row],[BPU Description]]","v":"Mountain View Turkey Broilers / bird"},"Mountain View",15,"Turkey Broilers / bird",3.91,3.69,4.18,4.68,6.66,4.62]
[{"$f":"Table_BPU[[#This Row],[Risk Area]]&\" \"&Table_BPU[[#This Row],[BPU Description]]","v":"Newell Turkey Broilers / bird"},"Newell",15,"Turkey Broilers / bird",3.91,3.69,4.18,4.68,6.66,4.62]
[{"$f":"Table_BPU[[#This Row],[Risk Area]]&\" \"&Table_BPU[[#This Row],[BPU Description]]","v":"Northern Lights Turkey Broilers / bird"},"Northern Lights",15,"Turkey Broilers / bird",3.91,3.69,4.18,4.68,6.66,4.62]
[{"$f":"Table_BPU[[#This Row],[Risk Area]]&\" \"&Table_BPU[[#This Row],[BPU Description]]","v":"Northern Sunrise Turkey Broilers / bird"},"Northern Sunrise",15,"Turkey Broilers / bird",3.91,3.69,4.18,4.68,6.66,4.62]
[{"$f":"Table_BPU[[#This Row],[Risk Area]]&\" \"&Table_BPU[[#This Row],[BPU Description]]","v":"Opportunity Turkey Broilers / bird"},"Opportunity",15,"Turkey Broilers / bird",3.91,3.69,4.18,4.68,6.66,4.62]
[{"$f":"Table_BPU[[#This Row],[Risk Area]]&\" \"&Table_BPU[[#This Row],[BPU Description]]","v":"Paintearth Turkey Broilers / bird"},"Paintearth",15,"Turkey Broilers / bird",3.91,3.69,4.18,4.68,6.66,4.62]
[{"$f":"Table_BPU[[#This Row],[Risk Area]]&\" \"&Table_BPU[[#This Row],[BPU Description]]","v":"Parkland County Turkey Broilers / bird"},"Parkland County",15,"Turkey Broilers / bird",3.91,3.69,4.18,4.68,6.66,4.62]
[{"$f":"Table_BPU[[#This Row],[Risk Area]]&\" \"&Table_BPU[[#This Row],[BPU Description]]","v":"Peace Turkey Broilers / bird"},"Peace",15,"Turkey Broilers / bird",3.91,3.69,4.18,4.68,6.66,4.62]
[{"$f":"Table_BPU[[#This Row],[Risk Area]]&\" \"&Table_BPU[[#This Row],[BPU Description]]","v":"Pincher Creek Turkey Broilers / bird"},"Pincher Creek",15,"Turkey Broilers / bird",3.91,3.69,4.18,4.68,6.66,4.62]
[{"$f":"Table_BPU[[#This Row],[Risk Area]]&\" \"&Table_BPU[[#This Row],[BPU Description]]","v":"Ponoka Turkey Broilers / bird"},"Ponoka",15,"Turkey Broilers / bird",3.91,3.69,4.18,4.68,6.66,4.62]
[{"$f":"Table_BPU[[#This Row],[Risk Area]]&\" \"&Table_BPU[[#This Row],[BPU Description]]","v":"Provost Turkey Broilers / bird"},"Provost",15,"Turkey Broilers / bird",3.91,3.69,4.18,4.68,6.66,4.62]
[{"$f":"Table_BPU[[#This Row],[Risk Area]]&\" \"&Table_BPU[[#This Row],[BPU Description]]","v":"Ranchland Turkey Broilers / bird"},"Ranchland",15,"Turkey Broilers / bird",3.91,3.69,4.18,4.68,6.66,4.62]
[{"$f":"Table_BPU[[#This Row],[Risk Area]]&\" \"&Table_BPU[[#This Row],[BPU Description]]","v":"Red Deer Turkey Broilers / bird"},"Red Deer",15,"Turkey Broilers / bird",3.91,3.69,4.18,4.68,6.66,4.62]
[{"$f":"Table_BPU[[#This Row],[Risk Area]]&\" \"&Table_BPU[[#This Row],[BPU Description]]","v":"Rocky View Turkey Broilers / bird"},"Rocky View",15,"Turkey Broilers / bird",3.91,3.69,4.18,4.68,6.66,4.62]
[{"$f":"Table_BPU[[#This Row],[Risk Area]]&\" \"&Table_BPU[[#This Row],[BPU Description]]","v":"Saddle Hills Turkey Broilers / bird"},"Saddle Hills",15,"Turkey Broilers / bird",3.91,3.69,4.18,4.68,6.66,4.62]
[{"$f":"Table_BPU[[#This Row],[Risk Area]]&\" \"&Table_BPU[[#This Row],[BPU Description]]","v":"Smoky Lake Turkey Broilers / bird"},"Smoky Lake",15,"Turkey Broilers / bird",3.91,3.69,4.18,4.68,6.66,4.62]
[{"$f":"Table_BPU[[#This Row],[Risk Area]]&\" \"&Table_BPU[[#This Row],[BPU Description]]","v":"Smoky River Turkey Broilers / bird"},"Smoky River",15,"Turkey Broilers / bird",3.91,3.69,4.18,4.68,6.66,4.62]
[{"$f":"Table_BPU[[#This Row],[Risk Area]]&\" \"&Table_BPU[[#This Row],[BPU Description]]","v":"Special Area 02 Turkey Broilers / bird"},"Special Area 02",15,"Turkey Broilers / bird",3.91,3.69,4.18,4.68,6.66,4.62]
[{"$f":"Table_BPU[[#This Row],[Risk Area]]&\" \"&Table_BPU[[#This Row],[BPU Description]]","v":"Special Area 03 Turkey Broilers / bird"},"Special Area 03",15,"Turkey Broilers / bird",3.91,3.69,4.18,4.68,6.66,4.62]
[{"$f":"Table_BPU[[#This Row],[Risk Area]]&\" \"&Table_BPU[[#This Row],[BPU Description]]","v":"Special Area 04 Turkey Broilers / bird"},"Special Area 04",15,"Turkey Broilers / bird",3.91,3.69,4.18,4.68,6.66,4.62]
[{"$f":"Table_BPU[[#This Row],[Risk Area]]&\" \"&Table_BPU[[#This Row],[BPU Description]]","v":"Spirit River Turkey Broilers / bird"},"Spirit River",15,"Turkey Broilers / bird",3.91,3.69,4.18,4.68,6.66,4.62]
[{"$f":"Table_BPU[[#This Row],[Risk Area]]&\" \"&Table_BPU[[#This Row],[BPU Description]]","v":"St. Paul Turkey Broilers / bird"},"St. Paul",15,"Turkey Broilers / bird",3.91,3.69,4.18,4.68,6.66,4.62]
[{"$f":"Table_BPU[[#This Row],[Risk Area]]&\" \"&Table_BPU[[#This Row],[BPU Description]]","v":"Starland Turkey Broilers / bird"},"Starland",15,"Turkey Broilers / bird",3.91,3.69,4.18,4.68,6.66,4.62]
[{"$f":"Table_BPU[[#This Row],[Risk Area]]&\" \"&Table_BPU[[#This Row],[BPU Description]]","v":"Stettler Turkey Broilers / bird"},"Stettler",15,"Turkey Broilers / bird",3.91,3.69,4.18,4.68,6.66,4.62]
[{"$f":"Table_BPU[[#This Row],[Risk Area]]&\" \"&Table_BPU[[#This Row],[BPU Description]]","v":"Strathcona County Turkey Broilers / bird"},"Strathcona County",15,"Turkey Broilers / bird",3.91,3.69,4.18,4.68,6.66,4.62]
[{"$f":"Table_BPU[[#This Row],[Risk Area]]&\" \"&Table_BPU[[#This Row],[BPU Description]]","v":"Sturgeon Turkey Broilers / bird"},"Sturgeon",15,"Turkey Broilers / bird",3.91,3.69,4.18,4.68,6.66,4.62]
[{"$f":"Table_BPU[[#This Row],[Risk Area]]&\" \"&Table_BPU[[#This Row],[BPU Description]]","v":"Taber Turkey Broilers / bird"},"Taber",15,"Turkey Broilers / bird",3.91,3.69,4.18,4.68,6.66,4.62]
[{"$f":"Table_BPU[[#This Row],[Risk Area]]&\" \"&Table_BPU[[#This Row],[BPU Description]]","v":"Thorhild Turkey Broilers / bird"},"Thorhild",15,"Turkey Broilers / bird",3.91,3.69,4.18,4.68,6.66,4.62]
[{"$f":"Table_BPU[[#This Row],[Risk Area]]&\" \"&Table_BPU[[#This Row],[BPU Description]]","v":"Two Hills Turkey Broilers / bird"},"Two Hills",15,"Turkey Broilers / bird",3.91,3.69,4.18,4.68,6.66,4.62]
[{"$f":"Table_BPU[[#This Row],[Risk Area]]&\" \"&Table_BPU[[#This Row],[BPU Description]]","v":"Vermilion River Turkey Broilers / bird"},"Vermilion River",15,"Turkey Broilers / bird",3.91,3.69,4.18,4.68,6.66,4.62]
[{"$f":"Table_BPU[[#This Row],[Risk Area]]&\" \"&Table_BPU[[#This Row],[BPU Description]]","v":"Vulcan Turkey Broilers / bird"},"Vulcan",15,"Turkey Broilers / bird",3.91,3.69,4.18,4.68,6.66,4.62]
[{"$f":"Table_BPU[[#This Row],[Risk Area]]&\" \"&Table_BPU[[#This Row],[BPU Description]]","v":"Wainwright Turkey Broilers / bird"},"Wainwright",15,"Turkey Broilers / bird",3.91,3.69,4.18,4.68,6.66,4.62]
[{"$f":"Table_BPU[[#This Row],[Risk Area]]&\" \"&Table_BPU[[#This Row],[BPU Description]]","v":"Warner Turkey Broilers / bird"},"Warner",15,"Turkey Broilers / bird",3.91,3.69,4.18,4.68,6.66,4.62]
[{"$f":"Table_BPU[[#This Row],[Risk Area]]&\" \"&Table_BPU[[#This Row],[BPU Description]]","v":"Westlock Turkey Broilers / bird"},"Westlock",15,"Turkey Broilers / bird",3.91,3.69,4.18,4.68,6.66,4.62]
[{"$f":"Table_BPU[[#This Row],[Risk Area]]&\" \"&Table_BPU[[#This Row],[BPU Description]]","v":"Wetaskiwin Turkey Broilers / bird"},"Wetaskiwin",15,"Turkey Broilers / bird",3.91,3.69,4.18,4.68,6.66,4.62]
[{"$f":"Table_BPU[[#This Row],[Risk Area]]&\" \"&Table_BPU[[#This Row],[BPU Description]]","v":"Wheatland Turkey Broilers / bird"},"Wheatland",15,"Turkey Broilers / bird",3.91,3.69,4.18,4.68,6.66,4.62]
[{"$f":"Table_BPU[[#This Row],[Risk Area]]&\" \"&Table_BPU[[#This Row],[BPU Description]]","v":"Willow Creek Turkey Broilers / bird"},"Willow Creek",15,"Turkey Broilers / bird",3.91,3.69,4.18,4.68,6.66,4.62]
[{"$f":"Table_BPU[[#This Row],[Risk Area]]&\" \"&Table_BPU[[#This Row],[BPU Description]]","v":"Wood Buffalo Turkey Broilers / bird"},"Wood Buffalo",15,"Turkey Broilers / bird",3.91,3.69,4.18,4.68,6.66,4.62]
[{"$f":"Table_BPU[[#This Row],[Risk Area]]&\" \"&Table_BPU[[#This Row],[BPU Description]]","v":"Woodlands Turkey Broilers / bird"},"Woodlands",15,"Turkey Broilers / bird",3.91,3.69,4.18,4.68,6.66,4.62]
[{"$f":"Table_BPU[[#This Row],[Risk Area]]&\" \"&Table_BPU[[#This Row],[BPU Description]]","v":"Yellowhead Turkey Broilers / bird"},"Yellowhead",15,"Turkey Broilers / bird",3.91,3.69,4.18,4.68,6.66,4.62]
[{"$f":"Table_BPU[[#This Row],[Risk Area]]&\" \"&Table_BPU[[#This Row],[BPU Description]]","v":"Acadia Veggie Basket"},"Acadia",1575,"Veggie Basket",3689,6109,4073,5399,5606,4975]
[{"$f":"Table_BPU[[#This Row],[Risk Area]]&\" \"&Table_BPU[[#This Row],[BPU Description]]","v":"Athabasca Veggie Basket"},"Athabasca",1575,"Veggie Basket",3689,6109,4073,5399,5606,4975]
[{"$f":"Table_BPU[[#This Row],[Risk Area]]&\" \"&Table_BPU[[#This Row],[BPU Description]]","v":"Barrhead Veggie Basket"},"Barrhead",1575,"Veggie Basket",3689,6109,4073,5399,5606,4975]
[{"$f":"Table_BPU[[#This Row],[Risk Area]]&\" \"&Table_BPU[[#This Row],[BPU Description]]","v":"Beaver Veggie Basket"},"Beaver",1575,"Veggie Basket",3689,6109,4073,5399,5606,4975]
[{"$f":"Table_BPU[[#This Row],[Risk Area]]&\" \"&Table_BPU[[#This Row],[BPU Description]]","v":"Big Lakes Veggie Basket"},"Big Lakes",1575,"Veggie Basket",3689,6109,4073,5399,5606,4975]
[{"$f":"Table_BPU[[#This Row],[Risk Area]]&\" \"&Table_BPU[[#This Row],[BPU Description]]","v":"Bighorn Veggie Basket"},"Bighorn",1575,"Veggie Basket",3689,6109,4073,5399,5606,4975]
[{"$f":"Table_BPU[[#This Row],[Risk Area]]&\" \"&Table_BPU[[#This Row],[BPU Description]]","v":"Birch Hills Veggie Basket"},"Birch Hills",1575,"Veggie Basket",3689,6109,4073,5399,5606,4975]
[{"$f":"Table_BPU[[#This Row],[Risk Area]]&\" \"&Table_BPU[[#This Row],[BPU Description]]","v":"Bonnyville Veggie Basket"},"Bonnyville",1575,"Veggie Basket",3689,6109,4073,5399,5606,4975]
[{"$f":"Table_BPU[[#This Row],[Risk Area]]&\" \"&Table_BPU[[#This Row],[BPU Description]]","v":"Brazeau Veggie Basket"},"Brazeau",1575,"Veggie Basket",3689,6109,4073,5399,5606,4975]
[{"$f":"Table_BPU[[#This Row],[Risk Area]]&\" \"&Table_BPU[[#This Row],[BPU Description]]","v":"Camrose Veggie Basket"},"Camrose",1575,"Veggie Basket",3689,6109,4073,5399,5606,4975]
[{"$f":"Table_BPU[[#This Row],[Risk Area]]&\" \"&Table_BPU[[#This Row],[BPU Description]]","v":"Cardston Veggie Basket"},"Cardston",1575,"Veggie Basket",3689,6109,4073,5399,5606,4975]
[{"$f":"Table_BPU[[#This Row],[Risk Area]]&\" \"&Table_BPU[[#This Row],[BPU Description]]","v":"Clear Hills Veggie Basket"},"Clear Hills",1575,"Veggie Basket",3689,6109,4073,5399,5606,4975]
[{"$f":"Table_BPU[[#This Row],[Risk Area]]&\" \"&Table_BPU[[#This Row],[BPU Description]]","v":"Clearwater Veggie Basket"},"Clearwater",1575,"Veggie Basket",3689,6109,4073,5399,5606,4975]
[{"$f":"Table_BPU[[#This Row],[Risk Area]]&\" \"&Table_BPU[[#This Row],[BPU Description]]","v":"Cypress Veggie Basket"},"Cypress",1575,"Veggie Basket",3689,6109,4073,5399,5606,4975]
[{"$f":"Table_BPU[[#This Row],[Risk Area]]&\" \"&Table_BPU[[#This Row],[BPU Description]]","v":"Edmonton Veggie Basket"},"Edmonton",1575,"Veggie Basket",3689,6109,4073,5399,5606,4975]
[{"$f":"Table_BPU[[#This Row],[Risk Area]]&\" \"&Table_BPU[[#This Row],[BPU Description]]","v":"Fairview Veggie Basket"},"Fairview",1575,"Veggie Basket",3689,6109,4073,5399,5606,4975]
[{"$f":"Table_BPU[[#This Row],[Risk Area]]&\" \"&Table_BPU[[#This Row],[BPU Description]]","v":"Flagstaff Veggie Basket"},"Flagstaff",1575,"Veggie Basket",3689,6109,4073,5399,5606,4975]
[{"$f":"Table_BPU[[#This Row],[Risk Area]]&\" \"&Table_BPU[[#This Row],[BPU Description]]","v":"Foothills Veggie Basket"},"Foothills",1575,"Veggie Basket",3689,6109,4073,5399,5606,4975]
[{"$f":"Table_BPU[[#This Row],[Risk Area]]&\" \"&Table_BPU[[#This Row],[BPU Description]]","v":"Forty Mile Veggie Basket"},"Forty Mile",1575,"Veggie Basket",3689,6109,4073,5399,5606,4975]
[{"$f":"Table_BPU[[#This Row],[Risk Area]]&\" \"&Table_BPU[[#This Row],[BPU Description]]","v":"Grande Prairie Veggie Basket"},"Grande Prairie",1575,"Veggie Basket",3689,6109,4073,5399,5606,4975]
[{"$f":"Table_BPU[[#This Row],[Risk Area]]&\" \"&Table_BPU[[#This Row],[BPU Description]]","v":"Greenview Veggie Basket"},"Greenview",1575,"Veggie Basket",3689,6109,4073,5399,5606,4975]
[{"$f":"Table_BPU[[#This Row],[Risk Area]]&\" \"&Table_BPU[[#This Row],[BPU Description]]","v":"Kneehill Veggie Basket"},"Kneehill",1575,"Veggie Basket",3689,6109,4073,5399,5606,4975]
[{"$f":"Table_BPU[[#This Row],[Risk Area]]&\" \"&Table_BPU[[#This Row],[BPU Description]]","v":"Lac La Biche Veggie Basket"},"Lac La Biche",1575,"Veggie Basket",3689,6109,4073,5399,5606,4975]
[{"$f":"Table_BPU[[#This Row],[Risk Area]]&\" \"&Table_BPU[[#This Row],[BPU Description]]","v":"Lac Ste. Anne County Veggie Basket"},"Lac Ste. Anne County",1575,"Veggie Basket",3689,6109,4073,5399,5606,4975]
[{"$f":"Table_BPU[[#This Row],[Risk Area]]&\" \"&Table_BPU[[#This Row],[BPU Description]]","v":"Lacombe Veggie Basket"},"Lacombe",1575,"Veggie Basket",3689,6109,4073,5399,5606,4975]
[{"$f":"Table_BPU[[#This Row],[Risk Area]]&\" \"&Table_BPU[[#This Row],[BPU Description]]","v":"Lamont Veggie Basket"},"Lamont",1575,"Veggie Basket",3689,6109,4073,5399,5606,4975]
[{"$f":"Table_BPU[[#This Row],[Risk Area]]&\" \"&Table_BPU[[#This Row],[BPU Description]]","v":"Leduc Veggie Basket"},"Leduc",1575,"Veggie Basket",3689,6109,4073,5399,5606,4975]
[{"$f":"Table_BPU[[#This Row],[Risk Area]]&\" \"&Table_BPU[[#This Row],[BPU Description]]","v":"Lesser Slave River Veggie Basket"},"Lesser Slave River",1575,"Veggie Basket",3689,6109,4073,5399,5606,4975]
[{"$f":"Table_BPU[[#This Row],[Risk Area]]&\" \"&Table_BPU[[#This Row],[BPU Description]]","v":"Lethbridge Veggie Basket"},"Lethbridge",1575,"Veggie Basket",3689,6109,4073,5399,5606,4975]
[{"$f":"Table_BPU[[#This Row],[Risk Area]]&\" \"&Table_BPU[[#This Row],[BPU Description]]","v":"Mackenzie Veggie Basket"},"Mackenzie",1575,"Veggie Basket",3689,6109,4073,5399,5606,4975]
[{"$f":"Table_BPU[[#This Row],[Risk Area]]&\" \"&Table_BPU[[#This Row],[BPU Description]]","v":"Minburn Veggie Basket"},"Minburn",1575,"Veggie Basket",3689,6109,4073,5399,5606,4975]
[{"$f":"Table_BPU[[#This Row],[Risk Area]]&\" \"&Table_BPU[[#This Row],[BPU Description]]","v":"Mountain View Veggie Basket"},"Mountain View",1575,"Veggie Basket",3689,6109,4073,5399,5606,4975]
[{"$f":"Table_BPU[[#This Row],[Risk Area]]&\" \"&Table_BPU[[#This Row],[BPU Description]]","v":"Newell Veggie Basket"},"Newell",1575,"Veggie Basket",3689,6109,4073,5399,5606,4975]
[{"$f":"Table_BPU[[#This Row],[Risk Area]]&\" \"&Table_BPU[[#This Row],[BPU Description]]","v":"Northern Lights Veggie Basket"},"Northern Lights",1575,"Veggie Basket",3689,6109,4073,5399,5606,4975]
[{"$f":"Table_BPU[[#This Row],[Risk Area]]&\" \"&Table_BPU[[#This Row],[BPU Description]]","v":"Northern Sunrise Veggie Basket"},"Northern Sunrise",1575,"Veggie Basket",3689,6109,4073,5399,5606,4975]
[{"$f":"Table_BPU[[#This Row],[Risk Area]]&\" \"&Table_BPU[[#This Row],[BPU Description]]","v":"Opportunity Veggie Basket"},"Opportunity",1575,"Veggie Basket",3689,6109,4073,5399,5606,4975]
[{"$f":"Table_BPU[[#This Row],[Risk Area]]&\" \"&Table_BPU[[#This Row],[BPU Description]]","v":"Paintearth Veggie Basket"},"Paintearth",1575,"Veggie Basket",3689,6109,4073,5399,5606,4975]
[{"$f":"Table_BPU[[#This Row],[Risk Area]]&\" \"&Table_BPU[[#This Row],[BPU Description]]","v":"Parkland County Veggie Basket"},"Parkland County",1575,"Veggie Basket",3689,6109,4073,5399,5606,4975]
[{"$f":"Table_BPU[[#This Row],[Risk Area]]&\" \"&Table_BPU[[#This Row],[BPU Description]]","v":"Peace Veggie Basket"},"Peace",1575,"Veggie Basket",3689,6109,4073,5399,5606,4975]
[{"$f":"Table_BPU[[#This Row],[Risk Area]]&\" \"&Table_BPU[[#This Row],[BPU Description]]","v":"Pincher Creek Veggie Basket"},"Pincher Creek",1575,"Veggie Basket",3689,6109,4073,5399,5606,4975]
[{"$f":"Table_BPU[[#This Row],[Risk Area]]&\" \"&Table_BPU[[#This Row],[BPU Description]]","v":"Ponoka Veggie Basket"},"Ponoka",1575,"Veggie Basket",3689,6109,4073,5399,5606,4975]
[{"$f":"Table_BPU[[#This Row],[Risk Area]]&\" \"&Table_BPU[[#This Row],[BPU Description]]","v":"Provost Veggie Basket"},"Provost",1575,"Veggie Basket",3689,6109,4073,5399,5606,4975]
[{"$f":"Table_BPU[[#This Row],[Risk Area]]&\" \"&Table_BPU[[#This Row],[BPU Description]]","v":"Ranchland Veggie Basket"},"Ranchland",1575,"Veggie Basket",3689,6109,4073,5399,5606,4975]
[{"$f":"Table_BPU[[#This Row],[Risk Area]]&\" \"&Table_BPU[[#This Row],[BPU Description]]","v":"Red Deer Veggie Basket"},"Red Deer",1575,"Veggie Basket",3689,6109,4073,5399,5606,4975]
[{"$f":"Table_BPU[[#This Row],[Risk Area]]&\" \"&Table_BPU[[#This Row],[BPU Description]]","v":"Rocky View Veggie Basket"},"Rocky View",1575,"Veggie Basket",3689,6109,4073,5399,5606,4975]
[{"$f":"Table_BPU[[#This Row],[Risk Area]]&\" \"&Table_BPU[[#This Row],[BPU Description]]","v":"Saddle Hills Veggie Basket"},"Saddle Hills",1575,"Veggie Basket",3689,6109,4073,5399,5606,4975]
[{"$f":"Table_BPU[[#This Row],[Risk Area]]&\" \"&Table_BPU[[#This Row],[BPU Description]]","v":"Smoky Lake Veggie Basket"},"Smoky Lake",1575,"Veggie Basket",3689,6109,4073,5399,5606,4975]
[{"$f":"Table_BPU[[#This Row],[Risk Area]]&\" \"&Table_BPU[[#This Row],[BPU Description]]","v":"Smoky River Veggie Basket"},"Smoky River",1575,"Veggie Basket",3689,6109,4073,5399,5606,4975]
[{"$f":"Table_BPU[[#This Row],[Risk Area]]&\" \"&Table_BPU[[#This Row],[BPU Description]]","v":"Special Area 02 Veggie Basket"},"Special Area 02",1575,"Veggie Basket",3689,6109,4073,5399,5606,4975]
[{"$f":"Table_BPU[[#This Row],[Risk Area]]&\" \"&Table_BPU[[#This Row],[BPU Description]]","v":"Special Area 03 Veggie Basket"},"Special Area 03",1575,"Veggie Basket",3689,6109,4073,5399,5606,4975]
[{"$f":"Table_BPU[[#This Row],[Risk Area]]&\" \"&Table_BPU[[#This Row],[BPU Description]]","v":"Special Area 04 Veggie Basket"},"Special Area 04",1575,"Veggie Basket",3689,6109,4073,5399,5606,4975]
[{"$f":"Table_BPU[[#This Row],[Risk Area]]&\" \"&Table_BPU[[#This Row],[BPU Description]]","v":"Spirit River Veggie Basket"},"Spirit River",1575,"Veggie Basket",3689,6109,4073,5399,5606,4975]
[{"$f":"Table_BPU[[#This Row],[Risk Area]]&\" \"&Table_BPU[[#This Row],[BPU Description]]","v":"St. Paul Veggie Basket"},"St. Paul",1575,"Veggie Basket",3689,6109,4073,5399,5606,4975]
[{"$f":"Table_BPU[[#This Row],[Risk Area]]&\" \"&Table_BPU[[#This Row],[BPU Description]]","v":"Starland Veggie Basket"},"Starland",1575,"Veggie Basket",3689,6109,4073,5399,5606,4975]
[{"$f":"Table_BPU[[#This Row],[Risk Area]]&\" \"&Table_BPU[[#This Row],[BPU Description]]","v":"Stettler Veggie Basket"},"Stettler",1575,"Veggie Basket",3689,6109,4073,5399,5606,4975]
[{"$f":"Table_BPU[[#This Row],[Risk Area]]&\" \"&Table_BPU[[#This Row],[BPU Description]]","v":"Strathcona County Veggie Basket"},"Strathcona County",1575,"Veggie Basket",3689,6109,4073,5399,5606,4975]
[{"$f":"Table_BPU[[#This Row],[Risk Area]]&\" \"&Table_BPU[[#This Row],[BPU Description]]","v":"Sturgeon Veggie Basket"},"Sturgeon",1575,"Veggie Basket",3689,6109,4073,5399,5606,4975]
[{"$f":"Table_BPU[[#This Row],[Risk Area]]&\" \"&Table_BPU[[#This Row],[BPU Description]]","v":"Taber Veggie Basket"},"Taber",1575,"Veggie Basket",3689,6109,4073,5399,5606,4975]
[{"$f":"Table_BPU[[#This Row],[Risk Area]]&\" \"&Table_BPU[[#This Row],[BPU Description]]","v":"Thorhild Veggie Basket"},"Thorhild",1575,"Veggie Basket",3689,6109,4073,5399,5606,4975]
[{"$f":"Table_BPU[[#This Row],[Risk Area]]&\" \"&Table_BPU[[#This Row],[BPU Description]]","v":"Two Hills Veggie Basket"},"Two Hills",1575,"Veggie Basket",3689,6109,4073,5399,5606,4975]
[{"$f":"Table_BPU[[#This Row],[Risk Area]]&\" \"&Table_BPU[[#This Row],[BPU Description]]","v":"Vermilion River Veggie Basket"},"Vermilion River",1575,"Veggie Basket",3689,6109,4073,5399,5606,4975]
[{"$f":"Table_BPU[[#This Row],[Risk Area]]&\" \"&Table_BPU[[#This Row],[BPU Description]]","v":"Vulcan Veggie Basket"},"Vulcan",1575,"Veggie Basket",3689,6109,4073,5399,5606,4975]
[{"$f":"Table_BPU[[#This Row],[Risk Area]]&\" \"&Table_BPU[[#This Row],[BPU Description]]","v":"Wainwright Veggie Basket"},"Wainwright",1575,"Veggie Basket",3689,6109,4073,5399,5606,4975]
[{"$f":"Table_BPU[[#This Row],[Risk Area]]&\" \"&Table_BPU[[#This Row],[BPU Description]]","v":"Warner Veggie Basket"},"Warner",1575,"Veggie Basket",3689,6109,4073,5399,5606,4975]
[{"$f":"Table_BPU[[#This Row],[Risk Area]]&\" \"&Table_BPU[[#This Row],[BPU Description]]","v":"Westlock Veggie Basket"},"Westlock",1575,"Veggie Basket",3689,6109,4073,5399,5606,4975]
[{"$f":"Table_BPU[[#This Row],[Risk Area]]&\" \"&Table_BPU[[#This Row],[BPU Description]]","v":"Wetaskiwin Veggie Basket"},"Wetaskiwin",1575,"Veggie Basket",3689,6109,4073,5399,5606,4975]
[{"$f":"Table_BPU[[#This Row],[Risk Area]]&\" \"&Table_BPU[[#This Row],[BPU Description]]","v":"Wheatland Veggie Basket"},"Wheatland",1575,"Veggie Basket",3689,6109,4073,5399,5606,4975]
[{"$f":"Table_BPU[[#This Row],[Risk Area]]&\" \"&Table_BPU[[#This Row],[BPU Description]]","v":"Willow Creek Veggie Basket"},"Willow Creek",1575,"Veggie Basket",3689,6109,4073,5399,5606,4975]
[{"$f":"Table_BPU[[#This Row],[Risk Area]]&\" \"&Table_BPU[[#This Row],[BPU Description]]","v":"Wood Buffalo Veggie Basket"},"Wood Buffalo",1575,"Veggie Basket",3689,6109,4073,5399,5606,4975]
[{"$f":"Table_BPU[[#This Row],[Risk Area]]&\" \"&Table_BPU[[#This Row],[BPU Description]]","v":"Woodlands Veggie Basket"},"Woodlands",1575,"Veggie Basket",3689,6109,4073,5399,5606,4975]
[{"$f":"Table_BPU[[#This Row],[Risk Area]]&\" \"&Table_BPU[[#This Row],[BPU Description]]","v":"Yellowhead Veggie Basket"},"Yellowhead",1575,"Veggie Basket",3689,6109,4073,5399,5606,4975]